{"text_format":"1","workbook":"xlsx","n_sheets":4,"sheets":["протокол","дешифр логов","принятый лог comport","Таблица CRC"],"not_rendered":{"charts":0,"images":0,"macros":1,"external_links":0,"defined_names":0,"comments":0,"pivot_tables":0},"unopened":[],"bounds":{"document_bytes":16777216,"sheet_cells":100000,"rows_first":2000,"rows_last":500,"rows_between":2000,"halvings":0,"cell_chars":16384,"cell_head_chars":4096},"cells_cut":0,"cells_raw":0,"read":"whole","date_system":"1900"}

{"sheet":"протокол","index":0,"n_rows":79,"n_cols":14,"rows_kept":79,"cut":false,"hidden":false,"merged":[[20,1,20,13]]}
["1 байт - Адрес: 0-127 (0x00… 0x7F)"]
["2 байт - Количество передаваемых байт: 0-75 (0x00… 0x4B)"]
["3 байт – ключ при работе с шифрованием"]
["4 байт - комманда"]
["Остально - Данные"]
["Последний байт – CRC8"]
[]
["Структура ответа."]
["Последовательность действий при приеме:"]
["1. Получить сообщение."]
["2. Проверить адрес."]
["3. Проверить CRC8."]
["4. Дешифровать, если необходимо."]
["5. Декодировать команду."]
["6. Составить сообщение ответа"]
[]
["Последовательность действий при передаче."]
["1. Шифровать, если необходимо."]
["2. Посчитать CRC8."]
["3. Передать сообщение."]
[null,"ОТВЕТ БКИ"]
["Известные проверенные команды:"]
["1 01 Чтение прибора. Откликаются приборы с адресом.",64,"0C","0C","CB",0,0,0,0,0,1,1,5,44]
["Запрос: адрес/6байт/00/01(поиск прибора)/00/00/crc8"]
["2 02 Ответ прибора. Отвечает 02 если ничего не изменялось (буфер событий пуст)"]
["Ответ: адрес/5 байт/02(присутствие)/число 0-255/00/crc8 (на команду 01)"]
["3 Сброс тревог"]
["Запрос: адрес/06/00/03/00/00/crc8"]
["Ответ: нет ответа. Прибор грузит следующее событие."]
["4 Ответ прибора. Прибор сообщает об изменениях в ШС, питании… В буфере 1 событие."]
["Ответ: адрес/5байт/04/событие/шлейф/crc8"]
["5 Чтение конфигурации",null,null,64,5,6,0,1,0]
[7,null,null,64,5,"0A",0,0,"E5"]
["9 Запись конфигурации",null,null,64,5,6,0,0,"5E"]
["10 Ответ прибора при наличии ошибок"]
["Ответ: адрес/5байт/A/код ошибки/00/crc8"]
[11,null,null,64,5,"0A",0,0,"E5"]
[]
["12 Ответ прибора если в буфере событий более 1 события."]
["Ответ: адрес/11байт/0C/событие/шлейф/время/время/время/дата/дата/дата/crc8"]
["13 0D Запрос типа и версии",null,null,64,6,0,"2C","E1",0,"1D"]
["Запрос: адрес/6байт/00/0D/00/00/crc8"]
["Ответ: адрес/5байт/00/тип/версия/crc8 (для «Сигнал-20П тип = 02, версия = CD)"]
["15,16 Присвоение адреса"]
["Запрос: адрес/6байт/00/0F/н. адрес/н. адрес/crc8"]
["Ответ: н. адрес/5байт/10/н. адрес/н. адрес/crc8"]
["17,18 Переход на шифрацию. Посылка байта шифрования."]
["Запрос: адрес/6 байт/00/11(переход на шифрацию)/ключ/ключ/crc8"]
["Ответ: адрес/5байт/12/ключ/ключ/crc8"]
["19 Управление ШС"]
["Запрос: адрес/6 байт/00/13/номер шс/команда шс/crc8"]
["Ответ: адрес/5 байт/14/номер шс/команда шс/crc8"]
["Команда шс:"]
["0 – снятие ШС"]
["1 – групповое снятие (не поддерживается)"]
["2 –взятие ШС"]
["3 – групповое взятие (не поддерживается)"]
["Если номер ШС равен нулю, то действие на все шлейфы"]
["21,22 Управление реле"]
["Запрос: адрес/6байт/00/21/реле/программа/crc8"]
["Ответ: адрес/5байт/16/реле/программа/crc8"]
["23, 24 Сброс тревог"]
["Запрос: адрес/6байт/00/17/00/01/crc8"]
["Ответ: адрес/5байт/18/0/1/crc8"]
["25, 26 Запрос состояния ШС пульта"]
["Запрос: адрес/6байт/00/19/номер шлейфа/00/crc8"]
["Ответ: адрес/5 или 6 байт/1A/номер шлейфа/код состояния/(код состояния 2)/crc8"]
["27, 28 Запрос АЦП с пульта"]
["Запрос: адрес/6байт/00/1B/номер ШС/0/crc8"]
["Ответ: адрес/5байт/1С/номер ШС/АЦП/crc8"]
["43 включить диод бки (би)"]
[]
["53, 54 Запрос версии микропрограммы"]
["Запрос: адрес/6байт/00/53/00/00/crc8"]
["Ответ: адрес/5байт/54/02/02/crc8"]
["57, 58 Запрос АЦП в Юникод"]
["Запрос: адрес/6байт/00/39/номер ШС/A/crc8"]
["Ответ: адрес/16байт/3A/A/12 символов в Юникод/crc8"]
["63 ---- вроде начала чтения конфигурации"]

{"sheet":"дешифр логов","index":1,"n_rows":801,"n_cols":120,"rows_kept":801,"cut":false,"hidden":false,"merged":[[1,13,1,22],[1,24,1,33],[771,35,773,35],[2,36,2,56],[2,57,2,76],[3,37,3,56],[3,57,3,76],[5,78,5,87],[3,98,3,117],[6,78,6,87],[3,3,3,12],[2,13,2,22],[2,24,2,33],[2,77,5,77],[2,78,2,97],[2,98,2,117],[4,98,4,117],[4,78,4,87],[3,78,3,87]]}
[null,"Рандомный байт",172]
[null,null,null,null,null,null,null,null,null,null,null,null,null,"Д Е ШИ Ф Р И Р О В А Н Ы Е                        К О М А Н Д Ы",null,null,null,null,null,null,null,null,null,null,"КОПИЯ  Д Е ШИ Ф Р И Р О В А Н Ы Х                        К О М А Н Д  эмулятора"]
["Команды приняты программой эмулятор Сигнала-20","CRC8 эмулятора","CRC8  посчитана",null,null,null,null,null,null,null,null,null,null,"Дешифрация принятых команд",null,null,null,null,null,null,null,null,null,null,"Копия принятых дешифрированных команд для удобства работы, во втором столбце вместо рандомного байта ставим 0 (работаем без шифрации) производи расчет CRC8  и переводим команды в шестнадцатиричный вид для передачи программой Comport tolkit",null,null,null,null,null,null,null,null,null,"Команды собраны в строку для передачи.","ОТВЕТ БКИ на переданные команды","лог Comport tolkit",null,null,null,null,null,null,null,null,null,null,null,null,null,null,null,null,null,null,null,null,"П Е Р Е В О Д   В      Д Е С Я Т И Ч Н ЫЙ      Ф О Р М А Т",null,null,null,null,null,null,null,null,null,null,null,null,null,null,null,null,null,null,null,"высчитан ключ шифров","Дешифрованные команды полученные в программе Comport tolkit",null,null,null,null,null,null,null,null,null,null,null,null,null,null,null,null,null,null,null," РАСЧЕТ   CRC8"]
[null,null,null,"приняты команды разложены по ячейкам через меню Данные экселя",null,null,null,null,null,null,null,null,null,null,null,null,null,null,null,null,null,null,null,null,null,1,2,3,4,5,6,7,8,9,"Копируем отсюда и вставляем в Comport tolkit для передачи, \nтам же смотрим ответы прибора",null,"лог принятый программой","Лог разложенный побайтно в шестнадцатеричном формате по ячейкам для дальнейше обработки экселем",null,null,null,null,null,null,null,null,null,null,null,null,null,null,null,null,null,null,null,"Переводим лог разложенный побайтно из шестнадцатеричного формата в десятичный",null,null,null,null,null,null,null,null,null,null,null,null,null,null,null,null,null,null,null,null,"Производим дешифрацию принятой информации",null,null,null,null,null,null,null,null,null,null,null,null,null,null,null,null,null,null,null,"Производим табличный расчет новой CRC8",null,null,null,null,null,null,null,null,null,null,null,null,null,null,null,null,null,null,null,"Команды для передачи на БКИ"]
["100,6,0,1,0,248,158,",null,null,100,6,0,1,0,248,158,null,null,null,{"$f":"IF(D5>127,D5-128,D5)","v":100},{"$f":"E5","v":6},0,1,0,248,158,0,0,0,null,100,6,0,1,0,248,158,0,0,0,null,null,"64 06 00 01 00 F8 9E",64,6,0,1,0,"F8","9E",null,null,null,null,null,null,null,null,null,null,null,null,null,{"$f":"HEX2DEC(AL5)","v":100},{"$f":"HEX2DEC(AM5)","v":6},0,1,0,248,158,0,0,0,0,0,0,0,0,0,0,0,0,0,null,"При правильной дешифрации в столбце 2 должен быть рандомный байт, \nкоторый после дешифрации меняем на 0 (убираем команду шифрации сообщения)",null,null,null,null,null,null,null,null,null,null,null,null,null,null,null,null,null,null,null,"Крайняя правая цифра в строке является CRC8 в десятичном формате для дешифрованных команд"]
["Принято в обработку",null,null,"Принято в обработку",null,null,null,null,null,null,null,null,null,null,null,null,null,null,null,null,null,null,null,null,null,null,null,null,null,null,null,null,null,null,null,null,"64 06 04 CB 00 00 1F",64,6,4,"CB",0,0,"1F",null,null,null,null,null,null,null,null,null,null,null,null,null,{"$f":"HEX2DEC(AL6)","v":100},{"$f":"HEX2DEC(AM6)","v":6},{"$f":"HEX2DEC(AN6)","v":4},{"$f":"HEX2DEC(AO6)","v":203},{"$f":"HEX2DEC(AP6)","v":0},{"$f":"HEX2DEC(AQ6)","v":0},{"$f":"HEX2DEC(AR6)","v":31},{"$f":"HEX2DEC(AS6)","v":0},{"$f":"HEX2DEC(AT6)","v":0},{"$f":"HEX2DEC(AU6)","v":0},{"$f":"HEX2DEC(AV6)","v":0},{"$f":"HEX2DEC(AW6)","v":0},{"$f":"HEX2DEC(AX6)","v":0},{"$f":"HEX2DEC(AY6)","v":0},{"$f":"HEX2DEC(AZ6)","v":0},{"$f":"HEX2DEC(BA6)","v":0},{"$f":"HEX2DEC(BB6)","v":0},{"$f":"HEX2DEC(BC6)","v":0},{"$f":"HEX2DEC(BD6)","v":0},{"$f":"HEX2DEC(BE6)","v":0},null,"Убираем последний байт (байт CRC8) принятый в посылке он будет другим \nпоскольку убираем команду шифрации"]
["ОТВЕТ ЭМУЛЯТОРА 2,1,0,",null,null,"ОТВЕТ ЭМУЛЯТОРА 2",1,0,null,null,null,null,null,null,null,null,null,null,null,null,null,null,null,null,null,null,null,null,null,null,null,null,null,null,null,null,null,null,"64 06 00 11 AC AC CD",64,6,0,11,"AC","AC","CD",null,null,null,null,null,null,null,null,null,null,null,null,null,100,6,0,17,172,172,205,0,0,0,0,0,0,0,0,0,0,0,0,0," ","четко виден протокол обмена (в данном случае с БКИ по адресу 100)"]
[null,null,null,null,null,null,null,null,null,null,null,null,null,null,null,null,null,null,null,null,null,null,null,null,null,null,null,null,null,null,null,null,null,null,null,null,"64 05 12 AC AC 25",64,5,12,"AC","AC",25,null,null,null,null,null,null,null,null,null,null,null,null,null,null,100,5,18,172,172,37,0,0,0,0,0,0,0,0,0,0,0,0,0,0,null,null,1,2,{"$f":"CC8+1","v":3},{"$f":"CD8+1","v":4},5,6,7,8,9,10,11,12,13,14,15,16,17,18,19,null,1,2,3,4,5,6,7,8,9,10,11,12,13,14,15,16,17,18,19]
["100,6,4,203,0,0,31,",null,null,100,6,4,203,0,0,31,null,null,null,{"$f":"IF(D9>127,D9-128,D9)","v":100},{"$f":"E9","v":6},4,203,0,0,31,0,0,0,null,100,6,4,203,0,0,31,0,0,0,null,null,"E4 06 00 BB AC AF 59","E4",6,0,"BB","AC","AF",59,null,null,null,null,null,null,null,null,null,null,null,null,null,228,6,0,187,172,175,89,0,0,0,0,0,0,0,0,0,0,0,0,0,{"$f":"MyXor(BH9,$C$1)","v":172},100,6,0,23,0,3,null,null,null,null,null,null,null,null,null,null,null,null,null,null,{"$f":"MyXor(CA9,0)","v":100},{"$f":"MyXor(CB9,VLOOKUP(CU9,'Таблица CRC'!$A$43:$C$298,3,FALSE))","v":2},{"$f":"MyXor(CC9,VLOOKUP(CV9,'Таблица CRC'!$A$43:$C$298,3,FALSE))","v":188},{"$f":"MyXor(CD9,VLOOKUP(CW9,'Таблица CRC'!$A$43:$C$298,3,FALSE))","v":134},{"$f":"MyXor(CE9,VLOOKUP(CX9,'Таблица CRC'!$A$43:$C$298,3,FALSE))","v":81},{"$f":"MyXor(CF9,VLOOKUP(CY9,'Таблица CRC'!$A$43:$C$298,3,FALSE))","v":134},{"$f":"MyXor(CG9,VLOOKUP(CZ9,'Таблица CRC'!$A$43:$C$298,3,FALSE))","v":81},null,null,null,null,null,null,null,null,null,null,null,null,null,{"$f":"CONCATENATE(DEC2HEX(CA9,2),\" \",DEC2HEX(CB9,2),\" \",DEC2HEX(CC9,2),\" \",DEC2HEX(CD9,2),\" \",DEC2HEX(CE9,2),\" \",DEC2HEX(CF9,2),\" \",DEC2HEX(DA9,2))","v":"64 06 00 17 00 03 51"}]
["Принято в обработку",null,null,"Принято в обработку",null,null,null,null,null,null,null,null,null,null,null,null,null,null,null,null,null,null,null,null,null,null,null,null,null,null,null,null,null,null,null,null,"E4 05 B4 AC AF 2B","E4",5,"B4","AC","AF","2B",null,null,null,null,null,null,null,null,null,null,null,null,null,null,228,5,180,172,175,43,0,0,0,0,0,0,0,0,0,0,0,0,0,0,{"$f":"MyXor(BH10,$C$1)","v":24},100,5,0,180,183,null,null,null,null,null,null,null,null,null,null,null,null,null,null,null,{"$f":"MyXor(CA10,0)","v":100},{"$f":"MyXor(CB10,VLOOKUP(CU10,'Таблица CRC'!$A$43:$C$298,3,FALSE))","v":1},{"$f":"MyXor(CC10,VLOOKUP(CV10,'Таблица CRC'!$A$43:$C$298,3,FALSE))","v":94},{"$f":"MyXor(CD10,VLOOKUP(CW10,'Таблица CRC'!$A$43:$C$298,3,FALSE))","v":112},{"$f":"MyXor(CE10,VLOOKUP(CX10,'Таблица CRC'!$A$43:$C$298,3,FALSE))","v":79},{"$f":"MyXor(CF10,VLOOKUP(CY10,'Таблица CRC'!$A$43:$C$298,3,FALSE))","v":7},null,null,null,null,null,null,null,null,null,null,null,null,null,null,{"$f":"CONCATENATE(DEC2HEX(CA10,2),\" \",DEC2HEX(CB10,2),\" \",DEC2HEX(CC10,2),\" \",DEC2HEX(CD10,2),\" \",DEC2HEX(CE10,2),\" \",DEC2HEX(CZ10,2))","v":"64 05 00 B4 B7 07"}]
["100,6,0,17,172,172,205,",null,null,100,6,0,17,172,172,205,null,null,null,{"$f":"IF(D11>127,D11-128,D11)","v":100},{"$f":"E11","v":6},0,17,172,172,205,0,0,0,null,100,6,0,17,172,172,205,0,0,0,null,null,"E4 06 5E F3 F2 0A BB","E4",6,"5E","F3","F2","0A","BB",null,null,null,null,null,null,null,null,null,null,null,null,null,228,6,94,243,242,10,187,0,0,0,0,0,0,0,0,0,0,0,0,0,242,100,6,0,1,0,248,null,null,null,null,null,null,null,null,null,null,null,null,null,null,100,{"$f":"MyXor(CB11,VLOOKUP(CU11,'Таблица CRC'!$A$43:$C$298,3,FALSE))","v":2},{"$f":"MyXor(CC11,VLOOKUP(CV11,'Таблица CRC'!$A$43:$C$298,3,FALSE))","v":188},{"$f":"MyXor(CD11,VLOOKUP(CW11,'Таблица CRC'!$A$43:$C$298,3,FALSE))","v":144},{"$f":"MyXor(CE11,VLOOKUP(CX11,'Таблица CRC'!$A$43:$C$298,3,FALSE))","v":17},{"$f":"MyXor(CF11,VLOOKUP(CY11,'Таблица CRC'!$A$43:$C$298,3,FALSE))","v":59},{"$f":"MyXor(CG11,VLOOKUP(CZ11,'Таблица CRC'!$A$43:$C$298,3,FALSE))","v":158},null,null,null,null,null,null,null,null,null,null,null,null,null,{"$f":"CONCATENATE(DEC2HEX(CA11,2),\" \",DEC2HEX(CB11,2),\" \",DEC2HEX(CC11,2),\" \",DEC2HEX(CD11,2),\" \",DEC2HEX(CE11,2),\" \",DEC2HEX(CF11,2),\" \",DEC2HEX(DA11,2))","v":"64 06 00 01 00 F8 9E"}]
["Принято в обработку",null,null,"Принято в обработку",null,null,null,null,null,null,null,null,null,null,null,null,null,null,null,null,null,null,null,null,null,null,null,null,null,null,null,null,null,null,null,null,"E4 06 F6 39 F2 F2 81","E4",6,"F6",39,"F2","F2",81,null,null,null,null,null,null,null,null,null,null,null,null,null,228,6,246,57,242,242,129,0,0,0,0,0,0,0,0,0,0,0,0,0,90,100,6,0,99,168,168,null,null,null,null,null,null,null,null,null,null,null,null,null,null,100,{"$f":"MyXor(CB12,VLOOKUP(CU12,'Таблица CRC'!$A$43:$C$298,3,FALSE))","v":2},{"$f":"MyXor(CC12,VLOOKUP(CV12,'Таблица CRC'!$A$43:$C$298,3,FALSE))","v":188},{"$f":"MyXor(CD12,VLOOKUP(CW12,'Таблица CRC'!$A$43:$C$298,3,FALSE))","v":242},{"$f":"MyXor(CE12,VLOOKUP(CX12,'Таблица CRC'!$A$43:$C$298,3,FALSE))","v":96},{"$f":"MyXor(CF12,VLOOKUP(CY12,'Таблица CRC'!$A$43:$C$298,3,FALSE))","v":205},{"$f":"MyXor(CG12,VLOOKUP(CZ12,'Таблица CRC'!$A$43:$C$298,3,FALSE))","v":55},null,null,null,null,null,null,null,null,null,null,null,null,null,"64 06 00 63 A8 A8 37"]
["ОТВЕТ ЭМУЛЯТОРА 18,172,172,",null,null,"ОТВЕТ ЭМУЛЯТОРА 18",172,172,null,null,null,null,null,null,null,null,null,null,null,null,null,null,null,null,null,null,null,null,null,null,null,null,null,null,null,null,null,null,"E4 06 5E F1 F2 F2 42","E4",6,"5E","F1","F2","F2",42,null,null,null,null,null,null,null,null,null,null,null,null,null,228,6,94,241,242,242,66,0,0,0,0,0,0,0,0,0,0,0,0,0,242,100,6,0,3,0,0,null,null,null,null,null,null,null,null,null,null,null,null,null,null,100,{"$f":"MyXor(CB13,VLOOKUP(CU13,'Таблица CRC'!$A$43:$C$298,3,FALSE))","v":2},{"$f":"MyXor(CC13,VLOOKUP(CV13,'Таблица CRC'!$A$43:$C$298,3,FALSE))","v":188},{"$f":"MyXor(CD13,VLOOKUP(CW13,'Таблица CRC'!$A$43:$C$298,3,FALSE))","v":146},{"$f":"MyXor(CE13,VLOOKUP(CX13,'Таблица CRC'!$A$43:$C$298,3,FALSE))","v":173},{"$f":"MyXor(CF13,VLOOKUP(CY13,'Таблица CRC'!$A$43:$C$298,3,FALSE))","v":82},{"$f":"MyXor(CG13,VLOOKUP(CZ13,'Таблица CRC'!$A$43:$C$298,3,FALSE))","v":103},null,null,null,null,null,null,null,null,null,null,null,null,null,"64 06 00 03 00 00 67"]
["100,5,18,172,172,37,",null,null,100,5,18,172,172,37,null,null,null,null,{"$f":"IF(D14>127,D14-128,D14)","v":100},{"$f":"E14","v":5},18,172,172,37,0,0,0,0,null,100,5,18,172,172,37,0,0,0,0,null,null,"E4 06 75 C0 D9 D9 32","E4",6,75,"C0","D9","D9",32,null,null,null,null,null,null,null,null,null,null,null,null,null,228,6,117,192,217,217,50,0,0,0,0,0,0,0,0,0,0,0,0,0,217,100,6,0,25,0,0,null,null,null,null,null,null,null,null,null,null,null,null,null,null,100,{"$f":"MyXor(CB14,VLOOKUP(CU14,'Таблица CRC'!$A$43:$C$298,3,FALSE))","v":2},{"$f":"MyXor(CC14,VLOOKUP(CV14,'Таблица CRC'!$A$43:$C$298,3,FALSE))","v":188},{"$f":"MyXor(CD14,VLOOKUP(CW14,'Таблица CRC'!$A$43:$C$298,3,FALSE))","v":136},{"$f":"MyXor(CE14,VLOOKUP(CX14,'Таблица CRC'!$A$43:$C$298,3,FALSE))","v":78},{"$f":"MyXor(CF14,VLOOKUP(CY14,'Таблица CRC'!$A$43:$C$298,3,FALSE))","v":89},{"$f":"MyXor(CG14,VLOOKUP(CZ14,'Таблица CRC'!$A$43:$C$298,3,FALSE))","v":71},null,null,null,null,null,null,null,null,null,null,null,null,null,"64 06 00 19 00 00 47"]
["Принято в обработку",null,null,"Принято в обработку",null,null,null,null,null,null,null,null,null,null,null,null,null,null,null,null,null,null,null,null,null,null,null,null,null,null,null,null,null,null,null,null,"E4 06 C3 D9 1E 41 67","E4",6,"C3","D9","1E",41,67,null,null,null,null,null,null,null,null,null,null,null,null,null,228,6,195,217,30,65,103,0,0,0,0,0,0,0,0,0,0,0,0,0,111,100,6,0,182,113,46,null,null,null,null,null,null,null,null,null,null,null,null,null,null,100,{"$f":"MyXor(CB15,VLOOKUP(CU15,'Таблица CRC'!$A$43:$C$298,3,FALSE))","v":2},{"$f":"MyXor(CC15,VLOOKUP(CV15,'Таблица CRC'!$A$43:$C$298,3,FALSE))","v":188},{"$f":"MyXor(CD15,VLOOKUP(CW15,'Таблица CRC'!$A$43:$C$298,3,FALSE))","v":39},{"$f":"MyXor(CE15,VLOOKUP(CX15,'Таблица CRC'!$A$43:$C$298,3,FALSE))","v":209},{"$f":"MyXor(CF15,VLOOKUP(CY15,'Таблица CRC'!$A$43:$C$298,3,FALSE))","v":39},{"$f":"MyXor(CG15,VLOOKUP(CZ15,'Таблица CRC'!$A$43:$C$298,3,FALSE))","v":160},null,null,null,null,null,null,null,null,null,null,null,null,null,"64 06 00 B6 71 2E A0"]
["228,6,0,187,172,175,89,",null,{"$f":"MyXor(F16,$C$1)","v":172},228,6,0,187,172,175,89,null,null,null,{"$f":"IF(D16>127,D16-128,D16)","v":100},{"$f":"E16","v":6},{"$f":"MyXor(F16,$B18)","v":172},23,0,3,245,172,172,172,null,100,6,0,23,0,3,245,172,172,172,null,null,"E4 06 88 25 24 DC 03","E4",6,88,25,24,"DC",3,null,null,null,null,null,null,null,null,null,null,null,null,null,228,6,136,37,36,220,3,0,0,0,0,0,0,0,0,0,0,0,0,0,36,100,6,0,1,0,248,null,null,null,null,null,null,null,null,null,null,null,null,null,null,100,{"$f":"MyXor(CB16,VLOOKUP(CU16,'Таблица CRC'!$A$43:$C$298,3,FALSE))","v":2},{"$f":"MyXor(CC16,VLOOKUP(CV16,'Таблица CRC'!$A$43:$C$298,3,FALSE))","v":188},{"$f":"MyXor(CD16,VLOOKUP(CW16,'Таблица CRC'!$A$43:$C$298,3,FALSE))","v":144},{"$f":"MyXor(CE16,VLOOKUP(CX16,'Таблица CRC'!$A$43:$C$298,3,FALSE))","v":17},{"$f":"MyXor(CF16,VLOOKUP(CY16,'Таблица CRC'!$A$43:$C$298,3,FALSE))","v":59},{"$f":"MyXor(CG16,VLOOKUP(CZ16,'Таблица CRC'!$A$43:$C$298,3,FALSE))","v":158},null,null,null,null,null,null,null,null,null,null,null,null,null,"64 06 00 01 00 F8 9E"]
["Принято в обработку",null,null,"Принято в обработку",null,null,null,null,null,null,null,null,null,null,null,null,null,null,null,null,null,null,null,null,null,null,null,null,null,null,null,null,null,null,null,null,"E4 09 2A 23 25 24 24 24 24 BC","E4",9,"2A",23,25,24,24,24,24,"BC",null,null,null,null,null,null,null,null,null,null,228,9,42,35,37,36,36,36,36,188,0,0,0,0,0,0,0,0,0,0,134,100,9,0,165,163,162,162,162,162,null,null,null,null,null,null,null,null,null,null,null,100,{"$f":"MyXor(CB17,VLOOKUP(CU17,'Таблица CRC'!$A$43:$C$298,3,FALSE))","v":13},{"$f":"MyXor(CC17,VLOOKUP(CV17,'Таблица CRC'!$A$43:$C$298,3,FALSE))","v":253},{"$f":"MyXor(CD17,VLOOKUP(CW17,'Таблица CRC'!$A$43:$C$298,3,FALSE))","v":44},{"$f":"MyXor(CE17,VLOOKUP(CX17,'Таблица CRC'!$A$43:$C$298,3,FALSE))","v":35},{"$f":"MyXor(CF17,VLOOKUP(CY17,'Таблица CRC'!$A$43:$C$298,3,FALSE))","v":99},{"$f":"MyXor(CG17,VLOOKUP(CZ17,'Таблица CRC'!$A$43:$C$298,3,FALSE))","v":37},{"$f":"MyXor(CH17,VLOOKUP(DA17,'Таблица CRC'!$A$43:$C$298,3,FALSE))","v":190},{"$f":"MyXor(CI17,VLOOKUP(DB17,'Таблица CRC'!$A$43:$C$298,3,FALSE))","v":143},{"$f":"MyXor(CJ17,VLOOKUP(DC17,'Таблица CRC'!$A$43:$C$298,3,FALSE))","v":205},null,null,null,null,null,null,null,null,null,null,{"$f":"CONCATENATE(DEC2HEX(CA17,2),\" \",DEC2HEX(CB17,2),\" \",DEC2HEX(CC17,2),\" \",DEC2HEX(CD17,2),\" \",DEC2HEX(CE17,2),\" \",DEC2HEX(CF17,2),\" \",DEC2HEX(CG17,2),\" \",DEC2HEX(CH17,2),\" \",DEC2HEX(CI17,2),\" \",DEC2HEX(DD17,2))","v":"64 09 00 A5 A3 A2 A2 A2 A2 CD"}]
["ключ шифрования-172",172,null,"ключ шифрования-172",null,null,null,null,null,null,null,null,null,null,null,null,null,null,null,null,null,null,null,null,null,null,null,null,null,null,null,null,null,null,null,null,"E4 06 88 27 24 24 FA","E4",6,88,27,24,24,"FA",null,null,null,null,null,null,null,null,null,null,null,null,null,228,6,136,39,36,36,250,0,0,0,0,0,0,0,0,0,0,0,0,0,36,100,6,0,3,0,0,null,null,null,null,null,null,null,null,null,null,null,null,null,null,100,{"$f":"MyXor(CB18,VLOOKUP(CU18,'Таблица CRC'!$A$43:$C$298,3,FALSE))","v":2},{"$f":"MyXor(CC18,VLOOKUP(CV18,'Таблица CRC'!$A$43:$C$298,3,FALSE))","v":188},{"$f":"MyXor(CD18,VLOOKUP(CW18,'Таблица CRC'!$A$43:$C$298,3,FALSE))","v":146},{"$f":"MyXor(CE18,VLOOKUP(CX18,'Таблица CRC'!$A$43:$C$298,3,FALSE))","v":173},{"$f":"MyXor(CF18,VLOOKUP(CY18,'Таблица CRC'!$A$43:$C$298,3,FALSE))","v":82},{"$f":"MyXor(CG18,VLOOKUP(CZ18,'Таблица CRC'!$A$43:$C$298,3,FALSE))","v":103},null,null,null,null,null,null,null,null,null,null,null,null,null,"64 06 00 03 00 00 67"]
["zapros.s 23,0,3,",null,null,"zapros.s 23",0,3,null,null,null,null,null,null,null,null,null,null,null,null,null,null,null,null,null,null,null,null,null,null,null,null,null,null,null,null,null,null,"E4 06 EE 5B 42 42 7F","E4",6,"EE","5B",42,42,"7F",null,null,null,null,null,null,null,null,null,null,null,null,null,228,6,238,91,66,66,127,0,0,0,0,0,0,0,0,0,0,0,0,0,66,100,6,0,25,0,0,null,null,null,null,null,null,null,null,null,null,null,null,null,null,100,{"$f":"MyXor(CB19,VLOOKUP(CU19,'Таблица CRC'!$A$43:$C$298,3,FALSE))","v":2},{"$f":"MyXor(CC19,VLOOKUP(CV19,'Таблица CRC'!$A$43:$C$298,3,FALSE))","v":188},{"$f":"MyXor(CD19,VLOOKUP(CW19,'Таблица CRC'!$A$43:$C$298,3,FALSE))","v":136},{"$f":"MyXor(CE19,VLOOKUP(CX19,'Таблица CRC'!$A$43:$C$298,3,FALSE))","v":78},{"$f":"MyXor(CF19,VLOOKUP(CY19,'Таблица CRC'!$A$43:$C$298,3,FALSE))","v":89},{"$f":"MyXor(CG19,VLOOKUP(CZ19,'Таблица CRC'!$A$43:$C$298,3,FALSE))","v":71},null,null,null,null,null,null,null,null,null,null,null,null,null,"64 06 00 19 00 00 47"]
["ОТВЕТ ЭМУЛЯТОРА 166,168,172,",null,null,"ОТВЕТ ЭМУЛЯТОРА 166",168,172,null,null,null,null,null,null,null,null,null,null,null,null,null,null,null,null,null,null,null,null,null,null,null,null,null,null,null,null,null,null,"E4 06 58 42 85 DA 2A","E4",6,58,42,85,"DA","2A",null,null,null,null,null,null,null,null,null,null,null,null,null,228,6,88,66,133,218,42,0,0,0,0,0,0,0,0,0,0,0,0,0,244,100,6,0,182,113,46,null,null,null,null,null,null,null,null,null,null,null,null,null,null,100,{"$f":"MyXor(CB20,VLOOKUP(CU20,'Таблица CRC'!$A$43:$C$298,3,FALSE))","v":2},{"$f":"MyXor(CC20,VLOOKUP(CV20,'Таблица CRC'!$A$43:$C$298,3,FALSE))","v":188},{"$f":"MyXor(CD20,VLOOKUP(CW20,'Таблица CRC'!$A$43:$C$298,3,FALSE))","v":39},{"$f":"MyXor(CE20,VLOOKUP(CX20,'Таблица CRC'!$A$43:$C$298,3,FALSE))","v":209},{"$f":"MyXor(CF20,VLOOKUP(CY20,'Таблица CRC'!$A$43:$C$298,3,FALSE))","v":39},{"$f":"MyXor(CG20,VLOOKUP(CZ20,'Таблица CRC'!$A$43:$C$298,3,FALSE))","v":160},null,null,null,null,null,null,null,null,null,null,null,null,null,"64 06 00 B6 71 2E A0"]
["228,5,180,172,175,43,",null,{"$f":"MyXor(F21,$C$1)","v":24},228,5,180,172,175,43,null,null,null,null,{"$f":"IF(D21>127,D21-128,D21)","v":100},{"$f":"E21","v":5},{"$f":"MyXor(F21,$B23)","v":172},180,183,51,24,24,24,24,null,100,5,0,180,183,51,24,24,24,24,null,null,"E4 06 53 FE FF 07 42","E4",6,53,"FE","FF",7,42,null,null,null,null,null,null,null,null,null,null,null,null,null,228,6,83,254,255,7,66,0,0,0,0,0,0,0,0,0,0,0,0,0,255,100,6,0,1,0,248,null,null,null,null,null,null,null,null,null,null,null,null,null,null,100,{"$f":"MyXor(CB21,VLOOKUP(CU21,'Таблица CRC'!$A$43:$C$298,3,FALSE))","v":2},{"$f":"MyXor(CC21,VLOOKUP(CV21,'Таблица CRC'!$A$43:$C$298,3,FALSE))","v":188},{"$f":"MyXor(CD21,VLOOKUP(CW21,'Таблица CRC'!$A$43:$C$298,3,FALSE))","v":144},{"$f":"MyXor(CE21,VLOOKUP(CX21,'Таблица CRC'!$A$43:$C$298,3,FALSE))","v":17},{"$f":"MyXor(CF21,VLOOKUP(CY21,'Таблица CRC'!$A$43:$C$298,3,FALSE))","v":59},{"$f":"MyXor(CG21,VLOOKUP(CZ21,'Таблица CRC'!$A$43:$C$298,3,FALSE))","v":158},null,null,null,null,null,null,null,null,null,null,null,null,null,"64 06 00 01 00 F8 9E"]
["Принято в обработку",null,null,"Принято в обработку",null,null,null,null,null,null,null,null,null,null,null,null,null,null,null,null,null,null,null,null,null,null,null,null,null,null,null,null,null,null,null,null,"E4 05 FD FF FF 6D","E4",5,"FD","FF","FF","6D",null,null,null,null,null,null,null,null,null,null,null,null,null,null,228,5,253,255,255,109,0,0,0,0,0,0,0,0,0,0,0,0,0,0,81,100,5,0,174,174,null,null,null,null,null,null,null,null,null,null,null,null,null,null,null,{"$f":"MyXor(CA22,0)","v":100},{"$f":"MyXor(CB22,VLOOKUP(CU22,'Таблица CRC'!$A$43:$C$298,3,FALSE))","v":1},{"$f":"MyXor(CC22,VLOOKUP(CV22,'Таблица CRC'!$A$43:$C$298,3,FALSE))","v":94},{"$f":"MyXor(CD22,VLOOKUP(CW22,'Таблица CRC'!$A$43:$C$298,3,FALSE))","v":106},{"$f":"MyXor(CE22,VLOOKUP(CX22,'Таблица CRC'!$A$43:$C$298,3,FALSE))","v":181},{"$f":"MyXor(CF22,VLOOKUP(CY22,'Таблица CRC'!$A$43:$C$298,3,FALSE))","v":13},null,null,null,null,null,null,null,null,null,null,null,null,null,null,{"$f":"CONCATENATE(DEC2HEX(CA22,2),\" \",DEC2HEX(CB22,2),\" \",DEC2HEX(CC22,2),\" \",DEC2HEX(CD22,2),\" \",DEC2HEX(CE22,2),\" \",DEC2HEX(CZ22,2))","v":"64 05 00 AE AE 0D"}]
["otvet 24,0,3,",24,null,"otvet 24",0,3,null,null,null,null,null,null,null,null,null,null,null,null,null,null,null,null,null,null,null,null,null,null,null,null,null,null,null,null,null,null,"E4 08 98 1F 24 35 34 CB FD","E4",8,98,"1F",24,35,34,"CB","FD",null,null,null,null,null,null,null,null,null,null,null,228,8,152,31,36,53,52,203,253,0,0,0,0,0,0,0,0,0,0,0,52,100,8,0,43,16,1,0,255,null,null,null,null,null,null,null,null,null,null,null,null,100,{"$f":"MyXor(CB23,VLOOKUP(CU23,'Таблица CRC'!$A$43:$C$298,3,FALSE))","v":12},{"$f":"MyXor(CC23,VLOOKUP(CV23,'Таблица CRC'!$A$43:$C$298,3,FALSE))","v":163},{"$f":"MyXor(CD23,VLOOKUP(CW23,'Таблица CRC'!$A$43:$C$298,3,FALSE))","v":102},{"$f":"MyXor(CE23,VLOOKUP(CX23,'Таблица CRC'!$A$43:$C$298,3,FALSE))","v":168},{"$f":"MyXor(CF23,VLOOKUP(CY23,'Таблица CRC'!$A$43:$C$298,3,FALSE))","v":108},{"$f":"MyXor(CG23,VLOOKUP(CZ23,'Таблица CRC'!$A$43:$C$298,3,FALSE))","v":198},{"$f":"MyXor(CH23,VLOOKUP(DA23,'Таблица CRC'!$A$43:$C$298,3,FALSE))","v":232},{"$f":"MyXor(CI23,VLOOKUP(DB23,'Таблица CRC'!$A$43:$C$298,3,FALSE))","v":43},null,null,null,null,null,null,null,null,null,null,null,{"$f":"CONCATENATE(DEC2HEX(CA23,2),\" \",DEC2HEX(CB23,2),\" \",DEC2HEX(CC23,2),\" \",DEC2HEX(CD23,2),\" \",DEC2HEX(CE23,2),\" \",DEC2HEX(CF23,2),\" \",DEC2HEX(CG23,2),\" \",DEC2HEX(CH23,2),\" \",DEC2HEX(DC23,2))","v":"64 08 00 2B 10 01 00 FF 2B"}]
["228,6,94,243,242,10,187,",null,{"$f":"MyXor(F24,$C$1)","v":242},228,6,94,243,242,10,187,null,null,null,{"$f":"IF(D24>127,D24-128,D24)","v":100},{"$f":"E24","v":6},{"$f":"MyXor(F24,$B26)","v":172},1,0,248,73,242,242,242,null,100,6,0,1,0,248,73,242,242,242,null,null,"E4 05 18 34 34 E2","E4",5,18,34,34,"E2",null,null,null,null,null,null,null,null,null,null,null,null,null,null,228,5,24,52,52,226,0,0,0,0,0,0,0,0,0,0,0,0,0,0,180,100,5,0,128,128,null,null,null,null,null,null,null,null,null,null,null,null,null,null,null,100,{"$f":"MyXor(CB24,VLOOKUP(CU24,'Таблица CRC'!$A$43:$C$298,3,FALSE))","v":1},{"$f":"MyXor(CC24,VLOOKUP(CV24,'Таблица CRC'!$A$43:$C$298,3,FALSE))","v":94},{"$f":"MyXor(CD24,VLOOKUP(CW24,'Таблица CRC'!$A$43:$C$298,3,FALSE))","v":68},{"$f":"MyXor(CE24,VLOOKUP(CX24,'Таблица CRC'!$A$43:$C$298,3,FALSE))","v":167},{"$f":"MyXor(CF24,VLOOKUP(CY24,'Таблица CRC'!$A$43:$C$298,3,FALSE))","v":44},null,null,null,null,null,null,null,null,null,null,null,null,null,null,{"$f":"CONCATENATE(DEC2HEX(CA24,2),\" \",DEC2HEX(CB24,2),\" \",DEC2HEX(CC24,2),\" \",DEC2HEX(CD24,2),\" \",DEC2HEX(CE24,2),\" \",DEC2HEX(CZ24,2))","v":"64 05 00 80 80 2C"}]
["Принято в обработку",null,null,"Принято в обработку",null,null,null,null,null,null,null,null,null,null,null,null,null,null,null,null,null,null,null,null,null,null,null,null,null,null,null,null,null,null,null,null,"E4 06 41 EC ED 15 24","E4",6,41,"EC","ED",15,24,null,null,null,null,null,null,null,null,null,null,null,null,null,228,6,65,236,237,21,36,0,0,0,0,0,0,0,0,0,0,0,0,0,237,100,6,0,1,0,248,null,null,null,null,null,null,null,null,null,null,null,null,null,null,100,{"$f":"MyXor(CB25,VLOOKUP(CU25,'Таблица CRC'!$A$43:$C$298,3,FALSE))","v":2},{"$f":"MyXor(CC25,VLOOKUP(CV25,'Таблица CRC'!$A$43:$C$298,3,FALSE))","v":188},{"$f":"MyXor(CD25,VLOOKUP(CW25,'Таблица CRC'!$A$43:$C$298,3,FALSE))","v":144},{"$f":"MyXor(CE25,VLOOKUP(CX25,'Таблица CRC'!$A$43:$C$298,3,FALSE))","v":17},{"$f":"MyXor(CF25,VLOOKUP(CY25,'Таблица CRC'!$A$43:$C$298,3,FALSE))","v":59},{"$f":"MyXor(CG25,VLOOKUP(CZ25,'Таблица CRC'!$A$43:$C$298,3,FALSE))","v":158},null,null,null,null,null,null,null,null,null,null,null,null,null,"64 06 00 01 00 F8 9E"]
["ключ шифрования-242",242,null,"ключ шифрования-242",null,null,null,null,null,null,null,null,null,null,null,null,null,null,null,null,null,null,null,null,null,null,null,null,null,null,null,null,null,null,null,null,"E4 09 E3 EA EE ED ED ED ED 5C","E4",9,"E3","EA","EE","ED","ED","ED","ED","5C",null,null,null,null,null,null,null,null,null,null,228,9,227,234,238,237,237,237,237,92,0,0,0,0,0,0,0,0,0,0,79,100,9,0,165,161,162,162,162,162,null,null,null,null,null,null,null,null,null,null,null,100,{"$f":"MyXor(CB26,VLOOKUP(CU26,'Таблица CRC'!$A$43:$C$298,3,FALSE))","v":13},{"$f":"MyXor(CC26,VLOOKUP(CV26,'Таблица CRC'!$A$43:$C$298,3,FALSE))","v":253},{"$f":"MyXor(CD26,VLOOKUP(CW26,'Таблица CRC'!$A$43:$C$298,3,FALSE))","v":44},{"$f":"MyXor(CE26,VLOOKUP(CX26,'Таблица CRC'!$A$43:$C$298,3,FALSE))","v":33},{"$f":"MyXor(CF26,VLOOKUP(CY26,'Таблица CRC'!$A$43:$C$298,3,FALSE))","v":223},{"$f":"MyXor(CG26,VLOOKUP(CZ26,'Таблица CRC'!$A$43:$C$298,3,FALSE))","v":180},{"$f":"MyXor(CH26,VLOOKUP(DA26,'Таблица CRC'!$A$43:$C$298,3,FALSE))","v":241},{"$f":"MyXor(CI26,VLOOKUP(DB26,'Таблица CRC'!$A$43:$C$298,3,FALSE))","v":136},{"$f":"MyXor(CJ26,VLOOKUP(DC26,'Таблица CRC'!$A$43:$C$298,3,FALSE))","v":78},null,null,null,null,null,null,null,null,null,null,{"$f":"CONCATENATE(DEC2HEX(CA26,2),\" \",DEC2HEX(CB26,2),\" \",DEC2HEX(CC26,2),\" \",DEC2HEX(CD26,2),\" \",DEC2HEX(CE26,2),\" \",DEC2HEX(CF26,2),\" \",DEC2HEX(CG26,2),\" \",DEC2HEX(CH26,2),\" \",DEC2HEX(CI26,2),\" \",DEC2HEX(DD26,2))","v":"64 09 00 A5 A1 A2 A2 A2 A2 4E"}]
["zapros.s 1,0,248,",null,null,"zapros.s 1",0,248,null,null,null,null,null,null,null,null,null,null,null,null,null,null,null,null,null,null,null,null,null,null,null,null,null,null,null,null,null,null,"E4 06 41 EE ED ED DD","E4",6,41,"EE","ED","ED","DD",null,null,null,null,null,null,null,null,null,null,null,null,null,228,6,65,238,237,237,221,0,0,0,0,0,0,0,0,0,0,0,0,0,237,100,6,0,3,0,0,null,null,null,null,null,null,null,null,null,null,null,null,null,null,100,{"$f":"MyXor(CB27,VLOOKUP(CU27,'Таблица CRC'!$A$43:$C$298,3,FALSE))","v":2},{"$f":"MyXor(CC27,VLOOKUP(CV27,'Таблица CRC'!$A$43:$C$298,3,FALSE))","v":188},{"$f":"MyXor(CD27,VLOOKUP(CW27,'Таблица CRC'!$A$43:$C$298,3,FALSE))","v":146},{"$f":"MyXor(CE27,VLOOKUP(CX27,'Таблица CRC'!$A$43:$C$298,3,FALSE))","v":173},{"$f":"MyXor(CF27,VLOOKUP(CY27,'Таблица CRC'!$A$43:$C$298,3,FALSE))","v":82},{"$f":"MyXor(CG27,VLOOKUP(CZ27,'Таблица CRC'!$A$43:$C$298,3,FALSE))","v":103},null,null,null,null,null,null,null,null,null,null,null,null,null,"64 06 00 03 00 00 67"]
["ОТВЕТ ЭМУЛЯТОРА 240,241,242,",null,null,"ОТВЕТ ЭМУЛЯТОРА 240",241,242,null,null,null,null,null,null,null,null,null,null,null,null,null,null,null,null,null,null,null,null,null,null,null,null,null,null,null,null,null,null,"E4 08 51 D6 F9 FE FD FC 10","E4",8,51,"D6","F9","FE","FD","FC",10,null,null,null,null,null,null,null,null,null,null,null,228,8,81,214,249,254,253,252,16,0,0,0,0,0,0,0,0,0,0,0,253,100,8,0,43,4,3,0,1,null,null,null,null,null,null,null,null,null,null,null,null,100,{"$f":"MyXor(CB28,VLOOKUP(CU28,'Таблица CRC'!$A$43:$C$298,3,FALSE))","v":12},{"$f":"MyXor(CC28,VLOOKUP(CV28,'Таблица CRC'!$A$43:$C$298,3,FALSE))","v":163},{"$f":"MyXor(CD28,VLOOKUP(CW28,'Таблица CRC'!$A$43:$C$298,3,FALSE))","v":102},{"$f":"MyXor(CE28,VLOOKUP(CX28,'Таблица CRC'!$A$43:$C$298,3,FALSE))","v":188},{"$f":"MyXor(CF28,VLOOKUP(CY28,'Таблица CRC'!$A$43:$C$298,3,FALSE))","v":146},{"$f":"MyXor(CG28,VLOOKUP(CZ28,'Таблица CRC'!$A$43:$C$298,3,FALSE))","v":173},{"$f":"MyXor(CH28,VLOOKUP(DA28,'Таблица CRC'!$A$43:$C$298,3,FALSE))","v":83},{"$f":"MyXor(CI28,VLOOKUP(DB28,'Таблица CRC'!$A$43:$C$298,3,FALSE))","v":57},null,null,null,null,null,null,null,null,null,null,null,{"$f":"CONCATENATE(DEC2HEX(CA28,2),\" \",DEC2HEX(CB28,2),\" \",DEC2HEX(CC28,2),\" \",DEC2HEX(CD28,2),\" \",DEC2HEX(CE28,2),\" \",DEC2HEX(CF28,2),\" \",DEC2HEX(CG28,2),\" \",DEC2HEX(CH28,2),\" \",DEC2HEX(DC28,2))","v":"64 08 00 2B 04 03 00 01 39"}]
["228,6,246,57,242,242,129,",null,{"$f":"MyXor(F29,$C$1)","v":90},228,6,246,57,242,242,129,null,null,null,{"$f":"IF(D29>127,D29-128,D29)","v":100},{"$f":"E29","v":6},{"$f":"MyXor(F29,$B31)","v":172},99,168,168,219,90,90,90,null,100,6,0,99,168,168,null,null,null,null,null,null,"E4 05 D1 FD FD 6F","E4",5,"D1","FD","FD","6F",null,null,null,null,null,null,null,null,null,null,null,null,null,null,228,5,209,253,253,111,0,0,0,0,0,0,0,0,0,0,0,0,0,0,125,100,5,0,128,128,null,null,null,null,null,null,null,null,null,null,null,null,null,null,null,100,{"$f":"MyXor(CB29,VLOOKUP(CU29,'Таблица CRC'!$A$43:$C$298,3,FALSE))","v":1},{"$f":"MyXor(CC29,VLOOKUP(CV29,'Таблица CRC'!$A$43:$C$298,3,FALSE))","v":94},{"$f":"MyXor(CD29,VLOOKUP(CW29,'Таблица CRC'!$A$43:$C$298,3,FALSE))","v":68},{"$f":"MyXor(CE29,VLOOKUP(CX29,'Таблица CRC'!$A$43:$C$298,3,FALSE))","v":167},{"$f":"MyXor(CF29,VLOOKUP(CY29,'Таблица CRC'!$A$43:$C$298,3,FALSE))","v":44},null,null,null,null,null,null,null,null,null,null,null,null,null,null,{"$f":"CONCATENATE(DEC2HEX(CA29,2),\" \",DEC2HEX(CB29,2),\" \",DEC2HEX(CC29,2),\" \",DEC2HEX(CD29,2),\" \",DEC2HEX(CE29,2),\" \",DEC2HEX(CZ29,2))","v":"64 05 00 80 80 2C"}]
["Принято в обработку",null,null,"Принято в обработку",null,null,null,null,null,null,null,null,null,null,null,null,null,null,null,null,null,null,null,null,{"$f":"MyXor(Y29,0)","v":100},{"$f":"MyXor(Z29,VLOOKUP(Y30,'Таблица CRC'!$A$43:$C$298,3,FALSE))","v":2},{"$f":"MyXor(AA29,VLOOKUP(Z30,'Таблица CRC'!$A$43:$C$298,3,FALSE))","v":188},{"$f":"MyXor(AB29,VLOOKUP(AA30,'Таблица CRC'!$A$43:$C$298,3,FALSE))","v":242},{"$f":"MyXor(AC29,VLOOKUP(AB30,'Таблица CRC'!$A$43:$C$298,3,FALSE))","v":96},{"$f":"MyXor(AD29,VLOOKUP(AC30,'Таблица CRC'!$A$43:$C$298,3,FALSE))","v":205},{"$f":"MyXor(AE29,VLOOKUP(AD30,'Таблица CRC'!$A$43:$C$298,3,FALSE))","v":55},null,null,null,null,null,"E4 06 BE 13 12 EA A9","E4",6,"BE",13,12,"EA","A9",null,null,null,null,null,null,null,null,null,null,null,null,null,228,6,190,19,18,234,169,0,0,0,0,0,0,0,0,0,0,0,0,0,18,100,6,0,1,0,248,null,null,null,null,null,null,null,null,null,null,null,null,null,null,100,{"$f":"MyXor(CB30,VLOOKUP(CU30,'Таблица CRC'!$A$43:$C$298,3,FALSE))","v":2},{"$f":"MyXor(CC30,VLOOKUP(CV30,'Таблица CRC'!$A$43:$C$298,3,FALSE))","v":188},{"$f":"MyXor(CD30,VLOOKUP(CW30,'Таблица CRC'!$A$43:$C$298,3,FALSE))","v":144},{"$f":"MyXor(CE30,VLOOKUP(CX30,'Таблица CRC'!$A$43:$C$298,3,FALSE))","v":17},{"$f":"MyXor(CF30,VLOOKUP(CY30,'Таблица CRC'!$A$43:$C$298,3,FALSE))","v":59},{"$f":"MyXor(CG30,VLOOKUP(CZ30,'Таблица CRC'!$A$43:$C$298,3,FALSE))","v":158},null,null,null,null,null,null,null,null,null,null,null,null,null,"64 06 00 01 00 F8 9E"]
["ключ шифрования-90",90,null,"ключ шифрования-90",null,null,null,null,null,null,null,null,null,null,null,null,null,null,null,null,null,null,null,null,{"$f":"DEC2HEX(Y29,2)","v":"64"},{"$f":"DEC2HEX(Z29,2)","v":"06"},"00","63","A8","A8",{"$f":"DEC2HEX(AE30,2)","v":"37"},null,null,null,{"$f":"CONCATENATE(Y31,\" \",Z31,\" \",AA31,\" \",AB31,\" \",AC31,\" \",AD31,\" \",AE31,\" \",AF31,\" \",AG31,\" \",AH31)","v":"64 06 00 63 A8 A8 37   "},"64 05 0A 00 00 E5","E4 09 1C 15 16 12 12 12 12 19","E4",9,"1C",15,16,12,12,12,12,19,null,null,null,null,null,null,null,null,null,null,228,9,28,21,22,18,18,18,18,25,0,0,0,0,0,0,0,0,0,0,176,100,9,0,165,166,162,162,162,162,null,null,null,null,null,null,null,null,null,null,null,100,{"$f":"MyXor(CB31,VLOOKUP(CU31,'Таблица CRC'!$A$43:$C$298,3,FALSE))","v":13},{"$f":"MyXor(CC31,VLOOKUP(CV31,'Таблица CRC'!$A$43:$C$298,3,FALSE))","v":253},{"$f":"MyXor(CD31,VLOOKUP(CW31,'Таблица CRC'!$A$43:$C$298,3,FALSE))","v":44},{"$f":"MyXor(CE31,VLOOKUP(CX31,'Таблица CRC'!$A$43:$C$298,3,FALSE))","v":38},{"$f":"MyXor(CF31,VLOOKUP(CY31,'Таблица CRC'!$A$43:$C$298,3,FALSE))","v":92},{"$f":"MyXor(CG31,VLOOKUP(CZ31,'Таблица CRC'!$A$43:$C$298,3,FALSE))","v":218},{"$f":"MyXor(CH31,VLOOKUP(DA31,'Таблица CRC'!$A$43:$C$298,3,FALSE))","v":139},{"$f":"MyXor(CI31,VLOOKUP(DB31,'Таблица CRC'!$A$43:$C$298,3,FALSE))","v":14},{"$f":"MyXor(CJ31,VLOOKUP(DC31,'Таблица CRC'!$A$43:$C$298,3,FALSE))","v":31},null,null,null,null,null,null,null,null,null,null,{"$f":"CONCATENATE(DEC2HEX(CA31,2),\" \",DEC2HEX(CB31,2),\" \",DEC2HEX(CC31,2),\" \",DEC2HEX(CD31,2),\" \",DEC2HEX(CE31,2),\" \",DEC2HEX(CF31,2),\" \",DEC2HEX(CG31,2),\" \",DEC2HEX(CH31,2),\" \",DEC2HEX(CI31,2),\" \",DEC2HEX(DD31,2))","v":"64 09 00 A5 A6 A2 A2 A2 A2 1F"}]
["zapros.s 99,168,168,",null,null,"zapros.s 99",168,168,null,null,null,null,null,null,null,null,null,null,null,null,null,null,null,null,null,null,null,null,null,null,null,null,null,null,null,null,null,null,"E4 06 BE 11 12 12 50","E4",6,"BE",11,12,12,50,null,null,null,null,null,null,null,null,null,null,null,null,null,228,6,190,17,18,18,80,0,0,0,0,0,0,0,0,0,0,0,0,0,18,100,6,0,3,0,0,null,null,null,null,null,null,null,null,null,null,null,null,null,null,100,{"$f":"MyXor(CB32,VLOOKUP(CU32,'Таблица CRC'!$A$43:$C$298,3,FALSE))","v":2},{"$f":"MyXor(CC32,VLOOKUP(CV32,'Таблица CRC'!$A$43:$C$298,3,FALSE))","v":188},{"$f":"MyXor(CD32,VLOOKUP(CW32,'Таблица CRC'!$A$43:$C$298,3,FALSE))","v":146},{"$f":"MyXor(CE32,VLOOKUP(CX32,'Таблица CRC'!$A$43:$C$298,3,FALSE))","v":173},{"$f":"MyXor(CF32,VLOOKUP(CY32,'Таблица CRC'!$A$43:$C$298,3,FALSE))","v":82},{"$f":"MyXor(CG32,VLOOKUP(CZ32,'Таблица CRC'!$A$43:$C$298,3,FALSE))","v":103},null,null,null,null,null,null,null,null,null,null,null,null,null,"64 06 00 03 00 00 67"]
["228,6,94,241,242,242,66,",null,{"$f":"MyXor(F33,$C$1)","v":242},228,6,94,241,242,242,66,null,null,null,{"$f":"IF(D33>127,D33-128,D33)","v":100},{"$f":"E33","v":6},{"$f":"MyXor(F33,$B35)","v":172},3,0,0,176,242,242,242,null,100,6,0,3,0,0,null,null,null,null,null,null,"E4 08 7E F9 D6 D6 D2 D3 F5","E4",8,"7E","F9","D6","D6","D2","D3","F5",null,null,null,null,null,null,null,null,null,null,null,228,8,126,249,214,214,210,211,245,0,0,0,0,0,0,0,0,0,0,0,210,100,8,0,43,4,4,0,1,null,null,null,null,null,null,null,null,null,null,null,null,100,{"$f":"MyXor(CB33,VLOOKUP(CU33,'Таблица CRC'!$A$43:$C$298,3,FALSE))","v":12},{"$f":"MyXor(CC33,VLOOKUP(CV33,'Таблица CRC'!$A$43:$C$298,3,FALSE))","v":163},{"$f":"MyXor(CD33,VLOOKUP(CW33,'Таблица CRC'!$A$43:$C$298,3,FALSE))","v":102},{"$f":"MyXor(CE33,VLOOKUP(CX33,'Таблица CRC'!$A$43:$C$298,3,FALSE))","v":188},{"$f":"MyXor(CF33,VLOOKUP(CY33,'Таблица CRC'!$A$43:$C$298,3,FALSE))","v":149},{"$f":"MyXor(CG33,VLOOKUP(CZ33,'Таблица CRC'!$A$43:$C$298,3,FALSE))","v":46},{"$f":"MyXor(CH33,VLOOKUP(DA33,'Таблица CRC'!$A$43:$C$298,3,FALSE))","v":61},{"$f":"MyXor(CI33,VLOOKUP(DB33,'Таблица CRC'!$A$43:$C$298,3,FALSE))","v":67},null,null,null,null,null,null,null,null,null,null,null,{"$f":"CONCATENATE(DEC2HEX(CA33,2),\" \",DEC2HEX(CB33,2),\" \",DEC2HEX(CC33,2),\" \",DEC2HEX(CD33,2),\" \",DEC2HEX(CE33,2),\" \",DEC2HEX(CF33,2),\" \",DEC2HEX(CG33,2),\" \",DEC2HEX(CH33,2),\" \",DEC2HEX(DC33,2))","v":"64 08 00 2B 04 04 00 01 43"}]
["Принято в обработку",null,null,"Принято в обработку",null,null,null,null,null,null,null,null,null,null,null,null,null,null,null,null,null,null,null,null,{"$f":"MyXor(Y33,0)","v":100},{"$f":"MyXor(Z33,VLOOKUP(Y34,'Таблица CRC'!$A$43:$C$298,3,FALSE))","v":2},{"$f":"MyXor(AA33,VLOOKUP(Z34,'Таблица CRC'!$A$43:$C$298,3,FALSE))","v":188},{"$f":"MyXor(AB33,VLOOKUP(AA34,'Таблица CRC'!$A$43:$C$298,3,FALSE))","v":146},{"$f":"MyXor(AC33,VLOOKUP(AB34,'Таблица CRC'!$A$43:$C$298,3,FALSE))","v":173},{"$f":"MyXor(AD33,VLOOKUP(AC34,'Таблица CRC'!$A$43:$C$298,3,FALSE))","v":82},{"$f":"MyXor(AE33,VLOOKUP(AD34,'Таблица CRC'!$A$43:$C$298,3,FALSE))","v":103},null,null,null,null,null,"E4 05 FE D2 D2 1F","E4",5,"FE","D2","D2","1F",null,null,null,null,null,null,null,null,null,null,null,null,null,null,228,5,254,210,210,31,0,0,0,0,0,0,0,0,0,0,0,0,0,0,82,100,5,0,128,128,null,null,null,null,null,null,null,null,null,null,null,null,null,null,null,100,{"$f":"MyXor(CB34,VLOOKUP(CU34,'Таблица CRC'!$A$43:$C$298,3,FALSE))","v":1},{"$f":"MyXor(CC34,VLOOKUP(CV34,'Таблица CRC'!$A$43:$C$298,3,FALSE))","v":94},{"$f":"MyXor(CD34,VLOOKUP(CW34,'Таблица CRC'!$A$43:$C$298,3,FALSE))","v":68},{"$f":"MyXor(CE34,VLOOKUP(CX34,'Таблица CRC'!$A$43:$C$298,3,FALSE))","v":167},{"$f":"MyXor(CF34,VLOOKUP(CY34,'Таблица CRC'!$A$43:$C$298,3,FALSE))","v":44},null,null,null,null,null,null,null,null,null,null,null,null,null,null,{"$f":"CONCATENATE(DEC2HEX(CA34,2),\" \",DEC2HEX(CB34,2),\" \",DEC2HEX(CC34,2),\" \",DEC2HEX(CD34,2),\" \",DEC2HEX(CE34,2),\" \",DEC2HEX(CZ34,2))","v":"64 05 00 80 80 2C"}]
["ключ шифрования-242",242,null,"ключ шифрования-242",null,null,null,null,null,null,null,null,null,null,null,null,null,null,null,null,null,null,null,null,{"$f":"DEC2HEX(Y33,2)","v":"64"},{"$f":"DEC2HEX(Z33,2)","v":"06"},"00","03","00","00",{"$f":"DEC2HEX(AE34,2)","v":"67"},null,null,null,{"$f":"CONCATENATE(Y35,\" \",Z35,\" \",AA35,\" \",AB35,\" \",AC35,\" \",AD35,\" \",AE35,\" \",AF35,\" \",AG35,\" \",AH35)","v":"64 06 00 03 00 00 67   "},null,"E4 06 82 2F 2E D6 EB","E4",6,82,"2F","2E","D6","EB",null,null,null,null,null,null,null,null,null,null,null,null,null,228,6,130,47,46,214,235,0,0,0,0,0,0,0,0,0,0,0,0,0,46,100,6,0,1,0,248,null,null,null,null,null,null,null,null,null,null,null,null,null,null,100,{"$f":"MyXor(CB35,VLOOKUP(CU35,'Таблица CRC'!$A$43:$C$298,3,FALSE))","v":2},{"$f":"MyXor(CC35,VLOOKUP(CV35,'Таблица CRC'!$A$43:$C$298,3,FALSE))","v":188},{"$f":"MyXor(CD35,VLOOKUP(CW35,'Таблица CRC'!$A$43:$C$298,3,FALSE))","v":144},{"$f":"MyXor(CE35,VLOOKUP(CX35,'Таблица CRC'!$A$43:$C$298,3,FALSE))","v":17},{"$f":"MyXor(CF35,VLOOKUP(CY35,'Таблица CRC'!$A$43:$C$298,3,FALSE))","v":59},{"$f":"MyXor(CG35,VLOOKUP(CZ35,'Таблица CRC'!$A$43:$C$298,3,FALSE))","v":158},null,null,null,null,null,null,null,null,null,null,null,null,null,"64 06 00 01 00 F8 9E"]
["zapros.s 3,0,0,",null,null,"zapros.s 3",0,0,null,null,null,null,null,null,null,null,null,null,null,null,null,null,null,null,null,null,null,null,null,null,null,null,null,null,null,null,null,null,"E4 09 20 29 2B 2E 2E 2E 2E B2","E4",9,20,29,"2B","2E","2E","2E","2E","B2",null,null,null,null,null,null,null,null,null,null,228,9,32,41,43,46,46,46,46,178,0,0,0,0,0,0,0,0,0,0,140,100,9,0,165,167,162,162,162,162,null,null,null,null,null,null,null,null,null,null,null,100,{"$f":"MyXor(CB36,VLOOKUP(CU36,'Таблица CRC'!$A$43:$C$298,3,FALSE))","v":13},{"$f":"MyXor(CC36,VLOOKUP(CV36,'Таблица CRC'!$A$43:$C$298,3,FALSE))","v":253},{"$f":"MyXor(CD36,VLOOKUP(CW36,'Таблица CRC'!$A$43:$C$298,3,FALSE))","v":44},{"$f":"MyXor(CE36,VLOOKUP(CX36,'Таблица CRC'!$A$43:$C$298,3,FALSE))","v":39},{"$f":"MyXor(CF36,VLOOKUP(CY36,'Таблица CRC'!$A$43:$C$298,3,FALSE))","v":2},{"$f":"MyXor(CG36,VLOOKUP(CZ36,'Таблица CRC'!$A$43:$C$298,3,FALSE))","v":30},{"$f":"MyXor(CH36,VLOOKUP(DA36,'Таблица CRC'!$A$43:$C$298,3,FALSE))","v":32},{"$f":"MyXor(CI36,VLOOKUP(DB36,'Таблица CRC'!$A$43:$C$298,3,FALSE))","v":129},{"$f":"MyXor(CJ36,VLOOKUP(DC36,'Таблица CRC'!$A$43:$C$298,3,FALSE))","v":210},null,null,null,null,null,null,null,null,null,null,{"$f":"CONCATENATE(DEC2HEX(CA36,2),\" \",DEC2HEX(CB36,2),\" \",DEC2HEX(CC36,2),\" \",DEC2HEX(CD36,2),\" \",DEC2HEX(CE36,2),\" \",DEC2HEX(CF36,2),\" \",DEC2HEX(CG36,2),\" \",DEC2HEX(CH36,2),\" \",DEC2HEX(CI36,2),\" \",DEC2HEX(DD36,2))","v":"64 09 00 A5 A7 A2 A2 A2 A2 D2"}]
["228,6,117,192,217,217,50,",null,{"$f":"MyXor(F37,$C$1)","v":217},228,6,117,192,217,217,50,null,null,null,{"$f":"IF(D37>127,D37-128,D37)","v":100},{"$f":"E37","v":6},{"$f":"MyXor(F37,$B39)","v":172},25,0,0,235,217,217,217,null,100,6,0,25,0,0,null,null,null,217,null,null,"E4 06 82 2D 2E 2E 12","E4",6,82,"2D","2E","2E",12,null,null,null,null,null,null,null,null,null,null,null,null,null,228,6,130,45,46,46,18,0,0,0,0,0,0,0,0,0,0,0,0,0,46,100,6,0,3,0,0,null,null,null,null,null,null,null,null,null,null,null,null,null,null,100,{"$f":"MyXor(CB37,VLOOKUP(CU37,'Таблица CRC'!$A$43:$C$298,3,FALSE))","v":2},{"$f":"MyXor(CC37,VLOOKUP(CV37,'Таблица CRC'!$A$43:$C$298,3,FALSE))","v":188},{"$f":"MyXor(CD37,VLOOKUP(CW37,'Таблица CRC'!$A$43:$C$298,3,FALSE))","v":146},{"$f":"MyXor(CE37,VLOOKUP(CX37,'Таблица CRC'!$A$43:$C$298,3,FALSE))","v":173},{"$f":"MyXor(CF37,VLOOKUP(CY37,'Таблица CRC'!$A$43:$C$298,3,FALSE))","v":82},{"$f":"MyXor(CG37,VLOOKUP(CZ37,'Таблица CRC'!$A$43:$C$298,3,FALSE))","v":103},null,null,null,null,null,null,null,null,null,null,null,null,null,"64 06 00 03 00 00 67"]
["Принято в обработку",null,null,"Принято в обработку",null,null,null,null,null,null,null,null,null,null,null,null,null,null,null,null,null,null,null,null,{"$f":"MyXor(Y37,0)","v":100},{"$f":"MyXor(Z37,VLOOKUP(Y38,'Таблица CRC'!$A$43:$C$298,3,FALSE))","v":2},{"$f":"MyXor(AA37,VLOOKUP(Z38,'Таблица CRC'!$A$43:$C$298,3,FALSE))","v":188},{"$f":"MyXor(AB37,VLOOKUP(AA38,'Таблица CRC'!$A$43:$C$298,3,FALSE))","v":136},{"$f":"MyXor(AC37,VLOOKUP(AB38,'Таблица CRC'!$A$43:$C$298,3,FALSE))","v":78},{"$f":"MyXor(AD37,VLOOKUP(AC38,'Таблица CRC'!$A$43:$C$298,3,FALSE))","v":89},{"$f":"MyXor(AE37,VLOOKUP(AD38,'Таблица CRC'!$A$43:$C$298,3,FALSE))","v":71},null,null,null,null,null,"E4 08 D2 55 7A 7B 7E 7F 34","E4",8,"D2",55,"7A","7B","7E","7F",34,null,null,null,null,null,null,null,null,null,null,null,228,8,210,85,122,123,126,127,52,0,0,0,0,0,0,0,0,0,0,0,126,100,8,0,43,4,5,0,1,null,null,null,null,null,null,null,null,null,null,null,null,100,{"$f":"MyXor(CB38,VLOOKUP(CU38,'Таблица CRC'!$A$43:$C$298,3,FALSE))","v":12},{"$f":"MyXor(CC38,VLOOKUP(CV38,'Таблица CRC'!$A$43:$C$298,3,FALSE))","v":163},{"$f":"MyXor(CD38,VLOOKUP(CW38,'Таблица CRC'!$A$43:$C$298,3,FALSE))","v":102},{"$f":"MyXor(CE38,VLOOKUP(CX38,'Таблица CRC'!$A$43:$C$298,3,FALSE))","v":188},{"$f":"MyXor(CF38,VLOOKUP(CY38,'Таблица CRC'!$A$43:$C$298,3,FALSE))","v":148},{"$f":"MyXor(CG38,VLOOKUP(CZ38,'Таблица CRC'!$A$43:$C$298,3,FALSE))","v":112},{"$f":"MyXor(CH38,VLOOKUP(DA38,'Таблица CRC'!$A$43:$C$298,3,FALSE))","v":249},{"$f":"MyXor(CI38,VLOOKUP(DB38,'Таблица CRC'!$A$43:$C$298,3,FALSE))","v":252},null,null,null,null,null,null,null,null,null,null,null,{"$f":"CONCATENATE(DEC2HEX(CA38,2),\" \",DEC2HEX(CB38,2),\" \",DEC2HEX(CC38,2),\" \",DEC2HEX(CD38,2),\" \",DEC2HEX(CE38,2),\" \",DEC2HEX(CF38,2),\" \",DEC2HEX(CG38,2),\" \",DEC2HEX(CH38,2),\" \",DEC2HEX(DC38,2))","v":"64 08 00 2B 04 05 00 01 FC"}]
["ключ шифрования-217",217,null,"ключ шифрования-217",null,null,null,null,null,null,null,null,null,null,null,null,null,null,null,null,null,null,null,null,{"$f":"DEC2HEX(Y37,2)","v":"64"},{"$f":"DEC2HEX(Z37,2)","v":"06"},"00","19","00","00",{"$f":"DEC2HEX(AE38,2)","v":"47"},null,null,null,{"$f":"CONCATENATE(Y39,\" \",Z39,\" \",AA39,\" \",AB39,\" \",AC39,\" \",AD39,\" \",AE39,\" \",AF39,\" \",AG39,\" \",AH39)","v":"64 06 00 19 00 00 47   "},"64 06 1A 00 C7 98 A9","E4 05 52 7E 7E FD","E4",5,52,"7E","7E","FD",null,null,null,null,null,null,null,null,null,null,null,null,null,null,228,5,82,126,126,253,0,0,0,0,0,0,0,0,0,0,0,0,0,0,254,100,5,0,128,128,null,null,null,null,null,null,null,null,null,null,null,null,null,null,null,100,{"$f":"MyXor(CB39,VLOOKUP(CU39,'Таблица CRC'!$A$43:$C$298,3,FALSE))","v":1},{"$f":"MyXor(CC39,VLOOKUP(CV39,'Таблица CRC'!$A$43:$C$298,3,FALSE))","v":94},{"$f":"MyXor(CD39,VLOOKUP(CW39,'Таблица CRC'!$A$43:$C$298,3,FALSE))","v":68},{"$f":"MyXor(CE39,VLOOKUP(CX39,'Таблица CRC'!$A$43:$C$298,3,FALSE))","v":167},{"$f":"MyXor(CF39,VLOOKUP(CY39,'Таблица CRC'!$A$43:$C$298,3,FALSE))","v":44},null,null,null,null,null,null,null,null,null,null,null,null,null,null,{"$f":"CONCATENATE(DEC2HEX(CA39,2),\" \",DEC2HEX(CB39,2),\" \",DEC2HEX(CC39,2),\" \",DEC2HEX(CD39,2),\" \",DEC2HEX(CE39,2),\" \",DEC2HEX(CZ39,2))","v":"64 05 00 80 80 2C"}]
["zapros.s 25,0,0,",null,null,"zapros.s 25",0,0,null,null,null,null,null,null,null,null,null,null,null,null,null,null,null,null,null,null,null,null,null,null,null,null,null,null,null,null,null,null,"E4 06 CC 61 60 98 C5","E4",6,"CC",61,60,98,"C5",null,null,null,null,null,null,null,null,null,null,null,null,null,228,6,204,97,96,152,197,0,0,0,0,0,0,0,0,0,0,0,0,0,96,100,6,0,1,0,248,null,null,null,null,null,null,null,null,null,null,null,null,null,null,100,{"$f":"MyXor(CB40,VLOOKUP(CU40,'Таблица CRC'!$A$43:$C$298,3,FALSE))","v":2},{"$f":"MyXor(CC40,VLOOKUP(CV40,'Таблица CRC'!$A$43:$C$298,3,FALSE))","v":188},{"$f":"MyXor(CD40,VLOOKUP(CW40,'Таблица CRC'!$A$43:$C$298,3,FALSE))","v":144},{"$f":"MyXor(CE40,VLOOKUP(CX40,'Таблица CRC'!$A$43:$C$298,3,FALSE))","v":17},{"$f":"MyXor(CF40,VLOOKUP(CY40,'Таблица CRC'!$A$43:$C$298,3,FALSE))","v":59},{"$f":"MyXor(CG40,VLOOKUP(CZ40,'Таблица CRC'!$A$43:$C$298,3,FALSE))","v":158},null,null,null,null,null,null,null,null,null,null,null,null,null,"64 06 00 01 00 F8 9E"]
["ОТВЕТ ЭМУЛЯТОРА 233,243,52,",null,null,"ОТВЕТ ЭМУЛЯТОРА 233",243,52,null,null,null,null,null,null,null,null,null,null,null,null,null,null,null,null,null,null,null,null,null,null,null,null,null,null,null,null,null,null,"E4 09 6E 67 66 60 60 60 60 47","E4",9,"6E",67,66,60,60,60,60,47,null,null,null,null,null,null,null,null,null,null,228,9,110,103,102,96,96,96,96,71,0,0,0,0,0,0,0,0,0,0,194,100,9,0,165,164,162,162,162,162,null,null,null,null,null,null,null,null,null,null,null,100,{"$f":"MyXor(CB41,VLOOKUP(CU41,'Таблица CRC'!$A$43:$C$298,3,FALSE))","v":13},{"$f":"MyXor(CC41,VLOOKUP(CV41,'Таблица CRC'!$A$43:$C$298,3,FALSE))","v":253},{"$f":"MyXor(CD41,VLOOKUP(CW41,'Таблица CRC'!$A$43:$C$298,3,FALSE))","v":44},{"$f":"MyXor(CE41,VLOOKUP(CX41,'Таблица CRC'!$A$43:$C$298,3,FALSE))","v":36},{"$f":"MyXor(CF41,VLOOKUP(CY41,'Таблица CRC'!$A$43:$C$298,3,FALSE))","v":224},{"$f":"MyXor(CG41,VLOOKUP(CZ41,'Таблица CRC'!$A$43:$C$298,3,FALSE))","v":75},{"$f":"MyXor(CH41,VLOOKUP(DA41,'Таблица CRC'!$A$43:$C$298,3,FALSE))","v":196},{"$f":"MyXor(CI41,VLOOKUP(DB41,'Таблица CRC'!$A$43:$C$298,3,FALSE))","v":9},{"$f":"MyXor(CJ41,VLOOKUP(DC41,'Таблица CRC'!$A$43:$C$298,3,FALSE))","v":156},null,null,null,null,null,null,null,null,null,null,{"$f":"CONCATENATE(DEC2HEX(CA41,2),\" \",DEC2HEX(CB41,2),\" \",DEC2HEX(CC41,2),\" \",DEC2HEX(CD41,2),\" \",DEC2HEX(CE41,2),\" \",DEC2HEX(CF41,2),\" \",DEC2HEX(CG41,2),\" \",DEC2HEX(CH41,2),\" \",DEC2HEX(CI41,2),\" \",DEC2HEX(DD41,2))","v":"64 09 00 A5 A4 A2 A2 A2 A2 9C"}]
["228,6,195,217,30,65,103,",null,{"$f":"MyXor(F42,$C$1)","v":111},228,6,195,217,30,65,103,null,null,null,{"$f":"IF(D42>127,D42-128,D42)","v":100},{"$f":"E42","v":6},{"$f":"MyXor(F42,$B44)","v":172},182,113,46,8,111,111,111,null,100,6,0,182,113,46,null,null,null,null,null,null,"E4 06 CC 63 60 60 EB","E4",6,"CC",63,60,60,"EB",null,null,null,null,null,null,null,null,null,null,null,null,null,228,6,204,99,96,96,235,0,0,0,0,0,0,0,0,0,0,0,0,0,96,100,6,0,3,0,0,null,null,null,null,null,null,null,null,null,null,null,null,null,null,100,{"$f":"MyXor(CB42,VLOOKUP(CU42,'Таблица CRC'!$A$43:$C$298,3,FALSE))","v":2},{"$f":"MyXor(CC42,VLOOKUP(CV42,'Таблица CRC'!$A$43:$C$298,3,FALSE))","v":188},{"$f":"MyXor(CD42,VLOOKUP(CW42,'Таблица CRC'!$A$43:$C$298,3,FALSE))","v":146},{"$f":"MyXor(CE42,VLOOKUP(CX42,'Таблица CRC'!$A$43:$C$298,3,FALSE))","v":173},{"$f":"MyXor(CF42,VLOOKUP(CY42,'Таблица CRC'!$A$43:$C$298,3,FALSE))","v":82},{"$f":"MyXor(CG42,VLOOKUP(CZ42,'Таблица CRC'!$A$43:$C$298,3,FALSE))","v":103},null,null,null,null,null,null,null,null,null,null,null,null,null,"64 06 00 03 00 00 67"]
["Принято в обработку",null,null,"Принято в обработку",null,null,null,null,null,null,null,null,null,null,null,null,null,null,null,null,null,null,null,null,{"$f":"MyXor(Y42,0)","v":100},{"$f":"MyXor(Z42,VLOOKUP(Y43,'Таблица CRC'!$A$43:$C$298,3,FALSE))","v":2},{"$f":"MyXor(AA42,VLOOKUP(Z43,'Таблица CRC'!$A$43:$C$298,3,FALSE))","v":188},{"$f":"MyXor(AB42,VLOOKUP(AA43,'Таблица CRC'!$A$43:$C$298,3,FALSE))","v":39},{"$f":"MyXor(AC42,VLOOKUP(AB43,'Таблица CRC'!$A$43:$C$298,3,FALSE))","v":209},{"$f":"MyXor(AD42,VLOOKUP(AC43,'Таблица CRC'!$A$43:$C$298,3,FALSE))","v":39},{"$f":"MyXor(AE42,VLOOKUP(AD43,'Таблица CRC'!$A$43:$C$298,3,FALSE))","v":160},null,null,null,null,null,"E4 08 36 B1 9E 9C 9A 9B 38","E4",8,36,"B1","9E","9C","9A","9B",38,null,null,null,null,null,null,null,null,null,null,null,228,8,54,177,158,156,154,155,56,0,0,0,0,0,0,0,0,0,0,0,154,100,8,0,43,4,6,0,1,null,null,null,null,null,null,null,null,null,null,null,null,100,{"$f":"MyXor(CB43,VLOOKUP(CU43,'Таблица CRC'!$A$43:$C$298,3,FALSE))","v":12},{"$f":"MyXor(CC43,VLOOKUP(CV43,'Таблица CRC'!$A$43:$C$298,3,FALSE))","v":163},{"$f":"MyXor(CD43,VLOOKUP(CW43,'Таблица CRC'!$A$43:$C$298,3,FALSE))","v":102},{"$f":"MyXor(CE43,VLOOKUP(CX43,'Таблица CRC'!$A$43:$C$298,3,FALSE))","v":188},{"$f":"MyXor(CF43,VLOOKUP(CY43,'Таблица CRC'!$A$43:$C$298,3,FALSE))","v":151},{"$f":"MyXor(CG43,VLOOKUP(CZ43,'Таблица CRC'!$A$43:$C$298,3,FALSE))","v":146},{"$f":"MyXor(CH43,VLOOKUP(DA43,'Таблица CRC'!$A$43:$C$298,3,FALSE))","v":172},{"$f":"MyXor(CI43,VLOOKUP(DB43,'Таблица CRC'!$A$43:$C$298,3,FALSE))","v":12},null,null,null,null,null,null,null,null,null,null,null,{"$f":"CONCATENATE(DEC2HEX(CA43,2),\" \",DEC2HEX(CB43,2),\" \",DEC2HEX(CC43,2),\" \",DEC2HEX(CD43,2),\" \",DEC2HEX(CE43,2),\" \",DEC2HEX(CF43,2),\" \",DEC2HEX(CG43,2),\" \",DEC2HEX(CH43,2),\" \",DEC2HEX(DC43,2))","v":"64 08 00 2B 04 06 00 01 0C"}]
["ключ шифрования-111",111,null,"ключ шифрования-111",null,null,null,null,null,null,null,null,null,null,null,null,null,null,null,null,null,null,null,null,{"$f":"DEC2HEX(Y42,2)","v":"64"},{"$f":"DEC2HEX(Z42,2)","v":"06"},"00","B6","71","2E",{"$f":"DEC2HEX(AE43,2)","v":"A0"},null,null,null,{"$f":"CONCATENATE(Y44,\" \",Z44,\" \",AA44,\" \",AB44,\" \",AC44,\" \",AD44,\" \",AE44,\" \",AF44,\" \",AG44,\" \",AH44)","v":"64 06 00 B6 71 2E A0   "},null,"E4 05 B6 9A 9A 62","E4",5,"B6","9A","9A",62,null,null,null,null,null,null,null,null,null,null,null,null,null,null,228,5,182,154,154,98,0,0,0,0,0,0,0,0,0,0,0,0,0,0,26,100,5,0,128,128,null,null,null,null,null,null,null,null,null,null,null,null,null,null,null,100,{"$f":"MyXor(CB44,VLOOKUP(CU44,'Таблица CRC'!$A$43:$C$298,3,FALSE))","v":1},{"$f":"MyXor(CC44,VLOOKUP(CV44,'Таблица CRC'!$A$43:$C$298,3,FALSE))","v":94},{"$f":"MyXor(CD44,VLOOKUP(CW44,'Таблица CRC'!$A$43:$C$298,3,FALSE))","v":68},{"$f":"MyXor(CE44,VLOOKUP(CX44,'Таблица CRC'!$A$43:$C$298,3,FALSE))","v":167},{"$f":"MyXor(CF44,VLOOKUP(CY44,'Таблица CRC'!$A$43:$C$298,3,FALSE))","v":44},null,null,null,null,null,null,null,null,null,null,null,null,null,null,{"$f":"CONCATENATE(DEC2HEX(CA44,2),\" \",DEC2HEX(CB44,2),\" \",DEC2HEX(CC44,2),\" \",DEC2HEX(CD44,2),\" \",DEC2HEX(CE44,2),\" \",DEC2HEX(CZ44,2))","v":"64 05 00 80 80 2C"}]
["zapros.s 182,113,46,",null,null,"zapros.s 182",113,46,null,null,null,null,null,null,null,null,null,null,null,null,null,null,null,null,null,null,null,null,null,null,null,null,null,null,null,null,null,null,"E4 06 1F B2 B3 4B 09","E4",6,"1F","B2","B3","4B",9,null,null,null,null,null,null,null,null,null,null,null,null,null,228,6,31,178,179,75,9,0,0,0,0,0,0,0,0,0,0,0,0,0,179,100,6,0,1,0,248,null,null,null,null,null,null,null,null,null,null,null,null,null,null,100,{"$f":"MyXor(CB45,VLOOKUP(CU45,'Таблица CRC'!$A$43:$C$298,3,FALSE))","v":2},{"$f":"MyXor(CC45,VLOOKUP(CV45,'Таблица CRC'!$A$43:$C$298,3,FALSE))","v":188},{"$f":"MyXor(CD45,VLOOKUP(CW45,'Таблица CRC'!$A$43:$C$298,3,FALSE))","v":144},{"$f":"MyXor(CE45,VLOOKUP(CX45,'Таблица CRC'!$A$43:$C$298,3,FALSE))","v":17},{"$f":"MyXor(CF45,VLOOKUP(CY45,'Таблица CRC'!$A$43:$C$298,3,FALSE))","v":59},{"$f":"MyXor(CG45,VLOOKUP(CZ45,'Таблица CRC'!$A$43:$C$298,3,FALSE))","v":158},null,null,null,null,null,null,null,null,null,null,null,null,null,"64 06 00 01 00 F8 9E"]
["228,6,136,37,36,220,3,",null,{"$f":"MyXor(F46,$C$1)","v":36},228,6,136,37,36,220,3,null,null,null,{"$f":"IF(D46>127,D46-128,D46)","v":100},{"$f":"E46","v":6},{"$f":"MyXor(F46,$B48)","v":172},1,0,248,39,36,36,36,null,100,6,0,1,0,248,null,null,null,null,null,null,"E4 09 BD B4 B4 B3 B3 B3 B3 27","E4",9,"BD","B4","B4","B3","B3","B3","B3",27,null,null,null,null,null,null,null,null,null,null,228,9,189,180,180,179,179,179,179,39,0,0,0,0,0,0,0,0,0,0,17,100,9,0,165,165,162,162,162,162,null,null,null,null,null,null,null,null,null,null,null,100,{"$f":"MyXor(CB46,VLOOKUP(CU46,'Таблица CRC'!$A$43:$C$298,3,FALSE))","v":13},{"$f":"MyXor(CC46,VLOOKUP(CV46,'Таблица CRC'!$A$43:$C$298,3,FALSE))","v":253},{"$f":"MyXor(CD46,VLOOKUP(CW46,'Таблица CRC'!$A$43:$C$298,3,FALSE))","v":44},{"$f":"MyXor(CE46,VLOOKUP(CX46,'Таблица CRC'!$A$43:$C$298,3,FALSE))","v":37},{"$f":"MyXor(CF46,VLOOKUP(CY46,'Таблица CRC'!$A$43:$C$298,3,FALSE))","v":190},{"$f":"MyXor(CG46,VLOOKUP(CZ46,'Таблица CRC'!$A$43:$C$298,3,FALSE))","v":143},{"$f":"MyXor(CH46,VLOOKUP(DA46,'Таблица CRC'!$A$43:$C$298,3,FALSE))","v":111},{"$f":"MyXor(CI46,VLOOKUP(DB46,'Таблица CRC'!$A$43:$C$298,3,FALSE))","v":134},{"$f":"MyXor(CJ46,VLOOKUP(DC46,'Таблица CRC'!$A$43:$C$298,3,FALSE))","v":81},null,null,null,null,null,null,null,null,null,null,{"$f":"CONCATENATE(DEC2HEX(CA46,2),\" \",DEC2HEX(CB46,2),\" \",DEC2HEX(CC46,2),\" \",DEC2HEX(CD46,2),\" \",DEC2HEX(CE46,2),\" \",DEC2HEX(CF46,2),\" \",DEC2HEX(CG46,2),\" \",DEC2HEX(CH46,2),\" \",DEC2HEX(CI46,2),\" \",DEC2HEX(DD46,2))","v":"64 09 00 A5 A5 A2 A2 A2 A2 51"}]
["Принято в обработку",null,null,"Принято в обработку",null,null,null,null,null,null,null,null,null,null,null,null,null,null,null,null,null,null,null,null,{"$f":"MyXor(Y46,0)","v":100},{"$f":"MyXor(Z46,VLOOKUP(Y47,'Таблица CRC'!$A$43:$C$298,3,FALSE))","v":2},{"$f":"MyXor(AA46,VLOOKUP(Z47,'Таблица CRC'!$A$43:$C$298,3,FALSE))","v":188},{"$f":"MyXor(AB46,VLOOKUP(AA47,'Таблица CRC'!$A$43:$C$298,3,FALSE))","v":144},{"$f":"MyXor(AC46,VLOOKUP(AB47,'Таблица CRC'!$A$43:$C$298,3,FALSE))","v":17},{"$f":"MyXor(AD46,VLOOKUP(AC47,'Таблица CRC'!$A$43:$C$298,3,FALSE))","v":59},{"$f":"MyXor(AE46,VLOOKUP(AD47,'Таблица CRC'!$A$43:$C$298,3,FALSE))","v":158},null,null,null,null,null,"E4 06 1F B0 B3 B3 F0","E4",6,"1F","B0","B3","B3","F0",null,null,null,null,null,null,null,null,null,null,null,null,null,228,6,31,176,179,179,240,0,0,0,0,0,0,0,0,0,0,0,0,0,179,100,6,0,3,0,0,null,null,null,null,null,null,null,null,null,null,null,null,null,null,100,{"$f":"MyXor(CB47,VLOOKUP(CU47,'Таблица CRC'!$A$43:$C$298,3,FALSE))","v":2},{"$f":"MyXor(CC47,VLOOKUP(CV47,'Таблица CRC'!$A$43:$C$298,3,FALSE))","v":188},{"$f":"MyXor(CD47,VLOOKUP(CW47,'Таблица CRC'!$A$43:$C$298,3,FALSE))","v":146},{"$f":"MyXor(CE47,VLOOKUP(CX47,'Таблица CRC'!$A$43:$C$298,3,FALSE))","v":173},{"$f":"MyXor(CF47,VLOOKUP(CY47,'Таблица CRC'!$A$43:$C$298,3,FALSE))","v":82},{"$f":"MyXor(CG47,VLOOKUP(CZ47,'Таблица CRC'!$A$43:$C$298,3,FALSE))","v":103},null,null,null,null,null,null,null,null,null,null,null,null,null,"64 06 00 03 00 00 67"]
["ключ шифрования-36",36,null,"ключ шифрования-36",null,null,null,null,null,null,null,null,null,null,null,null,null,null,null,null,null,null,null,null,{"$f":"DEC2HEX(Y46,2)","v":"64"},{"$f":"DEC2HEX(Z46,2)","v":"06"},"00","01","00","F8",{"$f":"DEC2HEX(AE47,2)","v":"9E"},null,null,null,{"$f":"CONCATENATE(Y48,\" \",Z48,\" \",AA48,\" \",AB48,\" \",AC48,\" \",AD48,\" \",AE48,\" \",AF48,\" \",AG48,\" \",AH48)","v":"64 06 00 01 00 F8 9E   "},"64 0C 0C CB 00 00 00 00 00 01 01 05 44","E4 08 23 A4 8B 88 8F 8E FA","E4",8,23,"A4","8B",88,"8F","8E","FA",null,null,null,null,null,null,null,null,null,null,null,228,8,35,164,139,136,143,142,250,0,0,0,0,0,0,0,0,0,0,0,143,100,8,0,43,4,7,0,1,null,null,null,null,null,null,null,null,null,null,null,null,100,{"$f":"MyXor(CB48,VLOOKUP(CU48,'Таблица CRC'!$A$43:$C$298,3,FALSE))","v":12},{"$f":"MyXor(CC48,VLOOKUP(CV48,'Таблица CRC'!$A$43:$C$298,3,FALSE))","v":163},{"$f":"MyXor(CD48,VLOOKUP(CW48,'Таблица CRC'!$A$43:$C$298,3,FALSE))","v":102},{"$f":"MyXor(CE48,VLOOKUP(CX48,'Таблица CRC'!$A$43:$C$298,3,FALSE))","v":188},{"$f":"MyXor(CF48,VLOOKUP(CY48,'Таблица CRC'!$A$43:$C$298,3,FALSE))","v":150},{"$f":"MyXor(CG48,VLOOKUP(CZ48,'Таблица CRC'!$A$43:$C$298,3,FALSE))","v":204},{"$f":"MyXor(CH48,VLOOKUP(DA48,'Таблица CRC'!$A$43:$C$298,3,FALSE))","v":104},{"$f":"MyXor(CI48,VLOOKUP(DB48,'Таблица CRC'!$A$43:$C$298,3,FALSE))","v":167},null,null,null,null,null,null,null,null,null,null,null,{"$f":"CONCATENATE(DEC2HEX(CA48,2),\" \",DEC2HEX(CB48,2),\" \",DEC2HEX(CC48,2),\" \",DEC2HEX(CD48,2),\" \",DEC2HEX(CE48,2),\" \",DEC2HEX(CF48,2),\" \",DEC2HEX(CG48,2),\" \",DEC2HEX(CH48,2),\" \",DEC2HEX(DC48,2))","v":"64 08 00 2B 04 07 00 01 A7"}]
["zapros.s 1,0,248,",null,null,"zapros.s 1",0,248,null,null,null,null,null,null,null,null,null,null,null,null,null,null,null,null,null,null,null,null,null,null,null,null,null,null,null,null,null,null,"E4 05 A3 8F 8F AC","E4",5,"A3","8F","8F","AC",null,null,null,null,null,null,null,null,null,null,null,null,null,null,228,5,163,143,143,172,0,0,0,0,0,0,0,0,0,0,0,0,0,0,15,100,5,0,128,128,null,null,null,null,null,null,null,null,null,null,null,null,null,null,null,100,{"$f":"MyXor(CB49,VLOOKUP(CU49,'Таблица CRC'!$A$43:$C$298,3,FALSE))","v":1},{"$f":"MyXor(CC49,VLOOKUP(CV49,'Таблица CRC'!$A$43:$C$298,3,FALSE))","v":94},{"$f":"MyXor(CD49,VLOOKUP(CW49,'Таблица CRC'!$A$43:$C$298,3,FALSE))","v":68},{"$f":"MyXor(CE49,VLOOKUP(CX49,'Таблица CRC'!$A$43:$C$298,3,FALSE))","v":167},{"$f":"MyXor(CF49,VLOOKUP(CY49,'Таблица CRC'!$A$43:$C$298,3,FALSE))","v":44},null,null,null,null,null,null,null,null,null,null,null,null,null,null,{"$f":"CONCATENATE(DEC2HEX(CA49,2),\" \",DEC2HEX(CB49,2),\" \",DEC2HEX(CC49,2),\" \",DEC2HEX(CD49,2),\" \",DEC2HEX(CE49,2),\" \",DEC2HEX(CZ49,2))","v":"64 05 00 80 80 2C"}]
["ОТВЕТ ЭМУЛЯТОРА 38,39,36,",null,null,"ОТВЕТ ЭМУЛЯТОРА 38",39,36,null,null,null,null,null,null,null,null,null,null,null,null,null,null,null,null,null,null,null,null,null,null,null,null,null,null,null,null,null,null,"E4 06 92 3F 3E C6 FC","E4",6,92,"3F","3E","C6","FC",null,null,null,null,null,null,null,null,null,null,null,null,null,228,6,146,63,62,198,252,0,0,0,0,0,0,0,0,0,0,0,0,0,62,100,6,0,1,0,248,null,null,null,null,null,null,null,null,null,null,null,null,null,null,100,{"$f":"MyXor(CB50,VLOOKUP(CU50,'Таблица CRC'!$A$43:$C$298,3,FALSE))","v":2},{"$f":"MyXor(CC50,VLOOKUP(CV50,'Таблица CRC'!$A$43:$C$298,3,FALSE))","v":188},{"$f":"MyXor(CD50,VLOOKUP(CW50,'Таблица CRC'!$A$43:$C$298,3,FALSE))","v":144},{"$f":"MyXor(CE50,VLOOKUP(CX50,'Таблица CRC'!$A$43:$C$298,3,FALSE))","v":17},{"$f":"MyXor(CF50,VLOOKUP(CY50,'Таблица CRC'!$A$43:$C$298,3,FALSE))","v":59},{"$f":"MyXor(CG50,VLOOKUP(CZ50,'Таблица CRC'!$A$43:$C$298,3,FALSE))","v":158},null,null,null,null,null,null,null,null,null,null,null,null,null,"64 06 00 01 00 F8 9E"]
["228,9,42,35,37,36,36,36,36,188,",null,{"$f":"MyXor(F51,$C$1)","v":134},228,9,42,35,37,36,36,36,36,188,{"$f":"IF(D51>127,D51-128,D51)","v":100},{"$f":"E51","v":9},{"$f":"MyXor(F51,$B53)","v":172},165,163,162,162,162,162,58,null,100,9,0,165,163,162,162,162,162,null,null,null,"E4 09 30 39 36 3E 3E 3E 3E 81","E4",9,30,39,36,"3E","3E","3E","3E",81,null,null,null,null,null,null,null,null,null,null,228,9,48,57,54,62,62,62,62,129,0,0,0,0,0,0,0,0,0,0,156,100,9,0,165,170,162,162,162,162,null,null,null,null,null,null,null,null,null,null,null,100,{"$f":"MyXor(CB51,VLOOKUP(CU51,'Таблица CRC'!$A$43:$C$298,3,FALSE))","v":13},{"$f":"MyXor(CC51,VLOOKUP(CV51,'Таблица CRC'!$A$43:$C$298,3,FALSE))","v":253},{"$f":"MyXor(CD51,VLOOKUP(CW51,'Таблица CRC'!$A$43:$C$298,3,FALSE))","v":44},{"$f":"MyXor(CE51,VLOOKUP(CX51,'Таблица CRC'!$A$43:$C$298,3,FALSE))","v":42},{"$f":"MyXor(CF51,VLOOKUP(CY51,'Таблица CRC'!$A$43:$C$298,3,FALSE))","v":255},{"$f":"MyXor(CG51,VLOOKUP(CZ51,'Таблица CRC'!$A$43:$C$298,3,FALSE))","v":151},{"$f":"MyXor(CH51,VLOOKUP(DA51,'Таблица CRC'!$A$43:$C$298,3,FALSE))","v":48},{"$f":"MyXor(CI51,VLOOKUP(DB51,'Таблица CRC'!$A$43:$C$298,3,FALSE))","v":28},{"$f":"MyXor(CJ51,VLOOKUP(DC51,'Таблица CRC'!$A$43:$C$298,3,FALSE))","v":62},null,null,null,null,null,null,null,null,null,null,{"$f":"CONCATENATE(DEC2HEX(CA51,2),\" \",DEC2HEX(CB51,2),\" \",DEC2HEX(CC51,2),\" \",DEC2HEX(CD51,2),\" \",DEC2HEX(CE51,2),\" \",DEC2HEX(CF51,2),\" \",DEC2HEX(CG51,2),\" \",DEC2HEX(CH51,2),\" \",DEC2HEX(CI51,2),\" \",DEC2HEX(DD51,2))","v":"64 09 00 A5 AA A2 A2 A2 A2 3E"}]
["Принято в обработку",null,null,"Принято в обработку",null,null,null,null,null,null,null,null,null,null,null,null,null,null,null,null,null,null,null,null,{"$f":"MyXor(Y51,0)","v":100},{"$f":"MyXor(Z51,VLOOKUP(Y52,'Таблица CRC'!$A$43:$C$298,3,FALSE))","v":13},{"$f":"MyXor(AA51,VLOOKUP(Z52,'Таблица CRC'!$A$43:$C$298,3,FALSE))","v":253},{"$f":"MyXor(AB51,VLOOKUP(AA52,'Таблица CRC'!$A$43:$C$298,3,FALSE))","v":44},{"$f":"MyXor(AC51,VLOOKUP(AB52,'Таблица CRC'!$A$43:$C$298,3,FALSE))","v":35},{"$f":"MyXor(AD51,VLOOKUP(AC52,'Таблица CRC'!$A$43:$C$298,3,FALSE))","v":99},{"$f":"MyXor(AE51,VLOOKUP(AD52,'Таблица CRC'!$A$43:$C$298,3,FALSE))","v":37},{"$f":"MyXor(AF51,VLOOKUP(AE52,'Таблица CRC'!$A$43:$C$298,3,FALSE))","v":190},{"$f":"MyXor(AG51,VLOOKUP(AF52,'Таблица CRC'!$A$43:$C$298,3,FALSE))","v":143},{"$f":"MyXor(AH51,VLOOKUP(AG52,'Таблица CRC'!$A$43:$C$298,3,FALSE))","v":205},null,null,"E4 06 92 3D 3E 3E 11","E4",6,92,"3D","3E","3E",11,null,null,null,null,null,null,null,null,null,null,null,null,null,228,6,146,61,62,62,17,0,0,0,0,0,0,0,0,0,0,0,0,0,62,100,6,0,3,0,0,null,null,null,null,null,null,null,null,null,null,null,null,null,null,100,{"$f":"MyXor(CB52,VLOOKUP(CU52,'Таблица CRC'!$A$43:$C$298,3,FALSE))","v":2},{"$f":"MyXor(CC52,VLOOKUP(CV52,'Таблица CRC'!$A$43:$C$298,3,FALSE))","v":188},{"$f":"MyXor(CD52,VLOOKUP(CW52,'Таблица CRC'!$A$43:$C$298,3,FALSE))","v":146},{"$f":"MyXor(CE52,VLOOKUP(CX52,'Таблица CRC'!$A$43:$C$298,3,FALSE))","v":173},{"$f":"MyXor(CF52,VLOOKUP(CY52,'Таблица CRC'!$A$43:$C$298,3,FALSE))","v":82},{"$f":"MyXor(CG52,VLOOKUP(CZ52,'Таблица CRC'!$A$43:$C$298,3,FALSE))","v":103},null,null,null,null,null,null,null,null,null,null,null,null,null,"64 06 00 03 00 00 67"]
["ключ шифрования-134",134,null,"ключ шифрования-134",null,null,null,null,null,null,null,null,null,null,null,null,null,null,null,null,null,null,null,null,{"$f":"DEC2HEX(Y51,2)","v":"64"},{"$f":"DEC2HEX(Z51,2)","v":"09"},"00","A5","A3","A2","A2","A2","A2",{"$f":"DEC2HEX(AH52,2)","v":"CD"},{"$f":"CONCATENATE(Y53,\" \",Z53,\" \",AA53,\" \",AB53,\" \",AC53,\" \",AD53,\" \",AE53,\" \",AF53,\" \",AG53,\" \",AH53)","v":"64 09 00 A5 A3 A2 A2 A2 A2 CD"},"64 05 0A 00 00 E5","E4 08 BC 3B 14 18 10 11 6F","E4",8,"BC","3B",14,18,10,11,"6F",null,null,null,null,null,null,null,null,null,null,null,228,8,188,59,20,24,16,17,111,0,0,0,0,0,0,0,0,0,0,0,16,100,8,0,43,4,8,0,1,null,null,null,null,null,null,null,null,null,null,null,null,100,{"$f":"MyXor(CB53,VLOOKUP(CU53,'Таблица CRC'!$A$43:$C$298,3,FALSE))","v":12},{"$f":"MyXor(CC53,VLOOKUP(CV53,'Таблица CRC'!$A$43:$C$298,3,FALSE))","v":163},{"$f":"MyXor(CD53,VLOOKUP(CW53,'Таблица CRC'!$A$43:$C$298,3,FALSE))","v":102},{"$f":"MyXor(CE53,VLOOKUP(CX53,'Таблица CRC'!$A$43:$C$298,3,FALSE))","v":188},{"$f":"MyXor(CF53,VLOOKUP(CY53,'Таблица CRC'!$A$43:$C$298,3,FALSE))","v":153},{"$f":"MyXor(CG53,VLOOKUP(CZ53,'Таблица CRC'!$A$43:$C$298,3,FALSE))","v":141},{"$f":"MyXor(CH53,VLOOKUP(DA53,'Таблица CRC'!$A$43:$C$298,3,FALSE))","v":112},{"$f":"MyXor(CI53,VLOOKUP(DB53,'Таблица CRC'!$A$43:$C$298,3,FALSE))","v":248},null,null,null,null,null,null,null,null,null,null,null,{"$f":"CONCATENATE(DEC2HEX(CA53,2),\" \",DEC2HEX(CB53,2),\" \",DEC2HEX(CC53,2),\" \",DEC2HEX(CD53,2),\" \",DEC2HEX(CE53,2),\" \",DEC2HEX(CF53,2),\" \",DEC2HEX(CG53,2),\" \",DEC2HEX(CH53,2),\" \",DEC2HEX(DC53,2))","v":"64 08 00 2B 04 08 00 01 F8"}]
["zapros.s 165,163,162,",null,null,"zapros.s 165",163,162,null,null,null,null,null,null,null,null,null,null,null,null,null,null,null,null,null,null,null,null,null,null,null,null,null,null,null,null,null,null,"E4 05 3C 10 10 50","E4",5,"3C",10,10,50,null,null,null,null,null,null,null,null,null,null,null,null,null,null,228,5,60,16,16,80,0,0,0,0,0,0,0,0,0,0,0,0,0,0,144,100,5,0,128,128,null,null,null,null,null,null,null,null,null,null,null,null,null,null,null,100,{"$f":"MyXor(CB54,VLOOKUP(CU54,'Таблица CRC'!$A$43:$C$298,3,FALSE))","v":1},{"$f":"MyXor(CC54,VLOOKUP(CV54,'Таблица CRC'!$A$43:$C$298,3,FALSE))","v":94},{"$f":"MyXor(CD54,VLOOKUP(CW54,'Таблица CRC'!$A$43:$C$298,3,FALSE))","v":68},{"$f":"MyXor(CE54,VLOOKUP(CX54,'Таблица CRC'!$A$43:$C$298,3,FALSE))","v":167},{"$f":"MyXor(CF54,VLOOKUP(CY54,'Таблица CRC'!$A$43:$C$298,3,FALSE))","v":44},null,null,null,null,null,null,null,null,null,null,null,null,null,null,{"$f":"CONCATENATE(DEC2HEX(CA54,2),\" \",DEC2HEX(CB54,2),\" \",DEC2HEX(CC54,2),\" \",DEC2HEX(CD54,2),\" \",DEC2HEX(CE54,2),\" \",DEC2HEX(CZ54,2))","v":"64 05 00 80 80 2C"}]
["228,6,136,39,36,36,250,",null,{"$f":"MyXor(F55,$C$1)","v":36},228,6,136,39,36,36,250,null,null,null,{"$f":"IF(D55>127,D55-128,D55)","v":100},{"$f":"E55","v":6},{"$f":"MyXor(F55,$B57)","v":172},3,0,0,222,36,36,36,null,100,6,0,3,0,0,null,null,null,null,null,null,"E4 06 6D C0 C1 39 65","E4",6,"6D","C0","C1",39,65,null,null,null,null,null,null,null,null,null,null,null,null,null,228,6,109,192,193,57,101,0,0,0,0,0,0,0,0,0,0,0,0,0,193,100,6,0,1,0,248,null,null,null,null,null,null,null,null,null,null,null,null,null,null,100,{"$f":"MyXor(CB55,VLOOKUP(CU55,'Таблица CRC'!$A$43:$C$298,3,FALSE))","v":2},{"$f":"MyXor(CC55,VLOOKUP(CV55,'Таблица CRC'!$A$43:$C$298,3,FALSE))","v":188},{"$f":"MyXor(CD55,VLOOKUP(CW55,'Таблица CRC'!$A$43:$C$298,3,FALSE))","v":144},{"$f":"MyXor(CE55,VLOOKUP(CX55,'Таблица CRC'!$A$43:$C$298,3,FALSE))","v":17},{"$f":"MyXor(CF55,VLOOKUP(CY55,'Таблица CRC'!$A$43:$C$298,3,FALSE))","v":59},{"$f":"MyXor(CG55,VLOOKUP(CZ55,'Таблица CRC'!$A$43:$C$298,3,FALSE))","v":158},null,null,null,null,null,null,null,null,null,null,null,null,null,"64 06 00 01 00 F8 9E"]
["Принято в обработку",null,null,"Принято в обработку",null,null,null,null,null,null,null,null,null,null,null,null,null,null,null,null,null,null,null,null,{"$f":"MyXor(Y55,0)","v":100},{"$f":"MyXor(Z55,VLOOKUP(Y56,'Таблица CRC'!$A$43:$C$298,3,FALSE))","v":2},{"$f":"MyXor(AA55,VLOOKUP(Z56,'Таблица CRC'!$A$43:$C$298,3,FALSE))","v":188},{"$f":"MyXor(AB55,VLOOKUP(AA56,'Таблица CRC'!$A$43:$C$298,3,FALSE))","v":146},{"$f":"MyXor(AC55,VLOOKUP(AB56,'Таблица CRC'!$A$43:$C$298,3,FALSE))","v":173},{"$f":"MyXor(AD55,VLOOKUP(AC56,'Таблица CRC'!$A$43:$C$298,3,FALSE))","v":82},{"$f":"MyXor(AE55,VLOOKUP(AD56,'Таблица CRC'!$A$43:$C$298,3,FALSE))","v":103},null,null,null,null,null,"E4 09 CF C6 C8 C1 C1 C1 C1 58","E4",9,"CF","C6","C8","C1","C1","C1","C1",58,null,null,null,null,null,null,null,null,null,null,228,9,207,198,200,193,193,193,193,88,0,0,0,0,0,0,0,0,0,0,99,100,9,0,165,171,162,162,162,162,null,null,null,null,null,null,null,null,null,null,null,100,{"$f":"MyXor(CB56,VLOOKUP(CU56,'Таблица CRC'!$A$43:$C$298,3,FALSE))","v":13},{"$f":"MyXor(CC56,VLOOKUP(CV56,'Таблица CRC'!$A$43:$C$298,3,FALSE))","v":253},{"$f":"MyXor(CD56,VLOOKUP(CW56,'Таблица CRC'!$A$43:$C$298,3,FALSE))","v":44},{"$f":"MyXor(CE56,VLOOKUP(CX56,'Таблица CRC'!$A$43:$C$298,3,FALSE))","v":43},{"$f":"MyXor(CF56,VLOOKUP(CY56,'Таблица CRC'!$A$43:$C$298,3,FALSE))","v":161},{"$f":"MyXor(CG56,VLOOKUP(CZ56,'Таблица CRC'!$A$43:$C$298,3,FALSE))","v":83},{"$f":"MyXor(CH56,VLOOKUP(DA56,'Таблица CRC'!$A$43:$C$298,3,FALSE))","v":155},{"$f":"MyXor(CI56,VLOOKUP(DB56,'Таблица CRC'!$A$43:$C$298,3,FALSE))","v":147},{"$f":"MyXor(CJ56,VLOOKUP(DC56,'Таблица CRC'!$A$43:$C$298,3,FALSE))","v":243},null,null,null,null,null,null,null,null,null,null,{"$f":"CONCATENATE(DEC2HEX(CA56,2),\" \",DEC2HEX(CB56,2),\" \",DEC2HEX(CC56,2),\" \",DEC2HEX(CD56,2),\" \",DEC2HEX(CE56,2),\" \",DEC2HEX(CF56,2),\" \",DEC2HEX(CG56,2),\" \",DEC2HEX(CH56,2),\" \",DEC2HEX(CI56,2),\" \",DEC2HEX(DD56,2))","v":"64 09 00 A5 AB A2 A2 A2 A2 F3"}]
["ключ шифрования-36",36,null,"ключ шифрования-36",null,null,null,null,null,null,null,null,null,null,null,null,null,null,null,null,null,null,null,null,{"$f":"DEC2HEX(Y55,2)","v":"64"},{"$f":"DEC2HEX(Z55,2)","v":"06"},"00","03","00","00",{"$f":"DEC2HEX(AE56,2)","v":"67"},null,null,null,{"$f":"CONCATENATE(Y57,\" \",Z57,\" \",AA57,\" \",AB57,\" \",AC57,\" \",AD57,\" \",AE57,\" \",AF57,\" \",AG57,\" \",AH57)","v":"64 06 00 03 00 00 67   "},null,"E4 06 6D C2 C1 C1 9C","E4",6,"6D","C2","C1","C1","9C",null,null,null,null,null,null,null,null,null,null,null,null,null,228,6,109,194,193,193,156,0,0,0,0,0,0,0,0,0,0,0,0,0,193,100,6,0,3,0,0,null,null,null,null,null,null,null,null,null,null,null,null,null,null,100,{"$f":"MyXor(CB57,VLOOKUP(CU57,'Таблица CRC'!$A$43:$C$298,3,FALSE))","v":2},{"$f":"MyXor(CC57,VLOOKUP(CV57,'Таблица CRC'!$A$43:$C$298,3,FALSE))","v":188},{"$f":"MyXor(CD57,VLOOKUP(CW57,'Таблица CRC'!$A$43:$C$298,3,FALSE))","v":146},{"$f":"MyXor(CE57,VLOOKUP(CX57,'Таблица CRC'!$A$43:$C$298,3,FALSE))","v":173},{"$f":"MyXor(CF57,VLOOKUP(CY57,'Таблица CRC'!$A$43:$C$298,3,FALSE))","v":82},{"$f":"MyXor(CG57,VLOOKUP(CZ57,'Таблица CRC'!$A$43:$C$298,3,FALSE))","v":103},null,null,null,null,null,null,null,null,null,null,null,null,null,"64 06 00 03 00 00 67"]
["zapros.s 3,0,0,",null,null,"zapros.s 3",0,0,null,null,null,null,null,null,null,null,null,null,null,null,null,null,null,null,null,null,null,null,null,null,null,null,null,null,null,null,null,null,"E4 08 97 10 3F 32 3B 3A 52","E4",8,97,10,"3F",32,"3B","3A",52,null,null,null,null,null,null,null,null,null,null,null,228,8,151,16,63,50,59,58,82,0,0,0,0,0,0,0,0,0,0,0,59,100,8,0,43,4,9,0,1,null,null,null,null,null,null,null,null,null,null,null,null,100,{"$f":"MyXor(CB58,VLOOKUP(CU58,'Таблица CRC'!$A$43:$C$298,3,FALSE))","v":12},{"$f":"MyXor(CC58,VLOOKUP(CV58,'Таблица CRC'!$A$43:$C$298,3,FALSE))","v":163},{"$f":"MyXor(CD58,VLOOKUP(CW58,'Таблица CRC'!$A$43:$C$298,3,FALSE))","v":102},{"$f":"MyXor(CE58,VLOOKUP(CX58,'Таблица CRC'!$A$43:$C$298,3,FALSE))","v":188},{"$f":"MyXor(CF58,VLOOKUP(CY58,'Таблица CRC'!$A$43:$C$298,3,FALSE))","v":152},{"$f":"MyXor(CG58,VLOOKUP(CZ58,'Таблица CRC'!$A$43:$C$298,3,FALSE))","v":211},{"$f":"MyXor(CH58,VLOOKUP(DA58,'Таблица CRC'!$A$43:$C$298,3,FALSE))","v":180},{"$f":"MyXor(CI58,VLOOKUP(DB58,'Таблица CRC'!$A$43:$C$298,3,FALSE))","v":83},null,null,null,null,null,null,null,null,null,null,null,{"$f":"CONCATENATE(DEC2HEX(CA58,2),\" \",DEC2HEX(CB58,2),\" \",DEC2HEX(CC58,2),\" \",DEC2HEX(CD58,2),\" \",DEC2HEX(CE58,2),\" \",DEC2HEX(CF58,2),\" \",DEC2HEX(CG58,2),\" \",DEC2HEX(CH58,2),\" \",DEC2HEX(DC58,2))","v":"64 08 00 2B 04 09 00 01 53"}]
["228,6,238,91,66,66,127,",null,{"$f":"MyXor(F59,$C$1)","v":66},228,6,238,91,66,66,127,null,null,null,{"$f":"IF(D59>127,D59-128,D59)","v":100},{"$f":"E59","v":6},{"$f":"MyXor(F59,$B61)","v":172},25,0,0,61,66,66,66,null,100,6,0,25,0,0,null,null,null,null,null,null,"E4 05 17 3B 3B E4","E4",5,17,"3B","3B","E4",null,null,null,null,null,null,null,null,null,null,null,null,null,null,228,5,23,59,59,228,0,0,0,0,0,0,0,0,0,0,0,0,0,0,187,100,5,0,128,128,null,null,null,null,null,null,null,null,null,null,null,null,null,null,null,100,{"$f":"MyXor(CB59,VLOOKUP(CU59,'Таблица CRC'!$A$43:$C$298,3,FALSE))","v":1},{"$f":"MyXor(CC59,VLOOKUP(CV59,'Таблица CRC'!$A$43:$C$298,3,FALSE))","v":94},{"$f":"MyXor(CD59,VLOOKUP(CW59,'Таблица CRC'!$A$43:$C$298,3,FALSE))","v":68},{"$f":"MyXor(CE59,VLOOKUP(CX59,'Таблица CRC'!$A$43:$C$298,3,FALSE))","v":167},{"$f":"MyXor(CF59,VLOOKUP(CY59,'Таблица CRC'!$A$43:$C$298,3,FALSE))","v":44},null,null,null,null,null,null,null,null,null,null,null,null,null,null,{"$f":"CONCATENATE(DEC2HEX(CA59,2),\" \",DEC2HEX(CB59,2),\" \",DEC2HEX(CC59,2),\" \",DEC2HEX(CD59,2),\" \",DEC2HEX(CE59,2),\" \",DEC2HEX(CZ59,2))","v":"64 05 00 80 80 2C"}]
["Принято в обработку",null,null,"Принято в обработку",null,null,null,null,null,null,null,null,null,null,null,null,null,null,null,null,null,null,null,null,{"$f":"MyXor(Y59,0)","v":100},{"$f":"MyXor(Z59,VLOOKUP(Y60,'Таблица CRC'!$A$43:$C$298,3,FALSE))","v":2},{"$f":"MyXor(AA59,VLOOKUP(Z60,'Таблица CRC'!$A$43:$C$298,3,FALSE))","v":188},{"$f":"MyXor(AB59,VLOOKUP(AA60,'Таблица CRC'!$A$43:$C$298,3,FALSE))","v":136},{"$f":"MyXor(AC59,VLOOKUP(AB60,'Таблица CRC'!$A$43:$C$298,3,FALSE))","v":78},{"$f":"MyXor(AD59,VLOOKUP(AC60,'Таблица CRC'!$A$43:$C$298,3,FALSE))","v":89},{"$f":"MyXor(AE59,VLOOKUP(AD60,'Таблица CRC'!$A$43:$C$298,3,FALSE))","v":71},null,null,null,null,null,"E4 06 66 CB CA 32 33","E4",6,66,"CB","CA",32,33,null,null,null,null,null,null,null,null,null,null,null,null,null,228,6,102,203,202,50,51,0,0,0,0,0,0,0,0,0,0,0,0,0,202,100,6,0,1,0,248,null,null,null,null,null,null,null,null,null,null,null,null,null,null,100,{"$f":"MyXor(CB60,VLOOKUP(CU60,'Таблица CRC'!$A$43:$C$298,3,FALSE))","v":2},{"$f":"MyXor(CC60,VLOOKUP(CV60,'Таблица CRC'!$A$43:$C$298,3,FALSE))","v":188},{"$f":"MyXor(CD60,VLOOKUP(CW60,'Таблица CRC'!$A$43:$C$298,3,FALSE))","v":144},{"$f":"MyXor(CE60,VLOOKUP(CX60,'Таблица CRC'!$A$43:$C$298,3,FALSE))","v":17},{"$f":"MyXor(CF60,VLOOKUP(CY60,'Таблица CRC'!$A$43:$C$298,3,FALSE))","v":59},{"$f":"MyXor(CG60,VLOOKUP(CZ60,'Таблица CRC'!$A$43:$C$298,3,FALSE))","v":158},null,null,null,null,null,null,null,null,null,null,null,null,null,"64 06 00 01 00 F8 9E"]
["ключ шифрования-66",66,null,"ключ шифрования-66",null,null,null,null,null,null,null,null,null,null,null,null,null,null,null,null,null,null,null,null,{"$f":"DEC2HEX(Y59,2)","v":"64"},{"$f":"DEC2HEX(Z59,2)","v":"06"},"00","19","00","00",{"$f":"DEC2HEX(AE60,2)","v":"47"},null,null,null,{"$f":"CONCATENATE(Y61,\" \",Z61,\" \",AA61,\" \",AB61,\" \",AC61,\" \",AD61,\" \",AE61,\" \",AF61,\" \",AG61,\" \",AH61)","v":"64 06 00 19 00 00 47   "},"64 06 1A 00 C7 98 A9","E4 09 C4 CD C0 CA CA CA CA 7E","E4",9,"C4","CD","C0","CA","CA","CA","CA","7E",null,null,null,null,null,null,null,null,null,null,228,9,196,205,192,202,202,202,202,126,0,0,0,0,0,0,0,0,0,0,104,100,9,0,165,168,162,162,162,162,null,null,null,null,null,null,null,null,null,null,null,100,{"$f":"MyXor(CB61,VLOOKUP(CU61,'Таблица CRC'!$A$43:$C$298,3,FALSE))","v":13},{"$f":"MyXor(CC61,VLOOKUP(CV61,'Таблица CRC'!$A$43:$C$298,3,FALSE))","v":253},{"$f":"MyXor(CD61,VLOOKUP(CW61,'Таблица CRC'!$A$43:$C$298,3,FALSE))","v":44},{"$f":"MyXor(CE61,VLOOKUP(CX61,'Таблица CRC'!$A$43:$C$298,3,FALSE))","v":40},{"$f":"MyXor(CF61,VLOOKUP(CY61,'Таблица CRC'!$A$43:$C$298,3,FALSE))","v":67},{"$f":"MyXor(CG61,VLOOKUP(CZ61,'Таблица CRC'!$A$43:$C$298,3,FALSE))","v":6},{"$f":"MyXor(CH61,VLOOKUP(DA61,'Таблица CRC'!$A$43:$C$298,3,FALSE))","v":127},{"$f":"MyXor(CI61,VLOOKUP(DB61,'Таблица CRC'!$A$43:$C$298,3,FALSE))","v":27},{"$f":"MyXor(CJ61,VLOOKUP(DC61,'Таблица CRC'!$A$43:$C$298,3,FALSE))","v":189},null,null,null,null,null,null,null,null,null,null,{"$f":"CONCATENATE(DEC2HEX(CA61,2),\" \",DEC2HEX(CB61,2),\" \",DEC2HEX(CC61,2),\" \",DEC2HEX(CD61,2),\" \",DEC2HEX(CE61,2),\" \",DEC2HEX(CF61,2),\" \",DEC2HEX(CG61,2),\" \",DEC2HEX(CH61,2),\" \",DEC2HEX(CI61,2),\" \",DEC2HEX(DD61,2))","v":"64 09 00 A5 A8 A2 A2 A2 A2 BD"}]
["zapros.s 25,0,0,",null,null,"zapros.s 25",0,0,null,null,null,null,null,null,null,null,null,null,null,null,null,null,null,null,null,null,null,null,null,null,null,null,null,null,null,null,null,null,"E4 06 66 C9 CA CA CA","E4",6,66,"C9","CA","CA","CA",null,null,null,null,null,null,null,null,null,null,null,null,null,228,6,102,201,202,202,202,0,0,0,0,0,0,0,0,0,0,0,0,0,202,100,6,0,3,0,0,null,null,null,null,null,null,null,null,null,null,null,null,null,null,100,{"$f":"MyXor(CB62,VLOOKUP(CU62,'Таблица CRC'!$A$43:$C$298,3,FALSE))","v":2},{"$f":"MyXor(CC62,VLOOKUP(CV62,'Таблица CRC'!$A$43:$C$298,3,FALSE))","v":188},{"$f":"MyXor(CD62,VLOOKUP(CW62,'Таблица CRC'!$A$43:$C$298,3,FALSE))","v":146},{"$f":"MyXor(CE62,VLOOKUP(CX62,'Таблица CRC'!$A$43:$C$298,3,FALSE))","v":173},{"$f":"MyXor(CF62,VLOOKUP(CY62,'Таблица CRC'!$A$43:$C$298,3,FALSE))","v":82},{"$f":"MyXor(CG62,VLOOKUP(CZ62,'Таблица CRC'!$A$43:$C$298,3,FALSE))","v":103},null,null,null,null,null,null,null,null,null,null,null,null,null,"64 06 00 03 00 00 67"]
["ОТВЕТ ЭМУЛЯТОРА 114,104,175,",null,null,"ОТВЕТ ЭМУЛЯТОРА 114",104,175,null,null,null,null,null,null,null,null,null,null,null,null,null,null,null,null,null,null,null,null,null,null,null,null,null,null,null,null,null,null,"E4 08 92 15 3A 34 3E 3F FB","E4",8,92,15,"3A",34,"3E","3F","FB",null,null,null,null,null,null,null,null,null,null,null,228,8,146,21,58,52,62,63,251,0,0,0,0,0,0,0,0,0,0,0,62,100,8,0,43,4,10,0,1,null,null,null,null,null,null,null,null,null,null,null,null,100,{"$f":"MyXor(CB63,VLOOKUP(CU63,'Таблица CRC'!$A$43:$C$298,3,FALSE))","v":12},{"$f":"MyXor(CC63,VLOOKUP(CV63,'Таблица CRC'!$A$43:$C$298,3,FALSE))","v":163},{"$f":"MyXor(CD63,VLOOKUP(CW63,'Таблица CRC'!$A$43:$C$298,3,FALSE))","v":102},{"$f":"MyXor(CE63,VLOOKUP(CX63,'Таблица CRC'!$A$43:$C$298,3,FALSE))","v":188},{"$f":"MyXor(CF63,VLOOKUP(CY63,'Таблица CRC'!$A$43:$C$298,3,FALSE))","v":155},{"$f":"MyXor(CG63,VLOOKUP(CZ63,'Таблица CRC'!$A$43:$C$298,3,FALSE))","v":49},{"$f":"MyXor(CH63,VLOOKUP(DA63,'Таблица CRC'!$A$43:$C$298,3,FALSE))","v":225},{"$f":"MyXor(CI63,VLOOKUP(DB63,'Таблица CRC'!$A$43:$C$298,3,FALSE))","v":183},null,null,null,null,null,null,null,null,null,null,null,{"$f":"CONCATENATE(DEC2HEX(CA63,2),\" \",DEC2HEX(CB63,2),\" \",DEC2HEX(CC63,2),\" \",DEC2HEX(CD63,2),\" \",DEC2HEX(CE63,2),\" \",DEC2HEX(CF63,2),\" \",DEC2HEX(CG63,2),\" \",DEC2HEX(CH63,2),\" \",DEC2HEX(DC63,2))","v":"64 08 00 2B 04 0A 00 01 B7"}]
["228,6,88,66,133,218,42,",null,{"$f":"MyXor(F64,$C$1)","v":244},228,6,88,66,133,218,42,null,null,null,{"$f":"IF(D64>127,D64-128,D64)","v":100},{"$f":"E64","v":6},{"$f":"MyXor(F64,$B66)","v":172},182,113,46,222,244,244,244,null,100,6,0,182,113,46,null,null,null,null,null,null,"E4 05 12 3E 3E 11","E4",5,12,"3E","3E",11,null,null,null,null,null,null,null,null,null,null,null,null,null,null,228,5,18,62,62,17,0,0,0,0,0,0,0,0,0,0,0,0,0,0,190,100,5,0,128,128,null,null,null,null,null,null,null,null,null,null,null,null,null,null,null,100,{"$f":"MyXor(CB64,VLOOKUP(CU64,'Таблица CRC'!$A$43:$C$298,3,FALSE))","v":1},{"$f":"MyXor(CC64,VLOOKUP(CV64,'Таблица CRC'!$A$43:$C$298,3,FALSE))","v":94},{"$f":"MyXor(CD64,VLOOKUP(CW64,'Таблица CRC'!$A$43:$C$298,3,FALSE))","v":68},{"$f":"MyXor(CE64,VLOOKUP(CX64,'Таблица CRC'!$A$43:$C$298,3,FALSE))","v":167},{"$f":"MyXor(CF64,VLOOKUP(CY64,'Таблица CRC'!$A$43:$C$298,3,FALSE))","v":44},null,null,null,null,null,null,null,null,null,null,null,null,null,null,{"$f":"CONCATENATE(DEC2HEX(CA64,2),\" \",DEC2HEX(CB64,2),\" \",DEC2HEX(CC64,2),\" \",DEC2HEX(CD64,2),\" \",DEC2HEX(CE64,2),\" \",DEC2HEX(CZ64,2))","v":"64 05 00 80 80 2C"}]
["Принято в обработку",null,null,"Принято в обработку",null,null,null,null,null,null,null,null,null,null,null,null,null,null,null,null,null,null,null,null,{"$f":"MyXor(Y64,0)","v":100},{"$f":"MyXor(Z64,VLOOKUP(Y65,'Таблица CRC'!$A$43:$C$298,3,FALSE))","v":2},{"$f":"MyXor(AA64,VLOOKUP(Z65,'Таблица CRC'!$A$43:$C$298,3,FALSE))","v":188},{"$f":"MyXor(AB64,VLOOKUP(AA65,'Таблица CRC'!$A$43:$C$298,3,FALSE))","v":39},{"$f":"MyXor(AC64,VLOOKUP(AB65,'Таблица CRC'!$A$43:$C$298,3,FALSE))","v":209},{"$f":"MyXor(AD64,VLOOKUP(AC65,'Таблица CRC'!$A$43:$C$298,3,FALSE))","v":39},{"$f":"MyXor(AE64,VLOOKUP(AD65,'Таблица CRC'!$A$43:$C$298,3,FALSE))","v":160},null,null,null,null,null,"E4 06 A7 0A 0B F3 99","E4",6,"A7","0A","0B","F3",99,null,null,null,null,null,null,null,null,null,null,null,null,null,228,6,167,10,11,243,153,0,0,0,0,0,0,0,0,0,0,0,0,0,11,100,6,0,1,0,248,null,null,null,null,null,null,null,null,null,null,null,null,null,null,100,{"$f":"MyXor(CB65,VLOOKUP(CU65,'Таблица CRC'!$A$43:$C$298,3,FALSE))","v":2},{"$f":"MyXor(CC65,VLOOKUP(CV65,'Таблица CRC'!$A$43:$C$298,3,FALSE))","v":188},{"$f":"MyXor(CD65,VLOOKUP(CW65,'Таблица CRC'!$A$43:$C$298,3,FALSE))","v":144},{"$f":"MyXor(CE65,VLOOKUP(CX65,'Таблица CRC'!$A$43:$C$298,3,FALSE))","v":17},{"$f":"MyXor(CF65,VLOOKUP(CY65,'Таблица CRC'!$A$43:$C$298,3,FALSE))","v":59},{"$f":"MyXor(CG65,VLOOKUP(CZ65,'Таблица CRC'!$A$43:$C$298,3,FALSE))","v":158},null,null,null,null,null,null,null,null,null,null,null,null,null,"64 06 00 01 00 F8 9E"]
["ключ шифрования-244",244,null,"ключ шифрования-244",null,null,null,null,null,null,null,null,null,null,null,null,null,null,null,null,null,null,null,null,{"$f":"DEC2HEX(Y64,2)","v":"64"},{"$f":"DEC2HEX(Z64,2)","v":"06"},"00","B6","71","2E",{"$f":"DEC2HEX(AE65,2)","v":"A0"},null,null,null,{"$f":"CONCATENATE(Y66,\" \",Z66,\" \",AA66,\" \",AB66,\" \",AC66,\" \",AD66,\" \",AE66,\" \",AF66,\" \",AG66,\" \",AH66)","v":"64 06 00 B6 71 2E A0   "},null,"E4 09 05 0C 00 0B 0B 0B 0B 33","E4",9,5,"0C",0,"0B","0B","0B","0B",33,null,null,null,null,null,null,null,null,null,null,228,9,5,12,0,11,11,11,11,51,0,0,0,0,0,0,0,0,0,0,169,100,9,0,165,169,162,162,162,162,null,null,null,null,null,null,null,null,null,null,null,100,{"$f":"MyXor(CB66,VLOOKUP(CU66,'Таблица CRC'!$A$43:$C$298,3,FALSE))","v":13},{"$f":"MyXor(CC66,VLOOKUP(CV66,'Таблица CRC'!$A$43:$C$298,3,FALSE))","v":253},{"$f":"MyXor(CD66,VLOOKUP(CW66,'Таблица CRC'!$A$43:$C$298,3,FALSE))","v":44},{"$f":"MyXor(CE66,VLOOKUP(CX66,'Таблица CRC'!$A$43:$C$298,3,FALSE))","v":41},{"$f":"MyXor(CF66,VLOOKUP(CY66,'Таблица CRC'!$A$43:$C$298,3,FALSE))","v":29},{"$f":"MyXor(CG66,VLOOKUP(CZ66,'Таблица CRC'!$A$43:$C$298,3,FALSE))","v":194},{"$f":"MyXor(CH66,VLOOKUP(DA66,'Таблица CRC'!$A$43:$C$298,3,FALSE))","v":212},{"$f":"MyXor(CI66,VLOOKUP(DB66,'Таблица CRC'!$A$43:$C$298,3,FALSE))","v":148},{"$f":"MyXor(CJ66,VLOOKUP(DC66,'Таблица CRC'!$A$43:$C$298,3,FALSE))","v":112},null,null,null,null,null,null,null,null,null,null,{"$f":"CONCATENATE(DEC2HEX(CA66,2),\" \",DEC2HEX(CB66,2),\" \",DEC2HEX(CC66,2),\" \",DEC2HEX(CD66,2),\" \",DEC2HEX(CE66,2),\" \",DEC2HEX(CF66,2),\" \",DEC2HEX(CG66,2),\" \",DEC2HEX(CH66,2),\" \",DEC2HEX(CI66,2),\" \",DEC2HEX(DD66,2))","v":"64 09 00 A5 A9 A2 A2 A2 A2 70"}]
["zapros.s 182,113,46,",null,null,"zapros.s 182",113,46,null,null,null,null,null,null,null,null,null,null,null,null,null,null,null,null,null,null,null,null,null,null,null,null,null,null,null,null,null,null,"E4 06 A7 08 0B 0B 60","E4",6,"A7",8,"0B","0B",60,null,null,null,null,null,null,null,null,null,null,null,null,null,228,6,167,8,11,11,96,0,0,0,0,0,0,0,0,0,0,0,0,0,11,100,6,0,3,0,0,null,null,null,null,null,null,null,null,null,null,null,null,null,null,100,{"$f":"MyXor(CB67,VLOOKUP(CU67,'Таблица CRC'!$A$43:$C$298,3,FALSE))","v":2},{"$f":"MyXor(CC67,VLOOKUP(CV67,'Таблица CRC'!$A$43:$C$298,3,FALSE))","v":188},{"$f":"MyXor(CD67,VLOOKUP(CW67,'Таблица CRC'!$A$43:$C$298,3,FALSE))","v":146},{"$f":"MyXor(CE67,VLOOKUP(CX67,'Таблица CRC'!$A$43:$C$298,3,FALSE))","v":173},{"$f":"MyXor(CF67,VLOOKUP(CY67,'Таблица CRC'!$A$43:$C$298,3,FALSE))","v":82},{"$f":"MyXor(CG67,VLOOKUP(CZ67,'Таблица CRC'!$A$43:$C$298,3,FALSE))","v":103},null,null,null,null,null,null,null,null,null,null,null,null,null,"64 06 00 03 00 00 67"]
["228,6,83,254,255,7,66,",null,{"$f":"MyXor(F68,$C$1)","v":255},228,6,83,254,255,7,66,null,null,null,{"$f":"IF(D68>127,D68-128,D68)","v":100},{"$f":"E68","v":6},{"$f":"MyXor(F68,$B70)","v":172},1,0,248,189,255,255,255,null,100,6,0,1,0,248,null,null,null,null,null,null,"E4 08 5A DD F2 FD F6 F7 EB","E4",8,"5A","DD","F2","FD","F6","F7","EB",null,null,null,null,null,null,null,null,null,null,null,228,8,90,221,242,253,246,247,235,0,0,0,0,0,0,0,0,0,0,0,246,100,8,0,43,4,11,0,1,null,null,null,null,null,null,null,null,null,null,null,null,100,{"$f":"MyXor(CB68,VLOOKUP(CU68,'Таблица CRC'!$A$43:$C$298,3,FALSE))","v":12},{"$f":"MyXor(CC68,VLOOKUP(CV68,'Таблица CRC'!$A$43:$C$298,3,FALSE))","v":163},{"$f":"MyXor(CD68,VLOOKUP(CW68,'Таблица CRC'!$A$43:$C$298,3,FALSE))","v":102},{"$f":"MyXor(CE68,VLOOKUP(CX68,'Таблица CRC'!$A$43:$C$298,3,FALSE))","v":188},{"$f":"MyXor(CF68,VLOOKUP(CY68,'Таблица CRC'!$A$43:$C$298,3,FALSE))","v":154},{"$f":"MyXor(CG68,VLOOKUP(CZ68,'Таблица CRC'!$A$43:$C$298,3,FALSE))","v":111},{"$f":"MyXor(CH68,VLOOKUP(DA68,'Таблица CRC'!$A$43:$C$298,3,FALSE))","v":37},{"$f":"MyXor(CI68,VLOOKUP(DB68,'Таблица CRC'!$A$43:$C$298,3,FALSE))","v":28},null,null,null,null,null,null,null,null,null,null,null,{"$f":"CONCATENATE(DEC2HEX(CA68,2),\" \",DEC2HEX(CB68,2),\" \",DEC2HEX(CC68,2),\" \",DEC2HEX(CD68,2),\" \",DEC2HEX(CE68,2),\" \",DEC2HEX(CF68,2),\" \",DEC2HEX(CG68,2),\" \",DEC2HEX(CH68,2),\" \",DEC2HEX(DC68,2))","v":"64 08 00 2B 04 0B 00 01 1C"}]
["Принято в обработку",null,null,"Принято в обработку",null,null,null,null,null,null,null,null,null,null,null,null,null,null,null,null,null,null,null,null,{"$f":"MyXor(Y68,0)","v":100},{"$f":"MyXor(Z68,VLOOKUP(Y69,'Таблица CRC'!$A$43:$C$298,3,FALSE))","v":2},{"$f":"MyXor(AA68,VLOOKUP(Z69,'Таблица CRC'!$A$43:$C$298,3,FALSE))","v":188},{"$f":"MyXor(AB68,VLOOKUP(AA69,'Таблица CRC'!$A$43:$C$298,3,FALSE))","v":144},{"$f":"MyXor(AC68,VLOOKUP(AB69,'Таблица CRC'!$A$43:$C$298,3,FALSE))","v":17},{"$f":"MyXor(AD68,VLOOKUP(AC69,'Таблица CRC'!$A$43:$C$298,3,FALSE))","v":59},{"$f":"MyXor(AE68,VLOOKUP(AD69,'Таблица CRC'!$A$43:$C$298,3,FALSE))","v":158},null,null,null,null,null,"E4 05 DA F6 F6 AD","E4",5,"DA","F6","F6","AD",null,null,null,null,null,null,null,null,null,null,null,null,null,null,228,5,218,246,246,173,0,0,0,0,0,0,0,0,0,0,0,0,0,0,118,100,5,0,128,128,null,null,null,null,null,null,null,null,null,null,null,null,null,null,null,100,{"$f":"MyXor(CB69,VLOOKUP(CU69,'Таблица CRC'!$A$43:$C$298,3,FALSE))","v":1},{"$f":"MyXor(CC69,VLOOKUP(CV69,'Таблица CRC'!$A$43:$C$298,3,FALSE))","v":94},{"$f":"MyXor(CD69,VLOOKUP(CW69,'Таблица CRC'!$A$43:$C$298,3,FALSE))","v":68},{"$f":"MyXor(CE69,VLOOKUP(CX69,'Таблица CRC'!$A$43:$C$298,3,FALSE))","v":167},{"$f":"MyXor(CF69,VLOOKUP(CY69,'Таблица CRC'!$A$43:$C$298,3,FALSE))","v":44},null,null,null,null,null,null,null,null,null,null,null,null,null,null,{"$f":"CONCATENATE(DEC2HEX(CA69,2),\" \",DEC2HEX(CB69,2),\" \",DEC2HEX(CC69,2),\" \",DEC2HEX(CD69,2),\" \",DEC2HEX(CE69,2),\" \",DEC2HEX(CZ69,2))","v":"64 05 00 80 80 2C"}]
["ключ шифрования-255",255,null,"ключ шифрования-255",null,null,null,null,null,null,null,null,null,null,null,null,null,null,null,null,null,null,null,null,{"$f":"DEC2HEX(Y68,2)","v":"64"},{"$f":"DEC2HEX(Z68,2)","v":"06"},"00","01","00","F8",{"$f":"DEC2HEX(AE69,2)","v":"9E"},null,null,null,{"$f":"CONCATENATE(Y70,\" \",Z70,\" \",AA70,\" \",AB70,\" \",AC70,\" \",AD70,\" \",AE70,\" \",AF70,\" \",AG70,\" \",AH70)","v":"64 06 00 01 00 F8 9E   "},"64 09 0E 07 01 00 00 00 00 4B","E4 06 54 F9 F8 00 53","E4",6,54,"F9","F8",0,53,null,null,null,null,null,null,null,null,null,null,null,null,null,{"$f":"HEX2DEC(AL70)","v":228},{"$f":"HEX2DEC(AM70)","v":6},{"$f":"HEX2DEC(AN70)","v":84},{"$f":"HEX2DEC(AO70)","v":249},{"$f":"HEX2DEC(AP70)","v":248},{"$f":"HEX2DEC(AQ70)","v":0},{"$f":"HEX2DEC(AR70)","v":83},{"$f":"HEX2DEC(AS70)","v":0},{"$f":"HEX2DEC(AT70)","v":0},{"$f":"HEX2DEC(AU70)","v":0},{"$f":"HEX2DEC(AV70)","v":0},{"$f":"HEX2DEC(AW70)","v":0},{"$f":"HEX2DEC(AX70)","v":0},{"$f":"HEX2DEC(AY70)","v":0},{"$f":"HEX2DEC(AZ70)","v":0},{"$f":"HEX2DEC(BA70)","v":0},{"$f":"HEX2DEC(BB70)","v":0},{"$f":"HEX2DEC(BC70)","v":0},{"$f":"HEX2DEC(BD70)","v":0},{"$f":"HEX2DEC(BE70)","v":0},248,100,6,0,1,0,248,null,null,null,null,null,null,null,null,null,null,null,null,null,null,100,{"$f":"MyXor(CB70,VLOOKUP(CU70,'Таблица CRC'!$A$43:$C$298,3,FALSE))","v":2},{"$f":"MyXor(CC70,VLOOKUP(CV70,'Таблица CRC'!$A$43:$C$298,3,FALSE))","v":188},{"$f":"MyXor(CD70,VLOOKUP(CW70,'Таблица CRC'!$A$43:$C$298,3,FALSE))","v":144},{"$f":"MyXor(CE70,VLOOKUP(CX70,'Таблица CRC'!$A$43:$C$298,3,FALSE))","v":17},{"$f":"MyXor(CF70,VLOOKUP(CY70,'Таблица CRC'!$A$43:$C$298,3,FALSE))","v":59},{"$f":"MyXor(CG70,VLOOKUP(CZ70,'Таблица CRC'!$A$43:$C$298,3,FALSE))","v":158},null,null,null,null,null,null,null,null,null,null,null,null,null,"64 06 00 01 00 F8 9E"]
["zapros.s 1,0,248,",null,null,"zapros.s 1",0,248,null,null,null,null,null,null,null,null,null,null,null,null,null,null,null,null,null,null,null,null,null,null,null,null,null,null,null,null,null,null,"E4 09 F6 FF F4 F8 F8 F8 F8 68","E4",9,"F6","FF","F4","F8","F8","F8","F8",68,null,null,null,null,null,null,null,null,null,null,228,9,246,255,244,248,248,248,248,104,0,0,0,0,0,0,0,0,0,0,90,100,9,0,165,174,162,162,162,162,null,null,null,null,null,null,null,null,null,null,null,100,{"$f":"MyXor(CB71,VLOOKUP(CU71,'Таблица CRC'!$A$43:$C$298,3,FALSE))","v":13},{"$f":"MyXor(CC71,VLOOKUP(CV71,'Таблица CRC'!$A$43:$C$298,3,FALSE))","v":253},{"$f":"MyXor(CD71,VLOOKUP(CW71,'Таблица CRC'!$A$43:$C$298,3,FALSE))","v":44},{"$f":"MyXor(CE71,VLOOKUP(CX71,'Таблица CRC'!$A$43:$C$298,3,FALSE))","v":46},{"$f":"MyXor(CF71,VLOOKUP(CY71,'Таблица CRC'!$A$43:$C$298,3,FALSE))","v":158},{"$f":"MyXor(CG71,VLOOKUP(CZ71,'Таблица CRC'!$A$43:$C$298,3,FALSE))","v":172},{"$f":"MyXor(CH71,VLOOKUP(DA71,'Таблица CRC'!$A$43:$C$298,3,FALSE))","v":174},{"$f":"MyXor(CI71,VLOOKUP(DB71,'Таблица CRC'!$A$43:$C$298,3,FALSE))","v":18},{"$f":"MyXor(CJ71,VLOOKUP(DC71,'Таблица CRC'!$A$43:$C$298,3,FALSE))","v":33},null,null,null,null,null,null,null,null,null,null,{"$f":"CONCATENATE(DEC2HEX(CA71,2),\" \",DEC2HEX(CB71,2),\" \",DEC2HEX(CC71,2),\" \",DEC2HEX(CD71,2),\" \",DEC2HEX(CE71,2),\" \",DEC2HEX(CF71,2),\" \",DEC2HEX(CG71,2),\" \",DEC2HEX(CH71,2),\" \",DEC2HEX(CI71,2),\" \",DEC2HEX(DD71,2))","v":"64 09 00 A5 AE A2 A2 A2 A2 21"}]
["ОТВЕТ ЭМУЛЯТОРА 253,252,255,",null,null,"ОТВЕТ ЭМУЛЯТОРА 253",252,255,null,null,null,null,null,null,null,null,null,null,null,null,null,null,null,null,null,null,null,null,null,null,null,null,null,null,null,null,null,null,"E4 06 54 FB F8 F8 AA","E4",6,54,"FB","F8","F8","AA",null,null,null,null,null,null,null,null,null,null,null,null,null,228,6,84,251,248,248,170,0,0,0,0,0,0,0,0,0,0,0,0,0,248,100,6,0,3,0,0,null,null,null,null,null,null,null,null,null,null,null,null,null,null,100,{"$f":"MyXor(CB72,VLOOKUP(CU72,'Таблица CRC'!$A$43:$C$298,3,FALSE))","v":2},{"$f":"MyXor(CC72,VLOOKUP(CV72,'Таблица CRC'!$A$43:$C$298,3,FALSE))","v":188},{"$f":"MyXor(CD72,VLOOKUP(CW72,'Таблица CRC'!$A$43:$C$298,3,FALSE))","v":146},{"$f":"MyXor(CE72,VLOOKUP(CX72,'Таблица CRC'!$A$43:$C$298,3,FALSE))","v":173},{"$f":"MyXor(CF72,VLOOKUP(CY72,'Таблица CRC'!$A$43:$C$298,3,FALSE))","v":82},{"$f":"MyXor(CG72,VLOOKUP(CZ72,'Таблица CRC'!$A$43:$C$298,3,FALSE))","v":103},null,null,null,null,null,null,null,null,null,null,null,null,null,"64 06 00 03 00 00 67"]
["228,5,253,255,255,109,",null,{"$f":"MyXor(F73,$C$1)","v":81},228,5,253,255,255,109,null,null,null,null,{"$f":"IF(D73>127,D73-128,D73)","v":100},{"$f":"E73","v":5},{"$f":"MyXor(F73,$B75)","v":172},174,174,60,81,81,81,81,null,100,5,0,174,174,null,null,null,null,null,null,null,"E4 08 89 0E 21 29 25 24 D0","E4",8,89,"0E",21,29,25,24,"D0",null,null,null,null,null,null,null,null,null,null,null,228,8,137,14,33,41,37,36,208,0,0,0,0,0,0,0,0,0,0,0,37,100,8,0,43,4,12,0,1,null,null,null,null,null,null,null,null,null,null,null,null,100,{"$f":"MyXor(CB73,VLOOKUP(CU73,'Таблица CRC'!$A$43:$C$298,3,FALSE))","v":12},{"$f":"MyXor(CC73,VLOOKUP(CV73,'Таблица CRC'!$A$43:$C$298,3,FALSE))","v":163},{"$f":"MyXor(CD73,VLOOKUP(CW73,'Таблица CRC'!$A$43:$C$298,3,FALSE))","v":102},{"$f":"MyXor(CE73,VLOOKUP(CX73,'Таблица CRC'!$A$43:$C$298,3,FALSE))","v":188},{"$f":"MyXor(CF73,VLOOKUP(CY73,'Таблица CRC'!$A$43:$C$298,3,FALSE))","v":157},{"$f":"MyXor(CG73,VLOOKUP(CZ73,'Таблица CRC'!$A$43:$C$298,3,FALSE))","v":236},{"$f":"MyXor(CH73,VLOOKUP(DA73,'Таблица CRC'!$A$43:$C$298,3,FALSE))","v":75},{"$f":"MyXor(CI73,VLOOKUP(DB73,'Таблица CRC'!$A$43:$C$298,3,FALSE))","v":102},null,null,null,null,null,null,null,null,null,null,null,{"$f":"CONCATENATE(DEC2HEX(CA73,2),\" \",DEC2HEX(CB73,2),\" \",DEC2HEX(CC73,2),\" \",DEC2HEX(CD73,2),\" \",DEC2HEX(CE73,2),\" \",DEC2HEX(CF73,2),\" \",DEC2HEX(CG73,2),\" \",DEC2HEX(CH73,2),\" \",DEC2HEX(DC73,2))","v":"64 08 00 2B 04 0C 00 01 66"}]
["Принято в обработку",null,null,"Принято в обработку",null,null,null,null,null,null,null,null,null,null,null,null,null,null,null,null,null,null,null,null,{"$f":"MyXor(Y73,0)","v":100},{"$f":"MyXor(Z73,VLOOKUP(Y74,'Таблица CRC'!$A$43:$C$298,3,FALSE))","v":1},{"$f":"MyXor(AA73,VLOOKUP(Z74,'Таблица CRC'!$A$43:$C$298,3,FALSE))","v":94},{"$f":"MyXor(AB73,VLOOKUP(AA74,'Таблица CRC'!$A$43:$C$298,3,FALSE))","v":106},{"$f":"MyXor(AC73,VLOOKUP(AB74,'Таблица CRC'!$A$43:$C$298,3,FALSE))","v":181},{"$f":"MyXor(AD73,VLOOKUP(AC74,'Таблица CRC'!$A$43:$C$298,3,FALSE))","v":13},null,null,null,null,null,null,"E4 05 09 25 25 FC","E4",5,9,25,25,"FC",null,null,null,null,null,null,null,null,null,null,null,null,null,null,228,5,9,37,37,252,0,0,0,0,0,0,0,0,0,0,0,0,0,0,{"$f":"MyXor(BH74,$C$1)","v":165},100,5,0,128,128,null,null,null,null,null,null,null,null,null,null,null,null,null,null,null,100,{"$f":"MyXor(CB74,VLOOKUP(CU74,'Таблица CRC'!$A$43:$C$298,3,FALSE))","v":1},{"$f":"MyXor(CC74,VLOOKUP(CV74,'Таблица CRC'!$A$43:$C$298,3,FALSE))","v":94},{"$f":"MyXor(CD74,VLOOKUP(CW74,'Таблица CRC'!$A$43:$C$298,3,FALSE))","v":68},{"$f":"MyXor(CE74,VLOOKUP(CX74,'Таблица CRC'!$A$43:$C$298,3,FALSE))","v":167},{"$f":"MyXor(CF74,VLOOKUP(CY74,'Таблица CRC'!$A$43:$C$298,3,FALSE))","v":44},null,null,null,null,null,null,null,null,null,null,null,null,null,null,{"$f":"CONCATENATE(DEC2HEX(CA74,2),\" \",DEC2HEX(CB74,2),\" \",DEC2HEX(CC74,2),\" \",DEC2HEX(CD74,2),\" \",DEC2HEX(CE74,2),\" \",DEC2HEX(CZ74,2))","v":"64 05 00 80 80 2C"}]
["otvet 2,0,0,",81,null,"otvet 2",0,0,null,null,null,null,null,null,null,null,null,null,null,null,null,null,null,null,null,null,{"$f":"DEC2HEX(Y73,2)","v":"64"},{"$f":"DEC2HEX(Z73,2)","v":"05"},"00","AE","AE",{"$f":"DEC2HEX(AD74,2)","v":"0D"},null,null,null,null,{"$f":"CONCATENATE(Y75,\" \",Z75,\" \",AA75,\" \",AB75,\" \",AC75,\" \",AD75,\" \",AE75,\" \",AF75,\" \",AG75,\" \",AH75)","v":"64 05 00 AE AE 0D    "},null,"E4 06 15 B8 B9 41 E1","E4",6,15,"B8","B9",41,"E1",null,null,null,null,null,null,null,null,null,null,null,null,null,228,6,21,184,185,65,225,0,0,0,0,0,0,0,0,0,0,0,0,0,185,100,6,0,1,0,248,null,null,null,null,null,null,null,null,null,null,null,null,null,null,100,{"$f":"MyXor(CB75,VLOOKUP(CU75,'Таблица CRC'!$A$43:$C$298,3,FALSE))","v":2},{"$f":"MyXor(CC75,VLOOKUP(CV75,'Таблица CRC'!$A$43:$C$298,3,FALSE))","v":188},{"$f":"MyXor(CD75,VLOOKUP(CW75,'Таблица CRC'!$A$43:$C$298,3,FALSE))","v":144},{"$f":"MyXor(CE75,VLOOKUP(CX75,'Таблица CRC'!$A$43:$C$298,3,FALSE))","v":17},{"$f":"MyXor(CF75,VLOOKUP(CY75,'Таблица CRC'!$A$43:$C$298,3,FALSE))","v":59},{"$f":"MyXor(CG75,VLOOKUP(CZ75,'Таблица CRC'!$A$43:$C$298,3,FALSE))","v":158},null,null,null,null,null,null,null,null,null,null,null,null,null,{"$f":"CONCATENATE(DEC2HEX(CA75,2),\" \",DEC2HEX(CB75,2),\" \",DEC2HEX(CC75,2),\" \",DEC2HEX(CD75,2),\" \",DEC2HEX(CE75,2),\" \",DEC2HEX(CF75,2),\" \",DEC2HEX(DA75,2))","v":"64 06 00 01 00 F8 9E"}]
["228,8,152,31,36,53,52,203,253,",null,{"$f":"MyXor(F76,$C$1)","v":52},228,8,152,31,36,53,52,203,253,null,{"$f":"IF(D76>127,D76-128,D76)","v":100},{"$f":"E76","v":8},{"$f":"MyXor(F76,$B78)","v":172},43,16,1,0,255,201,52,null,100,8,0,43,16,1,0,255,null,null,null,null,"E4 09 B7 BE B4 B9 B9 B9 B9 8B","E4",9,"B7","BE","B4","B9","B9","B9","B9","8B",null,null,null,null,null,null,null,null,null,null,228,9,183,190,180,185,185,185,185,139,0,0,0,0,0,0,0,0,0,0,27,100,9,0,165,175,162,162,162,162,null,null,null,null,null,null,null,null,null,null,null,100,{"$f":"MyXor(CB76,VLOOKUP(CU76,'Таблица CRC'!$A$43:$C$298,3,FALSE))","v":13},{"$f":"MyXor(CC76,VLOOKUP(CV76,'Таблица CRC'!$A$43:$C$298,3,FALSE))","v":253},{"$f":"MyXor(CD76,VLOOKUP(CW76,'Таблица CRC'!$A$43:$C$298,3,FALSE))","v":44},{"$f":"MyXor(CE76,VLOOKUP(CX76,'Таблица CRC'!$A$43:$C$298,3,FALSE))","v":47},{"$f":"MyXor(CF76,VLOOKUP(CY76,'Таблица CRC'!$A$43:$C$298,3,FALSE))","v":192},{"$f":"MyXor(CG76,VLOOKUP(CZ76,'Таблица CRC'!$A$43:$C$298,3,FALSE))","v":104},{"$f":"MyXor(CH76,VLOOKUP(DA76,'Таблица CRC'!$A$43:$C$298,3,FALSE))","v":5},{"$f":"MyXor(CI76,VLOOKUP(DB76,'Таблица CRC'!$A$43:$C$298,3,FALSE))","v":157},{"$f":"MyXor(CJ76,VLOOKUP(DC76,'Таблица CRC'!$A$43:$C$298,3,FALSE))","v":236},null,null,null,null,null,null,null,null,null,null,{"$f":"CONCATENATE(DEC2HEX(CA76,2),\" \",DEC2HEX(CB76,2),\" \",DEC2HEX(CC76,2),\" \",DEC2HEX(CD76,2),\" \",DEC2HEX(CE76,2),\" \",DEC2HEX(CF76,2),\" \",DEC2HEX(CG76,2),\" \",DEC2HEX(CH76,2),\" \",DEC2HEX(CI76,2),\" \",DEC2HEX(DD76,2))","v":"64 09 00 A5 AF A2 A2 A2 A2 EC"}]
["Принято в обработку",null,null,"Принято в обработку",null,null,null,null,null,null,null,null,null,null,null,null,null,null,null,null,null,null,null,null,{"$f":"MyXor(Y76,0)","v":100},{"$f":"MyXor(Z76,VLOOKUP(Y77,'Таблица CRC'!$A$43:$C$298,3,FALSE))","v":12},{"$f":"MyXor(AA76,VLOOKUP(Z77,'Таблица CRC'!$A$43:$C$298,3,FALSE))","v":163},{"$f":"MyXor(AB76,VLOOKUP(AA77,'Таблица CRC'!$A$43:$C$298,3,FALSE))","v":102},{"$f":"MyXor(AC76,VLOOKUP(AB77,'Таблица CRC'!$A$43:$C$298,3,FALSE))","v":168},{"$f":"MyXor(AD76,VLOOKUP(AC77,'Таблица CRC'!$A$43:$C$298,3,FALSE))","v":108},{"$f":"MyXor(AE76,VLOOKUP(AD77,'Таблица CRC'!$A$43:$C$298,3,FALSE))","v":198},{"$f":"MyXor(AF76,VLOOKUP(AE77,'Таблица CRC'!$A$43:$C$298,3,FALSE))","v":232},{"$f":"MyXor(AG76,VLOOKUP(AF77,'Таблица CRC'!$A$43:$C$298,3,FALSE))","v":43},null,null,null,"E4 06 15 BA B9 B9 18","E4",6,15,"BA","B9","B9",18,null,null,null,null,null,null,null,null,null,null,null,null,null,228,6,21,186,185,185,24,0,0,0,0,0,0,0,0,0,0,0,0,0,185,100,6,0,3,0,0,null,null,null,null,null,null,null,null,null,null,null,null,null,null,100,{"$f":"MyXor(CB77,VLOOKUP(CU77,'Таблица CRC'!$A$43:$C$298,3,FALSE))","v":2},{"$f":"MyXor(CC77,VLOOKUP(CV77,'Таблица CRC'!$A$43:$C$298,3,FALSE))","v":188},{"$f":"MyXor(CD77,VLOOKUP(CW77,'Таблица CRC'!$A$43:$C$298,3,FALSE))","v":146},{"$f":"MyXor(CE77,VLOOKUP(CX77,'Таблица CRC'!$A$43:$C$298,3,FALSE))","v":173},{"$f":"MyXor(CF77,VLOOKUP(CY77,'Таблица CRC'!$A$43:$C$298,3,FALSE))","v":82},{"$f":"MyXor(CG77,VLOOKUP(CZ77,'Таблица CRC'!$A$43:$C$298,3,FALSE))","v":103},null,null,null,null,null,null,null,null,null,null,null,null,null,"64 06 00 03 00 00 67"]
["ключ шифрования-52",52,null,"ключ шифрования-52",null,null,null,null,null,null,null,null,null,null,null,null,null,null,null,null,null,null,null,null,{"$f":"DEC2HEX(Y76,2)","v":"64"},{"$f":"DEC2HEX(Z76,2)","v":"08"},"00","2B","10","01","00","FF",{"$f":"DEC2HEX(AG77,2)","v":"2B"},null,{"$f":"CONCATENATE(Y78,\" \",Z78,\" \",AA78,\" \",AB78,\" \",AC78,\" \",AD78,\" \",AE78,\" \",AF78,\" \",AG78,\" \",AH78)","v":"64 08 00 2B 10 01 00 FF 2B "},"64 05 2C 00 00 A0","E4 08 6D EA C5 CC C1 C0 93","E4",8,"6D","EA","C5","CC","C1","C0",93,null,null,null,null,null,null,null,null,null,null,null,228,8,109,234,197,204,193,192,147,0,0,0,0,0,0,0,0,0,0,0,193,100,8,0,43,4,13,0,1,null,null,null,null,null,null,null,null,null,null,null,null,100,{"$f":"MyXor(CB78,VLOOKUP(CU78,'Таблица CRC'!$A$43:$C$298,3,FALSE))","v":12},{"$f":"MyXor(CC78,VLOOKUP(CV78,'Таблица CRC'!$A$43:$C$298,3,FALSE))","v":163},{"$f":"MyXor(CD78,VLOOKUP(CW78,'Таблица CRC'!$A$43:$C$298,3,FALSE))","v":102},{"$f":"MyXor(CE78,VLOOKUP(CX78,'Таблица CRC'!$A$43:$C$298,3,FALSE))","v":188},{"$f":"MyXor(CF78,VLOOKUP(CY78,'Таблица CRC'!$A$43:$C$298,3,FALSE))","v":156},{"$f":"MyXor(CG78,VLOOKUP(CZ78,'Таблица CRC'!$A$43:$C$298,3,FALSE))","v":178},{"$f":"MyXor(CH78,VLOOKUP(DA78,'Таблица CRC'!$A$43:$C$298,3,FALSE))","v":143},{"$f":"MyXor(CI78,VLOOKUP(DB78,'Таблица CRC'!$A$43:$C$298,3,FALSE))","v":205},null,null,null,null,null,null,null,null,null,null,null,{"$f":"CONCATENATE(DEC2HEX(CA78,2),\" \",DEC2HEX(CB78,2),\" \",DEC2HEX(CC78,2),\" \",DEC2HEX(CD78,2),\" \",DEC2HEX(CE78,2),\" \",DEC2HEX(CF78,2),\" \",DEC2HEX(CG78,2),\" \",DEC2HEX(CH78,2),\" \",DEC2HEX(DC78,2))","v":"64 08 00 2B 04 0D 00 01 CD"}]
["zapros.s 43,16,1,",null,null,"zapros.s 43",16,1,null,null,null,null,null,null,null,null,null,null,null,null,null,null,null,null,null,null,null,null,null,null,null,null,null,null,null,null,null,null,"E4 05 ED C1 C1 77","E4",5,"ED","C1","C1",77,null,null,null,null,null,null,null,null,null,null,null,null,null,null,228,5,237,193,193,119,0,0,0,0,0,0,0,0,0,0,0,0,0,0,65,100,5,0,128,128,null,null,null,null,null,null,null,null,null,null,null,null,null,null,null,100,{"$f":"MyXor(CB79,VLOOKUP(CU79,'Таблица CRC'!$A$43:$C$298,3,FALSE))","v":1},{"$f":"MyXor(CC79,VLOOKUP(CV79,'Таблица CRC'!$A$43:$C$298,3,FALSE))","v":94},{"$f":"MyXor(CD79,VLOOKUP(CW79,'Таблица CRC'!$A$43:$C$298,3,FALSE))","v":68},{"$f":"MyXor(CE79,VLOOKUP(CX79,'Таблица CRC'!$A$43:$C$298,3,FALSE))","v":167},{"$f":"MyXor(CF79,VLOOKUP(CY79,'Таблица CRC'!$A$43:$C$298,3,FALSE))","v":44},null,null,null,null,null,null,null,null,null,null,null,null,null,null,{"$f":"CONCATENATE(DEC2HEX(CA79,2),\" \",DEC2HEX(CB79,2),\" \",DEC2HEX(CC79,2),\" \",DEC2HEX(CD79,2),\" \",DEC2HEX(CE79,2),\" \",DEC2HEX(CZ79,2))","v":"64 05 00 80 80 2C"}]
["228,5,24,52,52,226,",null,{"$f":"MyXor(F80,$C$1)","v":180},228,5,24,52,52,226,null,null,null,null,{"$f":"IF(D80>127,D80-128,D80)","v":100},{"$f":"E80","v":5},{"$f":"MyXor(F80,$B82)","v":172},128,128,86,180,180,180,180,null,100,5,0,128,128,null,null,null,null,null,null,null,"E4 06 63 CE CF 37 47","E4",6,63,"CE","CF",37,47,null,null,null,null,null,null,null,null,null,null,null,null,null,228,6,99,206,207,55,71,0,0,0,0,0,0,0,0,0,0,0,0,0,207,100,6,0,1,0,248,null,null,null,null,null,null,null,null,null,null,null,null,null,null,100,{"$f":"MyXor(CB80,VLOOKUP(CU80,'Таблица CRC'!$A$43:$C$298,3,FALSE))","v":2},{"$f":"MyXor(CC80,VLOOKUP(CV80,'Таблица CRC'!$A$43:$C$298,3,FALSE))","v":188},{"$f":"MyXor(CD80,VLOOKUP(CW80,'Таблица CRC'!$A$43:$C$298,3,FALSE))","v":144},{"$f":"MyXor(CE80,VLOOKUP(CX80,'Таблица CRC'!$A$43:$C$298,3,FALSE))","v":17},{"$f":"MyXor(CF80,VLOOKUP(CY80,'Таблица CRC'!$A$43:$C$298,3,FALSE))","v":59},{"$f":"MyXor(CG80,VLOOKUP(CZ80,'Таблица CRC'!$A$43:$C$298,3,FALSE))","v":158},null,null,null,null,null,null,null,null,null,null,null,null,null,"64 06 00 01 00 F8 9E"]
["Принято в обработку",null,null,"Принято в обработку",null,null,null,null,null,null,null,null,null,null,null,null,null,null,null,null,null,null,null,null,{"$f":"MyXor(Y80,0)","v":100},{"$f":"MyXor(Z80,VLOOKUP(Y81,'Таблица CRC'!$A$43:$C$298,3,FALSE))","v":1},{"$f":"MyXor(AA80,VLOOKUP(Z81,'Таблица CRC'!$A$43:$C$298,3,FALSE))","v":94},{"$f":"MyXor(AB80,VLOOKUP(AA81,'Таблица CRC'!$A$43:$C$298,3,FALSE))","v":68},{"$f":"MyXor(AC80,VLOOKUP(AB81,'Таблица CRC'!$A$43:$C$298,3,FALSE))","v":167},{"$f":"MyXor(AD80,VLOOKUP(AC81,'Таблица CRC'!$A$43:$C$298,3,FALSE))","v":44},null,null,null,null,null,null,"E4 09 C1 C8 C1 CF CF CF CF E5","E4",9,"C1","C8","C1","CF","CF","CF","CF","E5",null,null,null,null,null,null,null,null,null,null,228,9,193,200,193,207,207,207,207,229,0,0,0,0,0,0,0,0,0,0,109,100,9,0,165,172,162,162,162,162,null,null,null,null,null,null,null,null,null,null,null,100,{"$f":"MyXor(CB81,VLOOKUP(CU81,'Таблица CRC'!$A$43:$C$298,3,FALSE))","v":13},{"$f":"MyXor(CC81,VLOOKUP(CV81,'Таблица CRC'!$A$43:$C$298,3,FALSE))","v":253},{"$f":"MyXor(CD81,VLOOKUP(CW81,'Таблица CRC'!$A$43:$C$298,3,FALSE))","v":44},{"$f":"MyXor(CE81,VLOOKUP(CX81,'Таблица CRC'!$A$43:$C$298,3,FALSE))","v":44},{"$f":"MyXor(CF81,VLOOKUP(CY81,'Таблица CRC'!$A$43:$C$298,3,FALSE))","v":34},{"$f":"MyXor(CG81,VLOOKUP(CZ81,'Таблица CRC'!$A$43:$C$298,3,FALSE))","v":61},{"$f":"MyXor(CH81,VLOOKUP(DA81,'Таблица CRC'!$A$43:$C$298,3,FALSE))","v":225},{"$f":"MyXor(CI81,VLOOKUP(DB81,'Таблица CRC'!$A$43:$C$298,3,FALSE))","v":21},{"$f":"MyXor(CJ81,VLOOKUP(DC81,'Таблица CRC'!$A$43:$C$298,3,FALSE))","v":162},null,null,null,null,null,null,null,null,null,null,{"$f":"CONCATENATE(DEC2HEX(CA81,2),\" \",DEC2HEX(CB81,2),\" \",DEC2HEX(CC81,2),\" \",DEC2HEX(CD81,2),\" \",DEC2HEX(CE81,2),\" \",DEC2HEX(CF81,2),\" \",DEC2HEX(CG81,2),\" \",DEC2HEX(CH81,2),\" \",DEC2HEX(CI81,2),\" \",DEC2HEX(DD81,2))","v":"64 09 00 A5 AC A2 A2 A2 A2 A2"}]
["otvet 44,0,0,",180,null,"otvet 44",0,0,null,null,null,null,null,null,null,null,null,null,null,null,null,null,null,null,null,null,{"$f":"DEC2HEX(Y80,2)","v":"64"},{"$f":"DEC2HEX(Z80,2)","v":"05"},"00","80","80",{"$f":"DEC2HEX(AD81,2)","v":"2C"},null,null,null,null,{"$f":"CONCATENATE(Y82,\" \",Z82,\" \",AA82,\" \",AB82,\" \",AC82,\" \",AD82,\" \",AE82,\" \",AF82,\" \",AG82,\" \",AH82)","v":"64 05 00 80 80 2C    "},null,"E4 06 63 CC CF CF BE","E4",6,63,"CC","CF","CF","BE",null,null,null,null,null,null,null,null,null,null,null,null,null,228,6,99,204,207,207,190,0,0,0,0,0,0,0,0,0,0,0,0,0,207,100,6,0,3,0,0,null,null,null,null,null,null,null,null,null,null,null,null,null,null,100,{"$f":"MyXor(CB82,VLOOKUP(CU82,'Таблица CRC'!$A$43:$C$298,3,FALSE))","v":2},{"$f":"MyXor(CC82,VLOOKUP(CV82,'Таблица CRC'!$A$43:$C$298,3,FALSE))","v":188},{"$f":"MyXor(CD82,VLOOKUP(CW82,'Таблица CRC'!$A$43:$C$298,3,FALSE))","v":146},{"$f":"MyXor(CE82,VLOOKUP(CX82,'Таблица CRC'!$A$43:$C$298,3,FALSE))","v":173},{"$f":"MyXor(CF82,VLOOKUP(CY82,'Таблица CRC'!$A$43:$C$298,3,FALSE))","v":82},{"$f":"MyXor(CG82,VLOOKUP(CZ82,'Таблица CRC'!$A$43:$C$298,3,FALSE))","v":103},null,null,null,null,null,null,null,null,null,null,null,null,null,"64 06 00 03 00 00 67"]
["228,6,65,236,237,21,36,",null,{"$f":"MyXor(F83,$C$1)","v":237},228,6,65,236,237,21,36,null,null,null,{"$f":"IF(D83>127,D83-128,D83)","v":100},{"$f":"E83","v":6},{"$f":"MyXor(F83,$B85)","v":172},1,0,248,201,237,237,237,null,100,6,0,1,0,248,null,null,null,null,null,null,"E4 08 89 0E 21 2B 25 24 9F","E4",8,89,"0E",21,"2B",25,24,"9F",null,null,null,null,null,null,null,null,null,null,null,228,8,137,14,33,43,37,36,159,0,0,0,0,0,0,0,0,0,0,0,37,100,8,0,43,4,14,0,1,null,null,null,null,null,null,null,null,null,null,null,null,100,{"$f":"MyXor(CB83,VLOOKUP(CU83,'Таблица CRC'!$A$43:$C$298,3,FALSE))","v":12},{"$f":"MyXor(CC83,VLOOKUP(CV83,'Таблица CRC'!$A$43:$C$298,3,FALSE))","v":163},{"$f":"MyXor(CD83,VLOOKUP(CW83,'Таблица CRC'!$A$43:$C$298,3,FALSE))","v":102},{"$f":"MyXor(CE83,VLOOKUP(CX83,'Таблица CRC'!$A$43:$C$298,3,FALSE))","v":188},{"$f":"MyXor(CF83,VLOOKUP(CY83,'Таблица CRC'!$A$43:$C$298,3,FALSE))","v":159},{"$f":"MyXor(CG83,VLOOKUP(CZ83,'Таблица CRC'!$A$43:$C$298,3,FALSE))","v":80},{"$f":"MyXor(CH83,VLOOKUP(DA83,'Таблица CRC'!$A$43:$C$298,3,FALSE))","v":218},{"$f":"MyXor(CI83,VLOOKUP(DB83,'Таблица CRC'!$A$43:$C$298,3,FALSE))","v":41},null,null,null,null,null,null,null,null,null,null,null,{"$f":"CONCATENATE(DEC2HEX(CA83,2),\" \",DEC2HEX(CB83,2),\" \",DEC2HEX(CC83,2),\" \",DEC2HEX(CD83,2),\" \",DEC2HEX(CE83,2),\" \",DEC2HEX(CF83,2),\" \",DEC2HEX(CG83,2),\" \",DEC2HEX(CH83,2),\" \",DEC2HEX(DC83,2))","v":"64 08 00 2B 04 0E 00 01 29"}]
["Принято в обработку",null,null,"Принято в обработку",null,null,null,null,null,null,null,null,null,null,null,null,null,null,null,null,null,null,null,null,{"$f":"MyXor(Y83,0)","v":100},{"$f":"MyXor(Z83,VLOOKUP(Y84,'Таблица CRC'!$A$43:$C$298,3,FALSE))","v":2},{"$f":"MyXor(AA83,VLOOKUP(Z84,'Таблица CRC'!$A$43:$C$298,3,FALSE))","v":188},{"$f":"MyXor(AB83,VLOOKUP(AA84,'Таблица CRC'!$A$43:$C$298,3,FALSE))","v":144},{"$f":"MyXor(AC83,VLOOKUP(AB84,'Таблица CRC'!$A$43:$C$298,3,FALSE))","v":17},{"$f":"MyXor(AD83,VLOOKUP(AC84,'Таблица CRC'!$A$43:$C$298,3,FALSE))","v":59},{"$f":"MyXor(AE83,VLOOKUP(AD84,'Таблица CRC'!$A$43:$C$298,3,FALSE))","v":158},null,null,null,null,null,"E4 05 09 25 25 FC","E4",5,9,25,25,"FC",null,null,null,null,null,null,null,null,null,null,null,null,null,null,228,5,9,37,37,252,0,0,0,0,0,0,0,0,0,0,0,0,0,0,165,100,5,0,128,128,null,null,null,null,null,null,null,null,null,null,null,null,null,null,null,100,{"$f":"MyXor(CB84,VLOOKUP(CU84,'Таблица CRC'!$A$43:$C$298,3,FALSE))","v":1},{"$f":"MyXor(CC84,VLOOKUP(CV84,'Таблица CRC'!$A$43:$C$298,3,FALSE))","v":94},{"$f":"MyXor(CD84,VLOOKUP(CW84,'Таблица CRC'!$A$43:$C$298,3,FALSE))","v":68},{"$f":"MyXor(CE84,VLOOKUP(CX84,'Таблица CRC'!$A$43:$C$298,3,FALSE))","v":167},{"$f":"MyXor(CF84,VLOOKUP(CY84,'Таблица CRC'!$A$43:$C$298,3,FALSE))","v":44},null,null,null,null,null,null,null,null,null,null,null,null,null,null,{"$f":"CONCATENATE(DEC2HEX(CA84,2),\" \",DEC2HEX(CB84,2),\" \",DEC2HEX(CC84,2),\" \",DEC2HEX(CD84,2),\" \",DEC2HEX(CE84,2),\" \",DEC2HEX(CZ84,2))","v":"64 05 00 80 80 2C"}]
["ключ шифрования-237",237,null,"ключ шифрования-237",null,null,null,null,null,null,null,null,null,null,null,null,null,null,null,null,null,null,null,null,{"$f":"DEC2HEX(Y83,2)","v":"64"},{"$f":"DEC2HEX(Z83,2)","v":"06"},"00","01","00","F8",{"$f":"DEC2HEX(AE84,2)","v":"9E"},null,null,null,{"$f":"CONCATENATE(Y85,\" \",Z85,\" \",AA85,\" \",AB85,\" \",AC85,\" \",AD85,\" \",AE85,\" \",AF85,\" \",AG85,\" \",AH85)","v":"64 06 00 01 00 F8 9E   "},"64 09 0E 07 02 00 00 00 00 05 ","E4 06 4E E3 E2 1A B8","E4",6,"4E","E3","E2","1A","B8",null,null,null,null,null,null,null,null,null,null,null,null,null,228,6,78,227,226,26,184,0,0,0,0,0,0,0,0,0,0,0,0,0,226,100,6,0,1,0,248,null,null,null,null,null,null,null,null,null,null,null,null,null,null,100,{"$f":"MyXor(CB85,VLOOKUP(CU85,'Таблица CRC'!$A$43:$C$298,3,FALSE))","v":2},{"$f":"MyXor(CC85,VLOOKUP(CV85,'Таблица CRC'!$A$43:$C$298,3,FALSE))","v":188},{"$f":"MyXor(CD85,VLOOKUP(CW85,'Таблица CRC'!$A$43:$C$298,3,FALSE))","v":144},{"$f":"MyXor(CE85,VLOOKUP(CX85,'Таблица CRC'!$A$43:$C$298,3,FALSE))","v":17},{"$f":"MyXor(CF85,VLOOKUP(CY85,'Таблица CRC'!$A$43:$C$298,3,FALSE))","v":59},{"$f":"MyXor(CG85,VLOOKUP(CZ85,'Таблица CRC'!$A$43:$C$298,3,FALSE))","v":158},null,null,null,null,null,null,null,null,null,null,null,null,null,"64 06 00 01 00 F8 9E"]
["zapros.s 1,0,248,",null,null,"zapros.s 1",0,248,null,null,null,null,null,null,null,null,null,null,null,null,null,null,null,null,null,null,null,null,null,null,null,null,null,null,null,null,null,null,"E4 09 EC E5 ED E2 E2 E2 E2 FC","E4",9,"EC","E5","ED","E2","E2","E2","E2","FC",null,null,null,null,null,null,null,null,null,null,228,9,236,229,237,226,226,226,226,252,0,0,0,0,0,0,0,0,0,0,64,100,9,0,165,173,162,162,162,162,null,null,null,null,null,null,null,null,null,null,null,{"$f":"MyXor(CA86,0)","v":100},{"$f":"MyXor(CB86,VLOOKUP(CU86,'Таблица CRC'!$A$43:$C$298,3,FALSE))","v":13},{"$f":"MyXor(CC86,VLOOKUP(CV86,'Таблица CRC'!$A$43:$C$298,3,FALSE))","v":253},{"$f":"MyXor(CD86,VLOOKUP(CW86,'Таблица CRC'!$A$43:$C$298,3,FALSE))","v":44},{"$f":"MyXor(CE86,VLOOKUP(CX86,'Таблица CRC'!$A$43:$C$298,3,FALSE))","v":45},{"$f":"MyXor(CF86,VLOOKUP(CY86,'Таблица CRC'!$A$43:$C$298,3,FALSE))","v":124},{"$f":"MyXor(CG86,VLOOKUP(CZ86,'Таблица CRC'!$A$43:$C$298,3,FALSE))","v":249},{"$f":"MyXor(CH86,VLOOKUP(DA86,'Таблица CRC'!$A$43:$C$298,3,FALSE))","v":94},{"$f":"MyXor(CI86,VLOOKUP(DB86,'Таблица CRC'!$A$43:$C$298,3,FALSE))","v":102},{"$f":"MyXor(CJ86,VLOOKUP(DC86,'Таблица CRC'!$A$43:$C$298,3,FALSE))","v":184},null,null,null,null,null,null,null,null,null,null,{"$f":"CONCATENATE(DEC2HEX(CA86,2),\" \",DEC2HEX(CB86,2),\" \",DEC2HEX(CC86,2),\" \",DEC2HEX(CD86,2),\" \",DEC2HEX(CE86,2),\" \",DEC2HEX(CF86,2),\" \",DEC2HEX(CG86,2),\" \",DEC2HEX(CH86,2),\" \",DEC2HEX(CI86,2),\" \",DEC2HEX(DD86,2))","v":"64 09 00 A5 AD A2 A2 A2 A2 B8"}]
["ОТВЕТ ЭМУЛЯТОРА 239,234,237,",null,null,"ОТВЕТ ЭМУЛЯТОРА 239",234,237,null,null,null,null,null,null,null,null,null,null,null,null,null,null,null,null,null,null,null,null,null,null,null,null,null,null,null,null,null,null,"E4 06 4E E1 E2 E2 41","E4",6,"4E","E1","E2","E2",41,null,null,null,null,null,null,null,null,null,null,null,null,null,228,6,78,225,226,226,65,0,0,0,0,0,0,0,0,0,0,0,0,0,226,100,6,0,3,0,0,null,null,null,null,null,null,null,null,null,null,null,null,null,null,100,{"$f":"MyXor(CB87,VLOOKUP(CU87,'Таблица CRC'!$A$43:$C$298,3,FALSE))","v":2},{"$f":"MyXor(CC87,VLOOKUP(CV87,'Таблица CRC'!$A$43:$C$298,3,FALSE))","v":188},{"$f":"MyXor(CD87,VLOOKUP(CW87,'Таблица CRC'!$A$43:$C$298,3,FALSE))","v":146},{"$f":"MyXor(CE87,VLOOKUP(CX87,'Таблица CRC'!$A$43:$C$298,3,FALSE))","v":173},{"$f":"MyXor(CF87,VLOOKUP(CY87,'Таблица CRC'!$A$43:$C$298,3,FALSE))","v":82},{"$f":"MyXor(CG87,VLOOKUP(CZ87,'Таблица CRC'!$A$43:$C$298,3,FALSE))","v":103},null,null,null,null,null,null,null,null,null,null,null,null,null,"64 06 00 03 00 00 67"]
["228,9,227,234,238,237,237,237,237,92,",null,{"$f":"MyXor(F88,$C$1)","v":79},228,9,227,234,238,237,237,237,237,92,{"$f":"IF(D88>127,D88-128,D88)","v":100},{"$f":"E88","v":9},{"$f":"MyXor(F88,$B90)","v":172},165,161,162,162,162,162,19,null,100,9,0,165,161,162,162,162,162,null,null,null,"E4 08 E2 65 4A 41 4E 4F 32","E4",8,"E2",65,"4A",41,"4E","4F",32,null,null,null,null,null,null,null,null,null,null,null,228,8,226,101,74,65,78,79,50,0,0,0,0,0,0,0,0,0,0,0,78,100,8,0,43,4,15,0,1,null,null,null,null,null,null,null,null,null,null,null,null,100,{"$f":"MyXor(CB88,VLOOKUP(CU88,'Таблица CRC'!$A$43:$C$298,3,FALSE))","v":12},{"$f":"MyXor(CC88,VLOOKUP(CV88,'Таблица CRC'!$A$43:$C$298,3,FALSE))","v":163},{"$f":"MyXor(CD88,VLOOKUP(CW88,'Таблица CRC'!$A$43:$C$298,3,FALSE))","v":102},{"$f":"MyXor(CE88,VLOOKUP(CX88,'Таблица CRC'!$A$43:$C$298,3,FALSE))","v":188},{"$f":"MyXor(CF88,VLOOKUP(CY88,'Таблица CRC'!$A$43:$C$298,3,FALSE))","v":158},{"$f":"MyXor(CG88,VLOOKUP(CZ88,'Таблица CRC'!$A$43:$C$298,3,FALSE))","v":14},{"$f":"MyXor(CH88,VLOOKUP(DA88,'Таблица CRC'!$A$43:$C$298,3,FALSE))","v":30},{"$f":"MyXor(CI88,VLOOKUP(DB88,'Таблица CRC'!$A$43:$C$298,3,FALSE))","v":130},null,null,null,null,null,null,null,null,null,null,null,{"$f":"CONCATENATE(DEC2HEX(CA88,2),\" \",DEC2HEX(CB88,2),\" \",DEC2HEX(CC88,2),\" \",DEC2HEX(CD88,2),\" \",DEC2HEX(CE88,2),\" \",DEC2HEX(CF88,2),\" \",DEC2HEX(CG88,2),\" \",DEC2HEX(CH88,2),\" \",DEC2HEX(DC88,2))","v":"64 08 00 2B 04 0F 00 01 82"}]
["Принято в обработку",null,null,"Принято в обработку",null,null,null,null,null,null,null,null,null,null,null,null,null,null,null,null,null,null,null,null,{"$f":"MyXor(Y88,0)","v":100},{"$f":"MyXor(Z88,VLOOKUP(Y89,'Таблица CRC'!$A$43:$C$298,3,FALSE))","v":13},{"$f":"MyXor(AA88,VLOOKUP(Z89,'Таблица CRC'!$A$43:$C$298,3,FALSE))","v":253},{"$f":"MyXor(AB88,VLOOKUP(AA89,'Таблица CRC'!$A$43:$C$298,3,FALSE))","v":44},{"$f":"MyXor(AC88,VLOOKUP(AB89,'Таблица CRC'!$A$43:$C$298,3,FALSE))","v":33},{"$f":"MyXor(AD88,VLOOKUP(AC89,'Таблица CRC'!$A$43:$C$298,3,FALSE))","v":223},{"$f":"MyXor(AE88,VLOOKUP(AD89,'Таблица CRC'!$A$43:$C$298,3,FALSE))","v":180},{"$f":"MyXor(AF88,VLOOKUP(AE89,'Таблица CRC'!$A$43:$C$298,3,FALSE))","v":241},{"$f":"MyXor(AG88,VLOOKUP(AF89,'Таблица CRC'!$A$43:$C$298,3,FALSE))","v":136},{"$f":"MyXor(AH88,VLOOKUP(AG89,'Таблица CRC'!$A$43:$C$298,3,FALSE))","v":78},null,null,"E4 05 62 4E 4E B0","E4",5,62,"4E","4E","B0",null,null,null,null,null,null,null,null,null,null,null,null,null,null,228,5,98,78,78,176,0,0,0,0,0,0,0,0,0,0,0,0,0,0,206,100,5,0,128,128,null,null,null,null,null,null,null,null,null,null,null,null,null,null,null,100,{"$f":"MyXor(CB89,VLOOKUP(CU89,'Таблица CRC'!$A$43:$C$298,3,FALSE))","v":1},{"$f":"MyXor(CC89,VLOOKUP(CV89,'Таблица CRC'!$A$43:$C$298,3,FALSE))","v":94},{"$f":"MyXor(CD89,VLOOKUP(CW89,'Таблица CRC'!$A$43:$C$298,3,FALSE))","v":68},{"$f":"MyXor(CE89,VLOOKUP(CX89,'Таблица CRC'!$A$43:$C$298,3,FALSE))","v":167},{"$f":"MyXor(CF89,VLOOKUP(CY89,'Таблица CRC'!$A$43:$C$298,3,FALSE))","v":44},null,null,null,null,null,null,null,null,null,null,null,null,null,null,{"$f":"CONCATENATE(DEC2HEX(CA89,2),\" \",DEC2HEX(CB89,2),\" \",DEC2HEX(CC89,2),\" \",DEC2HEX(CD89,2),\" \",DEC2HEX(CE89,2),\" \",DEC2HEX(CZ89,2))","v":"64 05 00 80 80 2C"}]
["ключ шифрования-79",79,null,"ключ шифрования-79",null,null,null,null,null,null,null,null,null,null,null,null,null,null,null,null,null,null,null,null,{"$f":"DEC2HEX(Y88,2)","v":"64"},{"$f":"DEC2HEX(Z88,2)","v":"09"},"00","A5","A1","A2","A2","A2","A2",{"$f":"DEC2HEX(AH89,2)","v":"4E"},{"$f":"CONCATENATE(Y90,\" \",Z90,\" \",AA90,\" \",AB90,\" \",AC90,\" \",AD90,\" \",AE90,\" \",AF90,\" \",AG90,\" \",AH90)","v":"64 09 00 A5 A1 A2 A2 A2 A2 4E"},"64 05 0A 00 00 E5","E4 06 CA 67 66 9E 6A","E4",6,"CA",67,66,"9E","6A",null,null,null,null,null,null,null,null,null,null,null,null,null,228,6,202,103,102,158,106,0,0,0,0,0,0,0,0,0,0,0,0,0,102,100,6,0,1,0,248,null,null,null,null,null,null,null,null,null,null,null,null,null,null,100,{"$f":"MyXor(CB90,VLOOKUP(CU90,'Таблица CRC'!$A$43:$C$298,3,FALSE))","v":2},{"$f":"MyXor(CC90,VLOOKUP(CV90,'Таблица CRC'!$A$43:$C$298,3,FALSE))","v":188},{"$f":"MyXor(CD90,VLOOKUP(CW90,'Таблица CRC'!$A$43:$C$298,3,FALSE))","v":144},{"$f":"MyXor(CE90,VLOOKUP(CX90,'Таблица CRC'!$A$43:$C$298,3,FALSE))","v":17},{"$f":"MyXor(CF90,VLOOKUP(CY90,'Таблица CRC'!$A$43:$C$298,3,FALSE))","v":59},{"$f":"MyXor(CG90,VLOOKUP(CZ90,'Таблица CRC'!$A$43:$C$298,3,FALSE))","v":158},null,null,null,null,null,null,null,null,null,null,null,null,null,"64 06 00 01 00 F8 9E"]
["zapros.s 165,161,162,",null,null,"zapros.s 165",161,162,null,null,null,null,null,null,null,null,null,null,null,null,null,null,null,null,null,null,null,null,null,null,null,null,null,null,null,null,null,null,"E4 09 68 61 76 66 66 66 66 A8","E4",9,68,61,76,66,66,66,66,"A8",null,null,null,null,null,null,null,null,null,null,228,9,104,97,118,102,102,102,102,168,0,0,0,0,0,0,0,0,0,0,196,100,9,0,165,178,162,162,162,162,null,null,null,null,null,null,null,null,null,null,null,100,{"$f":"MyXor(CB91,VLOOKUP(CU91,'Таблица CRC'!$A$43:$C$298,3,FALSE))","v":13},{"$f":"MyXor(CC91,VLOOKUP(CV91,'Таблица CRC'!$A$43:$C$298,3,FALSE))","v":253},{"$f":"MyXor(CD91,VLOOKUP(CW91,'Таблица CRC'!$A$43:$C$298,3,FALSE))","v":44},{"$f":"MyXor(CE91,VLOOKUP(CX91,'Таблица CRC'!$A$43:$C$298,3,FALSE))","v":50},{"$f":"MyXor(CF91,VLOOKUP(CY91,'Таблица CRC'!$A$43:$C$298,3,FALSE))","v":160},{"$f":"MyXor(CG91,VLOOKUP(CZ91,'Таблица CRC'!$A$43:$C$298,3,FALSE))","v":13},{"$f":"MyXor(CH91,VLOOKUP(DA91,'Таблица CRC'!$A$43:$C$298,3,FALSE))","v":95},{"$f":"MyXor(CI91,VLOOKUP(DB91,'Таблица CRC'!$A$43:$C$298,3,FALSE))","v":56},{"$f":"MyXor(CJ91,VLOOKUP(DC91,'Таблица CRC'!$A$43:$C$298,3,FALSE))","v":124},null,null,null,null,null,null,null,null,null,null,{"$f":"CONCATENATE(DEC2HEX(CA91,2),\" \",DEC2HEX(CB91,2),\" \",DEC2HEX(CC91,2),\" \",DEC2HEX(CD91,2),\" \",DEC2HEX(CE91,2),\" \",DEC2HEX(CF91,2),\" \",DEC2HEX(CG91,2),\" \",DEC2HEX(CH91,2),\" \",DEC2HEX(CI91,2),\" \",DEC2HEX(DD91,2))","v":"64 09 00 A5 B2 A2 A2 A2 A2 7C"}]
["228,6,65,238,237,237,221,",null,{"$f":"MyXor(F92,$C$1)","v":237},228,6,65,238,237,237,221,null,null,null,{"$f":"IF(D92>127,D92-128,D92)","v":100},{"$f":"E92","v":6},{"$f":"MyXor(F92,$B94)","v":172},3,0,0,48,237,237,237,null,100,6,0,3,0,0,null,null,null,null,null,null,"E4 06 CA 65 66 66 6F","E4",6,"CA",65,66,66,"6F",null,null,null,null,null,null,null,null,null,null,null,null,null,228,6,202,101,102,102,111,0,0,0,0,0,0,0,0,0,0,0,0,0,102,100,6,0,3,0,0,null,null,null,null,null,null,null,null,null,null,null,null,null,null,100,{"$f":"MyXor(CB92,VLOOKUP(CU92,'Таблица CRC'!$A$43:$C$298,3,FALSE))","v":2},{"$f":"MyXor(CC92,VLOOKUP(CV92,'Таблица CRC'!$A$43:$C$298,3,FALSE))","v":188},{"$f":"MyXor(CD92,VLOOKUP(CW92,'Таблица CRC'!$A$43:$C$298,3,FALSE))","v":146},{"$f":"MyXor(CE92,VLOOKUP(CX92,'Таблица CRC'!$A$43:$C$298,3,FALSE))","v":173},{"$f":"MyXor(CF92,VLOOKUP(CY92,'Таблица CRC'!$A$43:$C$298,3,FALSE))","v":82},{"$f":"MyXor(CG92,VLOOKUP(CZ92,'Таблица CRC'!$A$43:$C$298,3,FALSE))","v":103},null,null,null,null,null,null,null,null,null,null,null,null,null,"64 06 00 03 00 00 67"]
["Принято в обработку",null,null,"Принято в обработку",null,null,null,null,null,null,null,null,null,null,null,null,null,null,null,null,null,null,null,null,{"$f":"MyXor(Y92,0)","v":100},{"$f":"MyXor(Z92,VLOOKUP(Y93,'Таблица CRC'!$A$43:$C$298,3,FALSE))","v":2},{"$f":"MyXor(AA92,VLOOKUP(Z93,'Таблица CRC'!$A$43:$C$298,3,FALSE))","v":188},{"$f":"MyXor(AB92,VLOOKUP(AA93,'Таблица CRC'!$A$43:$C$298,3,FALSE))","v":146},{"$f":"MyXor(AC92,VLOOKUP(AB93,'Таблица CRC'!$A$43:$C$298,3,FALSE))","v":173},{"$f":"MyXor(AD92,VLOOKUP(AC93,'Таблица CRC'!$A$43:$C$298,3,FALSE))","v":82},{"$f":"MyXor(AE92,VLOOKUP(AD93,'Таблица CRC'!$A$43:$C$298,3,FALSE))","v":103},null,null,null,null,null,"E4 08 63 E4 CB DF CF CE 5A","E4",8,63,"E4","CB","DF","CF","CE","5A",null,null,null,null,null,null,null,null,null,null,null,228,8,99,228,203,223,207,206,90,0,0,0,0,0,0,0,0,0,0,0,207,100,8,0,43,4,16,0,1,null,null,null,null,null,null,null,null,null,null,null,null,100,{"$f":"MyXor(CB93,VLOOKUP(CU93,'Таблица CRC'!$A$43:$C$298,3,FALSE))","v":12},{"$f":"MyXor(CC93,VLOOKUP(CV93,'Таблица CRC'!$A$43:$C$298,3,FALSE))","v":163},{"$f":"MyXor(CD93,VLOOKUP(CW93,'Таблица CRC'!$A$43:$C$298,3,FALSE))","v":102},{"$f":"MyXor(CE93,VLOOKUP(CX93,'Таблица CRC'!$A$43:$C$298,3,FALSE))","v":188},{"$f":"MyXor(CF93,VLOOKUP(CY93,'Таблица CRC'!$A$43:$C$298,3,FALSE))","v":129},{"$f":"MyXor(CG93,VLOOKUP(CZ93,'Таблица CRC'!$A$43:$C$298,3,FALSE))","v":210},{"$f":"MyXor(CH93,VLOOKUP(DA93,'Таблица CRC'!$A$43:$C$298,3,FALSE))","v":234},{"$f":"MyXor(CI93,VLOOKUP(DB93,'Таблица CRC'!$A$43:$C$298,3,FALSE))","v":151},null,null,null,null,null,null,null,null,null,null,null,{"$f":"CONCATENATE(DEC2HEX(CA93,2),\" \",DEC2HEX(CB93,2),\" \",DEC2HEX(CC93,2),\" \",DEC2HEX(CD93,2),\" \",DEC2HEX(CE93,2),\" \",DEC2HEX(CF93,2),\" \",DEC2HEX(CG93,2),\" \",DEC2HEX(CH93,2),\" \",DEC2HEX(DC93,2))","v":"64 08 00 2B 04 10 00 01 97"}]
["ключ шифрования-237",237,null,"ключ шифрования-237",null,null,null,null,null,null,null,null,null,null,null,null,null,null,null,null,null,null,null,null,{"$f":"DEC2HEX(Y92,2)","v":"64"},{"$f":"DEC2HEX(Z92,2)","v":"06"},"00","03","00","00",{"$f":"DEC2HEX(AE93,2)","v":"67"},null,null,null,{"$f":"CONCATENATE(Y94,\" \",Z94,\" \",AA94,\" \",AB94,\" \",AC94,\" \",AD94,\" \",AE94,\" \",AF94,\" \",AG94,\" \",AH94)","v":"64 06 00 03 00 00 67   "},null,"E4 05 E3 CF CF 40","E4",5,"E3","CF","CF",40,null,null,null,null,null,null,null,null,null,null,null,null,null,null,228,5,227,207,207,64,0,0,0,0,0,0,0,0,0,0,0,0,0,0,79,100,5,0,128,128,null,null,null,null,null,null,null,null,null,null,null,null,null,null,null,100,{"$f":"MyXor(CB94,VLOOKUP(CU94,'Таблица CRC'!$A$43:$C$298,3,FALSE))","v":1},{"$f":"MyXor(CC94,VLOOKUP(CV94,'Таблица CRC'!$A$43:$C$298,3,FALSE))","v":94},{"$f":"MyXor(CD94,VLOOKUP(CW94,'Таблица CRC'!$A$43:$C$298,3,FALSE))","v":68},{"$f":"MyXor(CE94,VLOOKUP(CX94,'Таблица CRC'!$A$43:$C$298,3,FALSE))","v":167},{"$f":"MyXor(CF94,VLOOKUP(CY94,'Таблица CRC'!$A$43:$C$298,3,FALSE))","v":44},null,null,null,null,null,null,null,null,null,null,null,null,null,null,{"$f":"CONCATENATE(DEC2HEX(CA94,2),\" \",DEC2HEX(CB94,2),\" \",DEC2HEX(CC94,2),\" \",DEC2HEX(CD94,2),\" \",DEC2HEX(CE94,2),\" \",DEC2HEX(CZ94,2))","v":"64 05 00 80 80 2C"}]
["zapros.s 3,0,0,",null,null,"zapros.s 3",0,0,null,null,null,null,null,null,null,null,null,null,null,null,null,null,null,null,null,null,null,null,null,null,null,null,null,null,null,null,null,null,"E4 06 DC 71 70 88 C6","E4",6,"DC",71,70,88,"C6",null,null,null,null,null,null,null,null,null,null,null,null,null,228,6,220,113,112,136,198,0,0,0,0,0,0,0,0,0,0,0,0,0,112,100,6,0,1,0,248,null,null,null,null,null,null,null,null,null,null,null,null,null,null,100,{"$f":"MyXor(CB95,VLOOKUP(CU95,'Таблица CRC'!$A$43:$C$298,3,FALSE))","v":2},{"$f":"MyXor(CC95,VLOOKUP(CV95,'Таблица CRC'!$A$43:$C$298,3,FALSE))","v":188},{"$f":"MyXor(CD95,VLOOKUP(CW95,'Таблица CRC'!$A$43:$C$298,3,FALSE))","v":144},{"$f":"MyXor(CE95,VLOOKUP(CX95,'Таблица CRC'!$A$43:$C$298,3,FALSE))","v":17},{"$f":"MyXor(CF95,VLOOKUP(CY95,'Таблица CRC'!$A$43:$C$298,3,FALSE))","v":59},{"$f":"MyXor(CG95,VLOOKUP(CZ95,'Таблица CRC'!$A$43:$C$298,3,FALSE))","v":158},null,null,null,null,null,null,null,null,null,null,null,null,null,"64 06 00 01 00 F8 9E"]
["228,8,81,214,249,254,253,252,16,",null,{"$f":"MyXor(F96,$C$1)","v":253},228,8,81,214,249,254,253,252,16,null,{"$f":"IF(D96>127,D96-128,D96)","v":100},{"$f":"E96","v":8},{"$f":"MyXor(F96,$B98)","v":172},43,4,3,0,1,237,253,null,100,8,0,43,4,3,0,1,null,null,null,null,"E4 09 7E 77 61 70 70 70 70 B5","E4",9,"7E",77,61,70,70,70,70,"B5",null,null,null,null,null,null,null,null,null,null,228,9,126,119,97,112,112,112,112,181,0,0,0,0,0,0,0,0,0,0,210,100,9,0,165,179,162,162,162,162,null,null,null,null,null,null,null,null,null,null,null,100,{"$f":"MyXor(CB96,VLOOKUP(CU96,'Таблица CRC'!$A$43:$C$298,3,FALSE))","v":13},{"$f":"MyXor(CC96,VLOOKUP(CV96,'Таблица CRC'!$A$43:$C$298,3,FALSE))","v":253},{"$f":"MyXor(CD96,VLOOKUP(CW96,'Таблица CRC'!$A$43:$C$298,3,FALSE))","v":44},{"$f":"MyXor(CE96,VLOOKUP(CX96,'Таблица CRC'!$A$43:$C$298,3,FALSE))","v":51},{"$f":"MyXor(CF96,VLOOKUP(CY96,'Таблица CRC'!$A$43:$C$298,3,FALSE))","v":254},{"$f":"MyXor(CG96,VLOOKUP(CZ96,'Таблица CRC'!$A$43:$C$298,3,FALSE))","v":201},{"$f":"MyXor(CH96,VLOOKUP(DA96,'Таблица CRC'!$A$43:$C$298,3,FALSE))","v":244},{"$f":"MyXor(CI96,VLOOKUP(DB96,'Таблица CRC'!$A$43:$C$298,3,FALSE))","v":183},{"$f":"MyXor(CJ96,VLOOKUP(DC96,'Таблица CRC'!$A$43:$C$298,3,FALSE))","v":177},null,null,null,null,null,null,null,null,null,null,{"$f":"CONCATENATE(DEC2HEX(CA96,2),\" \",DEC2HEX(CB96,2),\" \",DEC2HEX(CC96,2),\" \",DEC2HEX(CD96,2),\" \",DEC2HEX(CE96,2),\" \",DEC2HEX(CF96,2),\" \",DEC2HEX(CG96,2),\" \",DEC2HEX(CH96,2),\" \",DEC2HEX(CI96,2),\" \",DEC2HEX(DD96,2))","v":"64 09 00 A5 B3 A2 A2 A2 A2 B1"}]
["Принято в обработку",null,null,"Принято в обработку",null,null,null,null,null,null,null,null,null,null,null,null,null,null,null,null,null,null,null,null,{"$f":"MyXor(Y96,0)","v":100},{"$f":"MyXor(Z96,VLOOKUP(Y97,'Таблица CRC'!$A$43:$C$298,3,FALSE))","v":12},{"$f":"MyXor(AA96,VLOOKUP(Z97,'Таблица CRC'!$A$43:$C$298,3,FALSE))","v":163},{"$f":"MyXor(AB96,VLOOKUP(AA97,'Таблица CRC'!$A$43:$C$298,3,FALSE))","v":102},{"$f":"MyXor(AC96,VLOOKUP(AB97,'Таблица CRC'!$A$43:$C$298,3,FALSE))","v":188},{"$f":"MyXor(AD96,VLOOKUP(AC97,'Таблица CRC'!$A$43:$C$298,3,FALSE))","v":146},{"$f":"MyXor(AE96,VLOOKUP(AD97,'Таблица CRC'!$A$43:$C$298,3,FALSE))","v":173},{"$f":"MyXor(AF96,VLOOKUP(AE97,'Таблица CRC'!$A$43:$C$298,3,FALSE))","v":83},{"$f":"MyXor(AG96,VLOOKUP(AF97,'Таблица CRC'!$A$43:$C$298,3,FALSE))","v":57},null,null,null,"E4 06 DC 73 70 70 3F","E4",6,"DC",73,70,70,"3F",null,null,null,null,null,null,null,null,null,null,null,null,null,228,6,220,115,112,112,63,0,0,0,0,0,0,0,0,0,0,0,0,0,112,100,6,0,3,0,0,null,null,null,null,null,null,null,null,null,null,null,null,null,null,100,{"$f":"MyXor(CB97,VLOOKUP(CU97,'Таблица CRC'!$A$43:$C$298,3,FALSE))","v":2},{"$f":"MyXor(CC97,VLOOKUP(CV97,'Таблица CRC'!$A$43:$C$298,3,FALSE))","v":188},{"$f":"MyXor(CD97,VLOOKUP(CW97,'Таблица CRC'!$A$43:$C$298,3,FALSE))","v":146},{"$f":"MyXor(CE97,VLOOKUP(CX97,'Таблица CRC'!$A$43:$C$298,3,FALSE))","v":173},{"$f":"MyXor(CF97,VLOOKUP(CY97,'Таблица CRC'!$A$43:$C$298,3,FALSE))","v":82},{"$f":"MyXor(CG97,VLOOKUP(CZ97,'Таблица CRC'!$A$43:$C$298,3,FALSE))","v":103},null,null,null,null,null,null,null,null,null,null,null,null,null,"64 06 00 03 00 00 67"]
["ключ шифрования-253",253,null,"ключ шифрования-253",null,null,null,null,null,null,null,null,null,null,null,null,null,null,null,null,null,null,null,null,{"$f":"DEC2HEX(Y96,2)","v":"64"},{"$f":"DEC2HEX(Z96,2)","v":"08"},"00","2B","04","03","00","01",{"$f":"DEC2HEX(AG97,2)","v":"39"},null,{"$f":"CONCATENATE(Y98,\" \",Z98,\" \",AA98,\" \",AB98,\" \",AC98,\" \",AD98,\" \",AE98,\" \",AF98,\" \",AG98,\" \",AH98)","v":"64 08 00 2B 04 03 00 01 39 "},"64 05 2C 00 00 A0","E4 08 99 1E 31 24 35 34 AE","E4",8,99,"1E",31,24,35,34,"AE",null,null,null,null,null,null,null,null,null,null,null,228,8,153,30,49,36,53,52,174,0,0,0,0,0,0,0,0,0,0,0,53,100,8,0,43,4,17,0,1,null,null,null,null,null,null,null,null,null,null,null,null,100,{"$f":"MyXor(CB98,VLOOKUP(CU98,'Таблица CRC'!$A$43:$C$298,3,FALSE))","v":12},{"$f":"MyXor(CC98,VLOOKUP(CV98,'Таблица CRC'!$A$43:$C$298,3,FALSE))","v":163},{"$f":"MyXor(CD98,VLOOKUP(CW98,'Таблица CRC'!$A$43:$C$298,3,FALSE))","v":102},{"$f":"MyXor(CE98,VLOOKUP(CX98,'Таблица CRC'!$A$43:$C$298,3,FALSE))","v":188},{"$f":"MyXor(CF98,VLOOKUP(CY98,'Таблица CRC'!$A$43:$C$298,3,FALSE))","v":128},{"$f":"MyXor(CG98,VLOOKUP(CZ98,'Таблица CRC'!$A$43:$C$298,3,FALSE))","v":140},{"$f":"MyXor(CH98,VLOOKUP(DA98,'Таблица CRC'!$A$43:$C$298,3,FALSE))","v":46},{"$f":"MyXor(CI98,VLOOKUP(DB98,'Таблица CRC'!$A$43:$C$298,3,FALSE))","v":60},null,null,null,null,null,null,null,null,null,null,null,{"$f":"CONCATENATE(DEC2HEX(CA98,2),\" \",DEC2HEX(CB98,2),\" \",DEC2HEX(CC98,2),\" \",DEC2HEX(CD98,2),\" \",DEC2HEX(CE98,2),\" \",DEC2HEX(CF98,2),\" \",DEC2HEX(CG98,2),\" \",DEC2HEX(CH98,2),\" \",DEC2HEX(DC98,2))","v":"64 08 00 2B 04 11 00 01 3C"}]
["zapros.s 43,4,3,",null,null,"zapros.s 43",4,3,null,null,null,null,null,null,null,null,null,null,null,null,null,null,null,null,null,null,null,null,null,null,null,null,null,null,null,null,null,null,"E4 05 19 35 35 D3","E4",5,19,35,35,"D3",null,null,null,null,null,null,null,null,null,null,null,null,null,null,228,5,25,53,53,211,0,0,0,0,0,0,0,0,0,0,0,0,0,0,181,100,5,0,128,128,null,null,null,null,null,null,null,null,null,null,null,null,null,null,null,100,{"$f":"MyXor(CB99,VLOOKUP(CU99,'Таблица CRC'!$A$43:$C$298,3,FALSE))","v":1},{"$f":"MyXor(CC99,VLOOKUP(CV99,'Таблица CRC'!$A$43:$C$298,3,FALSE))","v":94},{"$f":"MyXor(CD99,VLOOKUP(CW99,'Таблица CRC'!$A$43:$C$298,3,FALSE))","v":68},{"$f":"MyXor(CE99,VLOOKUP(CX99,'Таблица CRC'!$A$43:$C$298,3,FALSE))","v":167},{"$f":"MyXor(CF99,VLOOKUP(CY99,'Таблица CRC'!$A$43:$C$298,3,FALSE))","v":44},null,null,null,null,null,null,null,null,null,null,null,null,null,null,{"$f":"CONCATENATE(DEC2HEX(CA99,2),\" \",DEC2HEX(CB99,2),\" \",DEC2HEX(CC99,2),\" \",DEC2HEX(CD99,2),\" \",DEC2HEX(CE99,2),\" \",DEC2HEX(CZ99,2))","v":"64 05 00 80 80 2C"}]
["228,5,209,253,253,111,",null,{"$f":"MyXor(F100,$C$1)","v":125},228,5,209,253,253,111,null,null,null,null,{"$f":"IF(D100>127,D100-128,D100)","v":100},{"$f":"E100","v":5},{"$f":"MyXor(F100,$B102)","v":172},128,128,18,125,125,125,125,null,100,5,0,128,128,null,null,null,null,null,null,null,"E4 06 82 2F 2E D6 EB","E4",6,82,"2F","2E","D6","EB",null,null,null,null,null,null,null,null,null,null,null,null,null,228,6,130,47,46,214,235,0,0,0,0,0,0,0,0,0,0,0,0,0,46,100,6,0,1,0,248,null,null,null,null,null,null,null,null,null,null,null,null,null,null,100,{"$f":"MyXor(CB100,VLOOKUP(CU100,'Таблица CRC'!$A$43:$C$298,3,FALSE))","v":2},{"$f":"MyXor(CC100,VLOOKUP(CV100,'Таблица CRC'!$A$43:$C$298,3,FALSE))","v":188},{"$f":"MyXor(CD100,VLOOKUP(CW100,'Таблица CRC'!$A$43:$C$298,3,FALSE))","v":144},{"$f":"MyXor(CE100,VLOOKUP(CX100,'Таблица CRC'!$A$43:$C$298,3,FALSE))","v":17},{"$f":"MyXor(CF100,VLOOKUP(CY100,'Таблица CRC'!$A$43:$C$298,3,FALSE))","v":59},{"$f":"MyXor(CG100,VLOOKUP(CZ100,'Таблица CRC'!$A$43:$C$298,3,FALSE))","v":158},null,null,null,null,null,null,null,null,null,null,null,null,null,"64 06 00 01 00 F8 9E"]
["Принято в обработку",null,null,"Принято в обработку",null,null,null,null,null,null,null,null,null,null,null,null,null,null,null,null,null,null,null,null,{"$f":"MyXor(Y100,0)","v":100},{"$f":"MyXor(Z100,VLOOKUP(Y101,'Таблица CRC'!$A$43:$C$298,3,FALSE))","v":1},{"$f":"MyXor(AA100,VLOOKUP(Z101,'Таблица CRC'!$A$43:$C$298,3,FALSE))","v":94},{"$f":"MyXor(AB100,VLOOKUP(AA101,'Таблица CRC'!$A$43:$C$298,3,FALSE))","v":68},{"$f":"MyXor(AC100,VLOOKUP(AB101,'Таблица CRC'!$A$43:$C$298,3,FALSE))","v":167},{"$f":"MyXor(AD100,VLOOKUP(AC101,'Таблица CRC'!$A$43:$C$298,3,FALSE))","v":44},null,null,null,null,null,null,"E4 09 20 29 3C 2E 2E 2E 2E 9F","E4",9,20,29,"3C","2E","2E","2E","2E","9F",null,null,null,null,null,null,null,null,null,null,228,9,32,41,60,46,46,46,46,159,0,0,0,0,0,0,0,0,0,0,140,100,9,0,165,176,162,162,162,162,null,null,null,null,null,null,null,null,null,null,null,100,{"$f":"MyXor(CB101,VLOOKUP(CU101,'Таблица CRC'!$A$43:$C$298,3,FALSE))","v":13},{"$f":"MyXor(CC101,VLOOKUP(CV101,'Таблица CRC'!$A$43:$C$298,3,FALSE))","v":253},{"$f":"MyXor(CD101,VLOOKUP(CW101,'Таблица CRC'!$A$43:$C$298,3,FALSE))","v":44},{"$f":"MyXor(CE101,VLOOKUP(CX101,'Таблица CRC'!$A$43:$C$298,3,FALSE))","v":48},{"$f":"MyXor(CF101,VLOOKUP(CY101,'Таблица CRC'!$A$43:$C$298,3,FALSE))","v":28},{"$f":"MyXor(CG101,VLOOKUP(CZ101,'Таблица CRC'!$A$43:$C$298,3,FALSE))","v":156},{"$f":"MyXor(CH101,VLOOKUP(DA101,'Таблица CRC'!$A$43:$C$298,3,FALSE))","v":16},{"$f":"MyXor(CI101,VLOOKUP(DB101,'Таблица CRC'!$A$43:$C$298,3,FALSE))","v":63},{"$f":"MyXor(CJ101,VLOOKUP(DC101,'Таблица CRC'!$A$43:$C$298,3,FALSE))","v":255},null,null,null,null,null,null,null,null,null,null,{"$f":"CONCATENATE(DEC2HEX(CA101,2),\" \",DEC2HEX(CB101,2),\" \",DEC2HEX(CC101,2),\" \",DEC2HEX(CD101,2),\" \",DEC2HEX(CE101,2),\" \",DEC2HEX(CF101,2),\" \",DEC2HEX(CG101,2),\" \",DEC2HEX(CH101,2),\" \",DEC2HEX(CI101,2),\" \",DEC2HEX(DD101,2))","v":"64 09 00 A5 B0 A2 A2 A2 A2 FF"}]
["otvet 44,0,0,",125,null,"otvet 44",0,0,null,null,null,null,null,null,null,null,null,null,null,null,null,null,null,null,null,null,{"$f":"DEC2HEX(Y100,2)","v":"64"},{"$f":"DEC2HEX(Z100,2)","v":"05"},"00","80","80",{"$f":"DEC2HEX(AD101,2)","v":"2C"},null,null,null,null,{"$f":"CONCATENATE(Y102,\" \",Z102,\" \",AA102,\" \",AB102,\" \",AC102,\" \",AD102,\" \",AE102,\" \",AF102,\" \",AG102,\" \",AH102)","v":"64 05 00 80 80 2C    "},null,"E4 06 82 2D 2E 2E 12","E4",6,82,"2D","2E","2E",12,null,null,null,null,null,null,null,null,null,null,null,null,null,228,6,130,45,46,46,18,0,0,0,0,0,0,0,0,0,0,0,0,0,46,100,6,0,3,0,0,null,null,null,null,null,null,null,null,null,null,null,null,null,null,100,{"$f":"MyXor(CB102,VLOOKUP(CU102,'Таблица CRC'!$A$43:$C$298,3,FALSE))","v":2},{"$f":"MyXor(CC102,VLOOKUP(CV102,'Таблица CRC'!$A$43:$C$298,3,FALSE))","v":188},{"$f":"MyXor(CD102,VLOOKUP(CW102,'Таблица CRC'!$A$43:$C$298,3,FALSE))","v":146},{"$f":"MyXor(CE102,VLOOKUP(CX102,'Таблица CRC'!$A$43:$C$298,3,FALSE))","v":173},{"$f":"MyXor(CF102,VLOOKUP(CY102,'Таблица CRC'!$A$43:$C$298,3,FALSE))","v":82},{"$f":"MyXor(CG102,VLOOKUP(CZ102,'Таблица CRC'!$A$43:$C$298,3,FALSE))","v":103},null,null,null,null,null,null,null,null,null,null,null,null,null,"64 06 00 03 00 00 67"]
["228,6,190,19,18,234,169,",null,{"$f":"MyXor(F103,$C$1)","v":18},228,6,190,19,18,234,169,null,null,null,{"$f":"IF(D103>127,D103-128,D103)","v":100},{"$f":"E103","v":6},{"$f":"MyXor(F103,$B105)","v":172},1,0,248,187,18,18,18,null,100,6,0,1,0,248,null,null,null,null,null,null,"E4 08 D7 50 7F 69 7B 7A 49","E4",8,"D7",50,"7F",69,"7B","7A",49,null,null,null,null,null,null,null,null,null,null,null,228,8,215,80,127,105,123,122,73,0,0,0,0,0,0,0,0,0,0,0,123,100,8,0,43,4,18,0,1,null,null,null,null,null,null,null,null,null,null,null,null,100,{"$f":"MyXor(CB103,VLOOKUP(CU103,'Таблица CRC'!$A$43:$C$298,3,FALSE))","v":12},{"$f":"MyXor(CC103,VLOOKUP(CV103,'Таблица CRC'!$A$43:$C$298,3,FALSE))","v":163},{"$f":"MyXor(CD103,VLOOKUP(CW103,'Таблица CRC'!$A$43:$C$298,3,FALSE))","v":102},{"$f":"MyXor(CE103,VLOOKUP(CX103,'Таблица CRC'!$A$43:$C$298,3,FALSE))","v":188},{"$f":"MyXor(CF103,VLOOKUP(CY103,'Таблица CRC'!$A$43:$C$298,3,FALSE))","v":131},{"$f":"MyXor(CG103,VLOOKUP(CZ103,'Таблица CRC'!$A$43:$C$298,3,FALSE))","v":110},{"$f":"MyXor(CH103,VLOOKUP(DA103,'Таблица CRC'!$A$43:$C$298,3,FALSE))","v":123},{"$f":"MyXor(CI103,VLOOKUP(DB103,'Таблица CRC'!$A$43:$C$298,3,FALSE))","v":216},null,null,null,null,null,null,null,null,null,null,null,{"$f":"CONCATENATE(DEC2HEX(CA103,2),\" \",DEC2HEX(CB103,2),\" \",DEC2HEX(CC103,2),\" \",DEC2HEX(CD103,2),\" \",DEC2HEX(CE103,2),\" \",DEC2HEX(CF103,2),\" \",DEC2HEX(CG103,2),\" \",DEC2HEX(CH103,2),\" \",DEC2HEX(DC103,2))","v":"64 08 00 2B 04 12 00 01 D8"}]
["Принято в обработку",null,null,"Принято в обработку",null,null,null,null,null,null,null,null,null,null,null,null,null,null,null,null,null,null,null,null,{"$f":"MyXor(Y103,0)","v":100},{"$f":"MyXor(Z103,VLOOKUP(Y104,'Таблица CRC'!$A$43:$C$298,3,FALSE))","v":2},{"$f":"MyXor(AA103,VLOOKUP(Z104,'Таблица CRC'!$A$43:$C$298,3,FALSE))","v":188},{"$f":"MyXor(AB103,VLOOKUP(AA104,'Таблица CRC'!$A$43:$C$298,3,FALSE))","v":144},{"$f":"MyXor(AC103,VLOOKUP(AB104,'Таблица CRC'!$A$43:$C$298,3,FALSE))","v":17},{"$f":"MyXor(AD103,VLOOKUP(AC104,'Таблица CRC'!$A$43:$C$298,3,FALSE))","v":59},{"$f":"MyXor(AE103,VLOOKUP(AD104,'Таблица CRC'!$A$43:$C$298,3,FALSE))","v":158},null,null,null,null,null,"E4 05 57 7B 7B 08","E4",5,57,"7B","7B",8,null,null,null,null,null,null,null,null,null,null,null,null,null,null,228,5,87,123,123,8,0,0,0,0,0,0,0,0,0,0,0,0,0,0,251,100,5,0,128,128,null,null,null,null,null,null,null,null,null,null,null,null,null,null,null,100,{"$f":"MyXor(CB104,VLOOKUP(CU104,'Таблица CRC'!$A$43:$C$298,3,FALSE))","v":1},{"$f":"MyXor(CC104,VLOOKUP(CV104,'Таблица CRC'!$A$43:$C$298,3,FALSE))","v":94},{"$f":"MyXor(CD104,VLOOKUP(CW104,'Таблица CRC'!$A$43:$C$298,3,FALSE))","v":68},{"$f":"MyXor(CE104,VLOOKUP(CX104,'Таблица CRC'!$A$43:$C$298,3,FALSE))","v":167},{"$f":"MyXor(CF104,VLOOKUP(CY104,'Таблица CRC'!$A$43:$C$298,3,FALSE))","v":44},null,null,null,null,null,null,null,null,null,null,null,null,null,null,{"$f":"CONCATENATE(DEC2HEX(CA104,2),\" \",DEC2HEX(CB104,2),\" \",DEC2HEX(CC104,2),\" \",DEC2HEX(CD104,2),\" \",DEC2HEX(CE104,2),\" \",DEC2HEX(CZ104,2))","v":"64 05 00 80 80 2C"}]
["ключ шифрования-18",18,null,"ключ шифрования-18",null,null,null,null,null,null,null,null,null,null,null,null,null,null,null,null,null,null,null,null,{"$f":"DEC2HEX(Y103,2)","v":"64"},{"$f":"DEC2HEX(Z103,2)","v":"06"},"00","01","00","F8",{"$f":"DEC2HEX(AE104,2)","v":"9E"},null,null,null,{"$f":"CONCATENATE(Y105,\" \",Z105,\" \",AA105,\" \",AB105,\" \",AC105,\" \",AD105,\" \",AE105,\" \",AF105,\" \",AG105,\" \",AH105)","v":"64 06 00 01 00 F8 9E   "},"64 05 02 00 00 C0","E4 06 C8 65 64 9C 0F","E4",6,"C8",65,64,"9C","0F",null,null,null,null,null,null,null,null,null,null,null,null,null,228,6,200,101,100,156,15,0,0,0,0,0,0,0,0,0,0,0,0,0,100,100,6,0,1,0,248,null,null,null,null,null,null,null,null,null,null,null,null,null,null,100,{"$f":"MyXor(CB105,VLOOKUP(CU105,'Таблица CRC'!$A$43:$C$298,3,FALSE))","v":2},{"$f":"MyXor(CC105,VLOOKUP(CV105,'Таблица CRC'!$A$43:$C$298,3,FALSE))","v":188},{"$f":"MyXor(CD105,VLOOKUP(CW105,'Таблица CRC'!$A$43:$C$298,3,FALSE))","v":144},{"$f":"MyXor(CE105,VLOOKUP(CX105,'Таблица CRC'!$A$43:$C$298,3,FALSE))","v":17},{"$f":"MyXor(CF105,VLOOKUP(CY105,'Таблица CRC'!$A$43:$C$298,3,FALSE))","v":59},{"$f":"MyXor(CG105,VLOOKUP(CZ105,'Таблица CRC'!$A$43:$C$298,3,FALSE))","v":158},null,null,null,null,null,null,null,null,null,null,null,null,null,"64 06 00 01 00 F8 9E"]
["zapros.s 1,0,248,",null,null,"zapros.s 1",0,248,null,null,null,null,null,null,null,null,null,null,null,null,null,null,null,null,null,null,null,null,null,null,null,null,null,null,null,null,null,null,"E4 09 6A 63 77 64 64 64 64 14","E4",9,"6A",63,77,64,64,64,64,14,null,null,null,null,null,null,null,null,null,null,228,9,106,99,119,100,100,100,100,20,0,0,0,0,0,0,0,0,0,0,198,100,9,0,165,177,162,162,162,162,null,null,null,null,null,null,null,null,null,null,null,100,{"$f":"MyXor(CB106,VLOOKUP(CU106,'Таблица CRC'!$A$43:$C$298,3,FALSE))","v":13},{"$f":"MyXor(CC106,VLOOKUP(CV106,'Таблица CRC'!$A$43:$C$298,3,FALSE))","v":253},{"$f":"MyXor(CD106,VLOOKUP(CW106,'Таблица CRC'!$A$43:$C$298,3,FALSE))","v":44},{"$f":"MyXor(CE106,VLOOKUP(CX106,'Таблица CRC'!$A$43:$C$298,3,FALSE))","v":49},{"$f":"MyXor(CF106,VLOOKUP(CY106,'Таблица CRC'!$A$43:$C$298,3,FALSE))","v":66},{"$f":"MyXor(CG106,VLOOKUP(CZ106,'Таблица CRC'!$A$43:$C$298,3,FALSE))","v":88},{"$f":"MyXor(CH106,VLOOKUP(DA106,'Таблица CRC'!$A$43:$C$298,3,FALSE))","v":187},{"$f":"MyXor(CI106,VLOOKUP(DB106,'Таблица CRC'!$A$43:$C$298,3,FALSE))","v":176},{"$f":"MyXor(CJ106,VLOOKUP(DC106,'Таблица CRC'!$A$43:$C$298,3,FALSE))","v":50},null,null,null,null,null,null,null,null,null,null,{"$f":"CONCATENATE(DEC2HEX(CA106,2),\" \",DEC2HEX(CB106,2),\" \",DEC2HEX(CC106,2),\" \",DEC2HEX(CD106,2),\" \",DEC2HEX(CE106,2),\" \",DEC2HEX(CF106,2),\" \",DEC2HEX(CG106,2),\" \",DEC2HEX(CH106,2),\" \",DEC2HEX(CI106,2),\" \",DEC2HEX(DD106,2))","v":"64 09 00 A5 B1 A2 A2 A2 A2 32"}]
["ОТВЕТ ЭМУЛЯТОРА 16,17,18,",null,null,"ОТВЕТ ЭМУЛЯТОРА 16",17,18,null,null,null,null,null,null,null,null,null,null,null,null,null,null,null,null,null,null,null,null,null,null,null,null,null,null,null,null,null,null,"E4 06 C8 67 64 64 F6","E4",6,"C8",67,64,64,"F6",null,null,null,null,null,null,null,null,null,null,null,null,null,228,6,200,103,100,100,246,0,0,0,0,0,0,0,0,0,0,0,0,0,100,100,6,0,3,0,0,null,null,null,null,null,null,null,null,null,null,null,null,null,null,100,{"$f":"MyXor(CB107,VLOOKUP(CU107,'Таблица CRC'!$A$43:$C$298,3,FALSE))","v":2},{"$f":"MyXor(CC107,VLOOKUP(CV107,'Таблица CRC'!$A$43:$C$298,3,FALSE))","v":188},{"$f":"MyXor(CD107,VLOOKUP(CW107,'Таблица CRC'!$A$43:$C$298,3,FALSE))","v":146},{"$f":"MyXor(CE107,VLOOKUP(CX107,'Таблица CRC'!$A$43:$C$298,3,FALSE))","v":173},{"$f":"MyXor(CF107,VLOOKUP(CY107,'Таблица CRC'!$A$43:$C$298,3,FALSE))","v":82},{"$f":"MyXor(CG107,VLOOKUP(CZ107,'Таблица CRC'!$A$43:$C$298,3,FALSE))","v":103},null,null,null,null,null,null,null,null,null,null,null,null,null,"64 06 00 03 00 00 67"]
["228,9,28,21,22,18,18,18,18,25,",null,{"$f":"MyXor(F108,$C$1)","v":176},228,9,28,21,22,18,18,18,18,25,{"$f":"IF(D108>127,D108-128,D108)","v":100},{"$f":"E108","v":9},{"$f":"MyXor(F108,$B110)","v":172},165,166,162,162,162,162,169,null,100,9,0,165,166,162,162,162,162,null,null,null,"E4 08 98 1F 30 27 34 35 A5","E4",8,98,"1F",30,27,34,35,"A5",null,null,null,null,null,null,null,null,null,null,null,228,8,152,31,48,39,52,53,165,0,0,0,0,0,0,0,0,0,0,0,52,100,8,0,43,4,19,0,1,null,null,null,null,null,null,null,null,null,null,null,null,100,{"$f":"MyXor(CB108,VLOOKUP(CU108,'Таблица CRC'!$A$43:$C$298,3,FALSE))","v":12},{"$f":"MyXor(CC108,VLOOKUP(CV108,'Таблица CRC'!$A$43:$C$298,3,FALSE))","v":163},{"$f":"MyXor(CD108,VLOOKUP(CW108,'Таблица CRC'!$A$43:$C$298,3,FALSE))","v":102},{"$f":"MyXor(CE108,VLOOKUP(CX108,'Таблица CRC'!$A$43:$C$298,3,FALSE))","v":188},{"$f":"MyXor(CF108,VLOOKUP(CY108,'Таблица CRC'!$A$43:$C$298,3,FALSE))","v":130},{"$f":"MyXor(CG108,VLOOKUP(CZ108,'Таблица CRC'!$A$43:$C$298,3,FALSE))","v":48},{"$f":"MyXor(CH108,VLOOKUP(DA108,'Таблица CRC'!$A$43:$C$298,3,FALSE))","v":191},{"$f":"MyXor(CI108,VLOOKUP(DB108,'Таблица CRC'!$A$43:$C$298,3,FALSE))","v":115},null,null,null,null,null,null,null,null,null,null,null,{"$f":"CONCATENATE(DEC2HEX(CA108,2),\" \",DEC2HEX(CB108,2),\" \",DEC2HEX(CC108,2),\" \",DEC2HEX(CD108,2),\" \",DEC2HEX(CE108,2),\" \",DEC2HEX(CF108,2),\" \",DEC2HEX(CG108,2),\" \",DEC2HEX(CH108,2),\" \",DEC2HEX(DC108,2))","v":"64 08 00 2B 04 13 00 01 73"}]
["Принято в обработку",null,null,"Принято в обработку",null,null,null,null,null,null,null,null,null,null,null,null,null,null,null,null,null,null,null,null,{"$f":"MyXor(Y108,0)","v":100},{"$f":"MyXor(Z108,VLOOKUP(Y109,'Таблица CRC'!$A$43:$C$298,3,FALSE))","v":13},{"$f":"MyXor(AA108,VLOOKUP(Z109,'Таблица CRC'!$A$43:$C$298,3,FALSE))","v":253},{"$f":"MyXor(AB108,VLOOKUP(AA109,'Таблица CRC'!$A$43:$C$298,3,FALSE))","v":44},{"$f":"MyXor(AC108,VLOOKUP(AB109,'Таблица CRC'!$A$43:$C$298,3,FALSE))","v":38},{"$f":"MyXor(AD108,VLOOKUP(AC109,'Таблица CRC'!$A$43:$C$298,3,FALSE))","v":92},{"$f":"MyXor(AE108,VLOOKUP(AD109,'Таблица CRC'!$A$43:$C$298,3,FALSE))","v":218},{"$f":"MyXor(AF108,VLOOKUP(AE109,'Таблица CRC'!$A$43:$C$298,3,FALSE))","v":139},{"$f":"MyXor(AG108,VLOOKUP(AF109,'Таблица CRC'!$A$43:$C$298,3,FALSE))","v":14},{"$f":"MyXor(AH108,VLOOKUP(AG109,'Таблица CRC'!$A$43:$C$298,3,FALSE))","v":31},null,null,"E4 05 18 34 34 E2","E4",5,18,34,34,"E2",null,null,null,null,null,null,null,null,null,null,null,null,null,null,228,5,24,52,52,226,0,0,0,0,0,0,0,0,0,0,0,0,0,0,180,100,5,0,128,128,null,null,null,null,null,null,null,null,null,null,null,null,null,null,null,100,{"$f":"MyXor(CB109,VLOOKUP(CU109,'Таблица CRC'!$A$43:$C$298,3,FALSE))","v":1},{"$f":"MyXor(CC109,VLOOKUP(CV109,'Таблица CRC'!$A$43:$C$298,3,FALSE))","v":94},{"$f":"MyXor(CD109,VLOOKUP(CW109,'Таблица CRC'!$A$43:$C$298,3,FALSE))","v":68},{"$f":"MyXor(CE109,VLOOKUP(CX109,'Таблица CRC'!$A$43:$C$298,3,FALSE))","v":167},{"$f":"MyXor(CF109,VLOOKUP(CY109,'Таблица CRC'!$A$43:$C$298,3,FALSE))","v":44},null,null,null,null,null,null,null,null,null,null,null,null,null,null,{"$f":"CONCATENATE(DEC2HEX(CA109,2),\" \",DEC2HEX(CB109,2),\" \",DEC2HEX(CC109,2),\" \",DEC2HEX(CD109,2),\" \",DEC2HEX(CE109,2),\" \",DEC2HEX(CZ109,2))","v":"64 05 00 80 80 2C"}]
["ключ шифрования-176",176,null,"ключ шифрования-176",null,null,null,null,null,null,null,null,null,null,null,null,null,null,null,null,null,null,null,null,{"$f":"DEC2HEX(Y108,2)","v":"64"},{"$f":"DEC2HEX(Z108,2)","v":"09"},"00","A5","A6","A2","A2","A2","A2",{"$f":"DEC2HEX(AH109,2)","v":"1F"},{"$f":"CONCATENATE(Y110,\" \",Z110,\" \",AA110,\" \",AB110,\" \",AC110,\" \",AD110,\" \",AE110,\" \",AF110,\" \",AG110,\" \",AH110)","v":"64 09 00 A5 A6 A2 A2 A2 A2 1F"},"64 05 0A 00 00 E5","E4 06 72 DF DE 26 FA","E4",6,72,"DF","DE",26,"FA",null,null,null,null,null,null,null,null,null,null,null,null,null,228,6,114,223,222,38,250,0,0,0,0,0,0,0,0,0,0,0,0,0,222,100,6,0,1,0,248,null,null,null,null,null,null,null,null,null,null,null,null,null,null,100,{"$f":"MyXor(CB110,VLOOKUP(CU110,'Таблица CRC'!$A$43:$C$298,3,FALSE))","v":2},{"$f":"MyXor(CC110,VLOOKUP(CV110,'Таблица CRC'!$A$43:$C$298,3,FALSE))","v":188},{"$f":"MyXor(CD110,VLOOKUP(CW110,'Таблица CRC'!$A$43:$C$298,3,FALSE))","v":144},{"$f":"MyXor(CE110,VLOOKUP(CX110,'Таблица CRC'!$A$43:$C$298,3,FALSE))","v":17},{"$f":"MyXor(CF110,VLOOKUP(CY110,'Таблица CRC'!$A$43:$C$298,3,FALSE))","v":59},{"$f":"MyXor(CG110,VLOOKUP(CZ110,'Таблица CRC'!$A$43:$C$298,3,FALSE))","v":158},null,null,null,null,null,null,null,null,null,null,null,null,null,"64 06 00 01 00 F8 9E"]
["zapros.s 165,166,162,",null,null,"zapros.s 165",166,162,null,null,null,null,null,null,null,null,null,null,null,null,null,null,null,null,null,null,null,null,null,null,null,null,null,null,null,null,null,null,"E4 09 D0 D9 CA DE DE DE DE 82","E4",9,"D0","D9","CA","DE","DE","DE","DE",82,null,null,null,null,null,null,null,null,null,null,228,9,208,217,202,222,222,222,222,130,0,0,0,0,0,0,0,0,0,0,124,100,9,0,165,182,162,162,162,162,null,null,null,null,null,null,null,null,null,null,null,100,{"$f":"MyXor(CB111,VLOOKUP(CU111,'Таблица CRC'!$A$43:$C$298,3,FALSE))","v":13},{"$f":"MyXor(CC111,VLOOKUP(CV111,'Таблица CRC'!$A$43:$C$298,3,FALSE))","v":253},{"$f":"MyXor(CD111,VLOOKUP(CW111,'Таблица CRC'!$A$43:$C$298,3,FALSE))","v":44},{"$f":"MyXor(CE111,VLOOKUP(CX111,'Таблица CRC'!$A$43:$C$298,3,FALSE))","v":54},{"$f":"MyXor(CF111,VLOOKUP(CY111,'Таблица CRC'!$A$43:$C$298,3,FALSE))","v":193},{"$f":"MyXor(CG111,VLOOKUP(CZ111,'Таблица CRC'!$A$43:$C$298,3,FALSE))","v":54},{"$f":"MyXor(CH111,VLOOKUP(DA111,'Таблица CRC'!$A$43:$C$298,3,FALSE))","v":193},{"$f":"MyXor(CI111,VLOOKUP(DB111,'Таблица CRC'!$A$43:$C$298,3,FALSE))","v":54},{"$f":"MyXor(CJ111,VLOOKUP(DC111,'Таблица CRC'!$A$43:$C$298,3,FALSE))","v":99},null,null,null,null,null,null,null,null,null,null,{"$f":"CONCATENATE(DEC2HEX(CA111,2),\" \",DEC2HEX(CB111,2),\" \",DEC2HEX(CC111,2),\" \",DEC2HEX(CD111,2),\" \",DEC2HEX(CE111,2),\" \",DEC2HEX(CF111,2),\" \",DEC2HEX(CG111,2),\" \",DEC2HEX(CH111,2),\" \",DEC2HEX(CI111,2),\" \",DEC2HEX(DD111,2))","v":"64 09 00 A5 B6 A2 A2 A2 A2 63"}]
["228,6,190,17,18,18,80,",null,{"$f":"MyXor(F112,$C$1)","v":18},228,6,190,17,18,18,80,null,null,null,{"$f":"IF(D112>127,D112-128,D112)","v":100},{"$f":"E112","v":6},{"$f":"MyXor(F112,$B114)","v":172},3,0,0,66,18,18,18,null,100,6,0,3,0,0,null,null,null,null,null,null,"E4 06 72 DD DE DE 03","E4",6,72,"DD","DE","DE",3,null,null,null,null,null,null,null,null,null,null,null,null,null,228,6,114,221,222,222,3,0,0,0,0,0,0,0,0,0,0,0,0,0,222,100,6,0,3,0,0,null,null,null,null,null,null,null,null,null,null,null,null,null,null,100,{"$f":"MyXor(CB112,VLOOKUP(CU112,'Таблица CRC'!$A$43:$C$298,3,FALSE))","v":2},{"$f":"MyXor(CC112,VLOOKUP(CV112,'Таблица CRC'!$A$43:$C$298,3,FALSE))","v":188},{"$f":"MyXor(CD112,VLOOKUP(CW112,'Таблица CRC'!$A$43:$C$298,3,FALSE))","v":146},{"$f":"MyXor(CE112,VLOOKUP(CX112,'Таблица CRC'!$A$43:$C$298,3,FALSE))","v":173},{"$f":"MyXor(CF112,VLOOKUP(CY112,'Таблица CRC'!$A$43:$C$298,3,FALSE))","v":82},{"$f":"MyXor(CG112,VLOOKUP(CZ112,'Таблица CRC'!$A$43:$C$298,3,FALSE))","v":103},null,null,null,null,null,null,null,null,null,null,null,null,null,"64 06 00 03 00 00 67"]
["Принято в обработку",null,null,"Принято в обработку",null,null,null,null,null,null,null,null,null,null,null,null,null,null,null,null,null,null,null,null,{"$f":"MyXor(Y112,0)","v":100},{"$f":"MyXor(Z112,VLOOKUP(Y113,'Таблица CRC'!$A$43:$C$298,3,FALSE))","v":2},{"$f":"MyXor(AA112,VLOOKUP(Z113,'Таблица CRC'!$A$43:$C$298,3,FALSE))","v":188},{"$f":"MyXor(AB112,VLOOKUP(AA113,'Таблица CRC'!$A$43:$C$298,3,FALSE))","v":146},{"$f":"MyXor(AC112,VLOOKUP(AB113,'Таблица CRC'!$A$43:$C$298,3,FALSE))","v":173},{"$f":"MyXor(AD112,VLOOKUP(AC113,'Таблица CRC'!$A$43:$C$298,3,FALSE))","v":82},{"$f":"MyXor(AE112,VLOOKUP(AD113,'Таблица CRC'!$A$43:$C$298,3,FALSE))","v":103},null,null,null,null,null,"E4 08 B0 37 18 08 1C 1D 85","E4",8,"B0",37,18,8,"1C","1D",85,null,null,null,null,null,null,null,null,null,null,null,228,8,176,55,24,8,28,29,133,0,0,0,0,0,0,0,0,0,0,0,28,100,8,0,43,4,20,0,1,null,null,null,null,null,null,null,null,null,null,null,null,100,{"$f":"MyXor(CB113,VLOOKUP(CU113,'Таблица CRC'!$A$43:$C$298,3,FALSE))","v":12},{"$f":"MyXor(CC113,VLOOKUP(CV113,'Таблица CRC'!$A$43:$C$298,3,FALSE))","v":163},{"$f":"MyXor(CD113,VLOOKUP(CW113,'Таблица CRC'!$A$43:$C$298,3,FALSE))","v":102},{"$f":"MyXor(CE113,VLOOKUP(CX113,'Таблица CRC'!$A$43:$C$298,3,FALSE))","v":188},{"$f":"MyXor(CF113,VLOOKUP(CY113,'Таблица CRC'!$A$43:$C$298,3,FALSE))","v":133},{"$f":"MyXor(CG113,VLOOKUP(CZ113,'Таблица CRC'!$A$43:$C$298,3,FALSE))","v":179},{"$f":"MyXor(CH113,VLOOKUP(DA113,'Таблица CRC'!$A$43:$C$298,3,FALSE))","v":209},{"$f":"MyXor(CI113,VLOOKUP(DB113,'Таблица CRC'!$A$43:$C$298,3,FALSE))","v":9},null,null,null,null,null,null,null,null,null,null,null,{"$f":"CONCATENATE(DEC2HEX(CA113,2),\" \",DEC2HEX(CB113,2),\" \",DEC2HEX(CC113,2),\" \",DEC2HEX(CD113,2),\" \",DEC2HEX(CE113,2),\" \",DEC2HEX(CF113,2),\" \",DEC2HEX(CG113,2),\" \",DEC2HEX(CH113,2),\" \",DEC2HEX(DC113,2))","v":"64 08 00 2B 04 14 00 01 09"}]
["ключ шифрования-18",18,null,"ключ шифрования-18",null,null,null,null,null,null,null,null,null,null,null,null,null,null,null,null,null,null,null,null,{"$f":"DEC2HEX(Y112,2)","v":"64"},{"$f":"DEC2HEX(Z112,2)","v":"06"},"00","03","00","00",{"$f":"DEC2HEX(AE113,2)","v":"67"},null,null,null,{"$f":"CONCATENATE(Y114,\" \",Z114,\" \",AA114,\" \",AB114,\" \",AC114,\" \",AD114,\" \",AE114,\" \",AF114,\" \",AG114,\" \",AH114)","v":"64 06 00 03 00 00 67   "},null,"E4 05 30 1C 1C 05","E4",5,30,"1C","1C",5,null,null,null,null,null,null,null,null,null,null,null,null,null,null,228,5,48,28,28,5,0,0,0,0,0,0,0,0,0,0,0,0,0,0,156,100,5,0,128,128,null,null,null,null,null,null,null,null,null,null,null,null,null,null,null,100,{"$f":"MyXor(CB114,VLOOKUP(CU114,'Таблица CRC'!$A$43:$C$298,3,FALSE))","v":1},{"$f":"MyXor(CC114,VLOOKUP(CV114,'Таблица CRC'!$A$43:$C$298,3,FALSE))","v":94},{"$f":"MyXor(CD114,VLOOKUP(CW114,'Таблица CRC'!$A$43:$C$298,3,FALSE))","v":68},{"$f":"MyXor(CE114,VLOOKUP(CX114,'Таблица CRC'!$A$43:$C$298,3,FALSE))","v":167},{"$f":"MyXor(CF114,VLOOKUP(CY114,'Таблица CRC'!$A$43:$C$298,3,FALSE))","v":44},null,null,null,null,null,null,null,null,null,null,null,null,null,null,{"$f":"CONCATENATE(DEC2HEX(CA114,2),\" \",DEC2HEX(CB114,2),\" \",DEC2HEX(CC114,2),\" \",DEC2HEX(CD114,2),\" \",DEC2HEX(CE114,2),\" \",DEC2HEX(CZ114,2))","v":"64 05 00 80 80 2C"}]
["zapros.s 3,0,0,",null,null,"zapros.s 3",0,0,null,null,null,null,null,null,null,null,null,null,null,null,null,null,null,null,null,null,null,null,null,null,null,null,null,null,null,null,null,null,"E4 06 C5 68 69 91 F6","E4",6,"C5",68,69,91,"F6",null,null,null,null,null,null,null,null,null,null,null,null,null,228,6,197,104,105,145,246,0,0,0,0,0,0,0,0,0,0,0,0,0,105,100,6,0,1,0,248,null,null,null,null,null,null,null,null,null,null,null,null,null,null,100,{"$f":"MyXor(CB115,VLOOKUP(CU115,'Таблица CRC'!$A$43:$C$298,3,FALSE))","v":2},{"$f":"MyXor(CC115,VLOOKUP(CV115,'Таблица CRC'!$A$43:$C$298,3,FALSE))","v":188},{"$f":"MyXor(CD115,VLOOKUP(CW115,'Таблица CRC'!$A$43:$C$298,3,FALSE))","v":144},{"$f":"MyXor(CE115,VLOOKUP(CX115,'Таблица CRC'!$A$43:$C$298,3,FALSE))","v":17},{"$f":"MyXor(CF115,VLOOKUP(CY115,'Таблица CRC'!$A$43:$C$298,3,FALSE))","v":59},{"$f":"MyXor(CG115,VLOOKUP(CZ115,'Таблица CRC'!$A$43:$C$298,3,FALSE))","v":158},null,null,null,null,null,null,null,null,null,null,null,null,null,"64 06 00 01 00 F8 9E"]
["228,8,126,249,214,214,210,211,245,",null,{"$f":"MyXor(F116,$C$1)","v":210},228,8,126,249,214,214,210,211,245,null,{"$f":"IF(D116>127,D116-128,D116)","v":100},{"$f":"E116","v":8},{"$f":"MyXor(F116,$B118)","v":172},43,4,4,0,1,39,210,null,100,8,0,43,4,4,0,1,null,null,null,null,"E4 09 67 6E 7C 69 69 69 69 EF","E4",9,67,"6E","7C",69,69,69,69,"EF",null,null,null,null,null,null,null,null,null,null,228,9,103,110,124,105,105,105,105,239,0,0,0,0,0,0,0,0,0,0,203,100,9,0,165,183,162,162,162,162,null,null,null,null,null,null,null,null,null,null,null,100,{"$f":"MyXor(CB116,VLOOKUP(CU116,'Таблица CRC'!$A$43:$C$298,3,FALSE))","v":13},{"$f":"MyXor(CC116,VLOOKUP(CV116,'Таблица CRC'!$A$43:$C$298,3,FALSE))","v":253},{"$f":"MyXor(CD116,VLOOKUP(CW116,'Таблица CRC'!$A$43:$C$298,3,FALSE))","v":44},{"$f":"MyXor(CE116,VLOOKUP(CX116,'Таблица CRC'!$A$43:$C$298,3,FALSE))","v":55},{"$f":"MyXor(CF116,VLOOKUP(CY116,'Таблица CRC'!$A$43:$C$298,3,FALSE))","v":159},{"$f":"MyXor(CG116,VLOOKUP(CZ116,'Таблица CRC'!$A$43:$C$298,3,FALSE))","v":242},{"$f":"MyXor(CH116,VLOOKUP(DA116,'Таблица CRC'!$A$43:$C$298,3,FALSE))","v":106},{"$f":"MyXor(CI116,VLOOKUP(DB116,'Таблица CRC'!$A$43:$C$298,3,FALSE))","v":185},{"$f":"MyXor(CJ116,VLOOKUP(DC116,'Таблица CRC'!$A$43:$C$298,3,FALSE))","v":174},null,null,null,null,null,null,null,null,null,null,{"$f":"CONCATENATE(DEC2HEX(CA116,2),\" \",DEC2HEX(CB116,2),\" \",DEC2HEX(CC116,2),\" \",DEC2HEX(CD116,2),\" \",DEC2HEX(CE116,2),\" \",DEC2HEX(CF116,2),\" \",DEC2HEX(CG116,2),\" \",DEC2HEX(CH116,2),\" \",DEC2HEX(CI116,2),\" \",DEC2HEX(DD116,2))","v":"64 09 00 A5 B7 A2 A2 A2 A2 AE"}]
["Принято в обработку",null,null,"Принято в обработку",null,null,null,null,null,null,null,null,null,null,null,null,null,null,null,null,null,null,null,null,{"$f":"MyXor(Y116,0)","v":100},{"$f":"MyXor(Z116,VLOOKUP(Y117,'Таблица CRC'!$A$43:$C$298,3,FALSE))","v":12},{"$f":"MyXor(AA116,VLOOKUP(Z117,'Таблица CRC'!$A$43:$C$298,3,FALSE))","v":163},{"$f":"MyXor(AB116,VLOOKUP(AA117,'Таблица CRC'!$A$43:$C$298,3,FALSE))","v":102},{"$f":"MyXor(AC116,VLOOKUP(AB117,'Таблица CRC'!$A$43:$C$298,3,FALSE))","v":188},{"$f":"MyXor(AD116,VLOOKUP(AC117,'Таблица CRC'!$A$43:$C$298,3,FALSE))","v":149},{"$f":"MyXor(AE116,VLOOKUP(AD117,'Таблица CRC'!$A$43:$C$298,3,FALSE))","v":46},{"$f":"MyXor(AF116,VLOOKUP(AE117,'Таблица CRC'!$A$43:$C$298,3,FALSE))","v":61},{"$f":"MyXor(AG116,VLOOKUP(AF117,'Таблица CRC'!$A$43:$C$298,3,FALSE))","v":67},null,null,null,"E4 06 C5 6A 69 69 0F","E4",6,"C5","6A",69,69,"0F",null,null,null,null,null,null,null,null,null,null,null,null,null,228,6,197,106,105,105,15,0,0,0,0,0,0,0,0,0,0,0,0,0,105,100,6,0,3,0,0,null,null,null,null,null,null,null,null,null,null,null,null,null,null,100,{"$f":"MyXor(CB117,VLOOKUP(CU117,'Таблица CRC'!$A$43:$C$298,3,FALSE))","v":2},{"$f":"MyXor(CC117,VLOOKUP(CV117,'Таблица CRC'!$A$43:$C$298,3,FALSE))","v":188},{"$f":"MyXor(CD117,VLOOKUP(CW117,'Таблица CRC'!$A$43:$C$298,3,FALSE))","v":146},{"$f":"MyXor(CE117,VLOOKUP(CX117,'Таблица CRC'!$A$43:$C$298,3,FALSE))","v":173},{"$f":"MyXor(CF117,VLOOKUP(CY117,'Таблица CRC'!$A$43:$C$298,3,FALSE))","v":82},{"$f":"MyXor(CG117,VLOOKUP(CZ117,'Таблица CRC'!$A$43:$C$298,3,FALSE))","v":103},null,null,null,null,null,null,null,null,null,null,null,null,null,"64 06 00 03 00 00 67"]
["ключ шифрования-210",210,null,"ключ шифрования-210",null,null,null,null,null,null,null,null,null,null,null,null,null,null,null,null,null,null,null,null,{"$f":"DEC2HEX(Y116,2)","v":"64"},{"$f":"DEC2HEX(Z116,2)","v":"08"},"00","2B","04","04","00","01",{"$f":"DEC2HEX(AG117,2)","v":"43"},null,{"$f":"CONCATENATE(Y118,\" \",Z118,\" \",AA118,\" \",AB118,\" \",AC118,\" \",AD118,\" \",AE118,\" \",AF118,\" \",AG118,\" \",AH118)","v":"64 08 00 2B 04 04 00 01 43 "},"64 05 2C 00 00 A0","E4 08 88 0F 20 31 24 25 50","E4",8,88,"0F",20,31,24,25,50,null,null,null,null,null,null,null,null,null,null,null,228,8,136,15,32,49,36,37,80,0,0,0,0,0,0,0,0,0,0,0,36,100,8,0,43,4,21,0,1,null,null,null,null,null,null,null,null,null,null,null,null,100,{"$f":"MyXor(CB118,VLOOKUP(CU118,'Таблица CRC'!$A$43:$C$298,3,FALSE))","v":12},{"$f":"MyXor(CC118,VLOOKUP(CV118,'Таблица CRC'!$A$43:$C$298,3,FALSE))","v":163},{"$f":"MyXor(CD118,VLOOKUP(CW118,'Таблица CRC'!$A$43:$C$298,3,FALSE))","v":102},{"$f":"MyXor(CE118,VLOOKUP(CX118,'Таблица CRC'!$A$43:$C$298,3,FALSE))","v":188},{"$f":"MyXor(CF118,VLOOKUP(CY118,'Таблица CRC'!$A$43:$C$298,3,FALSE))","v":132},{"$f":"MyXor(CG118,VLOOKUP(CZ118,'Таблица CRC'!$A$43:$C$298,3,FALSE))","v":237},{"$f":"MyXor(CH118,VLOOKUP(DA118,'Таблица CRC'!$A$43:$C$298,3,FALSE))","v":21},{"$f":"MyXor(CI118,VLOOKUP(DB118,'Таблица CRC'!$A$43:$C$298,3,FALSE))","v":162},null,null,null,null,null,null,null,null,null,null,null,{"$f":"CONCATENATE(DEC2HEX(CA118,2),\" \",DEC2HEX(CB118,2),\" \",DEC2HEX(CC118,2),\" \",DEC2HEX(CD118,2),\" \",DEC2HEX(CE118,2),\" \",DEC2HEX(CF118,2),\" \",DEC2HEX(CG118,2),\" \",DEC2HEX(CH118,2),\" \",DEC2HEX(DC118,2))","v":"64 08 00 2B 04 15 00 01 A2"}]
["zapros.s 43,4,4,",null,null,"zapros.s 43",4,4,null,null,null,null,null,null,null,null,null,null,null,null,null,null,null,null,null,null,null,null,null,null,null,null,null,null,null,null,null,null,"E4 05 08 24 24 D9","E4",5,8,24,24,"D9",null,null,null,null,null,null,null,null,null,null,null,null,null,null,228,5,8,36,36,217,0,0,0,0,0,0,0,0,0,0,0,0,0,0,164,100,5,0,128,128,null,null,null,null,null,null,null,null,null,null,null,null,null,null,null,100,{"$f":"MyXor(CB119,VLOOKUP(CU119,'Таблица CRC'!$A$43:$C$298,3,FALSE))","v":1},{"$f":"MyXor(CC119,VLOOKUP(CV119,'Таблица CRC'!$A$43:$C$298,3,FALSE))","v":94},{"$f":"MyXor(CD119,VLOOKUP(CW119,'Таблица CRC'!$A$43:$C$298,3,FALSE))","v":68},{"$f":"MyXor(CE119,VLOOKUP(CX119,'Таблица CRC'!$A$43:$C$298,3,FALSE))","v":167},{"$f":"MyXor(CF119,VLOOKUP(CY119,'Таблица CRC'!$A$43:$C$298,3,FALSE))","v":44},null,null,null,null,null,null,null,null,null,null,null,null,null,null,{"$f":"CONCATENATE(DEC2HEX(CA119,2),\" \",DEC2HEX(CB119,2),\" \",DEC2HEX(CC119,2),\" \",DEC2HEX(CD119,2),\" \",DEC2HEX(CE119,2),\" \",DEC2HEX(CZ119,2))","v":"64 05 00 80 80 2C"}]
["228,5,254,210,210,31,",null,{"$f":"MyXor(F120,$C$1)","v":82},228,5,254,210,210,31,null,null,null,null,{"$f":"IF(D120>127,D120-128,D120)","v":100},{"$f":"E120","v":5},{"$f":"MyXor(F120,$B122)","v":172},128,128,77,82,82,82,82,null,100,5,0,128,128,null,null,null,null,null,null,null,"E4 06 77 DA DB 23 8E","E4",6,77,"DA","DB",23,"8E",null,null,null,null,null,null,null,null,null,null,null,null,null,228,6,119,218,219,35,142,0,0,0,0,0,0,0,0,0,0,0,0,0,219,100,6,0,1,0,248,null,null,null,null,null,null,null,null,null,null,null,null,null,null,100,{"$f":"MyXor(CB120,VLOOKUP(CU120,'Таблица CRC'!$A$43:$C$298,3,FALSE))","v":2},{"$f":"MyXor(CC120,VLOOKUP(CV120,'Таблица CRC'!$A$43:$C$298,3,FALSE))","v":188},{"$f":"MyXor(CD120,VLOOKUP(CW120,'Таблица CRC'!$A$43:$C$298,3,FALSE))","v":144},{"$f":"MyXor(CE120,VLOOKUP(CX120,'Таблица CRC'!$A$43:$C$298,3,FALSE))","v":17},{"$f":"MyXor(CF120,VLOOKUP(CY120,'Таблица CRC'!$A$43:$C$298,3,FALSE))","v":59},{"$f":"MyXor(CG120,VLOOKUP(CZ120,'Таблица CRC'!$A$43:$C$298,3,FALSE))","v":158},null,null,null,null,null,null,null,null,null,null,null,null,null,"64 06 00 01 00 F8 9E"]
["Принято в обработку",null,null,"Принято в обработку",null,null,null,null,null,null,null,null,null,null,null,null,null,null,null,null,null,null,null,null,{"$f":"MyXor(Y120,0)","v":100},{"$f":"MyXor(Z120,VLOOKUP(Y121,'Таблица CRC'!$A$43:$C$298,3,FALSE))","v":1},{"$f":"MyXor(AA120,VLOOKUP(Z121,'Таблица CRC'!$A$43:$C$298,3,FALSE))","v":94},{"$f":"MyXor(AB120,VLOOKUP(AA121,'Таблица CRC'!$A$43:$C$298,3,FALSE))","v":68},{"$f":"MyXor(AC120,VLOOKUP(AB121,'Таблица CRC'!$A$43:$C$298,3,FALSE))","v":167},{"$f":"MyXor(AD120,VLOOKUP(AC121,'Таблица CRC'!$A$43:$C$298,3,FALSE))","v":44},{"$f":"MyXor(AE120,VLOOKUP(AD121,'Таблица CRC'!$A$43:$C$298,3,FALSE))","v":128},null,null,null,null,null,"E4 11 D5 D4 DA DA DB DB 2B CA CA 24","E4",11,"D5","D4","DA","DA","DB","DB","2B","CA","CA",24,null,null,null,null,null,null,null,null,228,17,213,212,218,218,219,219,43,202,202,36,0,0,0,0,0,0,0,0,121,100,17,0,173,163,163,162,162,82,179,179,93,121,121,121,121,121,null,null,null,100,{"$f":"MyXor(CB121,VLOOKUP(CU121,'Таблица CRC'!$A$43:$C$298,3,FALSE))","v":21},{"$f":"MyXor(CC121,VLOOKUP(CV121,'Таблица CRC'!$A$43:$C$298,3,FALSE))","v":162},{"$f":"MyXor(CD121,VLOOKUP(CW121,'Таблица CRC'!$A$43:$C$298,3,FALSE))","v":190},{"$f":"MyXor(CE121,VLOOKUP(CX121,'Таблица CRC'!$A$43:$C$298,3,FALSE))","v":142},{"$f":"MyXor(CF121,VLOOKUP(CY121,'Таблица CRC'!$A$43:$C$298,3,FALSE))","v":48},{"$f":"MyXor(CG121,VLOOKUP(CZ121,'Таблица CRC'!$A$43:$C$298,3,FALSE))","v":28},{"$f":"MyXor(CH121,VLOOKUP(DA121,'Таблица CRC'!$A$43:$C$298,3,FALSE))","v":156},{"$f":"MyXor(CI121,VLOOKUP(DB121,'Таблица CRC'!$A$43:$C$298,3,FALSE))","v":224},{"$f":"MyXor(CJ121,VLOOKUP(DC121,'Таблица CRC'!$A$43:$C$298,3,FALSE))","v":90},{"$f":"MyXor(CK121,VLOOKUP(DD121,'Таблица CRC'!$A$43:$C$298,3,FALSE))","v":22},{"$f":"MyXor(CL121,VLOOKUP(DE121,'Таблица CRC'!$A$43:$C$298,3,FALSE))","v":29},{"$f":"MyXor(CM121,VLOOKUP(DF121,'Таблица CRC'!$A$43:$C$298,3,FALSE))","v":25},{"$f":"MyXor(CN121,VLOOKUP(DG121,'Таблица CRC'!$A$43:$C$298,3,FALSE))","v":120},{"$f":"MyXor(CO121,VLOOKUP(DH121,'Таблица CRC'!$A$43:$C$298,3,FALSE))","v":67},{"$f":"MyXor(CP121,VLOOKUP(DI121,'Таблица CRC'!$A$43:$C$298,3,FALSE))","v":221},{"$f":"MyXor(CQ121,VLOOKUP(DJ121,'Таблица CRC'!$A$43:$C$298,3,FALSE))","v":211},{"$f":"MyXor(CR121,VLOOKUP(DK121,'Таблица CRC'!$A$43:$C$298,3,FALSE))","v":181},null,null,{"$f":"CONCATENATE(DEC2HEX(CA121,2),\" \",DEC2HEX(CB121,2),\" \",DEC2HEX(CC121,2),\" \",DEC2HEX(CD121,2),\" \",DEC2HEX(CE121,2),\" \",DEC2HEX(CF121,2),\" \",DEC2HEX(CG121,2),\" \",DEC2HEX(CH121,2),\" \",DEC2HEX(CI121,2),\" \",DEC2HEX(CJ121,2),\" \",DEC2HEX(CK121,2),\" \",DEC2HEX(CL121,2),\" \",DEC2HEX(CM121,2),\" \",DEC2HEX(CN121,2),\" \",DEC2HEX(CO121,2),\" \",DEC2HEX(CP121,2),\" \",DEC2HEX(CQ121,2),\" \",DEC2HEX(DL121,2))","v":"64 11 00 AD A3 A3 A2 A2 52 B3 B3 5D 79 79 79 79 79 B5"}]
["otvet 44,0,0,",82,null,"otvet 44",0,0,null,null,null,null,null,null,null,null,null,null,null,null,null,null,null,null,null,null,{"$f":"DEC2HEX(Y120,2)","v":"64"},{"$f":"DEC2HEX(Z120,2)","v":"05"},"00","80","80","00",{"$f":"DEC2HEX(AE121,2)","v":"80"},null,null,null,{"$f":"CONCATENATE(Y122,\" \",Z122,\" \",AA122,\" \",AB122,\" \",AC122,\" \",AD122,\" \",AE122,\" \",AF122,\" \",AG122,\" \",AH122)","v":"64 05 00 80 80 00 80   "},null,"E4 06 77 D8 DB DB 77","E4",6,77,"D8","DB","DB",77,null,null,null,null,null,null,null,null,null,null,null,null,null,228,6,119,216,219,219,119,0,0,0,0,0,0,0,0,0,0,0,0,0,219,100,6,0,3,0,0,null,0,16,6,240,17,17,255,255,255,255,20,24,null,100,{"$f":"MyXor(CB122,VLOOKUP(CU122,'Таблица CRC'!$A$43:$C$298,3,FALSE))","v":2},{"$f":"MyXor(CC122,VLOOKUP(CV122,'Таблица CRC'!$A$43:$C$298,3,FALSE))","v":188},{"$f":"MyXor(CD122,VLOOKUP(CW122,'Таблица CRC'!$A$43:$C$298,3,FALSE))","v":146},{"$f":"MyXor(CE122,VLOOKUP(CX122,'Таблица CRC'!$A$43:$C$298,3,FALSE))","v":173},{"$f":"MyXor(CF122,VLOOKUP(CY122,'Таблица CRC'!$A$43:$C$298,3,FALSE))","v":82},{"$f":"MyXor(CG122,VLOOKUP(CZ122,'Таблица CRC'!$A$43:$C$298,3,FALSE))","v":103},null,null,null,null,null,null,null,null,null,null,null,null,null,"64 06 00 03 00 00 67"]
["228,6,130,47,46,214,235,",null,{"$f":"MyXor(F123,$C$1)","v":46},228,6,130,47,46,214,235,null,null,null,{"$f":"IF(D123>127,D123-128,D123)","v":100},{"$f":"E123","v":6},{"$f":"MyXor(F123,$B125)","v":172},1,0,248,197,46,46,46,null,100,6,0,1,0,248,null,null,null,null,null,null,"E4 13 E1 66 5C 4C 4C 4D 5D 4B BD 5C 5C B2 B2 B2 B2 59 55 82","E4",13,"E1",66,"5C","4C","4C","4D","5D","4B","BD","5C","5C","B2","B2","B2","B2",59,55,82,228,19,225,102,92,76,76,77,93,75,189,92,92,178,178,178,178,89,85,130,77,100,19,0,43,17,1,1,0,17,5,239,16,16,254,254,254,254,20,23,null,100,{"$f":"MyXor(CB123,VLOOKUP(CU123,'Таблица CRC'!$A$43:$C$298,3,FALSE))","v":23},{"$f":"MyXor(CC123,VLOOKUP(CV123,'Таблица CRC'!$A$43:$C$298,3,FALSE))","v":30},{"$f":"MyXor(CD123,VLOOKUP(CW123,'Таблица CRC'!$A$43:$C$298,3,FALSE))","v":169},{"$f":"MyXor(CE123,VLOOKUP(CX123,'Таблица CRC'!$A$43:$C$298,3,FALSE))","v":34},{"$f":"MyXor(CF123,VLOOKUP(CY123,'Таблица CRC'!$A$43:$C$298,3,FALSE))","v":158},{"$f":"MyXor(CG123,VLOOKUP(CZ123,'Таблица CRC'!$A$43:$C$298,3,FALSE))","v":15},{"$f":"MyXor(CH123,VLOOKUP(DA123,'Таблица CRC'!$A$43:$C$298,3,FALSE))","v":65},{"$f":"MyXor(CI123,VLOOKUP(DB123,'Таблица CRC'!$A$43:$C$298,3,FALSE))","v":9},{"$f":"MyXor(CJ123,VLOOKUP(DC123,'Таблица CRC'!$A$43:$C$298,3,FALSE))","v":153},{"$f":"MyXor(CK123,VLOOKUP(DD123,'Таблица CRC'!$A$43:$C$298,3,FALSE))","v":98},{"$f":"MyXor(CL123,VLOOKUP(DE123,'Таблица CRC'!$A$43:$C$298,3,FALSE))","v":201},{"$f":"MyXor(CM123,VLOOKUP(DF123,'Таблица CRC'!$A$43:$C$298,3,FALSE))","v":70},{"$f":"MyXor(CN123,VLOOKUP(DG123,'Таблица CRC'!$A$43:$C$298,3,FALSE))","v":101},{"$f":"MyXor(CO123,VLOOKUP(DH123,'Таблица CRC'!$A$43:$C$298,3,FALSE))","v":164},{"$f":"MyXor(CP123,VLOOKUP(DI123,'Таблица CRC'!$A$43:$C$298,3,FALSE))","v":48},{"$f":"MyXor(CQ123,VLOOKUP(DJ123,'Таблица CRC'!$A$43:$C$298,3,FALSE))","v":64},{"$f":"MyXor(CR123,VLOOKUP(DK123,'Таблица CRC'!$A$43:$C$298,3,FALSE))","v":82},{"$f":"MyXor(CS123,VLOOKUP(DL123,'Таблица CRC'!$A$43:$C$298,3,FALSE))","v":112},{"$f":"MyXor(CT123,VLOOKUP(DM123,'Таблица CRC'!$A$43:$C$298,3,FALSE))","v":248},{"$f":"CONCATENATE(DEC2HEX(CA123,2),\" \",DEC2HEX(CB123,2),\" \",DEC2HEX(CC123,2),\" \",DEC2HEX(CD123,2),\" \",DEC2HEX(CE123,2),\" \",DEC2HEX(CF123,2),\" \",DEC2HEX(CG123,2),\" \",DEC2HEX(CH123,2),\" \",DEC2HEX(CI123,2),\" \",DEC2HEX(CJ123,2),\" \",DEC2HEX(CK123,2),\" \",DEC2HEX(CL123,2),\" \",DEC2HEX(CM123,2),\" \",DEC2HEX(CN123,2),\" \",DEC2HEX(CO123,2),\" \",DEC2HEX(CP123,2),\" \",DEC2HEX(CQ123,2),\" \",DEC2HEX(CR123,2),\" \",DEC2HEX(CS123,2),\" \",DEC2HEX(DN123,2))","v":"64 13 00 2B 11 01 01 00 11 05 EF 10 10 FE FE FE FE 14 17 F8"}," диод  (шестой байт № диода)18 байт, (зависит от программирования БКИ)2,3,4,5, 23 моргает зел, 24 горит красн,другой не горит."]
["Принято в обработку",null,null,"Принято в обработку",null,null,null,null,null,null,null,null,null,null,null,null,null,null,null,null,null,null,null,null,{"$f":"MyXor(Y123,0)","v":100},{"$f":"MyXor(Z123,VLOOKUP(Y124,'Таблица CRC'!$A$43:$C$298,3,FALSE))","v":2},{"$f":"MyXor(AA123,VLOOKUP(Z124,'Таблица CRC'!$A$43:$C$298,3,FALSE))","v":188},{"$f":"MyXor(AB123,VLOOKUP(AA124,'Таблица CRC'!$A$43:$C$298,3,FALSE))","v":144},{"$f":"MyXor(AC123,VLOOKUP(AB124,'Таблица CRC'!$A$43:$C$298,3,FALSE))","v":17},{"$f":"MyXor(AD123,VLOOKUP(AC124,'Таблица CRC'!$A$43:$C$298,3,FALSE))","v":59},{"$f":"MyXor(AE123,VLOOKUP(AD124,'Таблица CRC'!$A$43:$C$298,3,FALSE))","v":158},null,null,null,null,null,"E4 05 61 4D 4D E3","E4",5,61,"4D","4D","E3",null,null,null,null,null,null,null,null,null,null,null,null,null,null,228,5,97,77,77,227,0,0,0,0,0,0,0,0,0,0,0,0,0,0,205,100,5,0,128,128,null,null,null,null,null,null,null,null,null,null,null,null,null,null,null,100,{"$f":"MyXor(CB124,VLOOKUP(CU124,'Таблица CRC'!$A$43:$C$298,3,FALSE))","v":1},{"$f":"MyXor(CC124,VLOOKUP(CV124,'Таблица CRC'!$A$43:$C$298,3,FALSE))","v":94},{"$f":"MyXor(CD124,VLOOKUP(CW124,'Таблица CRC'!$A$43:$C$298,3,FALSE))","v":68},{"$f":"MyXor(CE124,VLOOKUP(CX124,'Таблица CRC'!$A$43:$C$298,3,FALSE))","v":167},{"$f":"MyXor(CF124,VLOOKUP(CY124,'Таблица CRC'!$A$43:$C$298,3,FALSE))","v":44},null,null,null,null,null,null,null,null,null,null,null,null,null,null,{"$f":"CONCATENATE(DEC2HEX(CA124,2),\" \",DEC2HEX(CB124,2),\" \",DEC2HEX(CC124,2),\" \",DEC2HEX(CD124,2),\" \",DEC2HEX(CE124,2),\" \",DEC2HEX(CZ124,2))","v":"64 05 00 80 80 2C"}]
["ключ шифрования-46",46,null,"ключ шифрования-46",null,null,null,null,null,null,null,null,null,null,null,null,null,null,null,null,null,null,null,null,{"$f":"DEC2HEX(Y123,2)","v":"64"},{"$f":"DEC2HEX(Z123,2)","v":"06"},"00","01","00","F8",{"$f":"DEC2HEX(AE124,2)","v":"9E"},null,null,null,{"$f":"CONCATENATE(Y125,\" \",Z125,\" \",AA125,\" \",AB125,\" \",AC125,\" \",AD125,\" \",AE125,\" \",AF125,\" \",AG125,\" \",AH125)","v":"64 06 00 01 00 F8 9E   "},"64 09 0E 07 02 00 00 00 00 05","E4 06 0D A0 A1 59 6F","E4",6,"0D","A0","A1",59,"6F",null,null,null,null,null,null,null,null,null,null,null,null,null,228,6,13,160,161,89,111,0,0,0,0,0,0,0,0,0,0,0,0,0,161,100,6,0,1,0,248,null,null,null,null,null,null,null,null,null,null,null,null,null,null,100,{"$f":"MyXor(CB125,VLOOKUP(CU125,'Таблица CRC'!$A$43:$C$298,3,FALSE))","v":2},{"$f":"MyXor(CC125,VLOOKUP(CV125,'Таблица CRC'!$A$43:$C$298,3,FALSE))","v":188},{"$f":"MyXor(CD125,VLOOKUP(CW125,'Таблица CRC'!$A$43:$C$298,3,FALSE))","v":144},{"$f":"MyXor(CE125,VLOOKUP(CX125,'Таблица CRC'!$A$43:$C$298,3,FALSE))","v":17},{"$f":"MyXor(CF125,VLOOKUP(CY125,'Таблица CRC'!$A$43:$C$298,3,FALSE))","v":59},{"$f":"MyXor(CG125,VLOOKUP(CZ125,'Таблица CRC'!$A$43:$C$298,3,FALSE))","v":158},null,null,null,null,null,null,null,null,null,null,null,null,null,"64 06 00 01 00 F8 9E"]
["zapros.s 1,0,248,",null,null,"zapros.s 1",0,248,null,null,null,null,null,null,null,null,null,null,null,null,null,null,null,null,null,null,null,null,null,null,null,null,null,null,null,null,null,null,"E4 10 AF AC A0 A0 A1 51 B0 B0 5E 5E 5E 5E B5 A0 27","E4",10,"AF","AC","A0","A0","A1",51,"B0","B0","5E","5E","5E","5E","B5","A0",27,null,null,null,228,16,175,172,160,160,161,81,176,176,94,94,94,94,181,160,39,0,0,0,3,100,16,0,175,163,163,162,82,179,179,93,93,93,93,182,163,null,null,null,null,100,{"$f":"MyXor(CB126,VLOOKUP(CU126,'Таблица CRC'!$A$43:$C$298,3,FALSE))","v":20},{"$f":"MyXor(CC126,VLOOKUP(CV126,'Таблица CRC'!$A$43:$C$298,3,FALSE))","v":252},{"$f":"MyXor(CD126,VLOOKUP(CW126,'Таблица CRC'!$A$43:$C$298,3,FALSE))","v":120},{"$f":"MyXor(CE126,VLOOKUP(CX126,'Таблица CRC'!$A$43:$C$298,3,FALSE))","v":153},{"$f":"MyXor(CF126,VLOOKUP(CY126,'Таблица CRC'!$A$43:$C$298,3,FALSE))","v":46},{"$f":"MyXor(CG126,VLOOKUP(CZ126,'Таблица CRC'!$A$43:$C$298,3,FALSE))","v":158},{"$f":"MyXor(CH126,VLOOKUP(DA126,'Таблица CRC'!$A$43:$C$298,3,FALSE))","v":92},{"$f":"MyXor(CI126,VLOOKUP(DB126,'Таблица CRC'!$A$43:$C$298,3,FALSE))","v":203},{"$f":"MyXor(CJ126,VLOOKUP(DC126,'Таблица CRC'!$A$43:$C$298,3,FALSE))","v":89},{"$f":"MyXor(CK126,VLOOKUP(DD126,'Таблица CRC'!$A$43:$C$298,3,FALSE))","v":26},{"$f":"MyXor(CL126,VLOOKUP(DE126,'Таблица CRC'!$A$43:$C$298,3,FALSE))","v":190},{"$f":"MyXor(CM126,VLOOKUP(DF126,'Таблица CRC'!$A$43:$C$298,3,FALSE))","v":112},{"$f":"MyXor(CN126,VLOOKUP(DG126,'Таблица CRC'!$A$43:$C$298,3,FALSE))","v":165},{"$f":"MyXor(CO126,VLOOKUP(DH126,'Таблица CRC'!$A$43:$C$298,3,FALSE))","v":38},{"$f":"MyXor(CP126,VLOOKUP(DI126,'Таблица CRC'!$A$43:$C$298,3,FALSE))","v":93},{"$f":"MyXor(CQ126,VLOOKUP(DJ126,'Таблица CRC'!$A$43:$C$298,3,FALSE))","v":38},null,null,null,{"$f":"CONCATENATE(DEC2HEX(CA126,2),\" \",DEC2HEX(CB126,2),\" \",DEC2HEX(CC126,2),\" \",DEC2HEX(CD126,2),\" \",DEC2HEX(CE126,2),\" \",DEC2HEX(CF126,2),\" \",DEC2HEX(CG126,2),\" \",DEC2HEX(CH126,2),\" \",DEC2HEX(CI126,2),\" \",DEC2HEX(CJ126,2),\" \",DEC2HEX(CK126,2),\" \",DEC2HEX(CL126,2),\" \",DEC2HEX(CM126,2),\" \",DEC2HEX(CN126,2),\" \",DEC2HEX(CO126,2),\" \",DEC2HEX(CP126,2),\" \",DEC2HEX(DK126,2))","v":"64 10 00 AF A3 A3 A2 52 B3 B3 5D 5D 5D 5D B6 A3 26"}]
["ОТВЕТ ЭМУЛЯТОРА 44,45,46,",null,null,"ОТВЕТ ЭМУЛЯТОРА 44",45,46,null,null,null,null,null,null,null,null,null,null,null,null,null,null,null,null,null,null,null,null,null,null,null,null,null,null,null,null,null,null,"E4 06 0D A2 A1 A1 96","E4",6,"0D","A2","A1","A1",96,null,null,null,null,null,null,null,null,null,null,null,null,null,228,6,13,162,161,161,150,0,0,0,0,0,0,0,0,0,0,0,0,0,161,100,6,0,3,0,0,null,null,null,null,null,null,null,null,null,null,null,null,null,null,100,{"$f":"MyXor(CB127,VLOOKUP(CU127,'Таблица CRC'!$A$43:$C$298,3,FALSE))","v":2},{"$f":"MyXor(CC127,VLOOKUP(CV127,'Таблица CRC'!$A$43:$C$298,3,FALSE))","v":188},{"$f":"MyXor(CD127,VLOOKUP(CW127,'Таблица CRC'!$A$43:$C$298,3,FALSE))","v":146},{"$f":"MyXor(CE127,VLOOKUP(CX127,'Таблица CRC'!$A$43:$C$298,3,FALSE))","v":173},{"$f":"MyXor(CF127,VLOOKUP(CY127,'Таблица CRC'!$A$43:$C$298,3,FALSE))","v":82},{"$f":"MyXor(CG127,VLOOKUP(CZ127,'Таблица CRC'!$A$43:$C$298,3,FALSE))","v":103},null,null,null,null,null,null,null,null,null,null,null,null,null,"64 06 00 03 00 00 67"]
["228,9,32,41,43,46,46,46,46,178,",null,{"$f":"MyXor(F128,$C$1)","v":140},228,9,32,41,43,46,46,46,46,178,{"$f":"IF(D128>127,D128-128,D128)","v":100},{"$f":"E128","v":9},{"$f":"MyXor(F128,$B130)","v":172},165,167,162,162,162,162,62,null,100,9,0,165,167,162,162,162,162,null,null,null,"E4 06 47 EA EB 13 8B","E4",6,47,"EA","EB",13,"8B",null,null,null,null,null,null,null,null,null,null,null,null,null,228,6,71,234,235,19,139,0,0,0,0,0,0,0,0,0,0,0,0,0,235,100,6,0,1,0,248,null,null,null,null,null,null,null,null,null,null,null,null,null,null,100,{"$f":"MyXor(CB128,VLOOKUP(CU128,'Таблица CRC'!$A$43:$C$298,3,FALSE))","v":2},{"$f":"MyXor(CC128,VLOOKUP(CV128,'Таблица CRC'!$A$43:$C$298,3,FALSE))","v":188},{"$f":"MyXor(CD128,VLOOKUP(CW128,'Таблица CRC'!$A$43:$C$298,3,FALSE))","v":144},{"$f":"MyXor(CE128,VLOOKUP(CX128,'Таблица CRC'!$A$43:$C$298,3,FALSE))","v":17},{"$f":"MyXor(CF128,VLOOKUP(CY128,'Таблица CRC'!$A$43:$C$298,3,FALSE))","v":59},{"$f":"MyXor(CG128,VLOOKUP(CZ128,'Таблица CRC'!$A$43:$C$298,3,FALSE))","v":158},null,null,null,null,null,null,null,null,null,null,null,null,null,"64 06 00 01 00 F8 9E"]
["Принято в обработку",null,null,"Принято в обработку",null,null,null,null,null,null,null,null,null,null,null,null,null,null,null,null,null,null,null,null,{"$f":"MyXor(Y128,0)","v":100},{"$f":"MyXor(Z128,VLOOKUP(Y129,'Таблица CRC'!$A$43:$C$298,3,FALSE))","v":13},{"$f":"MyXor(AA128,VLOOKUP(Z129,'Таблица CRC'!$A$43:$C$298,3,FALSE))","v":253},{"$f":"MyXor(AB128,VLOOKUP(AA129,'Таблица CRC'!$A$43:$C$298,3,FALSE))","v":44},{"$f":"MyXor(AC128,VLOOKUP(AB129,'Таблица CRC'!$A$43:$C$298,3,FALSE))","v":39},{"$f":"MyXor(AD128,VLOOKUP(AC129,'Таблица CRC'!$A$43:$C$298,3,FALSE))","v":2},{"$f":"MyXor(AE128,VLOOKUP(AD129,'Таблица CRC'!$A$43:$C$298,3,FALSE))","v":30},{"$f":"MyXor(AF128,VLOOKUP(AE129,'Таблица CRC'!$A$43:$C$298,3,FALSE))","v":32},{"$f":"MyXor(AG128,VLOOKUP(AF129,'Таблица CRC'!$A$43:$C$298,3,FALSE))","v":129},{"$f":"MyXor(AH128,VLOOKUP(AG129,'Таблица CRC'!$A$43:$C$298,3,FALSE))","v":210},null,null,"E4 09 E5 EC FD EB EB EB EB FD","E4",9,"E5","EC","FD","EB","EB","EB","EB","FD",null,null,null,null,null,null,null,null,null,null,228,9,229,236,253,235,235,235,235,253,0,0,0,0,0,0,0,0,0,0,73,100,9,0,165,180,162,162,162,162,null,null,null,null,null,null,null,null,null,null,null,100,{"$f":"MyXor(CB129,VLOOKUP(CU129,'Таблица CRC'!$A$43:$C$298,3,FALSE))","v":13},{"$f":"MyXor(CC129,VLOOKUP(CV129,'Таблица CRC'!$A$43:$C$298,3,FALSE))","v":253},{"$f":"MyXor(CD129,VLOOKUP(CW129,'Таблица CRC'!$A$43:$C$298,3,FALSE))","v":44},{"$f":"MyXor(CE129,VLOOKUP(CX129,'Таблица CRC'!$A$43:$C$298,3,FALSE))","v":52},{"$f":"MyXor(CF129,VLOOKUP(CY129,'Таблица CRC'!$A$43:$C$298,3,FALSE))","v":125},{"$f":"MyXor(CG129,VLOOKUP(CZ129,'Таблица CRC'!$A$43:$C$298,3,FALSE))","v":167},{"$f":"MyXor(CH129,VLOOKUP(DA129,'Таблица CRC'!$A$43:$C$298,3,FALSE))","v":142},{"$f":"MyXor(CI129,VLOOKUP(DB129,'Таблица CRC'!$A$43:$C$298,3,FALSE))","v":49},{"$f":"MyXor(CJ129,VLOOKUP(DC129,'Таблица CRC'!$A$43:$C$298,3,FALSE))","v":224},null,null,null,null,null,null,null,null,null,null,{"$f":"CONCATENATE(DEC2HEX(CA129,2),\" \",DEC2HEX(CB129,2),\" \",DEC2HEX(CC129,2),\" \",DEC2HEX(CD129,2),\" \",DEC2HEX(CE129,2),\" \",DEC2HEX(CF129,2),\" \",DEC2HEX(CG129,2),\" \",DEC2HEX(CH129,2),\" \",DEC2HEX(CI129,2),\" \",DEC2HEX(DD129,2))","v":"64 09 00 A5 B4 A2 A2 A2 A2 E0"}]
["ключ шифрования-140",140,null,"ключ шифрования-140",null,null,null,null,null,null,null,null,null,null,null,null,null,null,null,null,null,null,null,null,{"$f":"DEC2HEX(Y128,2)","v":"64"},{"$f":"DEC2HEX(Z128,2)","v":"09"},"00","A5","A7","A2","A2","A2","A2",{"$f":"DEC2HEX(AH129,2)","v":"D2"},{"$f":"CONCATENATE(Y130,\" \",Z130,\" \",AA130,\" \",AB130,\" \",AC130,\" \",AD130,\" \",AE130,\" \",AF130,\" \",AG130,\" \",AH130)","v":"64 09 00 A5 A7 A2 A2 A2 A2 D2"},"64 05 0A 00 00 E5","E4 06 47 E8 EB EB 72","E4",6,47,"E8","EB","EB",72,null,null,null,null,null,null,null,null,null,null,null,null,null,228,6,71,232,235,235,114,0,0,0,0,0,0,0,0,0,0,0,0,0,235,100,6,0,3,0,0,null,null,null,null,null,null,null,null,null,null,null,null,null,null,100,{"$f":"MyXor(CB130,VLOOKUP(CU130,'Таблица CRC'!$A$43:$C$298,3,FALSE))","v":2},{"$f":"MyXor(CC130,VLOOKUP(CV130,'Таблица CRC'!$A$43:$C$298,3,FALSE))","v":188},{"$f":"MyXor(CD130,VLOOKUP(CW130,'Таблица CRC'!$A$43:$C$298,3,FALSE))","v":146},{"$f":"MyXor(CE130,VLOOKUP(CX130,'Таблица CRC'!$A$43:$C$298,3,FALSE))","v":173},{"$f":"MyXor(CF130,VLOOKUP(CY130,'Таблица CRC'!$A$43:$C$298,3,FALSE))","v":82},{"$f":"MyXor(CG130,VLOOKUP(CZ130,'Таблица CRC'!$A$43:$C$298,3,FALSE))","v":103},null,null,null,null,null,null,null,null,null,null,null,null,null,"64 06 00 03 00 00 67"]
["zapros.s 165,167,162,",null,null,"zapros.s 165",167,162,null,null,null,null,null,null,null,null,null,null,null,null,null,null,null,null,null,null,null,null,null,null,null,null,null,null,null,null,null,null,"E4 08 3F B8 97 85 93 92 24","E4",8,"3F","B8",97,85,93,92,24,null,null,null,null,null,null,null,null,null,null,null,228,8,63,184,151,133,147,146,36,0,0,0,0,0,0,0,0,0,0,0,147,100,8,0,43,4,22,0,1,null,null,null,null,null,null,null,null,null,null,null,null,100,{"$f":"MyXor(CB131,VLOOKUP(CU131,'Таблица CRC'!$A$43:$C$298,3,FALSE))","v":12},{"$f":"MyXor(CC131,VLOOKUP(CV131,'Таблица CRC'!$A$43:$C$298,3,FALSE))","v":163},{"$f":"MyXor(CD131,VLOOKUP(CW131,'Таблица CRC'!$A$43:$C$298,3,FALSE))","v":102},{"$f":"MyXor(CE131,VLOOKUP(CX131,'Таблица CRC'!$A$43:$C$298,3,FALSE))","v":188},{"$f":"MyXor(CF131,VLOOKUP(CY131,'Таблица CRC'!$A$43:$C$298,3,FALSE))","v":135},{"$f":"MyXor(CG131,VLOOKUP(CZ131,'Таблица CRC'!$A$43:$C$298,3,FALSE))","v":15},{"$f":"MyXor(CH131,VLOOKUP(DA131,'Таблица CRC'!$A$43:$C$298,3,FALSE))","v":64},{"$f":"MyXor(CI131,VLOOKUP(DB131,'Таблица CRC'!$A$43:$C$298,3,FALSE))","v":70},null,null,null,null,null,null,null,null,null,null,null,{"$f":"CONCATENATE(DEC2HEX(CA131,2),\" \",DEC2HEX(CB131,2),\" \",DEC2HEX(CC131,2),\" \",DEC2HEX(CD131,2),\" \",DEC2HEX(CE131,2),\" \",DEC2HEX(CF131,2),\" \",DEC2HEX(CG131,2),\" \",DEC2HEX(CH131,2),\" \",DEC2HEX(DC131,2))","v":"64 08 00 2B 04 16 00 01 46"}]
["228,6,130,45,46,46,18,",null,{"$f":"MyXor(F132,$C$1)","v":46},228,6,130,45,46,46,18,null,null,null,{"$f":"IF(D132>127,D132-128,D132)","v":100},{"$f":"E132","v":6},{"$f":"MyXor(F132,$B134)","v":172},3,0,0,60,46,46,46,null,100,6,0,3,0,0,null,null,null,null,null,null,"E4 05 BF 93 93 C2","E4",5,"BF",93,93,"C2",null,null,null,null,null,null,null,null,null,null,null,null,null,null,228,5,191,147,147,194,0,0,0,0,0,0,0,0,0,0,0,0,0,0,19,100,5,0,128,128,null,null,null,null,null,null,null,null,null,null,null,null,null,null,null,100,{"$f":"MyXor(CB132,VLOOKUP(CU132,'Таблица CRC'!$A$43:$C$298,3,FALSE))","v":1},{"$f":"MyXor(CC132,VLOOKUP(CV132,'Таблица CRC'!$A$43:$C$298,3,FALSE))","v":94},{"$f":"MyXor(CD132,VLOOKUP(CW132,'Таблица CRC'!$A$43:$C$298,3,FALSE))","v":68},{"$f":"MyXor(CE132,VLOOKUP(CX132,'Таблица CRC'!$A$43:$C$298,3,FALSE))","v":167},{"$f":"MyXor(CF132,VLOOKUP(CY132,'Таблица CRC'!$A$43:$C$298,3,FALSE))","v":44},null,null,null,null,null,null,null,null,null,null,null,null,null,null,{"$f":"CONCATENATE(DEC2HEX(CA132,2),\" \",DEC2HEX(CB132,2),\" \",DEC2HEX(CC132,2),\" \",DEC2HEX(CD132,2),\" \",DEC2HEX(CE132,2),\" \",DEC2HEX(CZ132,2))","v":"64 05 00 80 80 2C"}]
["Принято в обработку",null,null,"Принято в обработку",null,null,null,null,null,null,null,null,null,null,null,null,null,null,null,null,null,null,null,null,{"$f":"MyXor(Y132,0)","v":100},{"$f":"MyXor(Z132,VLOOKUP(Y133,'Таблица CRC'!$A$43:$C$298,3,FALSE))","v":2},{"$f":"MyXor(AA132,VLOOKUP(Z133,'Таблица CRC'!$A$43:$C$298,3,FALSE))","v":188},{"$f":"MyXor(AB132,VLOOKUP(AA133,'Таблица CRC'!$A$43:$C$298,3,FALSE))","v":146},{"$f":"MyXor(AC132,VLOOKUP(AB133,'Таблица CRC'!$A$43:$C$298,3,FALSE))","v":173},{"$f":"MyXor(AD132,VLOOKUP(AC133,'Таблица CRC'!$A$43:$C$298,3,FALSE))","v":82},{"$f":"MyXor(AE132,VLOOKUP(AD133,'Таблица CRC'!$A$43:$C$298,3,FALSE))","v":103},null,null,null,null,null,"E4 06 6C C1 C0 38 DB","E4",6,"6C","C1","C0",38,"DB",null,null,null,null,null,null,null,null,null,null,null,null,null,228,6,108,193,192,56,219,0,0,0,0,0,0,0,0,0,0,0,0,0,192,100,6,0,1,0,248,null,null,null,null,null,null,null,null,null,null,null,null,null,null,100,{"$f":"MyXor(CB133,VLOOKUP(CU133,'Таблица CRC'!$A$43:$C$298,3,FALSE))","v":2},{"$f":"MyXor(CC133,VLOOKUP(CV133,'Таблица CRC'!$A$43:$C$298,3,FALSE))","v":188},{"$f":"MyXor(CD133,VLOOKUP(CW133,'Таблица CRC'!$A$43:$C$298,3,FALSE))","v":144},{"$f":"MyXor(CE133,VLOOKUP(CX133,'Таблица CRC'!$A$43:$C$298,3,FALSE))","v":17},{"$f":"MyXor(CF133,VLOOKUP(CY133,'Таблица CRC'!$A$43:$C$298,3,FALSE))","v":59},{"$f":"MyXor(CG133,VLOOKUP(CZ133,'Таблица CRC'!$A$43:$C$298,3,FALSE))","v":158},null,null,null,null,null,null,null,null,null,null,null,null,null,"64 06 00 01 00 F8 9E"]
["ключ шифрования-46",46,null,"ключ шифрования-46",null,null,null,null,null,null,null,null,null,null,null,null,null,null,null,null,null,null,null,null,{"$f":"DEC2HEX(Y132,2)","v":"64"},{"$f":"DEC2HEX(Z132,2)","v":"06"},"00","03","00","00",{"$f":"DEC2HEX(AE133,2)","v":"67"},null,null,null,{"$f":"CONCATENATE(Y134,\" \",Z134,\" \",AA134,\" \",AB134,\" \",AC134,\" \",AD134,\" \",AE134,\" \",AF134,\" \",AG134,\" \",AH134)","v":"64 06 00 03 00 00 67   "},null,"E4 09 CE C7 D7 C0 C0 C0 C0 9C","E4",9,"CE","C7","D7","C0","C0","C0","C0","9C",null,null,null,null,null,null,null,null,null,null,{"$f":"HEX2DEC(AL134)","v":228},{"$f":"HEX2DEC(AM134)","v":9},{"$f":"HEX2DEC(AN134)","v":206},{"$f":"HEX2DEC(AO134)","v":199},{"$f":"HEX2DEC(AP134)","v":215},{"$f":"HEX2DEC(AQ134)","v":192},{"$f":"HEX2DEC(AR134)","v":192},{"$f":"HEX2DEC(AS134)","v":192},{"$f":"HEX2DEC(AT134)","v":192},{"$f":"HEX2DEC(AU134)","v":156},{"$f":"HEX2DEC(AV134)","v":0},{"$f":"HEX2DEC(AW134)","v":0},{"$f":"HEX2DEC(AX134)","v":0},{"$f":"HEX2DEC(AY134)","v":0},{"$f":"HEX2DEC(AZ134)","v":0},{"$f":"HEX2DEC(BA134)","v":0},{"$f":"HEX2DEC(BB134)","v":0},{"$f":"HEX2DEC(BC134)","v":0},{"$f":"HEX2DEC(BD134)","v":0},{"$f":"HEX2DEC(BE134)","v":0},98,100,9,0,165,181,162,162,162,162,null,null,null,null,null,null,null,null,null,null,null,100,{"$f":"MyXor(CB134,VLOOKUP(CU134,'Таблица CRC'!$A$43:$C$298,3,FALSE))","v":13},{"$f":"MyXor(CC134,VLOOKUP(CV134,'Таблица CRC'!$A$43:$C$298,3,FALSE))","v":253},{"$f":"MyXor(CD134,VLOOKUP(CW134,'Таблица CRC'!$A$43:$C$298,3,FALSE))","v":44},{"$f":"MyXor(CE134,VLOOKUP(CX134,'Таблица CRC'!$A$43:$C$298,3,FALSE))","v":53},{"$f":"MyXor(CF134,VLOOKUP(CY134,'Таблица CRC'!$A$43:$C$298,3,FALSE))","v":35},{"$f":"MyXor(CG134,VLOOKUP(CZ134,'Таблица CRC'!$A$43:$C$298,3,FALSE))","v":99},{"$f":"MyXor(CH134,VLOOKUP(DA134,'Таблица CRC'!$A$43:$C$298,3,FALSE))","v":37},{"$f":"MyXor(CI134,VLOOKUP(DB134,'Таблица CRC'!$A$43:$C$298,3,FALSE))","v":190},{"$f":"MyXor(CJ134,VLOOKUP(DC134,'Таблица CRC'!$A$43:$C$298,3,FALSE))","v":45},null,null,null,null,null,null,null,null,null,null,{"$f":"CONCATENATE(DEC2HEX(CA134,2),\" \",DEC2HEX(CB134,2),\" \",DEC2HEX(CC134,2),\" \",DEC2HEX(CD134,2),\" \",DEC2HEX(CE134,2),\" \",DEC2HEX(CF134,2),\" \",DEC2HEX(CG134,2),\" \",DEC2HEX(CH134,2),\" \",DEC2HEX(CI134,2),\" \",DEC2HEX(DD134,2))","v":"64 09 00 A5 B5 A2 A2 A2 A2 2D"}]
["zapros.s 3,0,0,",null,null,"zapros.s 3",0,0,null,null,null,null,null,null,null,null,null,null,null,null,null,null,null,null,null,null,null,null,null,null,null,null,null,null,null,null,null,null,"E4 06 6C C3 C0 C0 22","E4",6,"6C","C3","C0","C0",22,null,null,null,null,null,null,null,null,null,null,null,null,null,228,6,108,195,192,192,34,0,0,0,0,0,0,0,0,0,0,0,0,0,192,100,6,0,3,0,0,null,null,null,null,null,null,null,null,null,null,null,null,null,null,100,{"$f":"MyXor(CB135,VLOOKUP(CU135,'Таблица CRC'!$A$43:$C$298,3,FALSE))","v":2},{"$f":"MyXor(CC135,VLOOKUP(CV135,'Таблица CRC'!$A$43:$C$298,3,FALSE))","v":188},{"$f":"MyXor(CD135,VLOOKUP(CW135,'Таблица CRC'!$A$43:$C$298,3,FALSE))","v":146},{"$f":"MyXor(CE135,VLOOKUP(CX135,'Таблица CRC'!$A$43:$C$298,3,FALSE))","v":173},{"$f":"MyXor(CF135,VLOOKUP(CY135,'Таблица CRC'!$A$43:$C$298,3,FALSE))","v":82},{"$f":"MyXor(CG135,VLOOKUP(CZ135,'Таблица CRC'!$A$43:$C$298,3,FALSE))","v":103},null,null,null,null,null,null,null,null,null,null,null,null,null,"64 06 00 03 00 00 67"]
["228,8,210,85,122,123,126,127,52,",null,{"$f":"MyXor(F136,$C$1)","v":126},228,8,210,85,122,123,126,127,52,null,{"$f":"IF(D136>127,D136-128,D136)","v":100},{"$f":"E136","v":8},{"$f":"MyXor(F136,$B138)","v":172},43,4,5,0,1,74,126,null,100,8,0,43,4,5,0,1,null,null,null,null,"E4 09 56 D1 EA FB FA FA 97 19","E4",9,56,"D1","EA","FB","FA","FA",97,19,null,null,null,null,null,null,null,null,null,null,228,9,86,209,234,251,250,250,151,25,0,0,0,0,0,0,0,0,0,0,250,100,9,0,43,16,1,0,0,109,null,null,null,null,null,null,null,null,null,null,null,100,{"$f":"MyXor(CB136,VLOOKUP(CU136,'Таблица CRC'!$A$43:$C$298,3,FALSE))","v":13},{"$f":"MyXor(CC136,VLOOKUP(CV136,'Таблица CRC'!$A$43:$C$298,3,FALSE))","v":253},{"$f":"MyXor(CD136,VLOOKUP(CW136,'Таблица CRC'!$A$43:$C$298,3,FALSE))","v":162},{"$f":"MyXor(CE136,VLOOKUP(CX136,'Таблица CRC'!$A$43:$C$298,3,FALSE))","v":3},{"$f":"MyXor(CF136,VLOOKUP(CY136,'Таблица CRC'!$A$43:$C$298,3,FALSE))","v":227},{"$f":"MyXor(CG136,VLOOKUP(CZ136,'Таблица CRC'!$A$43:$C$298,3,FALSE))","v":11},{"$f":"MyXor(CH136,VLOOKUP(DA136,'Таблица CRC'!$A$43:$C$298,3,FALSE))","v":32},{"$f":"MyXor(CI136,VLOOKUP(DB136,'Таблица CRC'!$A$43:$C$298,3,FALSE))","v":78},{"$f":"MyXor(CJ136,VLOOKUP(DC136,'Таблица CRC'!$A$43:$C$298,3,FALSE))","v":89},null,null,null,null,null,null,null,null,null,null,"64 09 00 2B 10 01 0B"]
["Принято в обработку",null,null,"Принято в обработку",null,null,null,null,null,null,null,null,null,null,null,null,null,null,null,null,null,null,null,null,{"$f":"MyXor(Y136,0)","v":100},{"$f":"MyXor(Z136,VLOOKUP(Y137,'Таблица CRC'!$A$43:$C$298,3,FALSE))","v":12},{"$f":"MyXor(AA136,VLOOKUP(Z137,'Таблица CRC'!$A$43:$C$298,3,FALSE))","v":163},{"$f":"MyXor(AB136,VLOOKUP(AA137,'Таблица CRC'!$A$43:$C$298,3,FALSE))","v":102},{"$f":"MyXor(AC136,VLOOKUP(AB137,'Таблица CRC'!$A$43:$C$298,3,FALSE))","v":188},{"$f":"MyXor(AD136,VLOOKUP(AC137,'Таблица CRC'!$A$43:$C$298,3,FALSE))","v":148},{"$f":"MyXor(AE136,VLOOKUP(AD137,'Таблица CRC'!$A$43:$C$298,3,FALSE))","v":112},{"$f":"MyXor(AF136,VLOOKUP(AE137,'Таблица CRC'!$A$43:$C$298,3,FALSE))","v":249},{"$f":"MyXor(AG136,VLOOKUP(AF137,'Таблица CRC'!$A$43:$C$298,3,FALSE))","v":252},null,null,null,"E4 05 D6 FA FA F8","E4",5,"D6","FA","FA","F8",null,null,null,null,null,null,null,null,null,null,null,null,null,null,228,5,214,250,250,248,0,0,0,0,0,0,0,0,0,0,0,0,0,0,122,100,5,0,128,128,null,null,null,null,null,null,null,null,null,null,null,null,null,null,null,100,{"$f":"MyXor(CB137,VLOOKUP(CU137,'Таблица CRC'!$A$43:$C$298,3,FALSE))","v":1},{"$f":"MyXor(CC137,VLOOKUP(CV137,'Таблица CRC'!$A$43:$C$298,3,FALSE))","v":94},{"$f":"MyXor(CD137,VLOOKUP(CW137,'Таблица CRC'!$A$43:$C$298,3,FALSE))","v":68},{"$f":"MyXor(CE137,VLOOKUP(CX137,'Таблица CRC'!$A$43:$C$298,3,FALSE))","v":167},{"$f":"MyXor(CF137,VLOOKUP(CY137,'Таблица CRC'!$A$43:$C$298,3,FALSE))","v":44},null,null,null,null,null,null,null,null,null,null,null,null,null,null,{"$f":"CONCATENATE(DEC2HEX(CA137,2),\" \",DEC2HEX(CB137,2),\" \",DEC2HEX(CC137,2),\" \",DEC2HEX(CD137,2),\" \",DEC2HEX(CE137,2),\" \",DEC2HEX(CZ137,2))","v":"64 05 00 80 80 2C"}]
["ключ шифрования-126",126,null,"ключ шифрования-126",null,null,null,null,null,null,null,null,null,null,null,null,null,null,null,null,null,null,null,null,{"$f":"DEC2HEX(Y136,2)","v":"64"},{"$f":"DEC2HEX(Z136,2)","v":"08"},"00","2B","04","05","00","01",{"$f":"DEC2HEX(AG137,2)","v":"FC"},null,{"$f":"CONCATENATE(Y138,\" \",Z138,\" \",AA138,\" \",AB138,\" \",AC138,\" \",AD138,\" \",AE138,\" \",AF138,\" \",AG138,\" \",AH138)","v":"64 08 00 2B 04 05 00 01 FC "},"64 05 2C 00 00 A0","E4 09 19 9E A4 B4 B4 B5 B5 25","E4",9,19,"9E","A4","B4","B4","B5","B5",25,null,null,null,null,null,null,null,null,null,null,228,9,25,158,164,180,180,181,181,37,0,0,0,0,0,0,0,0,0,0,{"$f":"MyXor(BH138,$C$1)","v":181},100,9,0,43,17,1,1,0,0,null,null,null,null,null,null,null,null,null,null,null,100,{"$f":"MyXor(CB138,VLOOKUP(CU138,'Таблица CRC'!$A$43:$C$298,3,FALSE))","v":13},{"$f":"MyXor(CC138,VLOOKUP(CV138,'Таблица CRC'!$A$43:$C$298,3,FALSE))","v":253},{"$f":"MyXor(CD138,VLOOKUP(CW138,'Таблица CRC'!$A$43:$C$298,3,FALSE))","v":162},{"$f":"MyXor(CE138,VLOOKUP(CX138,'Таблица CRC'!$A$43:$C$298,3,FALSE))","v":2},{"$f":"MyXor(CF138,VLOOKUP(CY138,'Таблица CRC'!$A$43:$C$298,3,FALSE))","v":189},{"$f":"MyXor(CG138,VLOOKUP(CZ138,'Таблица CRC'!$A$43:$C$298,3,FALSE))","v":206},{"$f":"MyXor(CH138,VLOOKUP(DA138,'Таблица CRC'!$A$43:$C$298,3,FALSE))","v":213},{"$f":"MyXor(CI138,VLOOKUP(DB138,'Таблица CRC'!$A$43:$C$298,3,FALSE))","v":104},{"$f":"MyXor(CJ138,VLOOKUP(DC138,'Таблица CRC'!$A$43:$C$298,3,FALSE))","v":167},null,null,null,null,null,null,null,null,null,null,{"$f":"CONCATENATE(DEC2HEX(CA138,2),\" \",DEC2HEX(CB138,2),\" \",DEC2HEX(CC138,2),\" \",DEC2HEX(CD138,2),\" \",DEC2HEX(CE138,2),\" \",DEC2HEX(CF138,2),\" \",DEC2HEX(CG138,2),\" \",DEC2HEX(CH138,2),\" \",DEC2HEX(CI138,2),\" \",DEC2HEX(DD138,2))","v":"64 09 00 2B 11 01 01 00 00 A7"}]
["zapros.s 43,4,5,",null,null,"zapros.s 43",4,5,null,null,null,null,null,null,null,null,null,null,null,null,null,null,null,null,null,null,null,null,null,null,null,null,null,null,null,null,null,null,"E4 05 99 B5 B5 12","E4",5,99,"B5","B5",12,null,null,null,null,null,null,null,null,null,null,null,null,null,null,228,5,153,181,181,18,0,0,0,0,0,0,0,0,0,0,0,0,0,0,53,100,5,0,128,128,null,null,null,null,null,null,null,null,null,null,null,null,null,null,null,100,{"$f":"MyXor(CB139,VLOOKUP(CU139,'Таблица CRC'!$A$43:$C$298,3,FALSE))","v":1},{"$f":"MyXor(CC139,VLOOKUP(CV139,'Таблица CRC'!$A$43:$C$298,3,FALSE))","v":94},{"$f":"MyXor(CD139,VLOOKUP(CW139,'Таблица CRC'!$A$43:$C$298,3,FALSE))","v":68},{"$f":"MyXor(CE139,VLOOKUP(CX139,'Таблица CRC'!$A$43:$C$298,3,FALSE))","v":167},{"$f":"MyXor(CF139,VLOOKUP(CY139,'Таблица CRC'!$A$43:$C$298,3,FALSE))","v":44},null,null,null,null,null,null,null,null,null,null,null,null,null,null,{"$f":"CONCATENATE(DEC2HEX(CA139,2),\" \",DEC2HEX(CB139,2),\" \",DEC2HEX(CC139,2),\" \",DEC2HEX(CD139,2),\" \",DEC2HEX(CE139,2),\" \",DEC2HEX(CZ139,2))","v":"64 05 00 80 80 2C"}]
["228,5,82,126,126,253,",null,{"$f":"MyXor(F140,$C$1)","v":254},228,5,82,126,126,253,null,null,null,null,{"$f":"IF(D140>127,D140-128,D140)","v":100},{"$f":"E140","v":5},{"$f":"MyXor(F140,$B142)","v":172},128,128,3,254,254,254,254,null,100,5,0,128,128,null,null,null,null,null,null,null,"E4 08 E6 61 4E 5D 4A 4B 54","E4",8,"E6",61,"4E","5D","4A","4B",54,null,null,null,null,null,null,null,null,null,null,null,228,8,230,97,78,93,74,75,84,0,0,0,0,0,0,0,0,0,0,0,74,100,8,0,43,4,23,0,1,30,null,null,null,null,null,null,null,null,null,null,null,100,{"$f":"MyXor(CB140,VLOOKUP(CU140,'Таблица CRC'!$A$43:$C$298,3,FALSE))","v":12},{"$f":"MyXor(CC140,VLOOKUP(CV140,'Таблица CRC'!$A$43:$C$298,3,FALSE))","v":163},{"$f":"MyXor(CD140,VLOOKUP(CW140,'Таблица CRC'!$A$43:$C$298,3,FALSE))","v":102},{"$f":"MyXor(CE140,VLOOKUP(CX140,'Таблица CRC'!$A$43:$C$298,3,FALSE))","v":188},{"$f":"MyXor(CF140,VLOOKUP(CY140,'Таблица CRC'!$A$43:$C$298,3,FALSE))","v":134},{"$f":"MyXor(CG140,VLOOKUP(CZ140,'Таблица CRC'!$A$43:$C$298,3,FALSE))","v":81},{"$f":"MyXor(CH140,VLOOKUP(DA140,'Таблица CRC'!$A$43:$C$298,3,FALSE))","v":132},{"$f":"MyXor(CI140,VLOOKUP(DB140,'Таблица CRC'!$A$43:$C$298,3,FALSE))","v":243},null,null,null,null,null,null,null,null,null,null,null,{"$f":"CONCATENATE(DEC2HEX(CA140,2),\" \",DEC2HEX(CB140,2),\" \",DEC2HEX(CC140,2),\" \",DEC2HEX(CD140,2),\" \",DEC2HEX(CE140,2),\" \",DEC2HEX(CF140,2),\" \",DEC2HEX(CG140,2),\" \",DEC2HEX(CH140,2),\" \",DEC2HEX(DC140,2))","v":"64 08 00 2B 04 17 00 01 F3"}]
["Принято в обработку",null,null,"Принято в обработку",null,null,null,null,null,null,null,null,null,null,null,null,null,null,null,null,null,null,null,null,{"$f":"MyXor(Y140,0)","v":100},{"$f":"MyXor(Z140,VLOOKUP(Y141,'Таблица CRC'!$A$43:$C$298,3,FALSE))","v":1},{"$f":"MyXor(AA140,VLOOKUP(Z141,'Таблица CRC'!$A$43:$C$298,3,FALSE))","v":94},{"$f":"MyXor(AB140,VLOOKUP(AA141,'Таблица CRC'!$A$43:$C$298,3,FALSE))","v":68},{"$f":"MyXor(AC140,VLOOKUP(AB141,'Таблица CRC'!$A$43:$C$298,3,FALSE))","v":167},{"$f":"MyXor(AD140,VLOOKUP(AC141,'Таблица CRC'!$A$43:$C$298,3,FALSE))","v":44},null,null,null,null,null,null,"E4 05 66 4A 4A 74","E4",5,66,"4A","4A",74,null,null,null,null,null,null,null,null,null,null,null,null,null,null,228,5,102,74,74,116,0,0,0,0,0,0,0,0,0,0,0,0,0,0,202,100,5,0,128,128,null,null,null,null,null,null,null,null,null,null,null,null,null,null,null,100,{"$f":"MyXor(CB141,VLOOKUP(CU141,'Таблица CRC'!$A$43:$C$298,3,FALSE))","v":1},{"$f":"MyXor(CC141,VLOOKUP(CV141,'Таблица CRC'!$A$43:$C$298,3,FALSE))","v":94},{"$f":"MyXor(CD141,VLOOKUP(CW141,'Таблица CRC'!$A$43:$C$298,3,FALSE))","v":68},{"$f":"MyXor(CE141,VLOOKUP(CX141,'Таблица CRC'!$A$43:$C$298,3,FALSE))","v":167},{"$f":"MyXor(CF141,VLOOKUP(CY141,'Таблица CRC'!$A$43:$C$298,3,FALSE))","v":44},null,null,null,null,null,null,null,null,null,null,null,null,null,null,{"$f":"CONCATENATE(DEC2HEX(CA141,2),\" \",DEC2HEX(CB141,2),\" \",DEC2HEX(CC141,2),\" \",DEC2HEX(CD141,2),\" \",DEC2HEX(CE141,2),\" \",DEC2HEX(CZ141,2))","v":"64 05 00 80 80 2C"}]
["otvet 44,0,0,",254,null,"otvet 44",0,0,null,null,null,null,null,null,null,null,null,null,null,null,null,null,null,null,null,null,{"$f":"DEC2HEX(Y140,2)","v":"64"},{"$f":"DEC2HEX(Z140,2)","v":"05"},"00","80","80",{"$f":"DEC2HEX(AD141,2)","v":"2C"},null,null,null,null,{"$f":"CONCATENATE(Y142,\" \",Z142,\" \",AA142,\" \",AB142,\" \",AC142,\" \",AD142,\" \",AE142,\" \",AF142,\" \",AG142,\" \",AH142)","v":"64 05 00 80 80 2C    "},null,"E4 06 80 2D 2C D4 8E","E4",6,80,"2D","2C","D4","8E",null,null,null,null,null,null,null,null,null,null,null,null,null,228,6,128,45,44,212,142,0,0,0,0,0,0,0,0,0,0,0,0,0,44,100,6,0,1,0,248,null,null,null,null,null,null,null,null,null,null,null,null,null,null,100,{"$f":"MyXor(CB142,VLOOKUP(CU142,'Таблица CRC'!$A$43:$C$298,3,FALSE))","v":2},{"$f":"MyXor(CC142,VLOOKUP(CV142,'Таблица CRC'!$A$43:$C$298,3,FALSE))","v":188},{"$f":"MyXor(CD142,VLOOKUP(CW142,'Таблица CRC'!$A$43:$C$298,3,FALSE))","v":144},{"$f":"MyXor(CE142,VLOOKUP(CX142,'Таблица CRC'!$A$43:$C$298,3,FALSE))","v":17},{"$f":"MyXor(CF142,VLOOKUP(CY142,'Таблица CRC'!$A$43:$C$298,3,FALSE))","v":59},{"$f":"MyXor(CG142,VLOOKUP(CZ142,'Таблица CRC'!$A$43:$C$298,3,FALSE))","v":158},null,null,null,null,null,null,null,null,null,null,null,null,null,{"$f":"CONCATENATE(DEC2HEX(CA142,2),\" \",DEC2HEX(CB142,2),\" \",DEC2HEX(CC142,2),\" \",DEC2HEX(CD142,2),\" \",DEC2HEX(CE142,2),\" \",DEC2HEX(CF142,2),\" \",DEC2HEX(DA142,2))","v":"64 06 00 01 00 F8 9E"}]
["228,6,204,97,96,152,197,",null,{"$f":"MyXor(F143,$C$1)","v":96},228,6,204,97,96,152,197,null,null,null,{"$f":"IF(D143>127,D143-128,D143)","v":100},{"$f":"E143","v":6},{"$f":"MyXor(F143,$B145)","v":172},1,0,248,165,96,96,96,null,100,6,0,1,0,248,null,null,null,null,null,null,"E4 09 22 2B 34 2C 2C 2C 2C D0","E4",9,22,"2B",34,"2C","2C","2C","2C","D0",null,null,null,null,null,null,null,null,null,null,228,9,34,43,52,44,44,44,44,208,0,0,0,0,0,0,0,0,0,0,142,100,9,0,165,186,162,162,162,162,null,null,null,null,null,null,null,null,null,null,null,100,{"$f":"MyXor(CB143,VLOOKUP(CU143,'Таблица CRC'!$A$43:$C$298,3,FALSE))","v":13},{"$f":"MyXor(CC143,VLOOKUP(CV143,'Таблица CRC'!$A$43:$C$298,3,FALSE))","v":253},{"$f":"MyXor(CD143,VLOOKUP(CW143,'Таблица CRC'!$A$43:$C$298,3,FALSE))","v":44},{"$f":"MyXor(CE143,VLOOKUP(CX143,'Таблица CRC'!$A$43:$C$298,3,FALSE))","v":58},{"$f":"MyXor(CF143,VLOOKUP(CY143,'Таблица CRC'!$A$43:$C$298,3,FALSE))","v":98},{"$f":"MyXor(CG143,VLOOKUP(CZ143,'Таблица CRC'!$A$43:$C$298,3,FALSE))","v":123},{"$f":"MyXor(CH143,VLOOKUP(DA143,'Таблица CRC'!$A$43:$C$298,3,FALSE))","v":122},{"$f":"MyXor(CI143,VLOOKUP(DB143,'Таблица CRC'!$A$43:$C$298,3,FALSE))","v":36},{"$f":"MyXor(CJ143,VLOOKUP(DC143,'Таблица CRC'!$A$43:$C$298,3,FALSE))","v":66},null,null,null,null,null,null,null,null,null,null,{"$f":"CONCATENATE(DEC2HEX(CA143,2),\" \",DEC2HEX(CB143,2),\" \",DEC2HEX(CC143,2),\" \",DEC2HEX(CD143,2),\" \",DEC2HEX(CE143,2),\" \",DEC2HEX(CF143,2),\" \",DEC2HEX(CG143,2),\" \",DEC2HEX(CH143,2),\" \",DEC2HEX(CI143,2),\" \",DEC2HEX(DD143,2))","v":"64 09 00 A5 BA A2 A2 A2 A2 42"}]
["Принято в обработку",null,null,"Принято в обработку",null,null,null,null,null,null,null,null,null,null,null,null,null,null,null,null,null,null,null,null,{"$f":"MyXor(Y143,0)","v":100},{"$f":"MyXor(Z143,VLOOKUP(Y144,'Таблица CRC'!$A$43:$C$298,3,FALSE))","v":2},{"$f":"MyXor(AA143,VLOOKUP(Z144,'Таблица CRC'!$A$43:$C$298,3,FALSE))","v":188},{"$f":"MyXor(AB143,VLOOKUP(AA144,'Таблица CRC'!$A$43:$C$298,3,FALSE))","v":144},{"$f":"MyXor(AC143,VLOOKUP(AB144,'Таблица CRC'!$A$43:$C$298,3,FALSE))","v":17},{"$f":"MyXor(AD143,VLOOKUP(AC144,'Таблица CRC'!$A$43:$C$298,3,FALSE))","v":59},{"$f":"MyXor(AE143,VLOOKUP(AD144,'Таблица CRC'!$A$43:$C$298,3,FALSE))","v":158},null,null,null,null,null,"E4 06 80 2F 2C 2C 77","E4",6,80,"2F","2C","2C",77,null,null,null,null,null,null,null,null,null,null,null,null,null,228,6,128,47,44,44,119,0,0,0,0,0,0,0,0,0,0,0,0,0,44,100,6,0,3,0,0,null,null,null,null,null,null,null,null,null,null,null,null,null,null,100,{"$f":"MyXor(CB144,VLOOKUP(CU144,'Таблица CRC'!$A$43:$C$298,3,FALSE))","v":2},{"$f":"MyXor(CC144,VLOOKUP(CV144,'Таблица CRC'!$A$43:$C$298,3,FALSE))","v":188},{"$f":"MyXor(CD144,VLOOKUP(CW144,'Таблица CRC'!$A$43:$C$298,3,FALSE))","v":146},{"$f":"MyXor(CE144,VLOOKUP(CX144,'Таблица CRC'!$A$43:$C$298,3,FALSE))","v":173},{"$f":"MyXor(CF144,VLOOKUP(CY144,'Таблица CRC'!$A$43:$C$298,3,FALSE))","v":82},{"$f":"MyXor(CG144,VLOOKUP(CZ144,'Таблица CRC'!$A$43:$C$298,3,FALSE))","v":103},null,null,null,null,null,null,null,null,null,null,null,null,null,"64 06 00 03 00 00 67"]
["ключ шифрования-96",96,null,"ключ шифрования-96",null,null,null,null,null,null,null,null,null,null,null,null,null,null,null,null,null,null,null,null,{"$f":"DEC2HEX(Y143,2)","v":"64"},{"$f":"DEC2HEX(Z143,2)","v":"06"},"00","01","00","F8",{"$f":"DEC2HEX(AE144,2)","v":"9E"},null,null,null,{"$f":"CONCATENATE(Y145,\" \",Z145,\" \",AA145,\" \",AB145,\" \",AC145,\" \",AD145,\" \",AE145,\" \",AF145,\" \",AG145,\" \",AH145)","v":"64 06 00 01 00 F8 9E   "},"64 09 0E 07 02 00 00 00 00 05","E4 08 18 9F B0 AC B4 B5 5D","E4",8,18,"9F","B0","AC","B4","B5","5D",null,null,null,null,null,null,null,null,null,null,null,228,8,24,159,176,172,180,181,93,0,0,0,0,0,0,0,0,0,0,0,180,100,8,0,43,4,24,0,1,null,null,null,null,null,null,null,null,null,null,null,null,100,{"$f":"MyXor(CB145,VLOOKUP(CU145,'Таблица CRC'!$A$43:$C$298,3,FALSE))","v":12},{"$f":"MyXor(CC145,VLOOKUP(CV145,'Таблица CRC'!$A$43:$C$298,3,FALSE))","v":163},{"$f":"MyXor(CD145,VLOOKUP(CW145,'Таблица CRC'!$A$43:$C$298,3,FALSE))","v":102},{"$f":"MyXor(CE145,VLOOKUP(CX145,'Таблица CRC'!$A$43:$C$298,3,FALSE))","v":188},{"$f":"MyXor(CF145,VLOOKUP(CY145,'Таблица CRC'!$A$43:$C$298,3,FALSE))","v":137},{"$f":"MyXor(CG145,VLOOKUP(CZ145,'Таблица CRC'!$A$43:$C$298,3,FALSE))","v":16},{"$f":"MyXor(CH145,VLOOKUP(DA145,'Таблица CRC'!$A$43:$C$298,3,FALSE))","v":156},{"$f":"MyXor(CI145,VLOOKUP(DB145,'Таблица CRC'!$A$43:$C$298,3,FALSE))","v":178},null,null,null,null,null,null,null,null,null,null,null,{"$f":"CONCATENATE(DEC2HEX(CA145,2),\" \",DEC2HEX(CB145,2),\" \",DEC2HEX(CC145,2),\" \",DEC2HEX(CD145,2),\" \",DEC2HEX(CE145,2),\" \",DEC2HEX(CF145,2),\" \",DEC2HEX(CG145,2),\" \",DEC2HEX(CH145,2),\" \",DEC2HEX(DC145,2))","v":"64 08 00 2B 04 18 00 01 B2"}]
["zapros.s 1,0,248,",null,null,"zapros.s 1",0,248,null,null,null,null,null,null,null,null,null,null,null,null,null,null,null,null,null,null,null,null,null,null,null,null,null,null,null,null,null,null,"E4 05 98 B4 B4 23","E4",5,98,"B4","B4",23,null,null,null,null,null,null,null,null,null,null,null,null,null,null,228,5,152,180,180,35,0,0,0,0,0,0,0,0,0,0,0,0,0,0,52,100,5,0,128,128,null,null,null,null,null,null,null,null,null,null,null,null,null,null,null,100,{"$f":"MyXor(CB146,VLOOKUP(CU146,'Таблица CRC'!$A$43:$C$298,3,FALSE))","v":1},{"$f":"MyXor(CC146,VLOOKUP(CV146,'Таблица CRC'!$A$43:$C$298,3,FALSE))","v":94},{"$f":"MyXor(CD146,VLOOKUP(CW146,'Таблица CRC'!$A$43:$C$298,3,FALSE))","v":68},{"$f":"MyXor(CE146,VLOOKUP(CX146,'Таблица CRC'!$A$43:$C$298,3,FALSE))","v":167},{"$f":"MyXor(CF146,VLOOKUP(CY146,'Таблица CRC'!$A$43:$C$298,3,FALSE))","v":44},null,null,null,null,null,null,null,null,null,null,null,null,null,null,{"$f":"CONCATENATE(DEC2HEX(CA146,2),\" \",DEC2HEX(CB146,2),\" \",DEC2HEX(CC146,2),\" \",DEC2HEX(CD146,2),\" \",DEC2HEX(CE146,2),\" \",DEC2HEX(CZ146,2))","v":"64 05 00 80 80 2C"}]
["ОТВЕТ ЭМУЛЯТОРА 98,99,96,",null,null,"ОТВЕТ ЭМУЛЯТОРА 98",99,96,null,null,null,null,null,null,null,null,null,null,null,null,null,null,null,null,null,null,null,null,null,null,null,null,null,null,null,null,null,null,"E4 06 DA 77 76 8E 69","E4",6,"DA",77,76,"8E",69,null,null,null,null,null,null,null,null,null,null,null,null,null,228,6,218,119,118,142,105,0,0,0,0,0,0,0,0,0,0,0,0,0,118,100,6,0,1,0,248,null,null,null,null,null,null,null,null,null,null,null,null,null,null,100,{"$f":"MyXor(CB147,VLOOKUP(CU147,'Таблица CRC'!$A$43:$C$298,3,FALSE))","v":2},{"$f":"MyXor(CC147,VLOOKUP(CV147,'Таблица CRC'!$A$43:$C$298,3,FALSE))","v":188},{"$f":"MyXor(CD147,VLOOKUP(CW147,'Таблица CRC'!$A$43:$C$298,3,FALSE))","v":144},{"$f":"MyXor(CE147,VLOOKUP(CX147,'Таблица CRC'!$A$43:$C$298,3,FALSE))","v":17},{"$f":"MyXor(CF147,VLOOKUP(CY147,'Таблица CRC'!$A$43:$C$298,3,FALSE))","v":59},{"$f":"MyXor(CG147,VLOOKUP(CZ147,'Таблица CRC'!$A$43:$C$298,3,FALSE))","v":158},null,null,null,null,null,null,null,null,null,null,null,null,null,"64 06 00 01 00 F8 9E"]
["228,9,110,103,102,96,96,96,96,71,",null,{"$f":"MyXor(F148,$C$1)","v":194},228,9,110,103,102,96,96,96,96,71,{"$f":"IF(D148>127,D148-128,D148)","v":100},{"$f":"E148","v":9},{"$f":"MyXor(F148,$B150)","v":172},165,164,162,162,162,162,133,null,100,9,0,165,164,162,162,162,162,null,null,null,"E4 09 78 71 6F 76 76 76 76 84","E4",9,78,71,"6F",76,76,76,76,84,null,null,null,null,null,null,null,null,null,null,228,9,120,113,111,118,118,118,118,132,0,0,0,0,0,0,0,0,0,0,212,100,9,0,165,187,162,162,162,162,null,null,null,null,null,null,null,null,null,null,null,100,{"$f":"MyXor(CB148,VLOOKUP(CU148,'Таблица CRC'!$A$43:$C$298,3,FALSE))","v":13},{"$f":"MyXor(CC148,VLOOKUP(CV148,'Таблица CRC'!$A$43:$C$298,3,FALSE))","v":253},{"$f":"MyXor(CD148,VLOOKUP(CW148,'Таблица CRC'!$A$43:$C$298,3,FALSE))","v":44},{"$f":"MyXor(CE148,VLOOKUP(CX148,'Таблица CRC'!$A$43:$C$298,3,FALSE))","v":59},{"$f":"MyXor(CF148,VLOOKUP(CY148,'Таблица CRC'!$A$43:$C$298,3,FALSE))","v":60},{"$f":"MyXor(CG148,VLOOKUP(CZ148,'Таблица CRC'!$A$43:$C$298,3,FALSE))","v":191},{"$f":"MyXor(CH148,VLOOKUP(DA148,'Таблица CRC'!$A$43:$C$298,3,FALSE))","v":209},{"$f":"MyXor(CI148,VLOOKUP(DB148,'Таблица CRC'!$A$43:$C$298,3,FALSE))","v":171},{"$f":"MyXor(CJ148,VLOOKUP(DC148,'Таблица CRC'!$A$43:$C$298,3,FALSE))","v":143},null,null,null,null,null,null,null,null,null,null,{"$f":"CONCATENATE(DEC2HEX(CA148,2),\" \",DEC2HEX(CB148,2),\" \",DEC2HEX(CC148,2),\" \",DEC2HEX(CD148,2),\" \",DEC2HEX(CE148,2),\" \",DEC2HEX(CF148,2),\" \",DEC2HEX(CG148,2),\" \",DEC2HEX(CH148,2),\" \",DEC2HEX(CI148,2),\" \",DEC2HEX(DD148,2))","v":"64 09 00 A5 BB A2 A2 A2 A2 8F"}]
["Принято в обработку",null,null,"Принято в обработку",null,null,null,null,null,null,null,null,null,null,null,null,null,null,null,null,null,null,null,null,{"$f":"MyXor(Y148,0)","v":100},{"$f":"MyXor(Z148,VLOOKUP(Y149,'Таблица CRC'!$A$43:$C$298,3,FALSE))","v":13},{"$f":"MyXor(AA148,VLOOKUP(Z149,'Таблица CRC'!$A$43:$C$298,3,FALSE))","v":253},{"$f":"MyXor(AB148,VLOOKUP(AA149,'Таблица CRC'!$A$43:$C$298,3,FALSE))","v":44},{"$f":"MyXor(AC148,VLOOKUP(AB149,'Таблица CRC'!$A$43:$C$298,3,FALSE))","v":36},{"$f":"MyXor(AD148,VLOOKUP(AC149,'Таблица CRC'!$A$43:$C$298,3,FALSE))","v":224},{"$f":"MyXor(AE148,VLOOKUP(AD149,'Таблица CRC'!$A$43:$C$298,3,FALSE))","v":75},{"$f":"MyXor(AF148,VLOOKUP(AE149,'Таблица CRC'!$A$43:$C$298,3,FALSE))","v":196},{"$f":"MyXor(AG148,VLOOKUP(AF149,'Таблица CRC'!$A$43:$C$298,3,FALSE))","v":9},{"$f":"MyXor(AH148,VLOOKUP(AG149,'Таблица CRC'!$A$43:$C$298,3,FALSE))","v":156},null,null,"E4 06 DA 75 76 76 90","E4",6,"DA",75,76,76,90,null,null,null,null,null,null,null,null,null,null,null,null,null,228,6,218,117,118,118,144,0,0,0,0,0,0,0,0,0,0,0,0,0,118,100,6,0,3,0,0,null,null,null,null,null,null,null,null,null,null,null,null,null,null,100,{"$f":"MyXor(CB149,VLOOKUP(CU149,'Таблица CRC'!$A$43:$C$298,3,FALSE))","v":2},{"$f":"MyXor(CC149,VLOOKUP(CV149,'Таблица CRC'!$A$43:$C$298,3,FALSE))","v":188},{"$f":"MyXor(CD149,VLOOKUP(CW149,'Таблица CRC'!$A$43:$C$298,3,FALSE))","v":146},{"$f":"MyXor(CE149,VLOOKUP(CX149,'Таблица CRC'!$A$43:$C$298,3,FALSE))","v":173},{"$f":"MyXor(CF149,VLOOKUP(CY149,'Таблица CRC'!$A$43:$C$298,3,FALSE))","v":82},{"$f":"MyXor(CG149,VLOOKUP(CZ149,'Таблица CRC'!$A$43:$C$298,3,FALSE))","v":103},null,null,null,null,null,null,null,null,null,null,null,null,null,"64 06 00 03 00 00 67"]
["ключ шифрования-194",194,null,"ключ шифрования-194",null,null,null,null,null,null,null,null,null,null,null,null,null,null,null,null,null,null,null,null,{"$f":"DEC2HEX(Y148,2)","v":"64"},{"$f":"DEC2HEX(Z148,2)","v":"09"},"00","A5","A4","A2","A2","A2","A2",{"$f":"DEC2HEX(AH149,2)","v":"9C"},{"$f":"CONCATENATE(Y150,\" \",Z150,\" \",AA150,\" \",AB150,\" \",AC150,\" \",AD150,\" \",AE150,\" \",AF150,\" \",AG150,\" \",AH150)","v":"64 09 00 A5 A4 A2 A2 A2 A2 9C"},"64 05 0A 00 00 E5 ","E4 08 04 83 AC B1 A8 A9 C9","E4",8,4,83,"AC","B1","A8","A9","C9",null,null,null,null,null,null,null,null,null,null,null,228,8,4,131,172,177,168,169,201,0,0,0,0,0,0,0,0,0,0,0,168,100,8,0,43,4,25,0,1,null,null,null,null,null,null,null,null,null,null,null,null,{"$f":"MyXor(CA150,0)","v":100},{"$f":"MyXor(CB150,VLOOKUP(CU150,'Таблица CRC'!$A$43:$C$298,3,FALSE))","v":12},{"$f":"MyXor(CC150,VLOOKUP(CV150,'Таблица CRC'!$A$43:$C$298,3,FALSE))","v":163},{"$f":"MyXor(CD150,VLOOKUP(CW150,'Таблица CRC'!$A$43:$C$298,3,FALSE))","v":102},{"$f":"MyXor(CE150,VLOOKUP(CX150,'Таблица CRC'!$A$43:$C$298,3,FALSE))","v":188},{"$f":"MyXor(CF150,VLOOKUP(CY150,'Таблица CRC'!$A$43:$C$298,3,FALSE))","v":136},{"$f":"MyXor(CG150,VLOOKUP(CZ150,'Таблица CRC'!$A$43:$C$298,3,FALSE))","v":78},{"$f":"MyXor(CH150,VLOOKUP(DA150,'Таблица CRC'!$A$43:$C$298,3,FALSE))","v":88},{"$f":"MyXor(CI150,VLOOKUP(DB150,'Таблица CRC'!$A$43:$C$298,3,FALSE))","v":25},null,null,null,null,null,null,null,null,null,null,null,{"$f":"CONCATENATE(DEC2HEX(CA150,2),\" \",DEC2HEX(CB150,2),\" \",DEC2HEX(CC150,2),\" \",DEC2HEX(CD150,2),\" \",DEC2HEX(CE150,2),\" \",DEC2HEX(CF150,2),\" \",DEC2HEX(CG150,2),\" \",DEC2HEX(CH150,2),\" \",DEC2HEX(DC150,2))","v":"64 08 00 2B 04 19 00 01 19"}]
["zapros.s 165,164,162,",null,null,"zapros.s 165",164,162,null,null,null,null,null,null,null,null,null,null,null,null,null,null,null,null,null,null,null,null,null,null,null,null,null,null,null,null,null,null,"E4 05 84 A8 A8 4D","E4",5,84,"A8","A8","4D",null,null,null,null,null,null,null,null,null,null,null,null,null,null,228,5,132,168,168,77,0,0,0,0,0,0,0,0,0,0,0,0,0,0,40,100,5,0,128,128,null,null,null,null,null,null,null,null,null,null,null,null,null,null,null,100,{"$f":"MyXor(CB151,VLOOKUP(CU151,'Таблица CRC'!$A$43:$C$298,3,FALSE))","v":1},{"$f":"MyXor(CC151,VLOOKUP(CV151,'Таблица CRC'!$A$43:$C$298,3,FALSE))","v":94},{"$f":"MyXor(CD151,VLOOKUP(CW151,'Таблица CRC'!$A$43:$C$298,3,FALSE))","v":68},{"$f":"MyXor(CE151,VLOOKUP(CX151,'Таблица CRC'!$A$43:$C$298,3,FALSE))","v":167},{"$f":"MyXor(CF151,VLOOKUP(CY151,'Таблица CRC'!$A$43:$C$298,3,FALSE))","v":44},null,null,null,null,null,null,null,null,null,null,null,null,null,null,{"$f":"CONCATENATE(DEC2HEX(CA151,2),\" \",DEC2HEX(CB151,2),\" \",DEC2HEX(CC151,2),\" \",DEC2HEX(CD151,2),\" \",DEC2HEX(CE151,2),\" \",DEC2HEX(CZ151,2))","v":"64 05 00 80 80 2C"}]
["228,6,204,99,96,96,235,",null,{"$f":"MyXor(F152,$C$1)","v":96},228,6,204,99,96,96,235,null,null,null,{"$f":"IF(D152>127,D152-128,D152)","v":100},{"$f":"E152","v":6},{"$f":"MyXor(F152,$B154)","v":172},3,0,0,139,96,96,96,null,100,6,0,3,0,0,null,null,null,null,null,null,"E4 06 BD 10 11 E9 72","E4",6,"BD",10,11,"E9",72,null,null,null,null,null,null,null,null,null,null,null,null,null,228,6,189,16,17,233,114,0,0,0,0,0,0,0,0,0,0,0,0,0,17,100,6,0,1,0,248,null,null,null,null,null,null,null,null,null,null,null,null,null,null,100,{"$f":"MyXor(CB152,VLOOKUP(CU152,'Таблица CRC'!$A$43:$C$298,3,FALSE))","v":2},{"$f":"MyXor(CC152,VLOOKUP(CV152,'Таблица CRC'!$A$43:$C$298,3,FALSE))","v":188},{"$f":"MyXor(CD152,VLOOKUP(CW152,'Таблица CRC'!$A$43:$C$298,3,FALSE))","v":144},{"$f":"MyXor(CE152,VLOOKUP(CX152,'Таблица CRC'!$A$43:$C$298,3,FALSE))","v":17},{"$f":"MyXor(CF152,VLOOKUP(CY152,'Таблица CRC'!$A$43:$C$298,3,FALSE))","v":59},{"$f":"MyXor(CG152,VLOOKUP(CZ152,'Таблица CRC'!$A$43:$C$298,3,FALSE))","v":158},null,null,null,null,null,null,null,null,null,null,null,null,null,"64 06 00 01 00 F8 9E"]
["Принято в обработку",null,null,"Принято в обработку",null,null,null,null,null,null,null,null,null,null,null,null,null,null,null,null,null,null,null,null,{"$f":"MyXor(Y152,0)","v":100},{"$f":"MyXor(Z152,VLOOKUP(Y153,'Таблица CRC'!$A$43:$C$298,3,FALSE))","v":2},{"$f":"MyXor(AA152,VLOOKUP(Z153,'Таблица CRC'!$A$43:$C$298,3,FALSE))","v":188},{"$f":"MyXor(AB152,VLOOKUP(AA153,'Таблица CRC'!$A$43:$C$298,3,FALSE))","v":146},{"$f":"MyXor(AC152,VLOOKUP(AB153,'Таблица CRC'!$A$43:$C$298,3,FALSE))","v":173},{"$f":"MyXor(AD152,VLOOKUP(AC153,'Таблица CRC'!$A$43:$C$298,3,FALSE))","v":82},{"$f":"MyXor(AE152,VLOOKUP(AD153,'Таблица CRC'!$A$43:$C$298,3,FALSE))","v":103},null,null,null,null,null,"E4 09 1F 16 0B 11 11 11 11 4C","E4",9,"1F",16,"0B",11,11,11,11,"4C",null,null,null,null,null,null,null,null,null,null,228,9,31,22,11,17,17,17,17,76,0,0,0,0,0,0,0,0,0,0,179,100,9,0,165,184,162,162,162,162,null,null,null,null,null,null,null,null,null,null,null,100,{"$f":"MyXor(CB153,VLOOKUP(CU153,'Таблица CRC'!$A$43:$C$298,3,FALSE))","v":13},{"$f":"MyXor(CC153,VLOOKUP(CV153,'Таблица CRC'!$A$43:$C$298,3,FALSE))","v":253},{"$f":"MyXor(CD153,VLOOKUP(CW153,'Таблица CRC'!$A$43:$C$298,3,FALSE))","v":44},{"$f":"MyXor(CE153,VLOOKUP(CX153,'Таблица CRC'!$A$43:$C$298,3,FALSE))","v":56},{"$f":"MyXor(CF153,VLOOKUP(CY153,'Таблица CRC'!$A$43:$C$298,3,FALSE))","v":222},{"$f":"MyXor(CG153,VLOOKUP(CZ153,'Таблица CRC'!$A$43:$C$298,3,FALSE))","v":234},{"$f":"MyXor(CH153,VLOOKUP(DA153,'Таблица CRC'!$A$43:$C$298,3,FALSE))","v":53},{"$f":"MyXor(CI153,VLOOKUP(DB153,'Таблица CRC'!$A$43:$C$298,3,FALSE))","v":35},{"$f":"MyXor(CJ153,VLOOKUP(DC153,'Таблица CRC'!$A$43:$C$298,3,FALSE))","v":193},null,null,null,null,null,null,null,null,null,null,{"$f":"CONCATENATE(DEC2HEX(CA153,2),\" \",DEC2HEX(CB153,2),\" \",DEC2HEX(CC153,2),\" \",DEC2HEX(CD153,2),\" \",DEC2HEX(CE153,2),\" \",DEC2HEX(CF153,2),\" \",DEC2HEX(CG153,2),\" \",DEC2HEX(CH153,2),\" \",DEC2HEX(CI153,2),\" \",DEC2HEX(DD153,2))","v":"64 09 00 A5 B8 A2 A2 A2 A2 C1"}]
["ключ шифрования-96",96,null,"ключ шифрования-96",null,null,null,null,null,null,null,null,null,null,null,null,null,null,null,null,null,null,null,null,{"$f":"DEC2HEX(Y152,2)","v":"64"},{"$f":"DEC2HEX(Z152,2)","v":"06"},"00","03","00","00",{"$f":"DEC2HEX(AE153,2)","v":"67"},null,null,null,{"$f":"CONCATENATE(Y154,\" \",Z154,\" \",AA154,\" \",AB154,\" \",AC154,\" \",AD154,\" \",AE154,\" \",AF154,\" \",AG154,\" \",AH154)","v":"64 06 00 03 00 00 67   "},null,"E4 06 BD 12 11 11 8B","E4",6,"BD",12,11,11,"8B",null,null,null,null,null,null,null,null,null,null,null,null,null,228,6,189,18,17,17,139,0,0,0,0,0,0,0,0,0,0,0,0,0,17,100,6,0,3,0,0,null,null,null,null,null,null,null,null,null,null,null,null,null,null,100,{"$f":"MyXor(CB154,VLOOKUP(CU154,'Таблица CRC'!$A$43:$C$298,3,FALSE))","v":2},{"$f":"MyXor(CC154,VLOOKUP(CV154,'Таблица CRC'!$A$43:$C$298,3,FALSE))","v":188},{"$f":"MyXor(CD154,VLOOKUP(CW154,'Таблица CRC'!$A$43:$C$298,3,FALSE))","v":146},{"$f":"MyXor(CE154,VLOOKUP(CX154,'Таблица CRC'!$A$43:$C$298,3,FALSE))","v":173},{"$f":"MyXor(CF154,VLOOKUP(CY154,'Таблица CRC'!$A$43:$C$298,3,FALSE))","v":82},{"$f":"MyXor(CG154,VLOOKUP(CZ154,'Таблица CRC'!$A$43:$C$298,3,FALSE))","v":103},null,null,null,null,null,null,null,null,null,null,null,null,null,"64 06 00 03 00 00 67"]
["zapros.s 3,0,0,",null,null,"zapros.s 3",0,0,null,null,null,null,null,null,null,null,null,null,null,null,null,null,null,null,null,null,null,null,null,null,null,null,null,null,null,null,null,null,"E4 08 2B AC 83 9D 87 86 B2","E4",8,"2B","AC",83,"9D",87,86,"B2",null,null,null,null,null,null,null,null,null,null,null,228,8,43,172,131,157,135,134,178,0,0,0,0,0,0,0,0,0,0,0,135,100,8,0,43,4,26,0,1,null,null,null,null,null,null,null,null,null,null,null,null,100,{"$f":"MyXor(CB155,VLOOKUP(CU155,'Таблица CRC'!$A$43:$C$298,3,FALSE))","v":12},{"$f":"MyXor(CC155,VLOOKUP(CV155,'Таблица CRC'!$A$43:$C$298,3,FALSE))","v":163},{"$f":"MyXor(CD155,VLOOKUP(CW155,'Таблица CRC'!$A$43:$C$298,3,FALSE))","v":102},{"$f":"MyXor(CE155,VLOOKUP(CX155,'Таблица CRC'!$A$43:$C$298,3,FALSE))","v":188},{"$f":"MyXor(CF155,VLOOKUP(CY155,'Таблица CRC'!$A$43:$C$298,3,FALSE))","v":139},{"$f":"MyXor(CG155,VLOOKUP(CZ155,'Таблица CRC'!$A$43:$C$298,3,FALSE))","v":172},{"$f":"MyXor(CH155,VLOOKUP(DA155,'Таблица CRC'!$A$43:$C$298,3,FALSE))","v":13},{"$f":"MyXor(CI155,VLOOKUP(DB155,'Таблица CRC'!$A$43:$C$298,3,FALSE))","v":253},null,null,null,null,null,null,null,null,null,null,null,{"$f":"CONCATENATE(DEC2HEX(CA155,2),\" \",DEC2HEX(CB155,2),\" \",DEC2HEX(CC155,2),\" \",DEC2HEX(CD155,2),\" \",DEC2HEX(CE155,2),\" \",DEC2HEX(CF155,2),\" \",DEC2HEX(CG155,2),\" \",DEC2HEX(CH155,2),\" \",DEC2HEX(DC155,2))","v":"64 08 00 2B 04 1A 00 01 FD"}]
["228,8,54,177,158,156,154,155,56,",null,{"$f":"MyXor(F156,$C$1)","v":154},228,8,54,177,158,156,154,155,56,null,{"$f":"IF(D156>127,D156-128,D156)","v":100},{"$f":"E156","v":8},{"$f":"MyXor(F156,$B158)","v":172},43,4,6,0,1,162,154,null,100,8,0,43,4,6,0,1,null,null,null,null,"E4 05 AB 87 87 3D","E4",5,"AB",87,87,"3D",null,null,null,null,null,null,null,null,null,null,null,null,null,null,228,5,171,135,135,61,0,0,0,0,0,0,0,0,0,0,0,0,0,0,7,100,5,0,128,128,null,null,null,null,null,null,null,null,null,null,null,null,null,null,null,100,{"$f":"MyXor(CB156,VLOOKUP(CU156,'Таблица CRC'!$A$43:$C$298,3,FALSE))","v":1},{"$f":"MyXor(CC156,VLOOKUP(CV156,'Таблица CRC'!$A$43:$C$298,3,FALSE))","v":94},{"$f":"MyXor(CD156,VLOOKUP(CW156,'Таблица CRC'!$A$43:$C$298,3,FALSE))","v":68},{"$f":"MyXor(CE156,VLOOKUP(CX156,'Таблица CRC'!$A$43:$C$298,3,FALSE))","v":167},{"$f":"MyXor(CF156,VLOOKUP(CY156,'Таблица CRC'!$A$43:$C$298,3,FALSE))","v":44},null,null,null,null,null,null,null,null,null,null,null,null,null,null,{"$f":"CONCATENATE(DEC2HEX(CA156,2),\" \",DEC2HEX(CB156,2),\" \",DEC2HEX(CC156,2),\" \",DEC2HEX(CD156,2),\" \",DEC2HEX(CE156,2),\" \",DEC2HEX(CZ156,2))","v":"64 05 00 80 80 2C"}]
["Принято в обработку",null,null,"Принято в обработку",null,null,null,null,null,null,null,null,null,null,null,null,null,null,null,null,null,null,null,null,{"$f":"MyXor(Y156,0)","v":100},{"$f":"MyXor(Z156,VLOOKUP(Y157,'Таблица CRC'!$A$43:$C$298,3,FALSE))","v":12},{"$f":"MyXor(AA156,VLOOKUP(Z157,'Таблица CRC'!$A$43:$C$298,3,FALSE))","v":163},{"$f":"MyXor(AB156,VLOOKUP(AA157,'Таблица CRC'!$A$43:$C$298,3,FALSE))","v":102},{"$f":"MyXor(AC156,VLOOKUP(AB157,'Таблица CRC'!$A$43:$C$298,3,FALSE))","v":188},{"$f":"MyXor(AD156,VLOOKUP(AC157,'Таблица CRC'!$A$43:$C$298,3,FALSE))","v":151},{"$f":"MyXor(AE156,VLOOKUP(AD157,'Таблица CRC'!$A$43:$C$298,3,FALSE))","v":146},{"$f":"MyXor(AF156,VLOOKUP(AE157,'Таблица CRC'!$A$43:$C$298,3,FALSE))","v":172},{"$f":"MyXor(AG156,VLOOKUP(AF157,'Таблица CRC'!$A$43:$C$298,3,FALSE))","v":12},null,null,null,"E4 06 42 EF EE 16 FF","E4",6,42,"EF","EE",16,"FF",null,null,null,null,null,null,null,null,null,null,null,null,null,228,6,66,239,238,22,255,0,0,0,0,0,0,0,0,0,0,0,0,0,238,100,6,0,1,0,248,null,null,null,null,null,null,null,null,null,null,null,null,null,null,100,{"$f":"MyXor(CB157,VLOOKUP(CU157,'Таблица CRC'!$A$43:$C$298,3,FALSE))","v":2},{"$f":"MyXor(CC157,VLOOKUP(CV157,'Таблица CRC'!$A$43:$C$298,3,FALSE))","v":188},{"$f":"MyXor(CD157,VLOOKUP(CW157,'Таблица CRC'!$A$43:$C$298,3,FALSE))","v":144},{"$f":"MyXor(CE157,VLOOKUP(CX157,'Таблица CRC'!$A$43:$C$298,3,FALSE))","v":17},{"$f":"MyXor(CF157,VLOOKUP(CY157,'Таблица CRC'!$A$43:$C$298,3,FALSE))","v":59},{"$f":"MyXor(CG157,VLOOKUP(CZ157,'Таблица CRC'!$A$43:$C$298,3,FALSE))","v":158},null,null,null,null,null,null,null,null,null,null,null,null,null,"64 06 00 01 00 F8 9E"]
["ключ шифрования-154",154,null,"ключ шифрования-154",null,null,null,null,null,null,null,null,null,null,null,null,null,null,null,null,null,null,null,null,{"$f":"DEC2HEX(Y156,2)","v":"64"},{"$f":"DEC2HEX(Z156,2)","v":"08"},"00","2B","04","06","00","01",{"$f":"DEC2HEX(AG157,2)","v":"0C"},null,{"$f":"CONCATENATE(Y158,\" \",Z158,\" \",AA158,\" \",AB158,\" \",AC158,\" \",AD158,\" \",AE158,\" \",AF158,\" \",AG158,\" \",AH158)","v":"64 08 00 2B 04 06 00 01 0C "},"64 05 2C 00 00 A0 ","E4 09 E0 E9 F5 EE EE EE EE 95","E4",9,"E0","E9","F5","EE","EE","EE","EE",95,null,null,null,null,null,null,null,null,null,null,228,9,224,233,245,238,238,238,238,149,0,0,0,0,0,0,0,0,0,0,76,100,9,0,165,185,162,162,162,162,null,null,null,null,null,null,null,null,null,null,null,100,{"$f":"MyXor(CB158,VLOOKUP(CU158,'Таблица CRC'!$A$43:$C$298,3,FALSE))","v":13},{"$f":"MyXor(CC158,VLOOKUP(CV158,'Таблица CRC'!$A$43:$C$298,3,FALSE))","v":253},{"$f":"MyXor(CD158,VLOOKUP(CW158,'Таблица CRC'!$A$43:$C$298,3,FALSE))","v":44},{"$f":"MyXor(CE158,VLOOKUP(CX158,'Таблица CRC'!$A$43:$C$298,3,FALSE))","v":57},{"$f":"MyXor(CF158,VLOOKUP(CY158,'Таблица CRC'!$A$43:$C$298,3,FALSE))","v":128},{"$f":"MyXor(CG158,VLOOKUP(CZ158,'Таблица CRC'!$A$43:$C$298,3,FALSE))","v":46},{"$f":"MyXor(CH158,VLOOKUP(DA158,'Таблица CRC'!$A$43:$C$298,3,FALSE))","v":158},{"$f":"MyXor(CI158,VLOOKUP(DB158,'Таблица CRC'!$A$43:$C$298,3,FALSE))","v":172},{"$f":"MyXor(CJ158,VLOOKUP(DC158,'Таблица CRC'!$A$43:$C$298,3,FALSE))","v":12},null,null,null,null,null,null,null,null,null,null,{"$f":"CONCATENATE(DEC2HEX(CA158,2),\" \",DEC2HEX(CB158,2),\" \",DEC2HEX(CC158,2),\" \",DEC2HEX(CD158,2),\" \",DEC2HEX(CE158,2),\" \",DEC2HEX(CF158,2),\" \",DEC2HEX(CG158,2),\" \",DEC2HEX(CH158,2),\" \",DEC2HEX(CI158,2),\" \",DEC2HEX(DD158,2))","v":"64 09 00 A5 B9 A2 A2 A2 A2 0C"}]
["zapros.s 43,4,6,",null,null,"zapros.s 43",4,6,null,null,null,null,null,null,null,null,null,null,null,null,null,null,null,null,null,null,null,null,null,null,null,null,null,null,null,null,null,null,"E4 06 42 ED EE EE 06","E4",6,42,"ED","EE","EE",6,null,null,null,null,null,null,null,null,null,null,null,null,null,228,6,66,237,238,238,6,0,0,0,0,0,0,0,0,0,0,0,0,0,238,100,6,0,3,0,0,null,null,null,null,null,null,null,null,null,null,null,null,null,null,100,{"$f":"MyXor(CB159,VLOOKUP(CU159,'Таблица CRC'!$A$43:$C$298,3,FALSE))","v":2},{"$f":"MyXor(CC159,VLOOKUP(CV159,'Таблица CRC'!$A$43:$C$298,3,FALSE))","v":188},{"$f":"MyXor(CD159,VLOOKUP(CW159,'Таблица CRC'!$A$43:$C$298,3,FALSE))","v":146},{"$f":"MyXor(CE159,VLOOKUP(CX159,'Таблица CRC'!$A$43:$C$298,3,FALSE))","v":173},{"$f":"MyXor(CF159,VLOOKUP(CY159,'Таблица CRC'!$A$43:$C$298,3,FALSE))","v":82},{"$f":"MyXor(CG159,VLOOKUP(CZ159,'Таблица CRC'!$A$43:$C$298,3,FALSE))","v":103},null,null,null,null,null,null,null,null,null,null,null,null,null,"64 06 00 03 00 00 67"]
["228,5,182,154,154,98,",null,{"$f":"MyXor(F160,$C$1)","v":26},228,5,182,154,154,98,null,null,null,null,{"$f":"IF(D160>127,D160-128,D160)","v":100},{"$f":"E160","v":5},{"$f":"MyXor(F160,$B162)","v":172},{"$f":"MyXor(G160,$B162)","v":128},{"$f":"MyXor(H160,$B162)","v":128},{"$f":"MyXor(I160,$B162)","v":120},{"$f":"MyXor(J160,$B162)","v":26},{"$f":"MyXor(K160,$B162)","v":26},{"$f":"MyXor(L160,$B162)","v":26},{"$f":"MyXor(M160,$B162)","v":26},null,100,5,0,128,128,120,26,26,26,26,null,null,"E4 08 79 FE D1 CE D5 D4 25","E4",8,79,"FE","D1","CE","D5","D4",25,null,null,null,null,null,null,null,null,null,null,null,228,8,121,254,209,206,213,212,37,0,0,0,0,0,0,0,0,0,0,0,213,100,8,0,43,4,27,0,1,null,null,null,null,null,null,null,null,null,null,null,null,100,{"$f":"MyXor(CB160,VLOOKUP(CU160,'Таблица CRC'!$A$43:$C$298,3,FALSE))","v":12},{"$f":"MyXor(CC160,VLOOKUP(CV160,'Таблица CRC'!$A$43:$C$298,3,FALSE))","v":163},{"$f":"MyXor(CD160,VLOOKUP(CW160,'Таблица CRC'!$A$43:$C$298,3,FALSE))","v":102},{"$f":"MyXor(CE160,VLOOKUP(CX160,'Таблица CRC'!$A$43:$C$298,3,FALSE))","v":188},{"$f":"MyXor(CF160,VLOOKUP(CY160,'Таблица CRC'!$A$43:$C$298,3,FALSE))","v":138},{"$f":"MyXor(CG160,VLOOKUP(CZ160,'Таблица CRC'!$A$43:$C$298,3,FALSE))","v":242},{"$f":"MyXor(CH160,VLOOKUP(DA160,'Таблица CRC'!$A$43:$C$298,3,FALSE))","v":201},{"$f":"MyXor(CI160,VLOOKUP(DB160,'Таблица CRC'!$A$43:$C$298,3,FALSE))","v":86},null,null,null,null,null,null,null,null,null,null,null,{"$f":"CONCATENATE(DEC2HEX(CA160,2),\" \",DEC2HEX(CB160,2),\" \",DEC2HEX(CC160,2),\" \",DEC2HEX(CD160,2),\" \",DEC2HEX(CE160,2),\" \",DEC2HEX(CF160,2),\" \",DEC2HEX(CG160,2),\" \",DEC2HEX(CH160,2),\" \",DEC2HEX(DC160,2))","v":"64 08 00 2B 04 1B 00 01 56"}]
["Принято в обработку",null,null,"Принято в обработку",null,null,null,null,null,null,null,null,null,null,null,null,null,null,null,null,null,null,null,null,null,null,null,null,null,null,null,null,null,null,null,null,"E4 05 F9 D5 D5 88","E4",5,"F9","D5","D5",88,null,null,null,null,null,null,null,null,null,null,null,null,null,null,228,5,249,213,213,136,0,0,0,0,0,0,0,0,0,0,0,0,0,0,85,100,5,0,128,128,null,null,null,null,null,null,null,null,null,null,null,null,null,null,null,100,{"$f":"MyXor(CB161,VLOOKUP(CU161,'Таблица CRC'!$A$43:$C$298,3,FALSE))","v":1},{"$f":"MyXor(CC161,VLOOKUP(CV161,'Таблица CRC'!$A$43:$C$298,3,FALSE))","v":94},{"$f":"MyXor(CD161,VLOOKUP(CW161,'Таблица CRC'!$A$43:$C$298,3,FALSE))","v":68},{"$f":"MyXor(CE161,VLOOKUP(CX161,'Таблица CRC'!$A$43:$C$298,3,FALSE))","v":167},{"$f":"MyXor(CF161,VLOOKUP(CY161,'Таблица CRC'!$A$43:$C$298,3,FALSE))","v":44},null,null,null,null,null,null,null,null,null,null,null,null,null,null,{"$f":"CONCATENATE(DEC2HEX(CA161,2),\" \",DEC2HEX(CB161,2),\" \",DEC2HEX(CC161,2),\" \",DEC2HEX(CD161,2),\" \",DEC2HEX(CE161,2),\" \",DEC2HEX(CZ161,2))","v":"64 05 00 80 80 2C"}]
["otvet 44,0,0,",26,null,"otvet 44",0,0,null,null,null,null,null,null,null,null,null,null,null,null,null,null,null,null,null,null,null,null,null,null,null,null,null,null,null,null,null,null,"E4 06 88 25 24 DC 03","E4",6,88,25,24,"DC",3,null,null,null,null,null,null,null,null,null,null,null,null,null,228,6,136,37,36,220,3,0,0,0,0,0,0,0,0,0,0,0,0,0,36,100,6,0,1,0,248,null,null,null,null,null,null,null,null,null,null,null,null,null,null,100,{"$f":"MyXor(CB162,VLOOKUP(CU162,'Таблица CRC'!$A$43:$C$298,3,FALSE))","v":2},{"$f":"MyXor(CC162,VLOOKUP(CV162,'Таблица CRC'!$A$43:$C$298,3,FALSE))","v":188},{"$f":"MyXor(CD162,VLOOKUP(CW162,'Таблица CRC'!$A$43:$C$298,3,FALSE))","v":144},{"$f":"MyXor(CE162,VLOOKUP(CX162,'Таблица CRC'!$A$43:$C$298,3,FALSE))","v":17},{"$f":"MyXor(CF162,VLOOKUP(CY162,'Таблица CRC'!$A$43:$C$298,3,FALSE))","v":59},{"$f":"MyXor(CG162,VLOOKUP(CZ162,'Таблица CRC'!$A$43:$C$298,3,FALSE))","v":158},null,null,null,null,null,null,null,null,null,null,null,null,null,"64 06 00 01 00 F8 9E"]
["228,6,31,178,179,75,9,",null,{"$f":"MyXor(F163,$C$1)","v":179},228,6,31,178,179,75,9,null,null,null,{"$f":"IF(D163>127,D163-128,D163)","v":100},{"$f":"E163","v":6},{"$f":"MyXor(F163,$B165)","v":172},{"$f":"MyXor(G163,$B165)","v":1},{"$f":"MyXor(H163,$B165)","v":0},{"$f":"MyXor(I163,$B165)","v":248},{"$f":"MyXor(J163,$B165)","v":186},{"$f":"MyXor(K163,$B165)","v":179},{"$f":"MyXor(L163,$B165)","v":179},{"$f":"MyXor(M163,$B165)","v":179},null,100,6,0,1,0,248,186,179,179,179,null,null,"E4 09 2A 23 38 24 24 24 24 2C","E4",9,"2A",23,38,24,24,24,24,"2C",null,null,null,null,null,null,null,null,null,null,228,9,42,35,56,36,36,36,36,44,0,0,0,0,0,0,0,0,0,0,134,100,9,0,165,190,162,162,162,162,null,null,null,null,null,null,null,null,null,null,null,100,{"$f":"MyXor(CB163,VLOOKUP(CU163,'Таблица CRC'!$A$43:$C$298,3,FALSE))","v":13},{"$f":"MyXor(CC163,VLOOKUP(CV163,'Таблица CRC'!$A$43:$C$298,3,FALSE))","v":253},{"$f":"MyXor(CD163,VLOOKUP(CW163,'Таблица CRC'!$A$43:$C$298,3,FALSE))","v":44},{"$f":"MyXor(CE163,VLOOKUP(CX163,'Таблица CRC'!$A$43:$C$298,3,FALSE))","v":62},{"$f":"MyXor(CF163,VLOOKUP(CY163,'Таблица CRC'!$A$43:$C$298,3,FALSE))","v":3},{"$f":"MyXor(CG163,VLOOKUP(CZ163,'Таблица CRC'!$A$43:$C$298,3,FALSE))","v":64},{"$f":"MyXor(CH163,VLOOKUP(DA163,'Таблица CRC'!$A$43:$C$298,3,FALSE))","v":228},{"$f":"MyXor(CI163,VLOOKUP(DB163,'Таблица CRC'!$A$43:$C$298,3,FALSE))","v":42},{"$f":"MyXor(CJ163,VLOOKUP(DC163,'Таблица CRC'!$A$43:$C$298,3,FALSE))","v":93},null,null,null,null,null,null,null,null,null,null,{"$f":"CONCATENATE(DEC2HEX(CA163,2),\" \",DEC2HEX(CB163,2),\" \",DEC2HEX(CC163,2),\" \",DEC2HEX(CD163,2),\" \",DEC2HEX(CE163,2),\" \",DEC2HEX(CF163,2),\" \",DEC2HEX(CG163,2),\" \",DEC2HEX(CH163,2),\" \",DEC2HEX(CI163,2),\" \",DEC2HEX(DD163,2))","v":"64 09 00 A5 BE A2 A2 A2 A2 5D"}]
["Принято в обработку",null,null,"Принято в обработку",null,null,null,null,null,null,null,null,null,null,null,null,null,null,null,null,null,null,null,null,null,null,null,null,null,null,null,null,null,null,null,null,"E4 06 88 27 24 24 FA","E4",6,88,27,24,24,"FA",null,null,null,null,null,null,null,null,null,null,null,null,null,228,6,136,39,36,36,250,0,0,0,0,0,0,0,0,0,0,0,0,0,36,100,6,0,3,0,0,null,null,null,null,null,null,null,null,null,null,null,null,null,null,100,{"$f":"MyXor(CB164,VLOOKUP(CU164,'Таблица CRC'!$A$43:$C$298,3,FALSE))","v":2},{"$f":"MyXor(CC164,VLOOKUP(CV164,'Таблица CRC'!$A$43:$C$298,3,FALSE))","v":188},{"$f":"MyXor(CD164,VLOOKUP(CW164,'Таблица CRC'!$A$43:$C$298,3,FALSE))","v":146},{"$f":"MyXor(CE164,VLOOKUP(CX164,'Таблица CRC'!$A$43:$C$298,3,FALSE))","v":173},{"$f":"MyXor(CF164,VLOOKUP(CY164,'Таблица CRC'!$A$43:$C$298,3,FALSE))","v":82},{"$f":"MyXor(CG164,VLOOKUP(CZ164,'Таблица CRC'!$A$43:$C$298,3,FALSE))","v":103},null,null,null,null,null,null,null,null,null,null,null,null,null,"64 06 00 03 00 00 67"]
["ключ шифрования-179",179,null,"ключ шифрования-179",null,null,null,null,null,null,null,null,null,null,null,null,null,null,null,null,null,null,null,null,null,null,null,null,null,null,null,null,null,null,null,null,"E4 08 E9 6E 41 59 45 44 42","E4",8,"E9","6E",41,59,45,44,42,null,null,null,null,null,null,null,null,null,null,null,228,8,233,110,65,89,69,68,66,0,0,0,0,0,0,0,0,0,0,0,69,100,8,0,43,4,28,0,1,null,null,null,null,null,null,null,null,null,null,null,null,100,{"$f":"MyXor(CB165,VLOOKUP(CU165,'Таблица CRC'!$A$43:$C$298,3,FALSE))","v":12},{"$f":"MyXor(CC165,VLOOKUP(CV165,'Таблица CRC'!$A$43:$C$298,3,FALSE))","v":163},{"$f":"MyXor(CD165,VLOOKUP(CW165,'Таблица CRC'!$A$43:$C$298,3,FALSE))","v":102},{"$f":"MyXor(CE165,VLOOKUP(CX165,'Таблица CRC'!$A$43:$C$298,3,FALSE))","v":188},{"$f":"MyXor(CF165,VLOOKUP(CY165,'Таблица CRC'!$A$43:$C$298,3,FALSE))","v":141},{"$f":"MyXor(CG165,VLOOKUP(CZ165,'Таблица CRC'!$A$43:$C$298,3,FALSE))","v":113},{"$f":"MyXor(CH165,VLOOKUP(DA165,'Таблица CRC'!$A$43:$C$298,3,FALSE))","v":167},{"$f":"MyXor(CI165,VLOOKUP(DB165,'Таблица CRC'!$A$43:$C$298,3,FALSE))","v":44},null,null,null,null,null,null,null,null,null,null,null,{"$f":"CONCATENATE(DEC2HEX(CA165,2),\" \",DEC2HEX(CB165,2),\" \",DEC2HEX(CC165,2),\" \",DEC2HEX(CD165,2),\" \",DEC2HEX(CE165,2),\" \",DEC2HEX(CF165,2),\" \",DEC2HEX(CG165,2),\" \",DEC2HEX(CH165,2),\" \",DEC2HEX(DC165,2))","v":"64 08 00 2B 04 1C 00 01 2C"}]
["zapros.s 1,0,248,",null,null,"zapros.s 1",0,248,null,null,null,null,null,null,null,null,null,null,null,null,null,null,null,null,null,null,null,null,null,null,null,null,null,null,null,null,null,null,"E4 05 69 45 45 72","E4",5,69,45,45,72,null,null,null,null,null,null,null,null,null,null,null,null,null,null,228,5,105,69,69,114,0,0,0,0,0,0,0,0,0,0,0,0,0,0,197,100,5,0,128,128,null,null,null,null,null,null,null,null,null,null,null,null,null,null,null,100,{"$f":"MyXor(CB166,VLOOKUP(CU166,'Таблица CRC'!$A$43:$C$298,3,FALSE))","v":1},{"$f":"MyXor(CC166,VLOOKUP(CV166,'Таблица CRC'!$A$43:$C$298,3,FALSE))","v":94},{"$f":"MyXor(CD166,VLOOKUP(CW166,'Таблица CRC'!$A$43:$C$298,3,FALSE))","v":68},{"$f":"MyXor(CE166,VLOOKUP(CX166,'Таблица CRC'!$A$43:$C$298,3,FALSE))","v":167},{"$f":"MyXor(CF166,VLOOKUP(CY166,'Таблица CRC'!$A$43:$C$298,3,FALSE))","v":44},null,null,null,null,null,null,null,null,null,null,null,null,null,null,{"$f":"CONCATENATE(DEC2HEX(CA166,2),\" \",DEC2HEX(CB166,2),\" \",DEC2HEX(CC166,2),\" \",DEC2HEX(CD166,2),\" \",DEC2HEX(CE166,2),\" \",DEC2HEX(CZ166,2))","v":"64 05 00 80 80 2C"}]
["ОТВЕТ ЭМУЛЯТОРА 177,176,179,",null,null,"ОТВЕТ ЭМУЛЯТОРА 177",176,179,null,null,null,null,null,null,null,null,null,null,null,null,null,null,null,null,null,null,null,null,null,null,null,null,null,null,null,null,null,null,"E4 06 5B F6 F7 0F CF","E4",6,"5B","F6","F7","0F","CF",null,null,null,null,null,null,null,null,null,null,null,null,null,228,6,91,246,247,15,207,0,0,0,0,0,0,0,0,0,0,0,0,0,247,100,6,0,1,0,248,null,null,null,null,null,null,null,null,null,null,null,null,null,null,100,{"$f":"MyXor(CB167,VLOOKUP(CU167,'Таблица CRC'!$A$43:$C$298,3,FALSE))","v":2},{"$f":"MyXor(CC167,VLOOKUP(CV167,'Таблица CRC'!$A$43:$C$298,3,FALSE))","v":188},{"$f":"MyXor(CD167,VLOOKUP(CW167,'Таблица CRC'!$A$43:$C$298,3,FALSE))","v":144},{"$f":"MyXor(CE167,VLOOKUP(CX167,'Таблица CRC'!$A$43:$C$298,3,FALSE))","v":17},{"$f":"MyXor(CF167,VLOOKUP(CY167,'Таблица CRC'!$A$43:$C$298,3,FALSE))","v":59},{"$f":"MyXor(CG167,VLOOKUP(CZ167,'Таблица CRC'!$A$43:$C$298,3,FALSE))","v":158},null,null,null,null,null,null,null,null,null,null,null,null,null,"64 06 00 01 00 F8 9E"]
["228,9,189,180,180,179,179,179,179,39,",null,{"$f":"MyXor(F168,$C$1)","v":17},228,9,189,180,180,179,179,179,179,39,{"$f":"IF(D168>127,D168-128,D168)","v":100},{"$f":"E168","v":9},{"$f":"MyXor(F168,$B170)","v":172},{"$f":"MyXor(G168,$B170)","v":165},{"$f":"MyXor(H168,$B170)","v":165},{"$f":"MyXor(I168,$B170)","v":162},{"$f":"MyXor(J168,$B170)","v":162},{"$f":"MyXor(K168,$B170)","v":162},{"$f":"MyXor(L168,$B170)","v":162},{"$f":"MyXor(M168,$B170)","v":54},null,100,9,0,165,165,162,162,162,162,null,null,null,"E4 09 F9 F0 EA F7 F7 F7 F7 4C","E4",9,"F9","F0","EA","F7","F7","F7","F7","4C",null,null,null,null,null,null,null,null,null,null,228,9,249,240,234,247,247,247,247,76,0,0,0,0,0,0,0,0,0,0,85,100,9,0,165,191,162,162,162,162,null,null,null,null,null,null,null,null,null,null,null,100,{"$f":"MyXor(CB168,VLOOKUP(CU168,'Таблица CRC'!$A$43:$C$298,3,FALSE))","v":13},{"$f":"MyXor(CC168,VLOOKUP(CV168,'Таблица CRC'!$A$43:$C$298,3,FALSE))","v":253},{"$f":"MyXor(CD168,VLOOKUP(CW168,'Таблица CRC'!$A$43:$C$298,3,FALSE))","v":44},{"$f":"MyXor(CE168,VLOOKUP(CX168,'Таблица CRC'!$A$43:$C$298,3,FALSE))","v":63},{"$f":"MyXor(CF168,VLOOKUP(CY168,'Таблица CRC'!$A$43:$C$298,3,FALSE))","v":93},{"$f":"MyXor(CG168,VLOOKUP(CZ168,'Таблица CRC'!$A$43:$C$298,3,FALSE))","v":132},{"$f":"MyXor(CH168,VLOOKUP(DA168,'Таблица CRC'!$A$43:$C$298,3,FALSE))","v":79},{"$f":"MyXor(CI168,VLOOKUP(DB168,'Таблица CRC'!$A$43:$C$298,3,FALSE))","v":165},{"$f":"MyXor(CJ168,VLOOKUP(DC168,'Таблица CRC'!$A$43:$C$298,3,FALSE))","v":144},null,null,null,null,null,null,null,null,null,null,{"$f":"CONCATENATE(DEC2HEX(CA168,2),\" \",DEC2HEX(CB168,2),\" \",DEC2HEX(CC168,2),\" \",DEC2HEX(CD168,2),\" \",DEC2HEX(CE168,2),\" \",DEC2HEX(CF168,2),\" \",DEC2HEX(CG168,2),\" \",DEC2HEX(CH168,2),\" \",DEC2HEX(CI168,2),\" \",DEC2HEX(DD168,2))","v":"64 09 00 A5 BF A2 A2 A2 A2 90"}]
["Принято в обработку",null,null,"Принято в обработку",null,null,null,null,null,null,null,null,null,null,null,null,null,null,null,null,null,null,null,null,{"$f":"MyXor(Y168,0)","v":100},{"$f":"MyXor(Z168,VLOOKUP(Y169,'Таблица CRC'!$A$43:$C$298,3,FALSE))","v":13},{"$f":"MyXor(AA168,VLOOKUP(Z169,'Таблица CRC'!$A$43:$C$298,3,FALSE))","v":253},{"$f":"MyXor(AB168,VLOOKUP(AA169,'Таблица CRC'!$A$43:$C$298,3,FALSE))","v":44},{"$f":"MyXor(AC168,VLOOKUP(AB169,'Таблица CRC'!$A$43:$C$298,3,FALSE))","v":37},{"$f":"MyXor(AD168,VLOOKUP(AC169,'Таблица CRC'!$A$43:$C$298,3,FALSE))","v":190},{"$f":"MyXor(AE168,VLOOKUP(AD169,'Таблица CRC'!$A$43:$C$298,3,FALSE))","v":143},{"$f":"MyXor(AF168,VLOOKUP(AE169,'Таблица CRC'!$A$43:$C$298,3,FALSE))","v":111},{"$f":"MyXor(AG168,VLOOKUP(AF169,'Таблица CRC'!$A$43:$C$298,3,FALSE))","v":134},{"$f":"MyXor(AH168,VLOOKUP(AG169,'Таблица CRC'!$A$43:$C$298,3,FALSE))","v":81},null,null,"E4 06 5B F4 F7 F7 36","E4",6,"5B","F4","F7","F7",36,null,null,null,null,null,null,null,null,null,null,null,null,null,228,6,91,244,247,247,54,0,0,0,0,0,0,0,0,0,0,0,0,0,247,100,6,0,3,0,0,null,null,null,null,null,null,null,null,null,null,null,null,null,null,100,{"$f":"MyXor(CB169,VLOOKUP(CU169,'Таблица CRC'!$A$43:$C$298,3,FALSE))","v":2},{"$f":"MyXor(CC169,VLOOKUP(CV169,'Таблица CRC'!$A$43:$C$298,3,FALSE))","v":188},{"$f":"MyXor(CD169,VLOOKUP(CW169,'Таблица CRC'!$A$43:$C$298,3,FALSE))","v":146},{"$f":"MyXor(CE169,VLOOKUP(CX169,'Таблица CRC'!$A$43:$C$298,3,FALSE))","v":173},{"$f":"MyXor(CF169,VLOOKUP(CY169,'Таблица CRC'!$A$43:$C$298,3,FALSE))","v":82},{"$f":"MyXor(CG169,VLOOKUP(CZ169,'Таблица CRC'!$A$43:$C$298,3,FALSE))","v":103},null,null,null,null,null,null,null,null,null,null,null,null,null,"64 06 00 03 00 00 67"]
["ключ шифрования-17",17,null,"ключ шифрования-17",null,null,null,null,null,null,null,null,null,null,null,null,null,null,null,null,null,null,null,null,{"$f":"DEC2HEX(Y168,2)","v":"64"},{"$f":"DEC2HEX(Z168,2)","v":"09"},"00","A5","A5","A2","A2","A2","A2",{"$f":"DEC2HEX(AH169,2)","v":"51"},{"$f":"CONCATENATE(Y170,\" \",Z170,\" \",AA170,\" \",AB170,\" \",AC170,\" \",AD170,\" \",AE170,\" \",AF170,\" \",AG170,\" \",AH170)","v":"64 09 00 A5 A5 A2 A2 A2 A2 51"},"64 05 0A 00 00 E5","E4 08 0C 8B A4 BD A0 A1 45","E4",8,"0C","8B","A4","BD","A0","A1",45,null,null,null,null,null,null,null,null,null,null,null,228,8,12,139,164,189,160,161,69,0,0,0,0,0,0,0,0,0,0,0,160,100,8,0,43,4,29,0,1,null,null,null,null,null,null,null,null,null,null,null,null,100,{"$f":"MyXor(CB170,VLOOKUP(CU170,'Таблица CRC'!$A$43:$C$298,3,FALSE))","v":12},{"$f":"MyXor(CC170,VLOOKUP(CV170,'Таблица CRC'!$A$43:$C$298,3,FALSE))","v":163},{"$f":"MyXor(CD170,VLOOKUP(CW170,'Таблица CRC'!$A$43:$C$298,3,FALSE))","v":102},{"$f":"MyXor(CE170,VLOOKUP(CX170,'Таблица CRC'!$A$43:$C$298,3,FALSE))","v":188},{"$f":"MyXor(CF170,VLOOKUP(CY170,'Таблица CRC'!$A$43:$C$298,3,FALSE))","v":140},{"$f":"MyXor(CG170,VLOOKUP(CZ170,'Таблица CRC'!$A$43:$C$298,3,FALSE))","v":47},{"$f":"MyXor(CH170,VLOOKUP(DA170,'Таблица CRC'!$A$43:$C$298,3,FALSE))","v":99},{"$f":"MyXor(CI170,VLOOKUP(DB170,'Таблица CRC'!$A$43:$C$298,3,FALSE))","v":135},null,null,null,null,null,null,null,null,null,null,null,{"$f":"CONCATENATE(DEC2HEX(CA170,2),\" \",DEC2HEX(CB170,2),\" \",DEC2HEX(CC170,2),\" \",DEC2HEX(CD170,2),\" \",DEC2HEX(CE170,2),\" \",DEC2HEX(CF170,2),\" \",DEC2HEX(CG170,2),\" \",DEC2HEX(CH170,2),\" \",DEC2HEX(DC170,2))","v":"64 08 00 2B 04 1D 00 01 87"}]
["zapros.s 165,165,162,",null,null,"zapros.s 165",165,162,null,null,null,null,null,null,null,null,null,null,null,null,null,null,null,null,null,null,null,null,null,null,null,null,null,null,null,null,null,null,"E4 05 8C A0 A0 DC","E4",5,"8C","A0","A0","DC",null,null,null,null,null,null,null,null,null,null,null,null,null,null,228,5,140,160,160,220,0,0,0,0,0,0,0,0,0,0,0,0,0,0,32,100,5,0,128,128,null,null,null,null,null,null,null,null,null,null,null,null,null,null,null,100,{"$f":"MyXor(CB171,VLOOKUP(CU171,'Таблица CRC'!$A$43:$C$298,3,FALSE))","v":1},{"$f":"MyXor(CC171,VLOOKUP(CV171,'Таблица CRC'!$A$43:$C$298,3,FALSE))","v":94},{"$f":"MyXor(CD171,VLOOKUP(CW171,'Таблица CRC'!$A$43:$C$298,3,FALSE))","v":68},{"$f":"MyXor(CE171,VLOOKUP(CX171,'Таблица CRC'!$A$43:$C$298,3,FALSE))","v":167},{"$f":"MyXor(CF171,VLOOKUP(CY171,'Таблица CRC'!$A$43:$C$298,3,FALSE))","v":44},null,null,null,null,null,null,null,null,null,null,null,null,null,null,{"$f":"CONCATENATE(DEC2HEX(CA171,2),\" \",DEC2HEX(CB171,2),\" \",DEC2HEX(CC171,2),\" \",DEC2HEX(CD171,2),\" \",DEC2HEX(CE171,2),\" \",DEC2HEX(CZ171,2))","v":"64 05 00 80 80 2C"}]
["228,6,31,176,179,179,240,",null,{"$f":"MyXor(F172,$C$1)","v":179},228,6,31,176,179,179,240,null,null,null,{"$f":"IF(D172>127,D172-128,D172)","v":100},{"$f":"E172","v":6},{"$f":"MyXor(F172,$B174)","v":172},{"$f":"MyXor(G172,$B174)","v":3},{"$f":"MyXor(H172,$B174)","v":0},{"$f":"MyXor(I172,$B174)","v":0},{"$f":"MyXor(J172,$B174)","v":67},{"$f":"MyXor(K172,$B174)","v":179},{"$f":"MyXor(L172,$B174)","v":179},{"$f":"MyXor(M172,$B174)","v":179},null,100,6,0,3,0,0,67,179,179,179,null,null,"E4 06 D2 7F 7E 86 E4","E4",6,"D2","7F","7E",86,"E4",null,null,null,null,null,null,null,null,null,null,null,null,null,228,6,210,127,126,134,228,0,0,0,0,0,0,0,0,0,0,0,0,0,126,100,6,0,1,0,248,null,null,null,null,null,null,null,null,null,null,null,null,null,null,100,{"$f":"MyXor(CB172,VLOOKUP(CU172,'Таблица CRC'!$A$43:$C$298,3,FALSE))","v":2},{"$f":"MyXor(CC172,VLOOKUP(CV172,'Таблица CRC'!$A$43:$C$298,3,FALSE))","v":188},{"$f":"MyXor(CD172,VLOOKUP(CW172,'Таблица CRC'!$A$43:$C$298,3,FALSE))","v":144},{"$f":"MyXor(CE172,VLOOKUP(CX172,'Таблица CRC'!$A$43:$C$298,3,FALSE))","v":17},{"$f":"MyXor(CF172,VLOOKUP(CY172,'Таблица CRC'!$A$43:$C$298,3,FALSE))","v":59},{"$f":"MyXor(CG172,VLOOKUP(CZ172,'Таблица CRC'!$A$43:$C$298,3,FALSE))","v":158},null,null,null,null,null,null,null,null,null,null,null,null,null,"64 06 00 01 00 F8 9E"]
["Принято в обработку",null,null,"Принято в обработку",null,null,null,null,null,null,null,null,null,null,null,null,null,null,null,null,null,null,null,null,null,null,null,null,null,null,null,null,null,null,null,null,"E4 09 70 79 60 7E 7E 7E 7E 36","E4",9,70,79,60,"7E","7E","7E","7E",36,null,null,null,null,null,null,null,null,null,null,228,9,112,121,96,126,126,126,126,54,0,0,0,0,0,0,0,0,0,0,220,100,9,0,165,188,162,162,162,162,null,null,null,null,null,null,null,null,null,null,null,100,{"$f":"MyXor(CB173,VLOOKUP(CU173,'Таблица CRC'!$A$43:$C$298,3,FALSE))","v":13},{"$f":"MyXor(CC173,VLOOKUP(CV173,'Таблица CRC'!$A$43:$C$298,3,FALSE))","v":253},{"$f":"MyXor(CD173,VLOOKUP(CW173,'Таблица CRC'!$A$43:$C$298,3,FALSE))","v":44},{"$f":"MyXor(CE173,VLOOKUP(CX173,'Таблица CRC'!$A$43:$C$298,3,FALSE))","v":60},{"$f":"MyXor(CF173,VLOOKUP(CY173,'Таблица CRC'!$A$43:$C$298,3,FALSE))","v":191},{"$f":"MyXor(CG173,VLOOKUP(CZ173,'Таблица CRC'!$A$43:$C$298,3,FALSE))","v":209},{"$f":"MyXor(CH173,VLOOKUP(DA173,'Таблица CRC'!$A$43:$C$298,3,FALSE))","v":171},{"$f":"MyXor(CI173,VLOOKUP(DB173,'Таблица CRC'!$A$43:$C$298,3,FALSE))","v":45},{"$f":"MyXor(CJ173,VLOOKUP(DC173,'Таблица CRC'!$A$43:$C$298,3,FALSE))","v":222},null,null,null,null,null,null,null,null,null,null,{"$f":"CONCATENATE(DEC2HEX(CA173,2),\" \",DEC2HEX(CB173,2),\" \",DEC2HEX(CC173,2),\" \",DEC2HEX(CD173,2),\" \",DEC2HEX(CE173,2),\" \",DEC2HEX(CF173,2),\" \",DEC2HEX(CG173,2),\" \",DEC2HEX(CH173,2),\" \",DEC2HEX(CI173,2),\" \",DEC2HEX(DD173,2))","v":"64 09 00 A5 BC A2 A2 A2 A2 DE"}]
["ключ шифрования-179",179,null,"ключ шифрования-179",null,null,null,null,null,null,null,null,null,null,null,null,null,null,null,null,null,null,null,null,null,null,null,null,null,null,null,null,null,null,null,null,"E4 06 D2 7D 7E 7E 1D","E4",6,"D2","7D","7E","7E","1D",null,null,null,null,null,null,null,null,null,null,null,null,null,228,6,210,125,126,126,29,0,0,0,0,0,0,0,0,0,0,0,0,0,126,100,6,0,3,0,0,null,null,null,null,null,null,null,null,null,null,null,null,null,null,100,{"$f":"MyXor(CB174,VLOOKUP(CU174,'Таблица CRC'!$A$43:$C$298,3,FALSE))","v":2},{"$f":"MyXor(CC174,VLOOKUP(CV174,'Таблица CRC'!$A$43:$C$298,3,FALSE))","v":188},{"$f":"MyXor(CD174,VLOOKUP(CW174,'Таблица CRC'!$A$43:$C$298,3,FALSE))","v":146},{"$f":"MyXor(CE174,VLOOKUP(CX174,'Таблица CRC'!$A$43:$C$298,3,FALSE))","v":173},{"$f":"MyXor(CF174,VLOOKUP(CY174,'Таблица CRC'!$A$43:$C$298,3,FALSE))","v":82},{"$f":"MyXor(CG174,VLOOKUP(CZ174,'Таблица CRC'!$A$43:$C$298,3,FALSE))","v":103},null,null,null,null,null,null,null,null,null,null,null,null,null,"64 06 00 03 00 00 67"]
["zapros.s 3,0,0,",null,null,"zapros.s 3",0,0,null,null,null,null,null,null,null,null,null,null,null,null,null,null,null,null,null,null,null,null,null,null,null,null,null,null,null,null,null,null,"E4 08 BB 3C 13 09 17 16 31","E4",8,"BB","3C",13,9,17,16,31,null,null,null,null,null,null,null,null,null,null,null,228,8,187,60,19,9,23,22,49,0,0,0,0,0,0,0,0,0,0,0,23,100,8,0,43,4,30,0,1,null,null,null,null,null,null,null,null,null,null,null,null,100,{"$f":"MyXor(CB175,VLOOKUP(CU175,'Таблица CRC'!$A$43:$C$298,3,FALSE))","v":12},{"$f":"MyXor(CC175,VLOOKUP(CV175,'Таблица CRC'!$A$43:$C$298,3,FALSE))","v":163},{"$f":"MyXor(CD175,VLOOKUP(CW175,'Таблица CRC'!$A$43:$C$298,3,FALSE))","v":102},{"$f":"MyXor(CE175,VLOOKUP(CX175,'Таблица CRC'!$A$43:$C$298,3,FALSE))","v":188},{"$f":"MyXor(CF175,VLOOKUP(CY175,'Таблица CRC'!$A$43:$C$298,3,FALSE))","v":143},{"$f":"MyXor(CG175,VLOOKUP(CZ175,'Таблица CRC'!$A$43:$C$298,3,FALSE))","v":205},{"$f":"MyXor(CH175,VLOOKUP(DA175,'Таблица CRC'!$A$43:$C$298,3,FALSE))","v":54},{"$f":"MyXor(CI175,VLOOKUP(DB175,'Таблица CRC'!$A$43:$C$298,3,FALSE))","v":99},null,null,null,null,null,null,null,null,null,null,null,{"$f":"CONCATENATE(DEC2HEX(CA175,2),\" \",DEC2HEX(CB175,2),\" \",DEC2HEX(CC175,2),\" \",DEC2HEX(CD175,2),\" \",DEC2HEX(CE175,2),\" \",DEC2HEX(CF175,2),\" \",DEC2HEX(CG175,2),\" \",DEC2HEX(CH175,2),\" \",DEC2HEX(DC175,2))","v":"64 08 00 2B 04 1E 00 01 63"}]
["228,8,35,164,139,136,143,142,250,",null,{"$f":"MyXor(F176,$C$1)","v":143},228,8,35,164,139,136,143,142,250,null,{"$f":"IF(D176>127,D176-128,D176)","v":100},{"$f":"E176","v":8},{"$f":"MyXor(F176,$B178)","v":172},{"$f":"MyXor(G176,$B178)","v":43},{"$f":"MyXor(H176,$B178)","v":4},{"$f":"MyXor(I176,$B178)","v":7},{"$f":"MyXor(J176,$B178)","v":0},{"$f":"MyXor(K176,$B178)","v":1},{"$f":"MyXor(L176,$B178)","v":117},{"$f":"MyXor(M176,$B178)","v":143},null,100,8,0,43,4,7,0,1,117,143,null,null,"E4 05 3B 17 17 C7","E4",5,"3B",17,17,"C7",null,null,null,null,null,null,null,null,null,null,null,null,null,null,228,5,59,23,23,199,0,0,0,0,0,0,0,0,0,0,0,0,0,0,151,100,5,0,128,128,null,null,null,null,null,null,null,null,null,null,null,null,null,null,null,100,{"$f":"MyXor(CB176,VLOOKUP(CU176,'Таблица CRC'!$A$43:$C$298,3,FALSE))","v":1},{"$f":"MyXor(CC176,VLOOKUP(CV176,'Таблица CRC'!$A$43:$C$298,3,FALSE))","v":94},{"$f":"MyXor(CD176,VLOOKUP(CW176,'Таблица CRC'!$A$43:$C$298,3,FALSE))","v":68},{"$f":"MyXor(CE176,VLOOKUP(CX176,'Таблица CRC'!$A$43:$C$298,3,FALSE))","v":167},{"$f":"MyXor(CF176,VLOOKUP(CY176,'Таблица CRC'!$A$43:$C$298,3,FALSE))","v":44},null,null,null,null,null,null,null,null,null,null,null,null,null,null,{"$f":"CONCATENATE(DEC2HEX(CA176,2),\" \",DEC2HEX(CB176,2),\" \",DEC2HEX(CC176,2),\" \",DEC2HEX(CD176,2),\" \",DEC2HEX(CE176,2),\" \",DEC2HEX(CZ176,2))","v":"64 05 00 80 80 2C"}]
["Принято в обработку",null,null,"Принято в обработку",null,null,null,null,null,null,null,null,null,null,null,null,null,null,null,null,null,null,null,null,null,null,null,null,null,null,null,null,null,null,null,null,"E4 06 9E 33 32 CA AF","E4",6,"9E",33,32,"CA","AF",null,null,null,null,null,null,null,null,null,null,null,null,null,228,6,158,51,50,202,175,0,0,0,0,0,0,0,0,0,0,0,0,0,50,100,6,0,1,0,248,null,null,null,null,null,null,null,null,null,null,null,null,null,null,100,{"$f":"MyXor(CB177,VLOOKUP(CU177,'Таблица CRC'!$A$43:$C$298,3,FALSE))","v":2},{"$f":"MyXor(CC177,VLOOKUP(CV177,'Таблица CRC'!$A$43:$C$298,3,FALSE))","v":188},{"$f":"MyXor(CD177,VLOOKUP(CW177,'Таблица CRC'!$A$43:$C$298,3,FALSE))","v":144},{"$f":"MyXor(CE177,VLOOKUP(CX177,'Таблица CRC'!$A$43:$C$298,3,FALSE))","v":17},{"$f":"MyXor(CF177,VLOOKUP(CY177,'Таблица CRC'!$A$43:$C$298,3,FALSE))","v":59},{"$f":"MyXor(CG177,VLOOKUP(CZ177,'Таблица CRC'!$A$43:$C$298,3,FALSE))","v":158},null,null,null,null,null,null,null,null,null,null,null,null,null,"64 06 00 01 00 F8 9E"]
["ключ шифрования-143",143,null,"ключ шифрования-143",null,null,null,null,null,null,null,null,null,null,null,null,null,null,null,null,null,null,null,null,null,null,null,null,null,null,null,null,null,null,null,null,"E4 09 3C 35 2D 32 32 32 32 B2","E4",9,"3C",35,"2D",32,32,32,32,"B2",null,null,null,null,null,null,null,null,null,null,228,9,60,53,45,50,50,50,50,178,0,0,0,0,0,0,0,0,0,0,144,100,9,0,165,189,162,162,162,162,null,null,null,null,null,null,null,null,null,null,null,100,{"$f":"MyXor(CB178,VLOOKUP(CU178,'Таблица CRC'!$A$43:$C$298,3,FALSE))","v":13},{"$f":"MyXor(CC178,VLOOKUP(CV178,'Таблица CRC'!$A$43:$C$298,3,FALSE))","v":253},{"$f":"MyXor(CD178,VLOOKUP(CW178,'Таблица CRC'!$A$43:$C$298,3,FALSE))","v":44},{"$f":"MyXor(CE178,VLOOKUP(CX178,'Таблица CRC'!$A$43:$C$298,3,FALSE))","v":61},{"$f":"MyXor(CF178,VLOOKUP(CY178,'Таблица CRC'!$A$43:$C$298,3,FALSE))","v":225},{"$f":"MyXor(CG178,VLOOKUP(CZ178,'Таблица CRC'!$A$43:$C$298,3,FALSE))","v":21},{"$f":"MyXor(CH178,VLOOKUP(DA178,'Таблица CRC'!$A$43:$C$298,3,FALSE))","v":0},{"$f":"MyXor(CI178,VLOOKUP(DB178,'Таблица CRC'!$A$43:$C$298,3,FALSE))","v":162},{"$f":"MyXor(CJ178,VLOOKUP(DC178,'Таблица CRC'!$A$43:$C$298,3,FALSE))","v":19},null,null,null,null,null,null,null,null,null,null,{"$f":"CONCATENATE(DEC2HEX(CA178,2),\" \",DEC2HEX(CB178,2),\" \",DEC2HEX(CC178,2),\" \",DEC2HEX(CD178,2),\" \",DEC2HEX(CE178,2),\" \",DEC2HEX(CF178,2),\" \",DEC2HEX(CG178,2),\" \",DEC2HEX(CH178,2),\" \",DEC2HEX(CI178,2),\" \",DEC2HEX(DD178,2))","v":"64 09 00 A5 BD A2 A2 A2 A2 13"}]
["zapros.s 43,4,7,",null,null,"zapros.s 43",4,7,null,null,null,null,null,null,null,null,null,null,null,null,null,null,null,null,null,null,null,null,null,null,null,null,null,null,null,null,null,null,"E4 06 9E 31 32 32 56","E4",6,"9E",31,32,32,56,null,null,null,null,null,null,null,null,null,null,null,null,null,228,6,158,49,50,50,86,0,0,0,0,0,0,0,0,0,0,0,0,0,50,100,6,0,3,0,0,null,null,null,null,null,null,null,null,null,null,null,null,null,null,100,{"$f":"MyXor(CB179,VLOOKUP(CU179,'Таблица CRC'!$A$43:$C$298,3,FALSE))","v":2},{"$f":"MyXor(CC179,VLOOKUP(CV179,'Таблица CRC'!$A$43:$C$298,3,FALSE))","v":188},{"$f":"MyXor(CD179,VLOOKUP(CW179,'Таблица CRC'!$A$43:$C$298,3,FALSE))","v":146},{"$f":"MyXor(CE179,VLOOKUP(CX179,'Таблица CRC'!$A$43:$C$298,3,FALSE))","v":173},{"$f":"MyXor(CF179,VLOOKUP(CY179,'Таблица CRC'!$A$43:$C$298,3,FALSE))","v":82},{"$f":"MyXor(CG179,VLOOKUP(CZ179,'Таблица CRC'!$A$43:$C$298,3,FALSE))","v":103},null,null,null,null,null,null,null,null,null,null,null,null,null,"64 06 00 03 00 00 67"]
["228,5,163,143,143,172,",null,{"$f":"MyXor(F180,$C$1)","v":15},228,5,163,143,143,172,null,null,null,null,{"$f":"IF(D180>127,D180-128,D180)","v":100},{"$f":"E180","v":5},{"$f":"MyXor(F180,$B182)","v":172},{"$f":"MyXor(G180,$B182)","v":128},{"$f":"MyXor(H180,$B182)","v":128},{"$f":"MyXor(I180,$B182)","v":163},{"$f":"MyXor(J180,$B182)","v":15},{"$f":"MyXor(K180,$B182)","v":15},{"$f":"MyXor(L180,$B182)","v":15},{"$f":"MyXor(M180,$B182)","v":15},null,100,5,0,128,128,163,15,15,15,15,null,null,"E4 08 C2 45 6A 71 6E 6F 30","E4",8,"C2",45,"6A",71,"6E","6F",30,null,null,null,null,null,null,null,null,null,null,null,228,8,194,69,106,113,110,111,48,0,0,0,0,0,0,0,0,0,0,0,110,100,8,0,43,4,31,0,1,null,null,null,null,null,null,null,null,null,null,null,null,100,{"$f":"MyXor(CB180,VLOOKUP(CU180,'Таблица CRC'!$A$43:$C$298,3,FALSE))","v":12},{"$f":"MyXor(CC180,VLOOKUP(CV180,'Таблица CRC'!$A$43:$C$298,3,FALSE))","v":163},{"$f":"MyXor(CD180,VLOOKUP(CW180,'Таблица CRC'!$A$43:$C$298,3,FALSE))","v":102},{"$f":"MyXor(CE180,VLOOKUP(CX180,'Таблица CRC'!$A$43:$C$298,3,FALSE))","v":188},{"$f":"MyXor(CF180,VLOOKUP(CY180,'Таблица CRC'!$A$43:$C$298,3,FALSE))","v":142},{"$f":"MyXor(CG180,VLOOKUP(CZ180,'Таблица CRC'!$A$43:$C$298,3,FALSE))","v":147},{"$f":"MyXor(CH180,VLOOKUP(DA180,'Таблица CRC'!$A$43:$C$298,3,FALSE))","v":242},{"$f":"MyXor(CI180,VLOOKUP(DB180,'Таблица CRC'!$A$43:$C$298,3,FALSE))","v":200},null,null,null,null,null,null,null,null,null,null,null,{"$f":"CONCATENATE(DEC2HEX(CA180,2),\" \",DEC2HEX(CB180,2),\" \",DEC2HEX(CC180,2),\" \",DEC2HEX(CD180,2),\" \",DEC2HEX(CE180,2),\" \",DEC2HEX(CF180,2),\" \",DEC2HEX(CG180,2),\" \",DEC2HEX(CH180,2),\" \",DEC2HEX(DC180,2))","v":"64 08 00 2B 04 1F 00 01 C8"}]
["Принято в обработку",null,null,"Принято в обработку",null,null,null,null,null,null,null,null,null,null,null,null,null,null,null,null,null,null,null,null,null,null,null,null,null,null,null,null,null,null,null,null,"E4 05 42 6E 6E C6","E4",5,42,"6E","6E","C6",null,null,null,null,null,null,null,null,null,null,null,null,null,null,228,5,66,110,110,198,0,0,0,0,0,0,0,0,0,0,0,0,0,0,238,100,5,0,128,128,null,null,null,null,null,null,null,null,null,null,null,null,null,null,null,100,{"$f":"MyXor(CB181,VLOOKUP(CU181,'Таблица CRC'!$A$43:$C$298,3,FALSE))","v":1},{"$f":"MyXor(CC181,VLOOKUP(CV181,'Таблица CRC'!$A$43:$C$298,3,FALSE))","v":94},{"$f":"MyXor(CD181,VLOOKUP(CW181,'Таблица CRC'!$A$43:$C$298,3,FALSE))","v":68},{"$f":"MyXor(CE181,VLOOKUP(CX181,'Таблица CRC'!$A$43:$C$298,3,FALSE))","v":167},{"$f":"MyXor(CF181,VLOOKUP(CY181,'Таблица CRC'!$A$43:$C$298,3,FALSE))","v":44},null,null,null,null,null,null,null,null,null,null,null,null,null,null,{"$f":"CONCATENATE(DEC2HEX(CA181,2),\" \",DEC2HEX(CB181,2),\" \",DEC2HEX(CC181,2),\" \",DEC2HEX(CD181,2),\" \",DEC2HEX(CE181,2),\" \",DEC2HEX(CZ181,2))","v":"64 05 00 80 80 2C"}]
["otvet 44,0,0,",15,null,"otvet 44",0,0,null,null,null,null,null,null,null,null,null,null,null,null,null,null,null,null,null,null,null,null,null,null,null,null,null,null,null,null,null,null,"E4 06 6A C7 C6 3E A0","E4",6,"6A","C7","C6","3E","A0",null,null,null,null,null,null,null,null,null,null,null,null,null,228,6,106,199,198,62,160,0,0,0,0,0,0,0,0,0,0,0,0,0,198,100,6,0,1,0,248,null,null,null,null,null,null,null,null,null,null,null,null,null,null,100,{"$f":"MyXor(CB182,VLOOKUP(CU182,'Таблица CRC'!$A$43:$C$298,3,FALSE))","v":2},{"$f":"MyXor(CC182,VLOOKUP(CV182,'Таблица CRC'!$A$43:$C$298,3,FALSE))","v":188},{"$f":"MyXor(CD182,VLOOKUP(CW182,'Таблица CRC'!$A$43:$C$298,3,FALSE))","v":144},{"$f":"MyXor(CE182,VLOOKUP(CX182,'Таблица CRC'!$A$43:$C$298,3,FALSE))","v":17},{"$f":"MyXor(CF182,VLOOKUP(CY182,'Таблица CRC'!$A$43:$C$298,3,FALSE))","v":59},{"$f":"MyXor(CG182,VLOOKUP(CZ182,'Таблица CRC'!$A$43:$C$298,3,FALSE))","v":158},null,null,null,null,null,null,null,null,null,null,null,null,null,"64 06 00 01 00 F8 9E"]
["228,6,146,63,62,198,252,",null,{"$f":"MyXor(F183,$C$1)","v":62},228,6,146,63,62,198,252,null,null,null,{"$f":"IF(D183>127,D183-128,D183)","v":100},{"$f":"E183","v":6},{"$f":"MyXor(F183,$B185)","v":172},{"$f":"MyXor(G183,$B185)","v":1},{"$f":"MyXor(H183,$B185)","v":0},{"$f":"MyXor(I183,$B185)","v":248},{"$f":"MyXor(J183,$B185)","v":194},{"$f":"MyXor(K183,$B185)","v":62},{"$f":"MyXor(L183,$B185)","v":62},{"$f":"MyXor(M183,$B185)","v":62},null,100,6,0,1,0,248,194,62,62,62,null,null,"E4 09 C8 C1 E6 C6 C6 C6 C6 25","E4",9,"C8","C1","E6","C6","C6","C6","C6",25,null,null,null,null,null,null,null,null,null,null,228,9,200,193,230,198,198,198,198,37,0,0,0,0,0,0,0,0,0,0,100,100,9,0,165,130,162,162,162,162,null,null,null,null,null,null,null,null,null,null,null,100,{"$f":"MyXor(CB183,VLOOKUP(CU183,'Таблица CRC'!$A$43:$C$298,3,FALSE))","v":13},{"$f":"MyXor(CC183,VLOOKUP(CV183,'Таблица CRC'!$A$43:$C$298,3,FALSE))","v":253},{"$f":"MyXor(CD183,VLOOKUP(CW183,'Таблица CRC'!$A$43:$C$298,3,FALSE))","v":44},{"$f":"MyXor(CE183,VLOOKUP(CX183,'Таблица CRC'!$A$43:$C$298,3,FALSE))","v":2},{"$f":"MyXor(CF183,VLOOKUP(CY183,'Таблица CRC'!$A$43:$C$298,3,FALSE))","v":30},{"$f":"MyXor(CG183,VLOOKUP(CZ183,'Таблица CRC'!$A$43:$C$298,3,FALSE))","v":32},{"$f":"MyXor(CH183,VLOOKUP(DA183,'Таблица CRC'!$A$43:$C$298,3,FALSE))","v":129},{"$f":"MyXor(CI183,VLOOKUP(DB183,'Таблица CRC'!$A$43:$C$298,3,FALSE))","v":112},{"$f":"MyXor(CJ183,VLOOKUP(DC183,'Таблица CRC'!$A$43:$C$298,3,FALSE))","v":248},null,null,null,null,null,null,null,null,null,null,{"$f":"CONCATENATE(DEC2HEX(CA183,2),\" \",DEC2HEX(CB183,2),\" \",DEC2HEX(CC183,2),\" \",DEC2HEX(CD183,2),\" \",DEC2HEX(CE183,2),\" \",DEC2HEX(CF183,2),\" \",DEC2HEX(CG183,2),\" \",DEC2HEX(CH183,2),\" \",DEC2HEX(CI183,2),\" \",DEC2HEX(DD183,2))","v":"64 09 00 A5 82 A2 A2 A2 A2 F8"}]
["Принято в обработку",null,null,"Принято в обработку",null,null,null,null,null,null,null,null,null,null,null,null,null,null,null,null,null,null,null,null,null,null,null,null,null,null,null,null,null,null,null,null,"E4 06 6A C5 C6 C6 59","E4",6,"6A","C5","C6","C6",59,null,null,null,null,null,null,null,null,null,null,null,null,null,228,6,106,197,198,198,89,0,0,0,0,0,0,0,0,0,0,0,0,0,198,100,6,0,3,0,0,null,null,null,null,null,null,null,null,null,null,null,null,null,null,100,{"$f":"MyXor(CB184,VLOOKUP(CU184,'Таблица CRC'!$A$43:$C$298,3,FALSE))","v":2},{"$f":"MyXor(CC184,VLOOKUP(CV184,'Таблица CRC'!$A$43:$C$298,3,FALSE))","v":188},{"$f":"MyXor(CD184,VLOOKUP(CW184,'Таблица CRC'!$A$43:$C$298,3,FALSE))","v":146},{"$f":"MyXor(CE184,VLOOKUP(CX184,'Таблица CRC'!$A$43:$C$298,3,FALSE))","v":173},{"$f":"MyXor(CF184,VLOOKUP(CY184,'Таблица CRC'!$A$43:$C$298,3,FALSE))","v":82},{"$f":"MyXor(CG184,VLOOKUP(CZ184,'Таблица CRC'!$A$43:$C$298,3,FALSE))","v":103},null,null,null,null,null,null,null,null,null,null,null,null,null,"64 06 00 03 00 00 67"]
["ключ шифрования-62",62,null,"ключ шифрования-62",null,null,null,null,null,null,null,null,null,null,null,null,null,null,null,null,null,null,null,null,null,null,null,null,null,null,null,null,null,null,null,null,"E4 08 E2 65 4A 6E 4E 4F F9","E4",8,"E2",65,"4A","6E","4E","4F","F9",null,null,null,null,null,null,null,null,null,null,null,228,8,226,101,74,110,78,79,249,0,0,0,0,0,0,0,0,0,0,0,78,100,8,0,43,4,32,0,1,null,null,null,null,null,null,null,null,null,null,null,null,100,{"$f":"MyXor(CB185,VLOOKUP(CU185,'Таблица CRC'!$A$43:$C$298,3,FALSE))","v":12},{"$f":"MyXor(CC185,VLOOKUP(CV185,'Таблица CRC'!$A$43:$C$298,3,FALSE))","v":163},{"$f":"MyXor(CD185,VLOOKUP(CW185,'Таблица CRC'!$A$43:$C$298,3,FALSE))","v":102},{"$f":"MyXor(CE185,VLOOKUP(CX185,'Таблица CRC'!$A$43:$C$298,3,FALSE))","v":188},{"$f":"MyXor(CF185,VLOOKUP(CY185,'Таблица CRC'!$A$43:$C$298,3,FALSE))","v":177},{"$f":"MyXor(CG185,VLOOKUP(CZ185,'Таблица CRC'!$A$43:$C$298,3,FALSE))","v":108},{"$f":"MyXor(CH185,VLOOKUP(DA185,'Таблица CRC'!$A$43:$C$298,3,FALSE))","v":199},{"$f":"MyXor(CI185,VLOOKUP(DB185,'Таблица CRC'!$A$43:$C$298,3,FALSE))","v":73},null,null,null,null,null,null,null,null,null,null,null,{"$f":"CONCATENATE(DEC2HEX(CA185,2),\" \",DEC2HEX(CB185,2),\" \",DEC2HEX(CC185,2),\" \",DEC2HEX(CD185,2),\" \",DEC2HEX(CE185,2),\" \",DEC2HEX(CF185,2),\" \",DEC2HEX(CG185,2),\" \",DEC2HEX(CH185,2),\" \",DEC2HEX(DC185,2))","v":"64 08 00 2B 04 20 00 01 49"}]
["zapros.s 1,0,248,",null,null,"zapros.s 1",0,248,null,null,null,null,null,null,null,null,null,null,null,null,null,null,null,null,null,null,null,null,null,null,null,null,null,null,null,null,null,null,"E4 05 62 4E 4E B0","E4",5,62,"4E","4E","B0",null,null,null,null,null,null,null,null,null,null,null,null,null,null,228,5,98,78,78,176,0,0,0,0,0,0,0,0,0,0,0,0,0,0,206,100,5,0,128,128,null,null,null,null,null,null,null,null,null,null,null,null,null,null,null,100,{"$f":"MyXor(CB186,VLOOKUP(CU186,'Таблица CRC'!$A$43:$C$298,3,FALSE))","v":1},{"$f":"MyXor(CC186,VLOOKUP(CV186,'Таблица CRC'!$A$43:$C$298,3,FALSE))","v":94},{"$f":"MyXor(CD186,VLOOKUP(CW186,'Таблица CRC'!$A$43:$C$298,3,FALSE))","v":68},{"$f":"MyXor(CE186,VLOOKUP(CX186,'Таблица CRC'!$A$43:$C$298,3,FALSE))","v":167},{"$f":"MyXor(CF186,VLOOKUP(CY186,'Таблица CRC'!$A$43:$C$298,3,FALSE))","v":44},null,null,null,null,null,null,null,null,null,null,null,null,null,null,{"$f":"CONCATENATE(DEC2HEX(CA186,2),\" \",DEC2HEX(CB186,2),\" \",DEC2HEX(CC186,2),\" \",DEC2HEX(CD186,2),\" \",DEC2HEX(CE186,2),\" \",DEC2HEX(CZ186,2))","v":"64 05 00 80 80 2C"}]
["ОТВЕТ ЭМУЛЯТОРА 60,61,62,",null,null,"ОТВЕТ ЭМУЛЯТОРА 60",61,62,null,null,null,null,null,null,null,null,null,null,null,null,null,null,null,null,null,null,null,null,null,null,null,null,null,null,null,null,null,null,"E4 06 2B 86 87 7F C6","E4",6,"2B",86,87,"7F","C6",null,null,null,null,null,null,null,null,null,null,null,null,null,228,6,43,134,135,127,198,0,0,0,0,0,0,0,0,0,0,0,0,0,135,100,6,0,1,0,248,null,null,null,null,null,null,null,null,null,null,null,null,null,null,100,{"$f":"MyXor(CB187,VLOOKUP(CU187,'Таблица CRC'!$A$43:$C$298,3,FALSE))","v":2},{"$f":"MyXor(CC187,VLOOKUP(CV187,'Таблица CRC'!$A$43:$C$298,3,FALSE))","v":188},{"$f":"MyXor(CD187,VLOOKUP(CW187,'Таблица CRC'!$A$43:$C$298,3,FALSE))","v":144},{"$f":"MyXor(CE187,VLOOKUP(CX187,'Таблица CRC'!$A$43:$C$298,3,FALSE))","v":17},{"$f":"MyXor(CF187,VLOOKUP(CY187,'Таблица CRC'!$A$43:$C$298,3,FALSE))","v":59},{"$f":"MyXor(CG187,VLOOKUP(CZ187,'Таблица CRC'!$A$43:$C$298,3,FALSE))","v":158},null,null,null,null,null,null,null,null,null,null,null,null,null,"64 06 00 01 00 F8 9E"]
["228,9,48,57,54,62,62,62,62,129,",null,{"$f":"MyXor(F188,$C$1)","v":156},228,9,48,57,54,62,62,62,62,129,{"$f":"IF(D188>127,D188-128,D188)","v":100},{"$f":"E188","v":9},{"$f":"MyXor(F188,$B190)","v":172},{"$f":"MyXor(G188,$B190)","v":165},{"$f":"MyXor(H188,$B190)","v":170},{"$f":"MyXor(I188,$B190)","v":162},{"$f":"MyXor(J188,$B190)","v":162},{"$f":"MyXor(K188,$B190)","v":162},{"$f":"MyXor(L188,$B190)","v":162},{"$f":"MyXor(M188,$B190)","v":29},null,100,9,0,165,170,162,162,162,162,null,null,null,"E4 11 89 88 86 85 87 87 77 96 96 78 78 78 78 93 85 C6","E4",11,89,88,86,85,87,87,77,96,96,78,78,78,78,93,85,"C6",null,null,228,17,137,136,134,133,135,135,119,150,150,120,120,120,120,147,133,198,0,0,37,100,17,0,173,163,160,162,162,82,179,179,93,93,93,93,182,160,null,null,null,100,{"$f":"MyXor(CB188,VLOOKUP(CU188,'Таблица CRC'!$A$43:$C$298,3,FALSE))","v":21},{"$f":"MyXor(CC188,VLOOKUP(CV188,'Таблица CRC'!$A$43:$C$298,3,FALSE))","v":162},{"$f":"MyXor(CD188,VLOOKUP(CW188,'Таблица CRC'!$A$43:$C$298,3,FALSE))","v":190},{"$f":"MyXor(CE188,VLOOKUP(CX188,'Таблица CRC'!$A$43:$C$298,3,FALSE))","v":142},{"$f":"MyXor(CF188,VLOOKUP(CY188,'Таблица CRC'!$A$43:$C$298,3,FALSE))","v":51},{"$f":"MyXor(CG188,VLOOKUP(CZ188,'Таблица CRC'!$A$43:$C$298,3,FALSE))","v":254},{"$f":"MyXor(CH188,VLOOKUP(DA188,'Таблица CRC'!$A$43:$C$298,3,FALSE))","v":201},{"$f":"MyXor(CI188,VLOOKUP(DB188,'Таблица CRC'!$A$43:$C$298,3,FALSE))","v":4},{"$f":"MyXor(CJ188,VLOOKUP(DC188,'Таблица CRC'!$A$43:$C$298,3,FALSE))","v":210},{"$f":"MyXor(CK188,VLOOKUP(DD188,'Таблица CRC'!$A$43:$C$298,3,FALSE))","v":88},{"$f":"MyXor(CL188,VLOOKUP(DE188,'Таблица CRC'!$A$43:$C$298,3,FALSE))","v":68},{"$f":"MyXor(CM188,VLOOKUP(DF188,'Таблица CRC'!$A$43:$C$298,3,FALSE))","v":122},{"$f":"MyXor(CN188,VLOOKUP(DG188,'Таблица CRC'!$A$43:$C$298,3,FALSE))","v":219},{"$f":"MyXor(CO188,VLOOKUP(DH188,'Таблица CRC'!$A$43:$C$298,3,FALSE))","v":42},{"$f":"MyXor(CP188,VLOOKUP(DI188,'Таблица CRC'!$A$43:$C$298,3,FALSE))","v":235},{"$f":"MyXor(CQ188,VLOOKUP(DJ188,'Таблица CRC'!$A$43:$C$298,3,FALSE))","v":105},{"$f":"MyXor(CR188,VLOOKUP(DK188,'Таблица CRC'!$A$43:$C$298,3,FALSE))","v":249},null,null,{"$f":"CONCATENATE(DEC2HEX(CA188,2),\" \",DEC2HEX(CB188,2),\" \",DEC2HEX(CC188,2),\" \",DEC2HEX(CD188,2),\" \",DEC2HEX(CE188,2),\" \",DEC2HEX(CF188,2),\" \",DEC2HEX(CG188,2),\" \",DEC2HEX(CH188,2),\" \",DEC2HEX(CI188,2),\" \",DEC2HEX(CJ188,2),\" \",DEC2HEX(CK188,2),\" \",DEC2HEX(CL188,2),\" \",DEC2HEX(CM188,2),\" \",DEC2HEX(CN188,2),\" \",DEC2HEX(CO188,2),\" \",DEC2HEX(CP188,2),\" \",DEC2HEX(CQ188,2),\" \",DEC2HEX(DL188,2))","v":"64 11 00 AD A3 A0 A2 A2 52 B3 B3 5D 5D 5D 5D B6 A0 F9"}]
["Принято в обработку",null,null,"Принято в обработку",null,null,null,null,null,null,null,null,null,null,null,null,null,null,null,null,null,null,null,null,{"$f":"MyXor(Y188,0)","v":100},{"$f":"MyXor(Z188,VLOOKUP(Y189,'Таблица CRC'!$A$43:$C$298,3,FALSE))","v":13},{"$f":"MyXor(AA188,VLOOKUP(Z189,'Таблица CRC'!$A$43:$C$298,3,FALSE))","v":253},{"$f":"MyXor(AB188,VLOOKUP(AA189,'Таблица CRC'!$A$43:$C$298,3,FALSE))","v":44},{"$f":"MyXor(AC188,VLOOKUP(AB189,'Таблица CRC'!$A$43:$C$298,3,FALSE))","v":42},{"$f":"MyXor(AD188,VLOOKUP(AC189,'Таблица CRC'!$A$43:$C$298,3,FALSE))","v":255},{"$f":"MyXor(AE188,VLOOKUP(AD189,'Таблица CRC'!$A$43:$C$298,3,FALSE))","v":151},{"$f":"MyXor(AF188,VLOOKUP(AE189,'Таблица CRC'!$A$43:$C$298,3,FALSE))","v":48},{"$f":"MyXor(AG188,VLOOKUP(AF189,'Таблица CRC'!$A$43:$C$298,3,FALSE))","v":28},{"$f":"MyXor(AH188,VLOOKUP(AG189,'Таблица CRC'!$A$43:$C$298,3,FALSE))","v":62},null,null,"E4 06 2B 84 87 87 3F","E4",6,"2B",84,87,87,"3F",null,null,null,null,null,null,null,null,null,null,null,null,null,228,6,43,132,135,135,63,0,0,0,0,0,0,0,0,0,0,0,0,0,135,100,6,0,3,0,0,null,null,null,null,null,null,null,null,null,null,null,null,null,null,100,{"$f":"MyXor(CB189,VLOOKUP(CU189,'Таблица CRC'!$A$43:$C$298,3,FALSE))","v":2},{"$f":"MyXor(CC189,VLOOKUP(CV189,'Таблица CRC'!$A$43:$C$298,3,FALSE))","v":188},{"$f":"MyXor(CD189,VLOOKUP(CW189,'Таблица CRC'!$A$43:$C$298,3,FALSE))","v":146},{"$f":"MyXor(CE189,VLOOKUP(CX189,'Таблица CRC'!$A$43:$C$298,3,FALSE))","v":173},{"$f":"MyXor(CF189,VLOOKUP(CY189,'Таблица CRC'!$A$43:$C$298,3,FALSE))","v":82},{"$f":"MyXor(CG189,VLOOKUP(CZ189,'Таблица CRC'!$A$43:$C$298,3,FALSE))","v":103},null,null,null,null,null,null,null,null,null,null,null,null,null,"64 06 00 03 00 00 67"]
["ключ шифрования-156",156,null,"ключ шифрования-156",null,null,null,null,null,null,null,null,null,null,null,null,null,null,null,null,null,null,null,null,{"$f":"DEC2HEX(Y188,2)","v":"64"},{"$f":"DEC2HEX(Z188,2)","v":"09"},"00","A5","AA","A2","A2","A2","A2",{"$f":"DEC2HEX(AH189,2)","v":"3E"},{"$f":"CONCATENATE(Y190,\" \",Z190,\" \",AA190,\" \",AB190,\" \",AC190,\" \",AD190,\" \",AE190,\" \",AF190,\" \",AG190,\" \",AH190)","v":"64 09 00 A5 AA A2 A2 A2 A2 3E"},"64 05 0A 00 00 E5","E4 13 7B FC C6 D6 D5 D7 C7 D1 27 C6 C6 28 28 28 28 C3 CF 6F","E4",13,"7B","FC","C6","D6","D5","D7","C7","D1",27,"C6","C6",28,28,28,28,"C3","CF","6F",228,19,123,252,198,214,213,215,199,209,39,198,198,40,40,40,40,195,207,111,215,100,19,0,43,17,1,2,0,16,6,240,17,17,255,255,255,255,20,24,null,100,{"$f":"MyXor(CB190,VLOOKUP(CU190,'Таблица CRC'!$A$43:$C$298,3,FALSE))","v":23},{"$f":"MyXor(CC190,VLOOKUP(CV190,'Таблица CRC'!$A$43:$C$298,3,FALSE))","v":30},{"$f":"MyXor(CD190,VLOOKUP(CW190,'Таблица CRC'!$A$43:$C$298,3,FALSE))","v":169},{"$f":"MyXor(CE190,VLOOKUP(CX190,'Таблица CRC'!$A$43:$C$298,3,FALSE))","v":34},{"$f":"MyXor(CF190,VLOOKUP(CY190,'Таблица CRC'!$A$43:$C$298,3,FALSE))","v":158},{"$f":"MyXor(CG190,VLOOKUP(CZ190,'Таблица CRC'!$A$43:$C$298,3,FALSE))","v":12},{"$f":"MyXor(CH190,VLOOKUP(DA190,'Таблица CRC'!$A$43:$C$298,3,FALSE))","v":163},{"$f":"MyXor(CI190,VLOOKUP(DB190,'Таблица CRC'!$A$43:$C$298,3,FALSE))","v":93},{"$f":"MyXor(CJ190,VLOOKUP(DC190,'Таблица CRC'!$A$43:$C$298,3,FALSE))","v":32},{"$f":"MyXor(CK190,VLOOKUP(DD190,'Таблица CRC'!$A$43:$C$298,3,FALSE))","v":211},{"$f":"MyXor(CL190,VLOOKUP(DE190,'Таблица CRC'!$A$43:$C$298,3,FALSE))","v":164},{"$f":"MyXor(CM190,VLOOKUP(DF190,'Таблица CRC'!$A$43:$C$298,3,FALSE))","v":223},{"$f":"MyXor(CN190,VLOOKUP(DG190,'Таблица CRC'!$A$43:$C$298,3,FALSE))","v":233},{"$f":"MyXor(CO190,VLOOKUP(DH190,'Таблица CRC'!$A$43:$C$298,3,FALSE))","v":138},{"$f":"MyXor(CP190,VLOOKUP(DI190,'Таблица CRC'!$A$43:$C$298,3,FALSE))","v":13},{"$f":"MyXor(CQ190,VLOOKUP(DJ190,'Таблица CRC'!$A$43:$C$298,3,FALSE))","v":2},{"$f":"MyXor(CR190,VLOOKUP(DK190,'Таблица CRC'!$A$43:$C$298,3,FALSE))","v":168},{"$f":"MyXor(CS190,VLOOKUP(DL190,'Таблица CRC'!$A$43:$C$298,3,FALSE))","v":117},{"$f":"MyXor(CT190,VLOOKUP(DM190,'Таблица CRC'!$A$43:$C$298,3,FALSE))","v":199},{"$f":"CONCATENATE(DEC2HEX(CA190,2),\" \",DEC2HEX(CB190,2),\" \",DEC2HEX(CC190,2),\" \",DEC2HEX(CD190,2),\" \",DEC2HEX(CE190,2),\" \",DEC2HEX(CF190,2),\" \",DEC2HEX(CG190,2),\" \",DEC2HEX(CH190,2),\" \",DEC2HEX(CI190,2),\" \",DEC2HEX(CJ190,2),\" \",DEC2HEX(CK190,2),\" \",DEC2HEX(CL190,2),\" \",DEC2HEX(CM190,2),\" \",DEC2HEX(CN190,2),\" \",DEC2HEX(CO190,2),\" \",DEC2HEX(CP190,2),\" \",DEC2HEX(CQ190,2),\" \",DEC2HEX(CR190,2),\" \",DEC2HEX(CS190,2),\" \",DEC2HEX(DN190,2))","v":"64 13 00 2B 11 01 02 00 10 06 F0 11 11 FF FF FF FF 14 18 C7"}]
["zapros.s 165,170,162,",null,null,"zapros.s 165",170,162,null,null,null,null,null,null,null,null,null,null,null,null,null,null,null,null,null,null,null,null,null,null,null,null,null,null,null,null,null,null,"E4 05 FB D7 D7 EA","E4",5,"FB","D7","D7","EA",null,null,null,null,null,null,null,null,null,null,null,null,null,null,228,5,251,215,215,234,0,0,0,0,0,0,0,0,0,0,0,0,0,0,87,100,5,0,128,128,null,null,null,null,null,null,null,null,null,null,null,null,null,null,null,100,{"$f":"MyXor(CB191,VLOOKUP(CU191,'Таблица CRC'!$A$43:$C$298,3,FALSE))","v":1},{"$f":"MyXor(CC191,VLOOKUP(CV191,'Таблица CRC'!$A$43:$C$298,3,FALSE))","v":94},{"$f":"MyXor(CD191,VLOOKUP(CW191,'Таблица CRC'!$A$43:$C$298,3,FALSE))","v":68},{"$f":"MyXor(CE191,VLOOKUP(CX191,'Таблица CRC'!$A$43:$C$298,3,FALSE))","v":167},{"$f":"MyXor(CF191,VLOOKUP(CY191,'Таблица CRC'!$A$43:$C$298,3,FALSE))","v":44},null,null,null,null,null,null,null,null,null,null,null,null,null,null,{"$f":"CONCATENATE(DEC2HEX(CA191,2),\" \",DEC2HEX(CB191,2),\" \",DEC2HEX(CC191,2),\" \",DEC2HEX(CD191,2),\" \",DEC2HEX(CE191,2),\" \",DEC2HEX(CZ191,2))","v":"64 05 00 80 80 2C"}]
["228,6,146,61,62,62,17,",null,{"$f":"MyXor(F192,$C$1)","v":62},228,6,146,61,62,62,17,null,null,null,{"$f":"IF(D192>127,D192-128,D192)","v":100},{"$f":"E192","v":6},{"$f":"MyXor(F192,$B194)","v":172},{"$f":"MyXor(G192,$B194)","v":3},{"$f":"MyXor(H192,$B194)","v":0},{"$f":"MyXor(I192,$B194)","v":0},{"$f":"MyXor(J192,$B194)","v":47},{"$f":"MyXor(K192,$B194)","v":62},{"$f":"MyXor(L192,$B194)","v":62},{"$f":"MyXor(M192,$B194)","v":62},null,100,6,0,3,0,0,47,62,62,62,null,null,"E4 06 B6 1B 1A E2 24","E4",6,"B6","1B","1A","E2",24,null,null,null,null,null,null,null,null,null,null,null,null,null,228,6,182,27,26,226,36,0,0,0,0,0,0,0,0,0,0,0,0,0,26,100,6,0,1,0,248,null,null,null,null,null,null,null,null,null,null,null,null,null,null,100,{"$f":"MyXor(CB192,VLOOKUP(CU192,'Таблица CRC'!$A$43:$C$298,3,FALSE))","v":2},{"$f":"MyXor(CC192,VLOOKUP(CV192,'Таблица CRC'!$A$43:$C$298,3,FALSE))","v":188},{"$f":"MyXor(CD192,VLOOKUP(CW192,'Таблица CRC'!$A$43:$C$298,3,FALSE))","v":144},{"$f":"MyXor(CE192,VLOOKUP(CX192,'Таблица CRC'!$A$43:$C$298,3,FALSE))","v":17},{"$f":"MyXor(CF192,VLOOKUP(CY192,'Таблица CRC'!$A$43:$C$298,3,FALSE))","v":59},{"$f":"MyXor(CG192,VLOOKUP(CZ192,'Таблица CRC'!$A$43:$C$298,3,FALSE))","v":158},null,null,null,null,null,null,null,null,null,null,null,null,null,"64 06 00 01 00 F8 9E"]
["Принято в обработку",null,null,"Принято в обработку",null,null,null,null,null,null,null,null,null,null,null,null,null,null,null,null,null,null,null,null,null,null,null,null,null,null,null,null,null,null,null,null,"E4 10 14 17 1B 18 1A EA 0B 0B E5 E5 E5 E5 0E 18 E1","E4",10,14,17,"1B",18,"1A","EA","0B","0B","E5","E5","E5","E5","0E",18,"E1",null,null,null,228,16,20,23,27,24,26,234,11,11,229,229,229,229,14,24,225,0,0,0,184,100,16,0,175,163,160,162,82,179,179,93,93,93,93,182,160,null,null,null,null,100,{"$f":"MyXor(CB193,VLOOKUP(CU193,'Таблица CRC'!$A$43:$C$298,3,FALSE))","v":20},{"$f":"MyXor(CC193,VLOOKUP(CV193,'Таблица CRC'!$A$43:$C$298,3,FALSE))","v":252},{"$f":"MyXor(CD193,VLOOKUP(CW193,'Таблица CRC'!$A$43:$C$298,3,FALSE))","v":120},{"$f":"MyXor(CE193,VLOOKUP(CX193,'Таблица CRC'!$A$43:$C$298,3,FALSE))","v":153},{"$f":"MyXor(CF193,VLOOKUP(CY193,'Таблица CRC'!$A$43:$C$298,3,FALSE))","v":45},{"$f":"MyXor(CG193,VLOOKUP(CZ193,'Таблица CRC'!$A$43:$C$298,3,FALSE))","v":124},{"$f":"MyXor(CH193,VLOOKUP(DA193,'Таблица CRC'!$A$43:$C$298,3,FALSE))","v":9},{"$f":"MyXor(CI193,VLOOKUP(DB193,'Таблица CRC'!$A$43:$C$298,3,FALSE))","v":47},{"$f":"MyXor(CJ193,VLOOKUP(DC193,'Таблица CRC'!$A$43:$C$298,3,FALSE))","v":209},{"$f":"MyXor(CK193,VLOOKUP(DD193,'Таблица CRC'!$A$43:$C$298,3,FALSE))","v":84},{"$f":"MyXor(CL193,VLOOKUP(DE193,'Таблица CRC'!$A$43:$C$298,3,FALSE))","v":231},{"$f":"MyXor(CM193,VLOOKUP(DF193,'Таблица CRC'!$A$43:$C$298,3,FALSE))","v":55},{"$f":"MyXor(CN193,VLOOKUP(DG193,'Таблица CRC'!$A$43:$C$298,3,FALSE))","v":96},{"$f":"MyXor(CO193,VLOOKUP(DH193,'Таблица CRC'!$A$43:$C$298,3,FALSE))","v":211},{"$f":"MyXor(CP193,VLOOKUP(DI193,'Таблица CRC'!$A$43:$C$298,3,FALSE))","v":21},{"$f":"MyXor(CQ193,VLOOKUP(DJ193,'Таблица CRC'!$A$43:$C$298,3,FALSE))","v":162},null,null,null,{"$f":"CONCATENATE(DEC2HEX(CA193,2),\" \",DEC2HEX(CB193,2),\" \",DEC2HEX(CC193,2),\" \",DEC2HEX(CD193,2),\" \",DEC2HEX(CE193,2),\" \",DEC2HEX(CF193,2),\" \",DEC2HEX(CG193,2),\" \",DEC2HEX(CH193,2),\" \",DEC2HEX(CI193,2),\" \",DEC2HEX(CJ193,2),\" \",DEC2HEX(CK193,2),\" \",DEC2HEX(CL193,2),\" \",DEC2HEX(CM193,2),\" \",DEC2HEX(CN193,2),\" \",DEC2HEX(CO193,2),\" \",DEC2HEX(CP193,2),\" \",DEC2HEX(DK193,2))","v":"64 10 00 AF A3 A0 A2 52 B3 B3 5D 5D 5D 5D B6 A0 A2"}]
["ключ шифрования-62",62,null,"ключ шифрования-62",null,null,null,null,null,null,null,null,null,null,null,null,null,null,null,null,null,null,null,null,null,null,null,null,null,null,null,null,null,null,null,null,"E4 06 B6 19 1A 1A DD","E4",6,"B6",19,"1A","1A","DD",null,null,null,null,null,null,null,null,null,null,null,null,null,228,6,182,25,26,26,221,0,0,0,0,0,0,0,0,0,0,0,0,0,26,100,6,0,3,0,0,null,null,null,null,null,null,null,null,null,null,null,null,null,null,100,{"$f":"MyXor(CB194,VLOOKUP(CU194,'Таблица CRC'!$A$43:$C$298,3,FALSE))","v":2},{"$f":"MyXor(CC194,VLOOKUP(CV194,'Таблица CRC'!$A$43:$C$298,3,FALSE))","v":188},{"$f":"MyXor(CD194,VLOOKUP(CW194,'Таблица CRC'!$A$43:$C$298,3,FALSE))","v":146},{"$f":"MyXor(CE194,VLOOKUP(CX194,'Таблица CRC'!$A$43:$C$298,3,FALSE))","v":173},{"$f":"MyXor(CF194,VLOOKUP(CY194,'Таблица CRC'!$A$43:$C$298,3,FALSE))","v":82},{"$f":"MyXor(CG194,VLOOKUP(CZ194,'Таблица CRC'!$A$43:$C$298,3,FALSE))","v":103},null,null,null,null,null,null,null,null,null,null,null,null,null,"64 06 00 03 00 00 67"]
["zapros.s 3,0,0,",null,null,"zapros.s 3",0,0,null,null,null,null,null,null,null,null,null,null,null,null,null,null,null,null,null,null,null,null,null,null,null,null,null,null,null,null,null,null,"E4 06 7A D7 D6 2E 77","E4",6,"7A","D7","D6","2E",77,null,null,null,null,null,null,null,null,null,null,null,null,null,228,6,122,215,214,46,119,0,0,0,0,0,0,0,0,0,0,0,0,0,214,100,6,0,1,0,248,null,null,null,null,null,null,null,null,null,null,null,null,null,null,100,{"$f":"MyXor(CB195,VLOOKUP(CU195,'Таблица CRC'!$A$43:$C$298,3,FALSE))","v":2},{"$f":"MyXor(CC195,VLOOKUP(CV195,'Таблица CRC'!$A$43:$C$298,3,FALSE))","v":188},{"$f":"MyXor(CD195,VLOOKUP(CW195,'Таблица CRC'!$A$43:$C$298,3,FALSE))","v":144},{"$f":"MyXor(CE195,VLOOKUP(CX195,'Таблица CRC'!$A$43:$C$298,3,FALSE))","v":17},{"$f":"MyXor(CF195,VLOOKUP(CY195,'Таблица CRC'!$A$43:$C$298,3,FALSE))","v":59},{"$f":"MyXor(CG195,VLOOKUP(CZ195,'Таблица CRC'!$A$43:$C$298,3,FALSE))","v":158},null,null,null,null,null,null,null,null,null,null,null,null,null,"64 06 00 01 00 F8 9E"]
["228,8,188,59,20,24,16,17,111,",null,{"$f":"MyXor(F196,$C$1)","v":16},228,8,188,59,20,24,16,17,111,null,{"$f":"IF(D196>127,D196-128,D196)","v":100},{"$f":"E196","v":8},{"$f":"MyXor(F196,$B198)","v":172},{"$f":"MyXor(G196,$B198)","v":43},{"$f":"MyXor(H196,$B198)","v":4},{"$f":"MyXor(I196,$B198)","v":8},{"$f":"MyXor(J196,$B198)","v":0},{"$f":"MyXor(K196,$B198)","v":1},{"$f":"MyXor(L196,$B198)","v":127},{"$f":"MyXor(M196,$B198)","v":16},null,100,8,0,43,4,8,0,1,127,16,null,null,"E4 09 D8 D1 F7 D6 D6 D6 D6 37","E4",9,"D8","D1","F7","D6","D6","D6","D6",37,null,null,null,null,null,null,null,null,null,null,228,9,216,209,247,214,214,214,214,55,0,0,0,0,0,0,0,0,0,0,116,100,9,0,165,131,162,162,162,162,null,null,null,null,null,null,null,null,null,null,null,100,{"$f":"MyXor(CB196,VLOOKUP(CU196,'Таблица CRC'!$A$43:$C$298,3,FALSE))","v":13},{"$f":"MyXor(CC196,VLOOKUP(CV196,'Таблица CRC'!$A$43:$C$298,3,FALSE))","v":253},{"$f":"MyXor(CD196,VLOOKUP(CW196,'Таблица CRC'!$A$43:$C$298,3,FALSE))","v":44},{"$f":"MyXor(CE196,VLOOKUP(CX196,'Таблица CRC'!$A$43:$C$298,3,FALSE))","v":3},{"$f":"MyXor(CF196,VLOOKUP(CY196,'Таблица CRC'!$A$43:$C$298,3,FALSE))","v":64},{"$f":"MyXor(CG196,VLOOKUP(CZ196,'Таблица CRC'!$A$43:$C$298,3,FALSE))","v":228},{"$f":"MyXor(CH196,VLOOKUP(DA196,'Таблица CRC'!$A$43:$C$298,3,FALSE))","v":42},{"$f":"MyXor(CI196,VLOOKUP(DB196,'Таблица CRC'!$A$43:$C$298,3,FALSE))","v":255},{"$f":"MyXor(CJ196,VLOOKUP(DC196,'Таблица CRC'!$A$43:$C$298,3,FALSE))","v":53},null,null,null,null,null,null,null,null,null,null,{"$f":"CONCATENATE(DEC2HEX(CA196,2),\" \",DEC2HEX(CB196,2),\" \",DEC2HEX(CC196,2),\" \",DEC2HEX(CD196,2),\" \",DEC2HEX(CE196,2),\" \",DEC2HEX(CF196,2),\" \",DEC2HEX(CG196,2),\" \",DEC2HEX(CH196,2),\" \",DEC2HEX(CI196,2),\" \",DEC2HEX(DD196,2))","v":"64 09 00 A5 83 A2 A2 A2 A2 35"}]
["Принято в обработку",null,null,"Принято в обработку",null,null,null,null,null,null,null,null,null,null,null,null,null,null,null,null,null,null,null,null,null,null,null,null,null,null,null,null,null,null,null,null,"E4 06 7A D5 D6 D6 8E","E4",6,"7A","D5","D6","D6","8E",null,null,null,null,null,null,null,null,null,null,null,null,null,228,6,122,213,214,214,142,0,0,0,0,0,0,0,0,0,0,0,0,0,214,100,6,0,3,0,0,null,null,null,null,null,null,null,null,null,null,null,null,null,null,100,{"$f":"MyXor(CB197,VLOOKUP(CU197,'Таблица CRC'!$A$43:$C$298,3,FALSE))","v":2},{"$f":"MyXor(CC197,VLOOKUP(CV197,'Таблица CRC'!$A$43:$C$298,3,FALSE))","v":188},{"$f":"MyXor(CD197,VLOOKUP(CW197,'Таблица CRC'!$A$43:$C$298,3,FALSE))","v":146},{"$f":"MyXor(CE197,VLOOKUP(CX197,'Таблица CRC'!$A$43:$C$298,3,FALSE))","v":173},{"$f":"MyXor(CF197,VLOOKUP(CY197,'Таблица CRC'!$A$43:$C$298,3,FALSE))","v":82},{"$f":"MyXor(CG197,VLOOKUP(CZ197,'Таблица CRC'!$A$43:$C$298,3,FALSE))","v":103},null,null,null,null,null,null,null,null,null,null,null,null,null,"64 06 00 03 00 00 67"]
["ключ шифрования-16",16,null,"ключ шифрования-16",null,null,null,null,null,null,null,null,null,null,null,null,null,null,null,null,null,null,null,null,null,null,null,null,null,null,null,null,null,null,null,null,"E4 08 8F 08 27 02 23 22 D5","E4",8,"8F",8,27,2,23,22,"D5",null,null,null,null,null,null,null,null,null,null,null,{"$f":"HEX2DEC(AL198)","v":228},{"$f":"HEX2DEC(AM198)","v":8},{"$f":"HEX2DEC(AN198)","v":143},{"$f":"HEX2DEC(AO198)","v":8},{"$f":"HEX2DEC(AP198)","v":39},{"$f":"HEX2DEC(AQ198)","v":2},{"$f":"HEX2DEC(AR198)","v":35},{"$f":"HEX2DEC(AS198)","v":34},{"$f":"HEX2DEC(AT198)","v":213},{"$f":"HEX2DEC(AU198)","v":0},{"$f":"HEX2DEC(AV198)","v":0},{"$f":"HEX2DEC(AW198)","v":0},{"$f":"HEX2DEC(AX198)","v":0},{"$f":"HEX2DEC(AY198)","v":0},{"$f":"HEX2DEC(AZ198)","v":0},{"$f":"HEX2DEC(BA198)","v":0},{"$f":"HEX2DEC(BB198)","v":0},{"$f":"HEX2DEC(BC198)","v":0},{"$f":"HEX2DEC(BD198)","v":0},{"$f":"HEX2DEC(BE198)","v":0},35,100,8,0,43,4,33,0,1,null,null,null,null,null,null,null,null,null,null,null,null,100,{"$f":"MyXor(CB198,VLOOKUP(CU198,'Таблица CRC'!$A$43:$C$298,3,FALSE))","v":12},{"$f":"MyXor(CC198,VLOOKUP(CV198,'Таблица CRC'!$A$43:$C$298,3,FALSE))","v":163},{"$f":"MyXor(CD198,VLOOKUP(CW198,'Таблица CRC'!$A$43:$C$298,3,FALSE))","v":102},{"$f":"MyXor(CE198,VLOOKUP(CX198,'Таблица CRC'!$A$43:$C$298,3,FALSE))","v":188},{"$f":"MyXor(CF198,VLOOKUP(CY198,'Таблица CRC'!$A$43:$C$298,3,FALSE))","v":176},{"$f":"MyXor(CG198,VLOOKUP(CZ198,'Таблица CRC'!$A$43:$C$298,3,FALSE))","v":50},{"$f":"MyXor(CH198,VLOOKUP(DA198,'Таблица CRC'!$A$43:$C$298,3,FALSE))","v":3},{"$f":"MyXor(CI198,VLOOKUP(DB198,'Таблица CRC'!$A$43:$C$298,3,FALSE))","v":226},null,null,null,null,null,null,null,null,null,null,null,{"$f":"CONCATENATE(DEC2HEX(CA198,2),\" \",DEC2HEX(CB198,2),\" \",DEC2HEX(CC198,2),\" \",DEC2HEX(CD198,2),\" \",DEC2HEX(CE198,2),\" \",DEC2HEX(CF198,2),\" \",DEC2HEX(CG198,2),\" \",DEC2HEX(CH198,2),\" \",DEC2HEX(DC198,2))","v":"64 08 00 2B 04 21 00 01 E2"}]
["zapros.s 43,4,8,",null,null,"zapros.s 43",4,8,null,null,null,null,null,null,null,null,null,null,null,null,null,null,null,null,null,null,null,null,null,null,null,null,null,null,null,null,null,null,"E4 05 0F 23 23 4E","E4",5,"0F",23,23,"4E",null,null,null,null,null,null,null,null,null,null,null,null,null,null,228,5,15,35,35,78,0,0,0,0,0,0,0,0,0,0,0,0,0,0,163,100,5,0,128,128,null,null,null,null,null,null,null,null,null,null,null,null,null,null,null,100,{"$f":"MyXor(CB199,VLOOKUP(CU199,'Таблица CRC'!$A$43:$C$298,3,FALSE))","v":1},{"$f":"MyXor(CC199,VLOOKUP(CV199,'Таблица CRC'!$A$43:$C$298,3,FALSE))","v":94},{"$f":"MyXor(CD199,VLOOKUP(CW199,'Таблица CRC'!$A$43:$C$298,3,FALSE))","v":68},{"$f":"MyXor(CE199,VLOOKUP(CX199,'Таблица CRC'!$A$43:$C$298,3,FALSE))","v":167},{"$f":"MyXor(CF199,VLOOKUP(CY199,'Таблица CRC'!$A$43:$C$298,3,FALSE))","v":44},null,null,null,null,null,null,null,null,null,null,null,null,null,null,{"$f":"CONCATENATE(DEC2HEX(CA199,2),\" \",DEC2HEX(CB199,2),\" \",DEC2HEX(CC199,2),\" \",DEC2HEX(CD199,2),\" \",DEC2HEX(CE199,2),\" \",DEC2HEX(CZ199,2))","v":"64 05 00 80 80 2C"}]
["228,5,60,16,16,80,",null,{"$f":"MyXor(F200,$C$1)","v":144},228,5,60,16,16,80,null,null,null,null,{"$f":"IF(D200>127,D200-128,D200)","v":100},{"$f":"E200","v":5},{"$f":"MyXor(F200,$B202)","v":172},{"$f":"MyXor(G200,$B202)","v":128},{"$f":"MyXor(H200,$B202)","v":128},{"$f":"MyXor(I200,$B202)","v":192},{"$f":"MyXor(J200,$B202)","v":144},{"$f":"MyXor(K200,$B202)","v":144},{"$f":"MyXor(L200,$B202)","v":144},{"$f":"MyXor(M200,$B202)","v":144},null,100,5,0,128,128,192,144,144,144,144,null,null,"E4 06 22 8F 8E 76 F5","E4",6,22,"8F","8E",76,"F5",null,null,null,null,null,null,null,null,null,null,null,null,null,228,6,34,143,142,118,245,0,0,0,0,0,0,0,0,0,0,0,0,0,142,100,6,0,1,0,248,null,null,null,null,null,null,null,null,null,null,null,null,null,null,100,{"$f":"MyXor(CB200,VLOOKUP(CU200,'Таблица CRC'!$A$43:$C$298,3,FALSE))","v":2},{"$f":"MyXor(CC200,VLOOKUP(CV200,'Таблица CRC'!$A$43:$C$298,3,FALSE))","v":188},{"$f":"MyXor(CD200,VLOOKUP(CW200,'Таблица CRC'!$A$43:$C$298,3,FALSE))","v":144},{"$f":"MyXor(CE200,VLOOKUP(CX200,'Таблица CRC'!$A$43:$C$298,3,FALSE))","v":17},{"$f":"MyXor(CF200,VLOOKUP(CY200,'Таблица CRC'!$A$43:$C$298,3,FALSE))","v":59},{"$f":"MyXor(CG200,VLOOKUP(CZ200,'Таблица CRC'!$A$43:$C$298,3,FALSE))","v":158},null,null,null,null,null,null,null,null,null,null,null,null,null,"64 06 00 01 00 F8 9E"]
["Принято в обработку",null,null,"Принято в обработку",null,null,null,null,null,null,null,null,null,null,null,null,null,null,null,null,null,null,null,null,null,null,null,null,null,null,null,null,null,null,null,null,"E4 09 80 89 AC 8E 8E 8E 8E 12","E4",9,80,89,"AC","8E","8E","8E","8E",12,null,null,null,null,null,null,null,null,null,null,228,9,128,137,172,142,142,142,142,18,0,0,0,0,0,0,0,0,0,0,44,100,9,0,165,128,162,162,162,162,null,null,null,null,null,null,null,null,null,null,null,100,{"$f":"MyXor(CB201,VLOOKUP(CU201,'Таблица CRC'!$A$43:$C$298,3,FALSE))","v":13},{"$f":"MyXor(CC201,VLOOKUP(CV201,'Таблица CRC'!$A$43:$C$298,3,FALSE))","v":253},{"$f":"MyXor(CD201,VLOOKUP(CW201,'Таблица CRC'!$A$43:$C$298,3,FALSE))","v":44},{"$f":"MyXor(CE201,VLOOKUP(CX201,'Таблица CRC'!$A$43:$C$298,3,FALSE))","v":0},{"$f":"MyXor(CF201,VLOOKUP(CY201,'Таблица CRC'!$A$43:$C$298,3,FALSE))","v":162},{"$f":"MyXor(CG201,VLOOKUP(CZ201,'Таблица CRC'!$A$43:$C$298,3,FALSE))","v":177},{"$f":"MyXor(CH201,VLOOKUP(DA201,'Таблица CRC'!$A$43:$C$298,3,FALSE))","v":206},{"$f":"MyXor(CI201,VLOOKUP(DB201,'Таблица CRC'!$A$43:$C$298,3,FALSE))","v":119},{"$f":"MyXor(CJ201,VLOOKUP(DC201,'Таблица CRC'!$A$43:$C$298,3,FALSE))","v":123},null,null,null,null,null,null,null,null,null,null,{"$f":"CONCATENATE(DEC2HEX(CA201,2),\" \",DEC2HEX(CB201,2),\" \",DEC2HEX(CC201,2),\" \",DEC2HEX(CD201,2),\" \",DEC2HEX(CE201,2),\" \",DEC2HEX(CF201,2),\" \",DEC2HEX(CG201,2),\" \",DEC2HEX(CH201,2),\" \",DEC2HEX(CI201,2),\" \",DEC2HEX(DD201,2))","v":"64 09 00 A5 80 A2 A2 A2 A2 7B"}]
["otvet 44,0,0,",144,null,"otvet 44",0,0,null,null,null,null,null,null,null,null,null,null,null,null,null,null,null,null,null,null,null,null,null,null,null,null,null,null,null,null,null,null,"E4 06 22 8D 8E 8E 0C","E4",6,22,"8D","8E","8E","0C",null,null,null,null,null,null,null,null,null,null,null,null,null,228,6,34,141,142,142,12,0,0,0,0,0,0,0,0,0,0,0,0,0,{"$f":"MyXor(BH202,$C$1)","v":142},100,6,0,3,0,0,null,null,null,null,null,null,null,null,null,null,null,null,null,null,100,{"$f":"MyXor(CB202,VLOOKUP(CU202,'Таблица CRC'!$A$43:$C$298,3,FALSE))","v":2},{"$f":"MyXor(CC202,VLOOKUP(CV202,'Таблица CRC'!$A$43:$C$298,3,FALSE))","v":188},{"$f":"MyXor(CD202,VLOOKUP(CW202,'Таблица CRC'!$A$43:$C$298,3,FALSE))","v":146},{"$f":"MyXor(CE202,VLOOKUP(CX202,'Таблица CRC'!$A$43:$C$298,3,FALSE))","v":173},{"$f":"MyXor(CF202,VLOOKUP(CY202,'Таблица CRC'!$A$43:$C$298,3,FALSE))","v":82},{"$f":"MyXor(CG202,VLOOKUP(CZ202,'Таблица CRC'!$A$43:$C$298,3,FALSE))","v":103},null,null,null,null,null,null,null,null,null,null,null,null,null,{"$f":"CONCATENATE(DEC2HEX(CA202,2),\" \",DEC2HEX(CB202,2),\" \",DEC2HEX(CC202,2),\" \",DEC2HEX(CD202,2),\" \",DEC2HEX(CE202,2),\" \",DEC2HEX(CF202,2),\" \",DEC2HEX(DA202,2))","v":"64 06 00 03 00 00 67"}]
["228,6,109,192,193,57,101,",null,{"$f":"MyXor(F203,$C$1)","v":193},228,6,109,192,193,57,101,null,null,null,100,6,{"$f":"MyXor(F203,$B205)","v":172},{"$f":"MyXor(G203,$B205)","v":1},{"$f":"MyXor(H203,$B205)","v":0},{"$f":"MyXor(I203,$B205)","v":248},{"$f":"MyXor(J203,$B205)","v":164},{"$f":"MyXor(K203,$B205)","v":193},{"$f":"MyXor(L203,$B205)","v":193},{"$f":"MyXor(M203,$B205)","v":193},null,100,6,0,1,0,248,164,193,193,193,null,null,"E4 09 39 BE 85 97 95 95 F8 F4","E4",9,39,"BE",85,97,95,95,"F8","F4",null,null,null,null,null,null,null,null,null,null,228,9,57,190,133,151,149,149,248,244,0,0,0,0,0,0,0,0,0,0,149,100,9,0,43,16,2,0,0,109,null,null,null,null,null,null,null,null,null,null,null,100,{"$f":"MyXor(CB203,VLOOKUP(CU203,'Таблица CRC'!$A$43:$C$298,3,FALSE))","v":13},{"$f":"MyXor(CC203,VLOOKUP(CV203,'Таблица CRC'!$A$43:$C$298,3,FALSE))","v":253},{"$f":"MyXor(CD203,VLOOKUP(CW203,'Таблица CRC'!$A$43:$C$298,3,FALSE))","v":162},{"$f":"MyXor(CE203,VLOOKUP(CX203,'Таблица CRC'!$A$43:$C$298,3,FALSE))","v":3},{"$f":"MyXor(CF203,VLOOKUP(CY203,'Таблица CRC'!$A$43:$C$298,3,FALSE))","v":224},{"$f":"MyXor(CG203,VLOOKUP(CZ203,'Таблица CRC'!$A$43:$C$298,3,FALSE))","v":233},{"$f":"MyXor(CH203,VLOOKUP(DA203,'Таблица CRC'!$A$43:$C$298,3,FALSE))","v":117},{"$f":"MyXor(CI203,VLOOKUP(DB203,'Таблица CRC'!$A$43:$C$298,3,FALSE))","v":170},{"$f":"MyXor(CJ203,VLOOKUP(DC203,'Таблица CRC'!$A$43:$C$298,3,FALSE))","v":209},null,null,null,null,null,null,null,null,null,null,{"$f":"CONCATENATE(DEC2HEX(CA203,2),\" \",DEC2HEX(CB203,2),\" \",DEC2HEX(CC203,2),\" \",DEC2HEX(CD203,2),\" \",DEC2HEX(CE203,2),\" \",DEC2HEX(CF203,2),\" \",DEC2HEX(CG203,2),\" \",DEC2HEX(CH203,2),\" \",DEC2HEX(CI203,2),\" \",DEC2HEX(DD203,2))","v":"64 09 00 2B 10 02 00 00 6D D1"}]
["Принято в обработку",null,null,"Принято в обработку",null,null,null,null,null,null,null,null,null,null,null,null,null,null,null,null,null,null,null,null,null,null,null,null,null,null,null,null,null,null,null,null,"E4 05 B9 95 95 64","E4",5,"B9",95,95,64,null,null,null,null,null,null,null,null,null,null,null,null,null,null,228,5,185,149,149,100,0,0,0,0,0,0,0,0,0,0,0,0,0,0,21,100,5,0,128,128,null,null,null,null,null,null,null,null,null,null,null,null,null,null,null,100,{"$f":"MyXor(CB204,VLOOKUP(CU204,'Таблица CRC'!$A$43:$C$298,3,FALSE))","v":1},{"$f":"MyXor(CC204,VLOOKUP(CV204,'Таблица CRC'!$A$43:$C$298,3,FALSE))","v":94},{"$f":"MyXor(CD204,VLOOKUP(CW204,'Таблица CRC'!$A$43:$C$298,3,FALSE))","v":68},{"$f":"MyXor(CE204,VLOOKUP(CX204,'Таблица CRC'!$A$43:$C$298,3,FALSE))","v":167},{"$f":"MyXor(CF204,VLOOKUP(CY204,'Таблица CRC'!$A$43:$C$298,3,FALSE))","v":44},null,null,null,null,null,null,null,null,null,null,null,null,null,null,{"$f":"CONCATENATE(DEC2HEX(CA204,2),\" \",DEC2HEX(CB204,2),\" \",DEC2HEX(CC204,2),\" \",DEC2HEX(CD204,2),\" \",DEC2HEX(CE204,2),\" \",DEC2HEX(CZ204,2))","v":"64 05 00 80 80 2C"}]
["ключ шифрования-193",193,null,"ключ шифрования-193",null,null,null,null,null,null,null,null,null,null,null,null,null,null,null,null,null,null,null,null,null,null,null,null,null,null,null,null,null,null,null,null,"E4 09 9C 1B 21 31 32 30 30 EB","E4",9,"9C","1B",21,31,32,30,30,"EB",null,null,null,null,null,null,null,null,null,null,228,9,156,27,33,49,50,48,48,235,0,0,0,0,0,0,0,0,0,0,48,100,9,0,43,17,1,2,0,0,null,null,null,null,null,null,null,null,null,null,null,100,{"$f":"MyXor(CB205,VLOOKUP(CU205,'Таблица CRC'!$A$43:$C$298,3,FALSE))","v":13},{"$f":"MyXor(CC205,VLOOKUP(CV205,'Таблица CRC'!$A$43:$C$298,3,FALSE))","v":253},{"$f":"MyXor(CD205,VLOOKUP(CW205,'Таблица CRC'!$A$43:$C$298,3,FALSE))","v":162},{"$f":"MyXor(CE205,VLOOKUP(CX205,'Таблица CRC'!$A$43:$C$298,3,FALSE))","v":2},{"$f":"MyXor(CF205,VLOOKUP(CY205,'Таблица CRC'!$A$43:$C$298,3,FALSE))","v":189},{"$f":"MyXor(CG205,VLOOKUP(CZ205,'Таблица CRC'!$A$43:$C$298,3,FALSE))","v":205},{"$f":"MyXor(CH205,VLOOKUP(DA205,'Таблица CRC'!$A$43:$C$298,3,FALSE))","v":55},{"$f":"MyXor(CI205,VLOOKUP(DB205,'Таблица CRC'!$A$43:$C$298,3,FALSE))","v":61},{"$f":"MyXor(CJ205,VLOOKUP(DC205,'Таблица CRC'!$A$43:$C$298,3,FALSE))","v":67},null,null,null,null,null,null,null,null,null,null,{"$f":"CONCATENATE(DEC2HEX(CA205,2),\" \",DEC2HEX(CB205,2),\" \",DEC2HEX(CC205,2),\" \",DEC2HEX(CD205,2),\" \",DEC2HEX(CE205,2),\" \",DEC2HEX(CF205,2),\" \",DEC2HEX(CG205,2),\" \",DEC2HEX(CH205,2),\" \",DEC2HEX(CI205,2),\" \",DEC2HEX(DD205,2))","v":"64 09 00 2B 11 01 02 00 00 43"}]
["zapros.s 1,0,248,",null,null,"zapros.s 1",0,248,null,null,null,null,null,null,null,null,null,null,null,null,null,null,null,null,null,null,null,null,null,null,null,null,null,null,null,null,null,null,"E4 05 1C 30 30 26","E4",5,"1C",30,30,26,null,null,null,null,null,null,null,null,null,null,null,null,null,null,228,5,28,48,48,38,0,0,0,0,0,0,0,0,0,0,0,0,0,0,176,100,5,0,128,128,null,null,null,null,null,null,null,null,null,null,null,null,null,null,null,100,{"$f":"MyXor(CB206,VLOOKUP(CU206,'Таблица CRC'!$A$43:$C$298,3,FALSE))","v":1},{"$f":"MyXor(CC206,VLOOKUP(CV206,'Таблица CRC'!$A$43:$C$298,3,FALSE))","v":94},{"$f":"MyXor(CD206,VLOOKUP(CW206,'Таблица CRC'!$A$43:$C$298,3,FALSE))","v":68},{"$f":"MyXor(CE206,VLOOKUP(CX206,'Таблица CRC'!$A$43:$C$298,3,FALSE))","v":167},{"$f":"MyXor(CF206,VLOOKUP(CY206,'Таблица CRC'!$A$43:$C$298,3,FALSE))","v":44},null,null,null,null,null,null,null,null,null,null,null,null,null,null,{"$f":"CONCATENATE(DEC2HEX(CA206,2),\" \",DEC2HEX(CB206,2),\" \",DEC2HEX(CC206,2),\" \",DEC2HEX(CD206,2),\" \",DEC2HEX(CE206,2),\" \",DEC2HEX(CZ206,2))","v":"64 05 00 80 80 2C"}]
["ОТВЕТ ЭМУЛЯТОРА 195,194,193,",null,null,"ОТВЕТ ЭМУЛЯТОРА 195",194,193,null,null,null,null,null,null,null,null,null,null,null,null,null,null,null,null,null,null,null,null,null,null,null,null,null,null,null,null,null,null,"E4 08 7A FD D2 F4 D6 D7 B9","E4",8,"7A","FD","D2","F4","D6","D7","B9",null,null,null,null,null,null,null,null,null,null,null,228,8,122,253,210,244,214,215,185,0,0,0,0,0,0,0,0,0,0,0,214,100,8,0,43,4,34,0,1,null,null,null,null,null,null,null,null,null,null,null,null,100,{"$f":"MyXor(CB207,VLOOKUP(CU207,'Таблица CRC'!$A$43:$C$298,3,FALSE))","v":12},{"$f":"MyXor(CC207,VLOOKUP(CV207,'Таблица CRC'!$A$43:$C$298,3,FALSE))","v":163},{"$f":"MyXor(CD207,VLOOKUP(CW207,'Таблица CRC'!$A$43:$C$298,3,FALSE))","v":102},{"$f":"MyXor(CE207,VLOOKUP(CX207,'Таблица CRC'!$A$43:$C$298,3,FALSE))","v":188},{"$f":"MyXor(CF207,VLOOKUP(CY207,'Таблица CRC'!$A$43:$C$298,3,FALSE))","v":179},{"$f":"MyXor(CG207,VLOOKUP(CZ207,'Таблица CRC'!$A$43:$C$298,3,FALSE))","v":208},{"$f":"MyXor(CH207,VLOOKUP(DA207,'Таблица CRC'!$A$43:$C$298,3,FALSE))","v":86},{"$f":"MyXor(CI207,VLOOKUP(DB207,'Таблица CRC'!$A$43:$C$298,3,FALSE))","v":6},null,null,null,null,null,null,null,null,null,null,null,{"$f":"CONCATENATE(DEC2HEX(CA207,2),\" \",DEC2HEX(CB207,2),\" \",DEC2HEX(CC207,2),\" \",DEC2HEX(CD207,2),\" \",DEC2HEX(CE207,2),\" \",DEC2HEX(CF207,2),\" \",DEC2HEX(CG207,2),\" \",DEC2HEX(CH207,2),\" \",DEC2HEX(DC207,2))","v":"64 08 00 2B 04 22 00 01 06"}]
["228,9,207,198,200,193,193,193,193,88,",null,{"$f":"MyXor(F208,$C$1)","v":99},228,9,207,198,200,193,193,193,193,88,100,9,{"$f":"MyXor(F208,$B210)","v":172},{"$f":"MyXor(G208,$B210)","v":165},{"$f":"MyXor(H208,$B210)","v":171},{"$f":"MyXor(I208,$B210)","v":162},{"$f":"MyXor(J208,$B210)","v":162},{"$f":"MyXor(K208,$B210)","v":162},{"$f":"MyXor(L208,$B210)","v":162},{"$f":"MyXor(M208,$B210)","v":59},null,100,9,0,165,171,162,162,162,162,null,null,null,"E4 05 FA D6 D6 DB","E4",5,"FA","D6","D6","DB",null,null,null,null,null,null,null,null,null,null,null,null,null,null,228,5,250,214,214,219,0,0,0,0,0,0,0,0,0,0,0,0,0,0,86,100,5,0,128,128,null,null,null,null,null,null,null,null,null,null,null,null,null,null,null,100,{"$f":"MyXor(CB208,VLOOKUP(CU208,'Таблица CRC'!$A$43:$C$298,3,FALSE))","v":1},{"$f":"MyXor(CC208,VLOOKUP(CV208,'Таблица CRC'!$A$43:$C$298,3,FALSE))","v":94},{"$f":"MyXor(CD208,VLOOKUP(CW208,'Таблица CRC'!$A$43:$C$298,3,FALSE))","v":68},{"$f":"MyXor(CE208,VLOOKUP(CX208,'Таблица CRC'!$A$43:$C$298,3,FALSE))","v":167},{"$f":"MyXor(CF208,VLOOKUP(CY208,'Таблица CRC'!$A$43:$C$298,3,FALSE))","v":44},null,null,null,null,null,null,null,null,null,null,null,null,null,null,{"$f":"CONCATENATE(DEC2HEX(CA208,2),\" \",DEC2HEX(CB208,2),\" \",DEC2HEX(CC208,2),\" \",DEC2HEX(CD208,2),\" \",DEC2HEX(CE208,2),\" \",DEC2HEX(CZ208,2))","v":"64 05 00 80 80 2C"}]
["Принято в обработку",null,null,"Принято в обработку",null,null,null,null,null,null,null,null,null,null,null,null,null,null,null,null,null,null,null,null,{"$f":"MyXor(Y208,0)","v":100},{"$f":"MyXor(Z208,VLOOKUP(Y209,'Таблица CRC'!$A$43:$C$298,3,FALSE))","v":13},{"$f":"MyXor(AA208,VLOOKUP(Z209,'Таблица CRC'!$A$43:$C$298,3,FALSE))","v":253},{"$f":"MyXor(AB208,VLOOKUP(AA209,'Таблица CRC'!$A$43:$C$298,3,FALSE))","v":44},{"$f":"MyXor(AC208,VLOOKUP(AB209,'Таблица CRC'!$A$43:$C$298,3,FALSE))","v":43},{"$f":"MyXor(AD208,VLOOKUP(AC209,'Таблица CRC'!$A$43:$C$298,3,FALSE))","v":161},{"$f":"MyXor(AE208,VLOOKUP(AD209,'Таблица CRC'!$A$43:$C$298,3,FALSE))","v":83},{"$f":"MyXor(AF208,VLOOKUP(AE209,'Таблица CRC'!$A$43:$C$298,3,FALSE))","v":155},{"$f":"MyXor(AG208,VLOOKUP(AF209,'Таблица CRC'!$A$43:$C$298,3,FALSE))","v":147},{"$f":"MyXor(AH208,VLOOKUP(AG209,'Таблица CRC'!$A$43:$C$298,3,FALSE))","v":243},null,null,"E4 06 9B 36 37 CF DB","E4",6,"9B",36,37,"CF","DB",null,null,null,null,null,null,null,null,null,null,null,null,null,228,6,155,54,55,207,219,0,0,0,0,0,0,0,0,0,0,0,0,0,55,100,6,0,1,0,248,null,null,null,null,null,null,null,null,null,null,null,null,null,null,100,{"$f":"MyXor(CB209,VLOOKUP(CU209,'Таблица CRC'!$A$43:$C$298,3,FALSE))","v":2},{"$f":"MyXor(CC209,VLOOKUP(CV209,'Таблица CRC'!$A$43:$C$298,3,FALSE))","v":188},{"$f":"MyXor(CD209,VLOOKUP(CW209,'Таблица CRC'!$A$43:$C$298,3,FALSE))","v":144},{"$f":"MyXor(CE209,VLOOKUP(CX209,'Таблица CRC'!$A$43:$C$298,3,FALSE))","v":17},{"$f":"MyXor(CF209,VLOOKUP(CY209,'Таблица CRC'!$A$43:$C$298,3,FALSE))","v":59},{"$f":"MyXor(CG209,VLOOKUP(CZ209,'Таблица CRC'!$A$43:$C$298,3,FALSE))","v":158},null,null,null,null,null,null,null,null,null,null,null,null,null,"64 06 00 01 00 F8 9E"]
["ключ шифрования-99",99,null,"ключ шифрования-99",null,null,null,null,null,null,null,null,null,null,null,null,null,null,null,null,null,null,null,null,{"$f":"DEC2HEX(Y208,2)","v":"64"},{"$f":"DEC2HEX(Z208,2)","v":"09"},"00","A5","AB","A2","A2","A2","A2",{"$f":"DEC2HEX(AH209,2)","v":"F3"},{"$f":"CONCATENATE(Y210,\" \",Z210,\" \",AA210,\" \",AB210,\" \",AC210,\" \",AD210,\" \",AE210,\" \",AF210,\" \",AG210,\" \",AH210)","v":"64 09 00 A5 AB A2 A2 A2 A2 F3"},"64 05 0A 00 00 E5","E4 09 39 30 14 37 37 37 37 F0","E4",9,39,30,14,37,37,37,37,"F0",null,null,null,null,null,null,null,null,null,null,228,9,57,48,20,55,55,55,55,240,0,0,0,0,0,0,0,0,0,0,149,100,9,0,165,129,162,162,162,162,null,null,null,null,null,null,null,null,null,null,null,100,{"$f":"MyXor(CB210,VLOOKUP(CU210,'Таблица CRC'!$A$43:$C$298,3,FALSE))","v":13},{"$f":"MyXor(CC210,VLOOKUP(CV210,'Таблица CRC'!$A$43:$C$298,3,FALSE))","v":253},{"$f":"MyXor(CD210,VLOOKUP(CW210,'Таблица CRC'!$A$43:$C$298,3,FALSE))","v":44},{"$f":"MyXor(CE210,VLOOKUP(CX210,'Таблица CRC'!$A$43:$C$298,3,FALSE))","v":1},{"$f":"MyXor(CF210,VLOOKUP(CY210,'Таблица CRC'!$A$43:$C$298,3,FALSE))","v":252},{"$f":"MyXor(CG210,VLOOKUP(CZ210,'Таблица CRC'!$A$43:$C$298,3,FALSE))","v":117},{"$f":"MyXor(CH210,VLOOKUP(DA210,'Таблица CRC'!$A$43:$C$298,3,FALSE))","v":101},{"$f":"MyXor(CI210,VLOOKUP(DB210,'Таблица CRC'!$A$43:$C$298,3,FALSE))","v":248},{"$f":"MyXor(CJ210,VLOOKUP(DC210,'Таблица CRC'!$A$43:$C$298,3,FALSE))","v":182},null,null,null,null,null,null,null,null,null,null,{"$f":"CONCATENATE(DEC2HEX(CA210,2),\" \",DEC2HEX(CB210,2),\" \",DEC2HEX(CC210,2),\" \",DEC2HEX(CD210,2),\" \",DEC2HEX(CE210,2),\" \",DEC2HEX(CF210,2),\" \",DEC2HEX(CG210,2),\" \",DEC2HEX(CH210,2),\" \",DEC2HEX(CI210,2),\" \",DEC2HEX(DD210,2))","v":"64 09 00 A5 81 A2 A2 A2 A2 B6"}]
["zapros.s 165,171,162,",null,null,"zapros.s 165",171,162,null,null,null,null,null,null,null,null,null,null,null,null,null,null,null,null,null,null,null,null,null,null,null,null,null,null,null,null,null,null,"E4 06 9B 34 37 37 22","E4",6,"9B",34,37,37,22,null,null,null,null,null,null,null,null,null,null,null,null,null,228,6,155,52,55,55,34,0,0,0,0,0,0,0,0,0,0,0,0,0,55,100,6,0,3,0,0,null,null,null,null,null,null,null,null,null,null,null,null,null,null,100,{"$f":"MyXor(CB211,VLOOKUP(CU211,'Таблица CRC'!$A$43:$C$298,3,FALSE))","v":2},{"$f":"MyXor(CC211,VLOOKUP(CV211,'Таблица CRC'!$A$43:$C$298,3,FALSE))","v":188},{"$f":"MyXor(CD211,VLOOKUP(CW211,'Таблица CRC'!$A$43:$C$298,3,FALSE))","v":146},{"$f":"MyXor(CE211,VLOOKUP(CX211,'Таблица CRC'!$A$43:$C$298,3,FALSE))","v":173},{"$f":"MyXor(CF211,VLOOKUP(CY211,'Таблица CRC'!$A$43:$C$298,3,FALSE))","v":82},{"$f":"MyXor(CG211,VLOOKUP(CZ211,'Таблица CRC'!$A$43:$C$298,3,FALSE))","v":103},null,null,null,null,null,null,null,null,null,null,null,null,null,"64 06 00 03 00 00 67"]
["228,6,109,194,193,193,156,",null,{"$f":"MyXor(F212,$C$1)","v":193},228,6,109,194,193,193,156,null,null,null,100,6,{"$f":"MyXor(F212,$B214)","v":172},{"$f":"MyXor(G212,$B214)","v":3},{"$f":"MyXor(H212,$B214)","v":0},{"$f":"MyXor(I212,$B214)","v":0},{"$f":"MyXor(J212,$B214)","v":93},{"$f":"MyXor(K212,$B214)","v":193},{"$f":"MyXor(L212,$B214)","v":193},{"$f":"MyXor(M212,$B214)","v":193},null,100,6,0,3,0,0,93,193,193,193,null,null,"E4 08 E1 66 49 6E 4D 4C D1","E4",8,"E1",66,49,"6E","4D","4C","D1",null,null,null,null,null,null,null,null,null,null,null,228,8,225,102,73,110,77,76,209,0,0,0,0,0,0,0,0,0,0,0,77,100,8,0,43,4,35,0,1,null,null,null,null,null,null,null,null,null,null,null,null,100,{"$f":"MyXor(CB212,VLOOKUP(CU212,'Таблица CRC'!$A$43:$C$298,3,FALSE))","v":12},{"$f":"MyXor(CC212,VLOOKUP(CV212,'Таблица CRC'!$A$43:$C$298,3,FALSE))","v":163},{"$f":"MyXor(CD212,VLOOKUP(CW212,'Таблица CRC'!$A$43:$C$298,3,FALSE))","v":102},{"$f":"MyXor(CE212,VLOOKUP(CX212,'Таблица CRC'!$A$43:$C$298,3,FALSE))","v":188},{"$f":"MyXor(CF212,VLOOKUP(CY212,'Таблица CRC'!$A$43:$C$298,3,FALSE))","v":178},{"$f":"MyXor(CG212,VLOOKUP(CZ212,'Таблица CRC'!$A$43:$C$298,3,FALSE))","v":142},{"$f":"MyXor(CH212,VLOOKUP(DA212,'Таблица CRC'!$A$43:$C$298,3,FALSE))","v":146},{"$f":"MyXor(CI212,VLOOKUP(DB212,'Таблица CRC'!$A$43:$C$298,3,FALSE))","v":173},null,null,null,null,null,null,null,null,null,null,null,{"$f":"CONCATENATE(DEC2HEX(CA212,2),\" \",DEC2HEX(CB212,2),\" \",DEC2HEX(CC212,2),\" \",DEC2HEX(CD212,2),\" \",DEC2HEX(CE212,2),\" \",DEC2HEX(CF212,2),\" \",DEC2HEX(CG212,2),\" \",DEC2HEX(CH212,2),\" \",DEC2HEX(DC212,2))","v":"64 08 00 2B 04 23 00 01 AD"}]
["Принято в обработку",null,null,"Принято в обработку",null,null,null,null,null,null,null,null,null,null,null,null,null,null,null,null,null,null,null,null,null,null,null,null,null,null,null,null,null,null,null,null,"E4 05 61 4D 4D E3","E4",5,61,"4D","4D","E3",null,null,null,null,null,null,null,null,null,null,null,null,null,null,228,5,97,77,77,227,0,0,0,0,0,0,0,0,0,0,0,0,0,0,205,100,5,0,128,128,null,null,null,null,null,null,null,null,null,null,null,null,null,null,null,100,{"$f":"MyXor(CB213,VLOOKUP(CU213,'Таблица CRC'!$A$43:$C$298,3,FALSE))","v":1},{"$f":"MyXor(CC213,VLOOKUP(CV213,'Таблица CRC'!$A$43:$C$298,3,FALSE))","v":94},{"$f":"MyXor(CD213,VLOOKUP(CW213,'Таблица CRC'!$A$43:$C$298,3,FALSE))","v":68},{"$f":"MyXor(CE213,VLOOKUP(CX213,'Таблица CRC'!$A$43:$C$298,3,FALSE))","v":167},{"$f":"MyXor(CF213,VLOOKUP(CY213,'Таблица CRC'!$A$43:$C$298,3,FALSE))","v":44},null,null,null,null,null,null,null,null,null,null,null,null,null,null,{"$f":"CONCATENATE(DEC2HEX(CA213,2),\" \",DEC2HEX(CB213,2),\" \",DEC2HEX(CC213,2),\" \",DEC2HEX(CD213,2),\" \",DEC2HEX(CE213,2),\" \",DEC2HEX(CZ213,2))","v":"64 05 00 80 80 2C"}]
["ключ шифрования-193",193,null,"ключ шифрования-193",null,null,null,null,null,null,null,null,null,null,null,null,null,null,null,null,null,null,null,null,null,null,null,null,null,null,null,null,null,null,null,null,"E4 06 FA 57 56 AE 6F","E4",6,"FA",57,56,"AE","6F",null,null,null,null,null,null,null,null,null,null,null,null,null,228,6,250,87,86,174,111,0,0,0,0,0,0,0,0,0,0,0,0,0,86,100,6,0,1,0,248,null,null,null,null,null,null,null,null,null,null,null,null,null,null,{"$f":"MyXor(CA214,0)","v":100},{"$f":"MyXor(CB214,VLOOKUP(CU214,'Таблица CRC'!$A$43:$C$298,3,FALSE))","v":2},{"$f":"MyXor(CC214,VLOOKUP(CV214,'Таблица CRC'!$A$43:$C$298,3,FALSE))","v":188},{"$f":"MyXor(CD214,VLOOKUP(CW214,'Таблица CRC'!$A$43:$C$298,3,FALSE))","v":144},{"$f":"MyXor(CE214,VLOOKUP(CX214,'Таблица CRC'!$A$43:$C$298,3,FALSE))","v":17},{"$f":"MyXor(CF214,VLOOKUP(CY214,'Таблица CRC'!$A$43:$C$298,3,FALSE))","v":59},{"$f":"MyXor(CG214,VLOOKUP(CZ214,'Таблица CRC'!$A$43:$C$298,3,FALSE))","v":158},null,null,null,null,null,null,null,null,null,null,null,null,null,"64 06 00 01 00 F8 9E"]
["zapros.s 3,0,0,",null,null,"zapros.s 3",0,0,null,null,null,null,null,null,null,null,null,null,null,null,null,null,null,null,null,null,null,null,null,null,null,null,null,null,null,null,null,null,"E4 09 58 51 72 56 56 56 56 4B","E4",9,58,51,72,56,56,56,56,"4B",null,null,null,null,null,null,null,null,null,null,228,9,88,81,114,86,86,86,86,75,0,0,0,0,0,0,0,0,0,0,244,100,9,0,165,134,162,162,162,162,null,null,null,null,null,null,null,null,null,null,null,100,{"$f":"MyXor(CB215,VLOOKUP(CU215,'Таблица CRC'!$A$43:$C$298,3,FALSE))","v":13},{"$f":"MyXor(CC215,VLOOKUP(CV215,'Таблица CRC'!$A$43:$C$298,3,FALSE))","v":253},{"$f":"MyXor(CD215,VLOOKUP(CW215,'Таблица CRC'!$A$43:$C$298,3,FALSE))","v":44},{"$f":"MyXor(CE215,VLOOKUP(CX215,'Таблица CRC'!$A$43:$C$298,3,FALSE))","v":6},{"$f":"MyXor(CF215,VLOOKUP(CY215,'Таблица CRC'!$A$43:$C$298,3,FALSE))","v":127},{"$f":"MyXor(CG215,VLOOKUP(CZ215,'Таблица CRC'!$A$43:$C$298,3,FALSE))","v":27},{"$f":"MyXor(CH215,VLOOKUP(DA215,'Таблица CRC'!$A$43:$C$298,3,FALSE))","v":31},{"$f":"MyXor(CI215,VLOOKUP(DB215,'Таблица CRC'!$A$43:$C$298,3,FALSE))","v":126},{"$f":"MyXor(CJ215,VLOOKUP(DC215,'Таблица CRC'!$A$43:$C$298,3,FALSE))","v":231},null,null,null,null,null,null,null,null,null,null,{"$f":"CONCATENATE(DEC2HEX(CA215,2),\" \",DEC2HEX(CB215,2),\" \",DEC2HEX(CC215,2),\" \",DEC2HEX(CD215,2),\" \",DEC2HEX(CE215,2),\" \",DEC2HEX(CF215,2),\" \",DEC2HEX(CG215,2),\" \",DEC2HEX(CH215,2),\" \",DEC2HEX(CI215,2),\" \",DEC2HEX(DD215,2))","v":"64 09 00 A5 86 A2 A2 A2 A2 E7"}]
["228,8,151,16,63,50,59,58,82,",null,{"$f":"MyXor(F216,$C$1)","v":59},228,8,151,16,63,50,59,58,82,null,100,8,{"$f":"MyXor(F216,$B218)","v":172},{"$f":"MyXor(G216,$B218)","v":43},{"$f":"MyXor(H216,$B218)","v":4},{"$f":"MyXor(I216,$B218)","v":9},{"$f":"MyXor(J216,$B218)","v":0},{"$f":"MyXor(K216,$B218)","v":1},{"$f":"MyXor(L216,$B218)","v":105},{"$f":"MyXor(M216,$B218)","v":59},null,100,8,0,43,4,9,0,1,105,59,null,null,"E4 06 FA 55 56 56 96","E4",6,"FA",55,56,56,96,null,null,null,null,null,null,null,null,null,null,null,null,null,228,6,250,85,86,86,150,0,0,0,0,0,0,0,0,0,0,0,0,0,86,100,6,0,3,0,0,null,null,null,null,null,null,null,null,null,null,null,null,null,null,100,{"$f":"MyXor(CB216,VLOOKUP(CU216,'Таблица CRC'!$A$43:$C$298,3,FALSE))","v":2},{"$f":"MyXor(CC216,VLOOKUP(CV216,'Таблица CRC'!$A$43:$C$298,3,FALSE))","v":188},{"$f":"MyXor(CD216,VLOOKUP(CW216,'Таблица CRC'!$A$43:$C$298,3,FALSE))","v":146},{"$f":"MyXor(CE216,VLOOKUP(CX216,'Таблица CRC'!$A$43:$C$298,3,FALSE))","v":173},{"$f":"MyXor(CF216,VLOOKUP(CY216,'Таблица CRC'!$A$43:$C$298,3,FALSE))","v":82},{"$f":"MyXor(CG216,VLOOKUP(CZ216,'Таблица CRC'!$A$43:$C$298,3,FALSE))","v":103},null,null,null,null,null,null,null,null,null,null,null,null,null,"64 06 00 03 00 00 67"]
["Принято в обработку",null,null,"Принято в обработку",null,null,null,null,null,null,null,null,null,null,null,null,null,null,null,null,null,null,null,null,null,null,null,null,null,null,null,null,null,null,null,null,"E4 08 31 B6 99 B9 9D 9C 26","E4",8,31,"B6",99,"B9","9D","9C",26,null,null,null,null,null,null,null,null,null,null,null,228,8,49,182,153,185,157,156,38,0,0,0,0,0,0,0,0,0,0,0,157,100,8,0,43,4,36,0,1,null,null,null,null,null,null,null,null,null,null,null,null,100,{"$f":"MyXor(CB217,VLOOKUP(CU217,'Таблица CRC'!$A$43:$C$298,3,FALSE))","v":12},{"$f":"MyXor(CC217,VLOOKUP(CV217,'Таблица CRC'!$A$43:$C$298,3,FALSE))","v":163},{"$f":"MyXor(CD217,VLOOKUP(CW217,'Таблица CRC'!$A$43:$C$298,3,FALSE))","v":102},{"$f":"MyXor(CE217,VLOOKUP(CX217,'Таблица CRC'!$A$43:$C$298,3,FALSE))","v":188},{"$f":"MyXor(CF217,VLOOKUP(CY217,'Таблица CRC'!$A$43:$C$298,3,FALSE))","v":181},{"$f":"MyXor(CG217,VLOOKUP(CZ217,'Таблица CRC'!$A$43:$C$298,3,FALSE))","v":13},{"$f":"MyXor(CH217,VLOOKUP(DA217,'Таблица CRC'!$A$43:$C$298,3,FALSE))","v":252},{"$f":"MyXor(CI217,VLOOKUP(DB217,'Таблица CRC'!$A$43:$C$298,3,FALSE))","v":215},null,null,null,null,null,null,null,null,null,null,null,{"$f":"CONCATENATE(DEC2HEX(CA217,2),\" \",DEC2HEX(CB217,2),\" \",DEC2HEX(CC217,2),\" \",DEC2HEX(CD217,2),\" \",DEC2HEX(CE217,2),\" \",DEC2HEX(CF217,2),\" \",DEC2HEX(CG217,2),\" \",DEC2HEX(CH217,2),\" \",DEC2HEX(DC217,2))","v":"64 08 00 2B 04 24 00 01 D7"}]
["ключ шифрования-59",59,null,"ключ шифрования-59",null,null,null,null,null,null,null,null,null,null,null,null,null,null,null,null,null,null,null,null,null,null,null,null,null,null,null,null,null,null,null,null,"E4 05 B1 9D 9D F5","E4",5,"B1","9D","9D","F5",null,null,null,null,null,null,null,null,null,null,null,null,null,null,228,5,177,157,157,245,0,0,0,0,0,0,0,0,0,0,0,0,0,0,29,100,5,0,128,128,null,null,null,null,null,null,null,null,null,null,null,null,null,null,null,100,{"$f":"MyXor(CB218,VLOOKUP(CU218,'Таблица CRC'!$A$43:$C$298,3,FALSE))","v":1},{"$f":"MyXor(CC218,VLOOKUP(CV218,'Таблица CRC'!$A$43:$C$298,3,FALSE))","v":94},{"$f":"MyXor(CD218,VLOOKUP(CW218,'Таблица CRC'!$A$43:$C$298,3,FALSE))","v":68},{"$f":"MyXor(CE218,VLOOKUP(CX218,'Таблица CRC'!$A$43:$C$298,3,FALSE))","v":167},{"$f":"MyXor(CF218,VLOOKUP(CY218,'Таблица CRC'!$A$43:$C$298,3,FALSE))","v":44},null,null,null,null,null,null,null,null,null,null,null,null,null,null,{"$f":"CONCATENATE(DEC2HEX(CA218,2),\" \",DEC2HEX(CB218,2),\" \",DEC2HEX(CC218,2),\" \",DEC2HEX(CD218,2),\" \",DEC2HEX(CE218,2),\" \",DEC2HEX(CZ218,2))","v":"64 05 00 80 80 2C"}]
["zapros.s 43,4,9,",null,null,"zapros.s 43",4,9,null,null,null,null,null,null,null,null,null,null,null,null,null,null,null,null,null,null,null,null,null,null,null,null,null,null,null,null,null,null,"E4 06 B4 19 18 E0 41","E4",6,"B4",19,18,"E0",41,null,null,null,null,null,null,null,null,null,null,null,null,null,228,6,180,25,24,224,65,0,0,0,0,0,0,0,0,0,0,0,0,0,24,100,6,0,1,0,248,null,null,null,null,null,null,null,null,null,null,null,null,null,null,100,{"$f":"MyXor(CB219,VLOOKUP(CU219,'Таблица CRC'!$A$43:$C$298,3,FALSE))","v":2},{"$f":"MyXor(CC219,VLOOKUP(CV219,'Таблица CRC'!$A$43:$C$298,3,FALSE))","v":188},{"$f":"MyXor(CD219,VLOOKUP(CW219,'Таблица CRC'!$A$43:$C$298,3,FALSE))","v":144},{"$f":"MyXor(CE219,VLOOKUP(CX219,'Таблица CRC'!$A$43:$C$298,3,FALSE))","v":17},{"$f":"MyXor(CF219,VLOOKUP(CY219,'Таблица CRC'!$A$43:$C$298,3,FALSE))","v":59},{"$f":"MyXor(CG219,VLOOKUP(CZ219,'Таблица CRC'!$A$43:$C$298,3,FALSE))","v":158},null,null,null,null,null,null,null,null,null,null,null,null,null,"64 06 00 01 00 F8 9E"]
["228,5,23,59,59,228,",null,{"$f":"MyXor(F220,$C$1)","v":187},228,5,23,59,59,228,null,null,null,null,100,5,{"$f":"MyXor(F220,$B222)","v":172},{"$f":"MyXor(G220,$B222)","v":128},{"$f":"MyXor(H220,$B222)","v":128},{"$f":"MyXor(I220,$B222)","v":95},{"$f":"MyXor(J220,$B222)","v":187},{"$f":"MyXor(K220,$B222)","v":187},{"$f":"MyXor(L220,$B222)","v":187},{"$f":"MyXor(M220,$B222)","v":187},null,100,5,0,128,128,95,187,187,187,187,null,null,"E4 09 16 1F 3D 18 18 18 18 3D","E4",9,16,"1F","3D",18,18,18,18,"3D",null,null,null,null,null,null,null,null,null,null,228,9,22,31,61,24,24,24,24,61,0,0,0,0,0,0,0,0,0,0,186,100,9,0,165,135,162,162,162,162,null,null,null,null,null,null,null,null,null,null,null,100,{"$f":"MyXor(CB220,VLOOKUP(CU220,'Таблица CRC'!$A$43:$C$298,3,FALSE))","v":13},{"$f":"MyXor(CC220,VLOOKUP(CV220,'Таблица CRC'!$A$43:$C$298,3,FALSE))","v":253},{"$f":"MyXor(CD220,VLOOKUP(CW220,'Таблица CRC'!$A$43:$C$298,3,FALSE))","v":44},{"$f":"MyXor(CE220,VLOOKUP(CX220,'Таблица CRC'!$A$43:$C$298,3,FALSE))","v":7},{"$f":"MyXor(CF220,VLOOKUP(CY220,'Таблица CRC'!$A$43:$C$298,3,FALSE))","v":33},{"$f":"MyXor(CG220,VLOOKUP(CZ220,'Таблица CRC'!$A$43:$C$298,3,FALSE))","v":223},{"$f":"MyXor(CH220,VLOOKUP(DA220,'Таблица CRC'!$A$43:$C$298,3,FALSE))","v":180},{"$f":"MyXor(CI220,VLOOKUP(DB220,'Таблица CRC'!$A$43:$C$298,3,FALSE))","v":241},{"$f":"MyXor(CJ220,VLOOKUP(DC220,'Таблица CRC'!$A$43:$C$298,3,FALSE))","v":42},null,null,null,null,null,null,null,null,null,null,{"$f":"CONCATENATE(DEC2HEX(CA220,2),\" \",DEC2HEX(CB220,2),\" \",DEC2HEX(CC220,2),\" \",DEC2HEX(CD220,2),\" \",DEC2HEX(CE220,2),\" \",DEC2HEX(CF220,2),\" \",DEC2HEX(CG220,2),\" \",DEC2HEX(CH220,2),\" \",DEC2HEX(CI220,2),\" \",DEC2HEX(DD220,2))","v":"64 09 00 A5 87 A2 A2 A2 A2 2A"}]
["Принято в обработку",null,null,"Принято в обработку",null,null,null,null,null,null,null,null,null,null,null,null,null,null,null,null,null,null,null,null,null,null,null,null,null,null,null,null,null,null,null,null,"E4 06 B4 1B 18 18 B8","E4",6,"B4","1B",18,18,"B8",null,null,null,null,null,null,null,null,null,null,null,null,null,228,6,180,27,24,24,184,0,0,0,0,0,0,0,0,0,0,0,0,0,24,100,6,0,3,0,0,null,null,null,null,null,null,null,null,null,null,null,null,null,null,100,{"$f":"MyXor(CB221,VLOOKUP(CU221,'Таблица CRC'!$A$43:$C$298,3,FALSE))","v":2},{"$f":"MyXor(CC221,VLOOKUP(CV221,'Таблица CRC'!$A$43:$C$298,3,FALSE))","v":188},{"$f":"MyXor(CD221,VLOOKUP(CW221,'Таблица CRC'!$A$43:$C$298,3,FALSE))","v":146},{"$f":"MyXor(CE221,VLOOKUP(CX221,'Таблица CRC'!$A$43:$C$298,3,FALSE))","v":173},{"$f":"MyXor(CF221,VLOOKUP(CY221,'Таблица CRC'!$A$43:$C$298,3,FALSE))","v":82},{"$f":"MyXor(CG221,VLOOKUP(CZ221,'Таблица CRC'!$A$43:$C$298,3,FALSE))","v":103},null,null,null,null,null,null,null,null,null,null,null,null,null,"64 06 00 03 00 00 67"]
["otvet 44,0,0,",187,null,"otvet 44",0,0,null,null,null,null,null,null,null,null,null,null,null,null,null,null,null,null,null,null,null,null,null,null,null,null,null,null,null,null,null,null,"E4 08 AE 29 06 27 02 03 47","E4",8,"AE",29,6,27,2,3,47,null,null,null,null,null,null,null,null,null,null,null,228,8,174,41,6,39,2,3,71,0,0,0,0,0,0,0,0,0,0,0,2,100,8,0,43,4,37,0,1,null,null,null,null,null,null,null,null,null,null,null,null,100,{"$f":"MyXor(CB222,VLOOKUP(CU222,'Таблица CRC'!$A$43:$C$298,3,FALSE))","v":12},{"$f":"MyXor(CC222,VLOOKUP(CV222,'Таблица CRC'!$A$43:$C$298,3,FALSE))","v":163},{"$f":"MyXor(CD222,VLOOKUP(CW222,'Таблица CRC'!$A$43:$C$298,3,FALSE))","v":102},{"$f":"MyXor(CE222,VLOOKUP(CX222,'Таблица CRC'!$A$43:$C$298,3,FALSE))","v":188},{"$f":"MyXor(CF222,VLOOKUP(CY222,'Таблица CRC'!$A$43:$C$298,3,FALSE))","v":180},{"$f":"MyXor(CG222,VLOOKUP(CZ222,'Таблица CRC'!$A$43:$C$298,3,FALSE))","v":83},{"$f":"MyXor(CH222,VLOOKUP(DA222,'Таблица CRC'!$A$43:$C$298,3,FALSE))","v":56},{"$f":"MyXor(CI222,VLOOKUP(DB222,'Таблица CRC'!$A$43:$C$298,3,FALSE))","v":124},{"$f":"MyXor(CJ222,VLOOKUP(DC222,'Таблица CRC'!$A$43:$C$298,3,FALSE))","v":91},null,null,null,null,null,null,null,null,null,null,{"$f":"CONCATENATE(DEC2HEX(CA222,2),\" \",DEC2HEX(CB222,2),\" \",DEC2HEX(CC222,2),\" \",DEC2HEX(CD222,2),\" \",DEC2HEX(CE222,2),\" \",DEC2HEX(CF222,2),\" \",DEC2HEX(CG222,2),\" \",DEC2HEX(CH222,2),\" \",DEC2HEX(DC222,2))","v":"64 08 00 2B 04 25 00 01 7C"}]
["228,6,102,203,202,50,51,",null,{"$f":"MyXor(F223,$C$1)","v":202},228,6,102,203,202,50,51,null,null,null,100,6,{"$f":"MyXor(F223,$B225)","v":172},{"$f":"MyXor(G223,$B225)","v":1},{"$f":"MyXor(H223,$B225)","v":0},{"$f":"MyXor(I223,$B225)","v":248},{"$f":"MyXor(J223,$B225)","v":249},{"$f":"MyXor(K223,$B225)","v":202},{"$f":"MyXor(L223,$B225)","v":202},{"$f":"MyXor(M223,$B225)","v":202},null,100,6,0,1,0,248,249,202,202,202,null,null,"E4 05 2E 02 02 09","E4",5,"2E",2,2,9,null,null,null,null,null,null,null,null,null,null,null,null,null,null,228,5,46,2,2,9,0,0,0,0,0,0,0,0,0,0,0,0,0,0,130,100,5,0,128,128,null,null,null,null,null,null,null,null,null,null,null,null,null,null,null,100,{"$f":"MyXor(CB223,VLOOKUP(CU223,'Таблица CRC'!$A$43:$C$298,3,FALSE))","v":1},{"$f":"MyXor(CC223,VLOOKUP(CV223,'Таблица CRC'!$A$43:$C$298,3,FALSE))","v":94},{"$f":"MyXor(CD223,VLOOKUP(CW223,'Таблица CRC'!$A$43:$C$298,3,FALSE))","v":68},{"$f":"MyXor(CE223,VLOOKUP(CX223,'Таблица CRC'!$A$43:$C$298,3,FALSE))","v":167},{"$f":"MyXor(CF223,VLOOKUP(CY223,'Таблица CRC'!$A$43:$C$298,3,FALSE))","v":44},null,null,null,null,null,null,null,null,null,null,null,null,null,null,{"$f":"CONCATENATE(DEC2HEX(CA223,2),\" \",DEC2HEX(CB223,2),\" \",DEC2HEX(CC223,2),\" \",DEC2HEX(CD223,2),\" \",DEC2HEX(CE223,2),\" \",DEC2HEX(CZ223,2))","v":"64 05 00 80 80 2C"}]
["Принято в обработку",null,null,"Принято в обработку",null,null,null,null,null,null,null,null,null,null,null,null,null,null,null,null,null,null,null,null,null,null,null,null,null,null,null,null,null,null,null,null,"E4 06 C3 6E 6F 97 59","E4",6,"C3","6E","6F",97,59,null,null,null,null,null,null,null,null,null,null,null,null,null,228,6,195,110,111,151,89,0,0,0,0,0,0,0,0,0,0,0,0,0,111,100,6,0,1,0,248,null,null,null,null,null,null,null,null,null,null,null,null,null,null,100,{"$f":"MyXor(CB224,VLOOKUP(CU224,'Таблица CRC'!$A$43:$C$298,3,FALSE))","v":2},{"$f":"MyXor(CC224,VLOOKUP(CV224,'Таблица CRC'!$A$43:$C$298,3,FALSE))","v":188},{"$f":"MyXor(CD224,VLOOKUP(CW224,'Таблица CRC'!$A$43:$C$298,3,FALSE))","v":144},{"$f":"MyXor(CE224,VLOOKUP(CX224,'Таблица CRC'!$A$43:$C$298,3,FALSE))","v":17},{"$f":"MyXor(CF224,VLOOKUP(CY224,'Таблица CRC'!$A$43:$C$298,3,FALSE))","v":59},{"$f":"MyXor(CG224,VLOOKUP(CZ224,'Таблица CRC'!$A$43:$C$298,3,FALSE))","v":158},null,null,null,null,null,null,null,null,null,null,null,null,null,"64 06 00 01 00 F8 9E"]
["ключ шифрования-202",202,null,"ключ шифрования-202",null,null,null,null,null,null,null,null,null,null,null,null,null,null,null,null,null,null,null,null,null,null,null,null,null,null,null,null,null,null,null,null,"E4 09 61 68 49 6F 6F 6F 6F 2A","E4",9,61,68,49,"6F","6F","6F","6F","2A",null,null,null,null,null,null,null,null,null,null,228,9,97,104,73,111,111,111,111,42,0,0,0,0,0,0,0,0,0,0,205,100,9,0,165,132,162,162,162,162,null,null,null,null,null,null,null,null,null,null,null,100,{"$f":"MyXor(CB225,VLOOKUP(CU225,'Таблица CRC'!$A$43:$C$298,3,FALSE))","v":13},{"$f":"MyXor(CC225,VLOOKUP(CV225,'Таблица CRC'!$A$43:$C$298,3,FALSE))","v":253},{"$f":"MyXor(CD225,VLOOKUP(CW225,'Таблица CRC'!$A$43:$C$298,3,FALSE))","v":44},{"$f":"MyXor(CE225,VLOOKUP(CX225,'Таблица CRC'!$A$43:$C$298,3,FALSE))","v":4},{"$f":"MyXor(CF225,VLOOKUP(CY225,'Таблица CRC'!$A$43:$C$298,3,FALSE))","v":195},{"$f":"MyXor(CG225,VLOOKUP(CZ225,'Таблица CRC'!$A$43:$C$298,3,FALSE))","v":138},{"$f":"MyXor(CH225,VLOOKUP(DA225,'Таблица CRC'!$A$43:$C$298,3,FALSE))","v":80},{"$f":"MyXor(CI225,VLOOKUP(DB225,'Таблица CRC'!$A$43:$C$298,3,FALSE))","v":121},{"$f":"MyXor(CJ225,VLOOKUP(DC225,'Таблица CRC'!$A$43:$C$298,3,FALSE))","v":100},null,null,null,null,null,null,null,null,null,null,{"$f":"CONCATENATE(DEC2HEX(CA225,2),\" \",DEC2HEX(CB225,2),\" \",DEC2HEX(CC225,2),\" \",DEC2HEX(CD225,2),\" \",DEC2HEX(CE225,2),\" \",DEC2HEX(CF225,2),\" \",DEC2HEX(CG225,2),\" \",DEC2HEX(CH225,2),\" \",DEC2HEX(CI225,2),\" \",DEC2HEX(DD225,2))","v":"64 09 00 A5 84 A2 A2 A2 A2 64"}]
["zapros.s 1,0,248,",null,null,"zapros.s 1",0,248,null,null,null,null,null,null,null,null,null,null,null,null,null,null,null,null,null,null,null,null,null,null,null,null,null,null,null,null,null,null,"E4 06 C3 6C 6F 6F A0","E4",6,"C3","6C","6F","6F","A0",null,null,null,null,null,null,null,null,null,null,null,null,null,228,6,195,108,111,111,160,0,0,0,0,0,0,0,0,0,0,0,0,0,111,100,6,0,3,0,0,null,null,null,null,null,null,null,null,null,null,null,null,null,null,100,{"$f":"MyXor(CB226,VLOOKUP(CU226,'Таблица CRC'!$A$43:$C$298,3,FALSE))","v":2},{"$f":"MyXor(CC226,VLOOKUP(CV226,'Таблица CRC'!$A$43:$C$298,3,FALSE))","v":188},{"$f":"MyXor(CD226,VLOOKUP(CW226,'Таблица CRC'!$A$43:$C$298,3,FALSE))","v":146},{"$f":"MyXor(CE226,VLOOKUP(CX226,'Таблица CRC'!$A$43:$C$298,3,FALSE))","v":173},{"$f":"MyXor(CF226,VLOOKUP(CY226,'Таблица CRC'!$A$43:$C$298,3,FALSE))","v":82},{"$f":"MyXor(CG226,VLOOKUP(CZ226,'Таблица CRC'!$A$43:$C$298,3,FALSE))","v":103},null,null,null,null,null,null,null,null,null,null,null,null,null,"64 06 00 03 00 00 67"]
["ОТВЕТ ЭМУЛЯТОРА 200,201,202,",null,null,"ОТВЕТ ЭМУЛЯТОРА 200",201,202,null,null,null,null,null,null,null,null,null,null,null,null,null,null,null,null,null,null,null,null,null,null,null,null,null,null,null,null,null,null,"E4 08 7C FB D4 F6 D0 D1 A6","E4",8,"7C","FB","D4","F6","D0","D1","A6",null,null,null,null,null,null,null,null,null,null,null,228,8,124,251,212,246,208,209,166,0,0,0,0,0,0,0,0,0,0,0,208,100,8,0,43,4,38,0,1,null,null,null,null,null,null,null,null,null,null,null,null,100,{"$f":"MyXor(CB227,VLOOKUP(CU227,'Таблица CRC'!$A$43:$C$298,3,FALSE))","v":12},{"$f":"MyXor(CC227,VLOOKUP(CV227,'Таблица CRC'!$A$43:$C$298,3,FALSE))","v":163},{"$f":"MyXor(CD227,VLOOKUP(CW227,'Таблица CRC'!$A$43:$C$298,3,FALSE))","v":102},{"$f":"MyXor(CE227,VLOOKUP(CX227,'Таблица CRC'!$A$43:$C$298,3,FALSE))","v":188},{"$f":"MyXor(CF227,VLOOKUP(CY227,'Таблица CRC'!$A$43:$C$298,3,FALSE))","v":183},{"$f":"MyXor(CG227,VLOOKUP(CZ227,'Таблица CRC'!$A$43:$C$298,3,FALSE))","v":177},{"$f":"MyXor(CH227,VLOOKUP(DA227,'Таблица CRC'!$A$43:$C$298,3,FALSE))","v":109},{"$f":"MyXor(CI227,VLOOKUP(DB227,'Таблица CRC'!$A$43:$C$298,3,FALSE))","v":152},null,null,null,null,null,null,null,null,null,null,null,{"$f":"CONCATENATE(DEC2HEX(CA227,2),\" \",DEC2HEX(CB227,2),\" \",DEC2HEX(CC227,2),\" \",DEC2HEX(CD227,2),\" \",DEC2HEX(CE227,2),\" \",DEC2HEX(CF227,2),\" \",DEC2HEX(CG227,2),\" \",DEC2HEX(CH227,2),\" \",DEC2HEX(DC227,2))","v":"64 08 00 2B 04 26 00 01 98"}]
["228,9,196,205,192,202,202,202,202,126,",null,{"$f":"MyXor(F228,$C$1)","v":104},228,9,196,205,192,202,202,202,202,126,100,9,{"$f":"MyXor(F228,$B230)","v":172},{"$f":"MyXor(G228,$B230)","v":165},{"$f":"MyXor(H228,$B230)","v":168},{"$f":"MyXor(I228,$B230)","v":162},{"$f":"MyXor(J228,$B230)","v":162},{"$f":"MyXor(K228,$B230)","v":162},{"$f":"MyXor(L228,$B230)","v":162},{"$f":"MyXor(M228,$B230)","v":22},null,100,9,0,165,168,162,162,162,162,null,null,null,"E4 05 FC D0 D0 7D","E4",5,"FC","D0","D0","7D",null,null,null,null,null,null,null,null,null,null,null,null,null,null,228,5,252,208,208,125,0,0,0,0,0,0,0,0,0,0,0,0,0,0,80,100,5,0,128,128,null,null,null,null,null,null,null,null,null,null,null,null,null,null,null,100,{"$f":"MyXor(CB228,VLOOKUP(CU228,'Таблица CRC'!$A$43:$C$298,3,FALSE))","v":1},{"$f":"MyXor(CC228,VLOOKUP(CV228,'Таблица CRC'!$A$43:$C$298,3,FALSE))","v":94},{"$f":"MyXor(CD228,VLOOKUP(CW228,'Таблица CRC'!$A$43:$C$298,3,FALSE))","v":68},{"$f":"MyXor(CE228,VLOOKUP(CX228,'Таблица CRC'!$A$43:$C$298,3,FALSE))","v":167},{"$f":"MyXor(CF228,VLOOKUP(CY228,'Таблица CRC'!$A$43:$C$298,3,FALSE))","v":44},null,null,null,null,null,null,null,null,null,null,null,null,null,null,{"$f":"CONCATENATE(DEC2HEX(CA228,2),\" \",DEC2HEX(CB228,2),\" \",DEC2HEX(CC228,2),\" \",DEC2HEX(CD228,2),\" \",DEC2HEX(CE228,2),\" \",DEC2HEX(CZ228,2))","v":"64 05 00 80 80 2C"}]
["Принято в обработку",null,null,"Принято в обработку",null,null,null,null,null,null,null,null,null,null,null,null,null,null,null,null,null,null,null,null,{"$f":"MyXor(Y228,0)","v":100},{"$f":"MyXor(Z228,VLOOKUP(Y229,'Таблица CRC'!$A$43:$C$298,3,FALSE))","v":13},{"$f":"MyXor(AA228,VLOOKUP(Z229,'Таблица CRC'!$A$43:$C$298,3,FALSE))","v":253},{"$f":"MyXor(AB228,VLOOKUP(AA229,'Таблица CRC'!$A$43:$C$298,3,FALSE))","v":44},{"$f":"MyXor(AC228,VLOOKUP(AB229,'Таблица CRC'!$A$43:$C$298,3,FALSE))","v":40},{"$f":"MyXor(AD228,VLOOKUP(AC229,'Таблица CRC'!$A$43:$C$298,3,FALSE))","v":67},{"$f":"MyXor(AE228,VLOOKUP(AD229,'Таблица CRC'!$A$43:$C$298,3,FALSE))","v":6},{"$f":"MyXor(AF228,VLOOKUP(AE229,'Таблица CRC'!$A$43:$C$298,3,FALSE))","v":127},{"$f":"MyXor(AG228,VLOOKUP(AF229,'Таблица CRC'!$A$43:$C$298,3,FALSE))","v":27},{"$f":"MyXor(AH228,VLOOKUP(AG229,'Таблица CRC'!$A$43:$C$298,3,FALSE))","v":189},null,null,"E4 06 92 3F 3E C6 FC","E4",6,92,"3F","3E","C6","FC",null,null,null,null,null,null,null,null,null,null,null,null,null,228,6,146,63,62,198,252,0,0,0,0,0,0,0,0,0,0,0,0,0,62,100,6,0,1,0,248,null,null,null,null,null,null,null,null,null,null,null,null,null,null,100,{"$f":"MyXor(CB229,VLOOKUP(CU229,'Таблица CRC'!$A$43:$C$298,3,FALSE))","v":2},{"$f":"MyXor(CC229,VLOOKUP(CV229,'Таблица CRC'!$A$43:$C$298,3,FALSE))","v":188},{"$f":"MyXor(CD229,VLOOKUP(CW229,'Таблица CRC'!$A$43:$C$298,3,FALSE))","v":144},{"$f":"MyXor(CE229,VLOOKUP(CX229,'Таблица CRC'!$A$43:$C$298,3,FALSE))","v":17},{"$f":"MyXor(CF229,VLOOKUP(CY229,'Таблица CRC'!$A$43:$C$298,3,FALSE))","v":59},{"$f":"MyXor(CG229,VLOOKUP(CZ229,'Таблица CRC'!$A$43:$C$298,3,FALSE))","v":158},null,null,null,null,null,null,null,null,null,null,null,null,null,"64 06 00 01 00 F8 9E"]
["ключ шифрования-104",104,null,"ключ шифрования-104",null,null,null,null,null,null,null,null,null,null,null,null,null,null,null,null,null,null,null,null,{"$f":"DEC2HEX(Y228,2)","v":"64"},{"$f":"DEC2HEX(Z228,2)","v":"09"},"00","A5","A8","A2","A2","A2","A2",{"$f":"DEC2HEX(AH229,2)","v":"BD"},{"$f":"CONCATENATE(Y230,\" \",Z230,\" \",AA230,\" \",AB230,\" \",AC230,\" \",AD230,\" \",AE230,\" \",AF230,\" \",AG230,\" \",AH230)","v":"64 09 00 A5 A8 A2 A2 A2 A2 BD"},"64 05 0A 00 00 E5","E4 09 30 39 19 3E 3E 3E 3E 16","E4",9,30,39,19,"3E","3E","3E","3E",16,null,null,null,null,null,null,null,null,null,null,228,9,48,57,25,62,62,62,62,22,0,0,0,0,0,0,0,0,0,0,156,100,9,0,165,133,162,162,162,162,null,null,null,null,null,null,null,null,null,null,null,100,{"$f":"MyXor(CB230,VLOOKUP(CU230,'Таблица CRC'!$A$43:$C$298,3,FALSE))","v":13},{"$f":"MyXor(CC230,VLOOKUP(CV230,'Таблица CRC'!$A$43:$C$298,3,FALSE))","v":253},{"$f":"MyXor(CD230,VLOOKUP(CW230,'Таблица CRC'!$A$43:$C$298,3,FALSE))","v":44},{"$f":"MyXor(CE230,VLOOKUP(CX230,'Таблица CRC'!$A$43:$C$298,3,FALSE))","v":5},{"$f":"MyXor(CF230,VLOOKUP(CY230,'Таблица CRC'!$A$43:$C$298,3,FALSE))","v":157},{"$f":"MyXor(CG230,VLOOKUP(CZ230,'Таблица CRC'!$A$43:$C$298,3,FALSE))","v":78},{"$f":"MyXor(CH230,VLOOKUP(DA230,'Таблица CRC'!$A$43:$C$298,3,FALSE))","v":251},{"$f":"MyXor(CI230,VLOOKUP(DB230,'Таблица CRC'!$A$43:$C$298,3,FALSE))","v":246},{"$f":"MyXor(CJ230,VLOOKUP(DC230,'Таблица CRC'!$A$43:$C$298,3,FALSE))","v":169},null,null,null,null,null,null,null,null,null,null,{"$f":"CONCATENATE(DEC2HEX(CA230,2),\" \",DEC2HEX(CB230,2),\" \",DEC2HEX(CC230,2),\" \",DEC2HEX(CD230,2),\" \",DEC2HEX(CE230,2),\" \",DEC2HEX(CF230,2),\" \",DEC2HEX(CG230,2),\" \",DEC2HEX(CH230,2),\" \",DEC2HEX(CI230,2),\" \",DEC2HEX(DD230,2))","v":"64 09 00 A5 85 A2 A2 A2 A2 A9"}]
["zapros.s 165,168,162,",null,null,"zapros.s 165",168,162,null,null,null,null,null,null,null,null,null,null,null,null,null,null,null,null,null,null,null,null,null,null,null,null,null,null,null,null,null,null,"E4 06 92 3D 3E 3E 11","E4",6,92,"3D","3E","3E",11,null,null,null,null,null,null,null,null,null,null,null,null,null,228,6,146,61,62,62,17,0,0,0,0,0,0,0,0,0,0,0,0,0,62,100,6,0,3,0,0,null,null,null,null,null,null,null,null,null,null,null,null,null,null,100,{"$f":"MyXor(CB231,VLOOKUP(CU231,'Таблица CRC'!$A$43:$C$298,3,FALSE))","v":2},{"$f":"MyXor(CC231,VLOOKUP(CV231,'Таблица CRC'!$A$43:$C$298,3,FALSE))","v":188},{"$f":"MyXor(CD231,VLOOKUP(CW231,'Таблица CRC'!$A$43:$C$298,3,FALSE))","v":146},{"$f":"MyXor(CE231,VLOOKUP(CX231,'Таблица CRC'!$A$43:$C$298,3,FALSE))","v":173},{"$f":"MyXor(CF231,VLOOKUP(CY231,'Таблица CRC'!$A$43:$C$298,3,FALSE))","v":82},{"$f":"MyXor(CG231,VLOOKUP(CZ231,'Таблица CRC'!$A$43:$C$298,3,FALSE))","v":103},null,null,null,null,null,null,null,null,null,null,null,null,null,"64 06 00 03 00 00 67"]
["228,6,102,201,202,202,202,",null,{"$f":"MyXor(F232,$C$1)","v":202},228,6,102,201,202,202,202,null,null,null,100,6,{"$f":"MyXor(F232,$B234)","v":172},{"$f":"MyXor(G232,$B234)","v":3},{"$f":"MyXor(H232,$B234)","v":0},{"$f":"MyXor(I232,$B234)","v":0},{"$f":"MyXor(J232,$B234)","v":0},{"$f":"MyXor(K232,$B234)","v":202},{"$f":"MyXor(L232,$B234)","v":202},{"$f":"MyXor(M232,$B234)","v":202},null,100,6,0,3,0,0,0,202,202,202,null,null,"E4 08 CF 48 67 44 63 62 94","E4",8,"CF",48,67,44,63,62,94,null,null,null,null,null,null,null,null,null,null,null,228,8,207,72,103,68,99,98,148,0,0,0,0,0,0,0,0,0,0,0,99,100,8,0,43,4,39,0,1,null,null,null,null,null,null,null,null,null,null,null,null,100,{"$f":"MyXor(CB232,VLOOKUP(CU232,'Таблица CRC'!$A$43:$C$298,3,FALSE))","v":12},{"$f":"MyXor(CC232,VLOOKUP(CV232,'Таблица CRC'!$A$43:$C$298,3,FALSE))","v":163},{"$f":"MyXor(CD232,VLOOKUP(CW232,'Таблица CRC'!$A$43:$C$298,3,FALSE))","v":102},{"$f":"MyXor(CE232,VLOOKUP(CX232,'Таблица CRC'!$A$43:$C$298,3,FALSE))","v":188},{"$f":"MyXor(CF232,VLOOKUP(CY232,'Таблица CRC'!$A$43:$C$298,3,FALSE))","v":182},{"$f":"MyXor(CG232,VLOOKUP(CZ232,'Таблица CRC'!$A$43:$C$298,3,FALSE))","v":239},{"$f":"MyXor(CH232,VLOOKUP(DA232,'Таблица CRC'!$A$43:$C$298,3,FALSE))","v":169},{"$f":"MyXor(CI232,VLOOKUP(DB232,'Таблица CRC'!$A$43:$C$298,3,FALSE))","v":51},null,null,null,null,null,null,null,null,null,null,null,{"$f":"CONCATENATE(DEC2HEX(CA232,2),\" \",DEC2HEX(CB232,2),\" \",DEC2HEX(CC232,2),\" \",DEC2HEX(CD232,2),\" \",DEC2HEX(CE232,2),\" \",DEC2HEX(CF232,2),\" \",DEC2HEX(CG232,2),\" \",DEC2HEX(CH232,2),\" \",DEC2HEX(DC232,2))","v":"64 08 00 2B 04 27 00 01 33"}]
["Принято в обработку",null,null,"Принято в обработку",null,null,null,null,null,null,null,null,null,null,null,null,null,null,null,null,null,null,null,null,null,null,null,null,null,null,null,null,null,null,null,null,"E4 05 4F 63 63 A2","E4",5,"4F",63,63,"A2",null,null,null,null,null,null,null,null,null,null,null,null,null,null,228,5,79,99,99,162,0,0,0,0,0,0,0,0,0,0,0,0,0,0,227,100,5,0,128,128,null,null,null,null,null,null,null,null,null,null,null,null,null,null,null,100,{"$f":"MyXor(CB233,VLOOKUP(CU233,'Таблица CRC'!$A$43:$C$298,3,FALSE))","v":1},{"$f":"MyXor(CC233,VLOOKUP(CV233,'Таблица CRC'!$A$43:$C$298,3,FALSE))","v":94},{"$f":"MyXor(CD233,VLOOKUP(CW233,'Таблица CRC'!$A$43:$C$298,3,FALSE))","v":68},{"$f":"MyXor(CE233,VLOOKUP(CX233,'Таблица CRC'!$A$43:$C$298,3,FALSE))","v":167},{"$f":"MyXor(CF233,VLOOKUP(CY233,'Таблица CRC'!$A$43:$C$298,3,FALSE))","v":44},null,null,null,null,null,null,null,null,null,null,null,null,null,null,{"$f":"CONCATENATE(DEC2HEX(CA233,2),\" \",DEC2HEX(CB233,2),\" \",DEC2HEX(CC233,2),\" \",DEC2HEX(CD233,2),\" \",DEC2HEX(CE233,2),\" \",DEC2HEX(CZ233,2))","v":"64 05 00 80 80 2C"}]
["ключ шифрования-202",202,null,"ключ шифрования-202",null,null,null,null,null,null,null,null,null,null,null,null,null,null,null,null,null,null,null,null,null,null,null,null,null,null,null,null,null,null,null,null,"E4 06 74 D9 D8 20 55","E4",6,74,"D9","D8",20,55,null,null,null,null,null,null,null,null,null,null,null,null,null,228,6,116,217,216,32,85,0,0,0,0,0,0,0,0,0,0,0,0,0,216,100,6,0,1,0,248,null,null,null,null,null,null,null,null,null,null,null,null,null,null,100,{"$f":"MyXor(CB234,VLOOKUP(CU234,'Таблица CRC'!$A$43:$C$298,3,FALSE))","v":2},{"$f":"MyXor(CC234,VLOOKUP(CV234,'Таблица CRC'!$A$43:$C$298,3,FALSE))","v":188},{"$f":"MyXor(CD234,VLOOKUP(CW234,'Таблица CRC'!$A$43:$C$298,3,FALSE))","v":144},{"$f":"MyXor(CE234,VLOOKUP(CX234,'Таблица CRC'!$A$43:$C$298,3,FALSE))","v":17},{"$f":"MyXor(CF234,VLOOKUP(CY234,'Таблица CRC'!$A$43:$C$298,3,FALSE))","v":59},{"$f":"MyXor(CG234,VLOOKUP(CZ234,'Таблица CRC'!$A$43:$C$298,3,FALSE))","v":158},null,null,null,null,null,null,null,null,null,null,null,null,null,"64 06 00 01 00 F8 9E"]
["zapros.s 3,0,0,",null,null,"zapros.s 3",0,0,null,null,null,null,null,null,null,null,null,null,null,null,null,null,null,null,null,null,null,null,null,null,null,null,null,null,null,null,null,null,"E4 09 D6 DF F0 D8 D8 D8 D8 28","E4",9,"D6","DF","F0","D8","D8","D8","D8",28,null,null,null,null,null,null,null,null,null,null,228,9,214,223,240,216,216,216,216,40,0,0,0,0,0,0,0,0,0,0,122,100,9,0,165,138,162,162,162,162,null,null,null,null,null,null,null,null,null,null,null,100,{"$f":"MyXor(CB235,VLOOKUP(CU235,'Таблица CRC'!$A$43:$C$298,3,FALSE))","v":13},{"$f":"MyXor(CC235,VLOOKUP(CV235,'Таблица CRC'!$A$43:$C$298,3,FALSE))","v":253},{"$f":"MyXor(CD235,VLOOKUP(CW235,'Таблица CRC'!$A$43:$C$298,3,FALSE))","v":44},{"$f":"MyXor(CE235,VLOOKUP(CX235,'Таблица CRC'!$A$43:$C$298,3,FALSE))","v":10},{"$f":"MyXor(CF235,VLOOKUP(CY235,'Таблица CRC'!$A$43:$C$298,3,FALSE))","v":220},{"$f":"MyXor(CG235,VLOOKUP(CZ235,'Таблица CRC'!$A$43:$C$298,3,FALSE))","v":86},{"$f":"MyXor(CH235,VLOOKUP(DA235,'Таблица CRC'!$A$43:$C$298,3,FALSE))","v":164},{"$f":"MyXor(CI235,VLOOKUP(DB235,'Таблица CRC'!$A$43:$C$298,3,FALSE))","v":108},{"$f":"MyXor(CJ235,VLOOKUP(DC235,'Таблица CRC'!$A$43:$C$298,3,FALSE))","v":198},null,null,null,null,null,null,null,null,null,null,{"$f":"CONCATENATE(DEC2HEX(CA235,2),\" \",DEC2HEX(CB235,2),\" \",DEC2HEX(CC235,2),\" \",DEC2HEX(CD235,2),\" \",DEC2HEX(CE235,2),\" \",DEC2HEX(CF235,2),\" \",DEC2HEX(CG235,2),\" \",DEC2HEX(CH235,2),\" \",DEC2HEX(CI235,2),\" \",DEC2HEX(DD235,2))","v":"64 09 00 A5 8A A2 A2 A2 A2 C6"}]
["228,8,146,21,58,52,62,63,251,",null,{"$f":"MyXor(F236,$C$1)","v":62},228,8,146,21,58,52,62,63,251,null,100,8,{"$f":"MyXor(F236,$B238)","v":172},{"$f":"MyXor(G236,$B238)","v":43},{"$f":"MyXor(H236,$B238)","v":4},{"$f":"MyXor(I236,$B238)","v":10},{"$f":"MyXor(J236,$B238)","v":0},{"$f":"MyXor(K236,$B238)","v":1},{"$f":"MyXor(L236,$B238)","v":197},{"$f":"MyXor(M236,$B238)","v":62},null,100,8,0,43,4,10,0,1,197,62,null,null,"E4 06 74 DB D8 D8 AC","E4",6,74,"DB","D8","D8","AC",null,null,null,null,null,null,null,null,null,null,null,null,null,228,6,116,219,216,216,172,0,0,0,0,0,0,0,0,0,0,0,0,0,216,100,6,0,3,0,0,null,null,null,null,null,null,null,null,null,null,null,null,null,null,100,{"$f":"MyXor(CB236,VLOOKUP(CU236,'Таблица CRC'!$A$43:$C$298,3,FALSE))","v":2},{"$f":"MyXor(CC236,VLOOKUP(CV236,'Таблица CRC'!$A$43:$C$298,3,FALSE))","v":188},{"$f":"MyXor(CD236,VLOOKUP(CW236,'Таблица CRC'!$A$43:$C$298,3,FALSE))","v":146},{"$f":"MyXor(CE236,VLOOKUP(CX236,'Таблица CRC'!$A$43:$C$298,3,FALSE))","v":173},{"$f":"MyXor(CF236,VLOOKUP(CY236,'Таблица CRC'!$A$43:$C$298,3,FALSE))","v":82},{"$f":"MyXor(CG236,VLOOKUP(CZ236,'Таблица CRC'!$A$43:$C$298,3,FALSE))","v":103},null,null,null,null,null,null,null,null,null,null,null,null,null,"64 06 00 03 00 00 67"]
["Принято в обработку",null,null,"Принято в обработку",null,null,null,null,null,null,null,null,null,null,null,null,null,null,null,null,null,null,null,null,null,null,null,null,null,null,null,null,null,null,null,null,"E4 08 C0 47 68 44 6C 6D 1C","E4",8,"C0",47,68,44,"6C","6D","1C",null,null,null,null,null,null,null,null,null,null,null,228,8,192,71,104,68,108,109,28,0,0,0,0,0,0,0,0,0,0,0,108,100,8,0,43,4,40,0,1,null,null,null,null,null,null,null,null,null,null,null,null,100,{"$f":"MyXor(CB237,VLOOKUP(CU237,'Таблица CRC'!$A$43:$C$298,3,FALSE))","v":12},{"$f":"MyXor(CC237,VLOOKUP(CV237,'Таблица CRC'!$A$43:$C$298,3,FALSE))","v":163},{"$f":"MyXor(CD237,VLOOKUP(CW237,'Таблица CRC'!$A$43:$C$298,3,FALSE))","v":102},{"$f":"MyXor(CE237,VLOOKUP(CX237,'Таблица CRC'!$A$43:$C$298,3,FALSE))","v":188},{"$f":"MyXor(CF237,VLOOKUP(CY237,'Таблица CRC'!$A$43:$C$298,3,FALSE))","v":185},{"$f":"MyXor(CG237,VLOOKUP(CZ237,'Таблица CRC'!$A$43:$C$298,3,FALSE))","v":174},{"$f":"MyXor(CH237,VLOOKUP(DA237,'Таблица CRC'!$A$43:$C$298,3,FALSE))","v":177},{"$f":"MyXor(CI237,VLOOKUP(DB237,'Таблица CRC'!$A$43:$C$298,3,FALSE))","v":108},null,null,null,null,null,null,null,null,null,null,null,{"$f":"CONCATENATE(DEC2HEX(CA237,2),\" \",DEC2HEX(CB237,2),\" \",DEC2HEX(CC237,2),\" \",DEC2HEX(CD237,2),\" \",DEC2HEX(CE237,2),\" \",DEC2HEX(CF237,2),\" \",DEC2HEX(CG237,2),\" \",DEC2HEX(CH237,2),\" \",DEC2HEX(DC237,2))","v":"64 08 00 2B 04 28 00 01 6C"}]
["ключ шифрования-62",62,null,"ключ шифрования-62",null,null,null,null,null,null,null,null,null,null,null,null,null,null,null,null,null,null,null,null,null,null,null,null,null,null,null,null,null,null,null,null,"E4 05 40 6C 6C A4","E4",5,40,"6C","6C","A4",null,null,null,null,null,null,null,null,null,null,null,null,null,null,228,5,64,108,108,164,0,0,0,0,0,0,0,0,0,0,0,0,0,0,236,100,5,0,128,128,null,null,null,null,null,null,null,null,null,null,null,null,null,null,null,100,{"$f":"MyXor(CB238,VLOOKUP(CU238,'Таблица CRC'!$A$43:$C$298,3,FALSE))","v":1},{"$f":"MyXor(CC238,VLOOKUP(CV238,'Таблица CRC'!$A$43:$C$298,3,FALSE))","v":94},{"$f":"MyXor(CD238,VLOOKUP(CW238,'Таблица CRC'!$A$43:$C$298,3,FALSE))","v":68},{"$f":"MyXor(CE238,VLOOKUP(CX238,'Таблица CRC'!$A$43:$C$298,3,FALSE))","v":167},{"$f":"MyXor(CF238,VLOOKUP(CY238,'Таблица CRC'!$A$43:$C$298,3,FALSE))","v":44},null,null,null,null,null,null,null,null,null,null,null,null,null,null,{"$f":"CONCATENATE(DEC2HEX(CA238,2),\" \",DEC2HEX(CB238,2),\" \",DEC2HEX(CC238,2),\" \",DEC2HEX(CD238,2),\" \",DEC2HEX(CE238,2),\" \",DEC2HEX(CZ238,2))","v":"64 05 00 80 80 2C"}]
["zapros.s 43,4,10,",null,null,"zapros.s 43",4,10,null,null,null,null,null,null,null,null,null,null,null,null,null,null,null,null,null,null,null,null,null,null,null,null,null,null,null,null,null,null,"E4 06 46 EB EA 12 35","E4",6,46,"EB","EA",12,35,null,null,null,null,null,null,null,null,null,null,null,null,null,228,6,70,235,234,18,53,0,0,0,0,0,0,0,0,0,0,0,0,0,234,100,6,0,1,0,248,null,null,null,null,null,null,null,null,null,null,null,null,null,null,100,{"$f":"MyXor(CB239,VLOOKUP(CU239,'Таблица CRC'!$A$43:$C$298,3,FALSE))","v":2},{"$f":"MyXor(CC239,VLOOKUP(CV239,'Таблица CRC'!$A$43:$C$298,3,FALSE))","v":188},{"$f":"MyXor(CD239,VLOOKUP(CW239,'Таблица CRC'!$A$43:$C$298,3,FALSE))","v":144},{"$f":"MyXor(CE239,VLOOKUP(CX239,'Таблица CRC'!$A$43:$C$298,3,FALSE))","v":17},{"$f":"MyXor(CF239,VLOOKUP(CY239,'Таблица CRC'!$A$43:$C$298,3,FALSE))","v":59},{"$f":"MyXor(CG239,VLOOKUP(CZ239,'Таблица CRC'!$A$43:$C$298,3,FALSE))","v":158},null,null,null,null,null,null,null,null,null,null,null,null,null,"64 06 00 01 00 F8 9E"]
["228,5,18,62,62,17,",null,{"$f":"MyXor(F240,$C$1)","v":190},228,5,18,62,62,17,null,null,null,null,100,5,{"$f":"MyXor(F240,$B242)","v":172},{"$f":"MyXor(G240,$B242)","v":128},{"$f":"MyXor(H240,$B242)","v":128},{"$f":"MyXor(I240,$B242)","v":175},{"$f":"MyXor(J240,$B242)","v":190},{"$f":"MyXor(K240,$B242)","v":190},{"$f":"MyXor(L240,$B242)","v":190},{"$f":"MyXor(M240,$B242)","v":190},null,100,5,0,128,128,175,190,190,190,190,null,null,"E4 09 E4 ED C3 EA EA EA EA 6F","E4",9,"E4","ED","C3","EA","EA","EA","EA","6F",null,null,null,null,null,null,null,null,null,null,228,9,228,237,195,234,234,234,234,111,0,0,0,0,0,0,0,0,0,0,72,100,9,0,165,139,162,162,162,162,null,null,null,null,null,null,null,null,null,null,null,100,{"$f":"MyXor(CB240,VLOOKUP(CU240,'Таблица CRC'!$A$43:$C$298,3,FALSE))","v":13},{"$f":"MyXor(CC240,VLOOKUP(CV240,'Таблица CRC'!$A$43:$C$298,3,FALSE))","v":253},{"$f":"MyXor(CD240,VLOOKUP(CW240,'Таблица CRC'!$A$43:$C$298,3,FALSE))","v":44},{"$f":"MyXor(CE240,VLOOKUP(CX240,'Таблица CRC'!$A$43:$C$298,3,FALSE))","v":11},{"$f":"MyXor(CF240,VLOOKUP(CY240,'Таблица CRC'!$A$43:$C$298,3,FALSE))","v":130},{"$f":"MyXor(CG240,VLOOKUP(CZ240,'Таблица CRC'!$A$43:$C$298,3,FALSE))","v":146},{"$f":"MyXor(CH240,VLOOKUP(DA240,'Таблица CRC'!$A$43:$C$298,3,FALSE))","v":15},{"$f":"MyXor(CI240,VLOOKUP(DB240,'Таблица CRC'!$A$43:$C$298,3,FALSE))","v":227},{"$f":"MyXor(CJ240,VLOOKUP(DC240,'Таблица CRC'!$A$43:$C$298,3,FALSE))","v":11},null,null,null,null,null,null,null,null,null,null,{"$f":"CONCATENATE(DEC2HEX(CA240,2),\" \",DEC2HEX(CB240,2),\" \",DEC2HEX(CC240,2),\" \",DEC2HEX(CD240,2),\" \",DEC2HEX(CE240,2),\" \",DEC2HEX(CF240,2),\" \",DEC2HEX(CG240,2),\" \",DEC2HEX(CH240,2),\" \",DEC2HEX(CI240,2),\" \",DEC2HEX(DD240,2))","v":"64 09 00 A5 8B A2 A2 A2 A2 0B"}]
["Принято в обработку",null,null,"Принято в обработку",null,null,null,null,null,null,null,null,null,null,null,null,null,null,null,null,null,null,null,null,null,null,null,null,null,null,null,null,null,null,null,null,"E4 06 46 E9 EA EA CC","E4",6,46,"E9","EA","EA","CC",null,null,null,null,null,null,null,null,null,null,null,null,null,228,6,70,233,234,234,204,0,0,0,0,0,0,0,0,0,0,0,0,0,234,100,6,0,3,0,0,null,null,null,null,null,null,null,null,null,null,null,null,null,null,100,{"$f":"MyXor(CB241,VLOOKUP(CU241,'Таблица CRC'!$A$43:$C$298,3,FALSE))","v":2},{"$f":"MyXor(CC241,VLOOKUP(CV241,'Таблица CRC'!$A$43:$C$298,3,FALSE))","v":188},{"$f":"MyXor(CD241,VLOOKUP(CW241,'Таблица CRC'!$A$43:$C$298,3,FALSE))","v":146},{"$f":"MyXor(CE241,VLOOKUP(CX241,'Таблица CRC'!$A$43:$C$298,3,FALSE))","v":173},{"$f":"MyXor(CF241,VLOOKUP(CY241,'Таблица CRC'!$A$43:$C$298,3,FALSE))","v":82},{"$f":"MyXor(CG241,VLOOKUP(CZ241,'Таблица CRC'!$A$43:$C$298,3,FALSE))","v":103},null,null,null,null,null,null,null,null,null,null,null,null,null,"64 06 00 03 00 00 67"]
["otvet 44,0,0,",190,null,"otvet 44",0,0,null,null,null,null,null,null,null,null,null,null,null,null,null,null,null,null,null,null,null,null,null,null,null,null,null,null,null,null,null,null,"E4 08 47 C0 EF C2 EB EA 4B","E4",8,47,"C0","EF","C2","EB","EA","4B",null,null,null,null,null,null,null,null,null,null,null,228,8,71,192,239,194,235,234,75,0,0,0,0,0,0,0,0,0,0,0,235,100,8,0,43,4,41,0,1,null,null,null,null,null,null,null,null,null,null,null,null,100,{"$f":"MyXor(CB242,VLOOKUP(CU242,'Таблица CRC'!$A$43:$C$298,3,FALSE))","v":12},{"$f":"MyXor(CC242,VLOOKUP(CV242,'Таблица CRC'!$A$43:$C$298,3,FALSE))","v":163},{"$f":"MyXor(CD242,VLOOKUP(CW242,'Таблица CRC'!$A$43:$C$298,3,FALSE))","v":102},{"$f":"MyXor(CE242,VLOOKUP(CX242,'Таблица CRC'!$A$43:$C$298,3,FALSE))","v":188},{"$f":"MyXor(CF242,VLOOKUP(CY242,'Таблица CRC'!$A$43:$C$298,3,FALSE))","v":184},{"$f":"MyXor(CG242,VLOOKUP(CZ242,'Таблица CRC'!$A$43:$C$298,3,FALSE))","v":240},{"$f":"MyXor(CH242,VLOOKUP(DA242,'Таблица CRC'!$A$43:$C$298,3,FALSE))","v":117},{"$f":"MyXor(CI242,VLOOKUP(DB242,'Таблица CRC'!$A$43:$C$298,3,FALSE))","v":199},null,null,null,null,null,null,null,null,null,null,null,{"$f":"CONCATENATE(DEC2HEX(CA242,2),\" \",DEC2HEX(CB242,2),\" \",DEC2HEX(CC242,2),\" \",DEC2HEX(CD242,2),\" \",DEC2HEX(CE242,2),\" \",DEC2HEX(CF242,2),\" \",DEC2HEX(CG242,2),\" \",DEC2HEX(CH242,2),\" \",DEC2HEX(DC242,2))","v":"64 08 00 2B 04 29 00 01 C7"}]
["228,6,167,10,11,243,153,",null,{"$f":"MyXor(F243,$C$1)","v":11},228,6,167,10,11,243,153,null,null,null,100,6,{"$f":"MyXor(F243,$B245)","v":172},{"$f":"MyXor(G243,$B245)","v":1},{"$f":"MyXor(H243,$B245)","v":0},{"$f":"MyXor(I243,$B245)","v":248},{"$f":"MyXor(J243,$B245)","v":146},{"$f":"MyXor(K243,$B245)","v":11},{"$f":"MyXor(L243,$B245)","v":11},{"$f":"MyXor(M243,$B245)","v":11},null,100,6,0,1,0,248,146,11,11,11,null,null,"E4 05 C7 EB EB F2","E4",5,"C7","EB","EB","F2",null,null,null,null,null,null,null,null,null,null,null,null,null,null,228,5,199,235,235,242,0,0,0,0,0,0,0,0,0,0,0,0,0,0,107,100,5,0,128,128,null,null,null,null,null,null,null,null,null,null,null,null,null,null,null,100,{"$f":"MyXor(CB243,VLOOKUP(CU243,'Таблица CRC'!$A$43:$C$298,3,FALSE))","v":1},{"$f":"MyXor(CC243,VLOOKUP(CV243,'Таблица CRC'!$A$43:$C$298,3,FALSE))","v":94},{"$f":"MyXor(CD243,VLOOKUP(CW243,'Таблица CRC'!$A$43:$C$298,3,FALSE))","v":68},{"$f":"MyXor(CE243,VLOOKUP(CX243,'Таблица CRC'!$A$43:$C$298,3,FALSE))","v":167},{"$f":"MyXor(CF243,VLOOKUP(CY243,'Таблица CRC'!$A$43:$C$298,3,FALSE))","v":44},null,null,null,null,null,null,null,null,null,null,null,null,null,null,{"$f":"CONCATENATE(DEC2HEX(CA243,2),\" \",DEC2HEX(CB243,2),\" \",DEC2HEX(CC243,2),\" \",DEC2HEX(CD243,2),\" \",DEC2HEX(CE243,2),\" \",DEC2HEX(CZ243,2))","v":"64 05 00 80 80 2C"}]
["Принято в обработку",null,null,"Принято в обработку",null,null,null,null,null,null,null,null,null,null,null,null,null,null,null,null,null,null,null,null,null,null,null,null,null,null,null,null,null,null,null,null,"E4 06 36 9B 9A 62 3C","E4",6,36,"9B","9A",62,"3C",null,null,null,null,null,null,null,null,null,null,null,null,null,228,6,54,155,154,98,60,0,0,0,0,0,0,0,0,0,0,0,0,0,154,100,6,0,1,0,248,null,null,null,null,null,null,null,null,null,null,null,null,null,null,100,{"$f":"MyXor(CB244,VLOOKUP(CU244,'Таблица CRC'!$A$43:$C$298,3,FALSE))","v":2},{"$f":"MyXor(CC244,VLOOKUP(CV244,'Таблица CRC'!$A$43:$C$298,3,FALSE))","v":188},{"$f":"MyXor(CD244,VLOOKUP(CW244,'Таблица CRC'!$A$43:$C$298,3,FALSE))","v":144},{"$f":"MyXor(CE244,VLOOKUP(CX244,'Таблица CRC'!$A$43:$C$298,3,FALSE))","v":17},{"$f":"MyXor(CF244,VLOOKUP(CY244,'Таблица CRC'!$A$43:$C$298,3,FALSE))","v":59},{"$f":"MyXor(CG244,VLOOKUP(CZ244,'Таблица CRC'!$A$43:$C$298,3,FALSE))","v":158},null,null,null,null,null,null,null,null,null,null,null,null,null,"64 06 00 01 00 F8 9E"]
["ключ шифрования-11",11,null,"ключ шифрования-11",null,null,null,null,null,null,null,null,null,null,null,null,null,null,null,null,null,null,null,null,null,null,null,null,null,null,null,null,null,null,null,null,"E4 09 94 9D B0 9A 9A 9A 9A 0E","E4",9,94,"9D","B0","9A","9A","9A","9A","0E",null,null,null,null,null,null,null,null,null,null,228,9,148,157,176,154,154,154,154,14,0,0,0,0,0,0,0,0,0,0,56,100,9,0,165,136,162,162,162,162,null,null,null,null,null,null,null,null,null,null,null,100,{"$f":"MyXor(CB245,VLOOKUP(CU245,'Таблица CRC'!$A$43:$C$298,3,FALSE))","v":13},{"$f":"MyXor(CC245,VLOOKUP(CV245,'Таблица CRC'!$A$43:$C$298,3,FALSE))","v":253},{"$f":"MyXor(CD245,VLOOKUP(CW245,'Таблица CRC'!$A$43:$C$298,3,FALSE))","v":44},{"$f":"MyXor(CE245,VLOOKUP(CX245,'Таблица CRC'!$A$43:$C$298,3,FALSE))","v":8},{"$f":"MyXor(CF245,VLOOKUP(CY245,'Таблица CRC'!$A$43:$C$298,3,FALSE))","v":96},{"$f":"MyXor(CG245,VLOOKUP(CZ245,'Таблица CRC'!$A$43:$C$298,3,FALSE))","v":199},{"$f":"MyXor(CH245,VLOOKUP(DA245,'Таблица CRC'!$A$43:$C$298,3,FALSE))","v":235},{"$f":"MyXor(CI245,VLOOKUP(DB245,'Таблица CRC'!$A$43:$C$298,3,FALSE))","v":107},{"$f":"MyXor(CJ245,VLOOKUP(DC245,'Таблица CRC'!$A$43:$C$298,3,FALSE))","v":69},null,null,null,null,null,null,null,null,null,null,{"$f":"CONCATENATE(DEC2HEX(CA245,2),\" \",DEC2HEX(CB245,2),\" \",DEC2HEX(CC245,2),\" \",DEC2HEX(CD245,2),\" \",DEC2HEX(CE245,2),\" \",DEC2HEX(CF245,2),\" \",DEC2HEX(CG245,2),\" \",DEC2HEX(CH245,2),\" \",DEC2HEX(CI245,2),\" \",DEC2HEX(DD245,2))","v":"64 09 00 A5 88 A2 A2 A2 A2 45"}]
["zapros.s 1,0,248,",null,null,"zapros.s 1",0,248,null,null,null,null,null,null,null,null,null,null,null,null,null,null,null,null,null,null,null,null,null,null,null,null,null,null,null,null,null,null,"E4 06 36 99 9A 9A C5","E4",6,36,99,"9A","9A","C5",null,null,null,null,null,null,null,null,null,null,null,null,null,228,6,54,153,154,154,197,0,0,0,0,0,0,0,0,0,0,0,0,0,154,100,6,0,3,0,0,null,null,null,null,null,null,null,null,null,null,null,null,null,null,100,{"$f":"MyXor(CB246,VLOOKUP(CU246,'Таблица CRC'!$A$43:$C$298,3,FALSE))","v":2},{"$f":"MyXor(CC246,VLOOKUP(CV246,'Таблица CRC'!$A$43:$C$298,3,FALSE))","v":188},{"$f":"MyXor(CD246,VLOOKUP(CW246,'Таблица CRC'!$A$43:$C$298,3,FALSE))","v":146},{"$f":"MyXor(CE246,VLOOKUP(CX246,'Таблица CRC'!$A$43:$C$298,3,FALSE))","v":173},{"$f":"MyXor(CF246,VLOOKUP(CY246,'Таблица CRC'!$A$43:$C$298,3,FALSE))","v":82},{"$f":"MyXor(CG246,VLOOKUP(CZ246,'Таблица CRC'!$A$43:$C$298,3,FALSE))","v":103},null,null,null,null,null,null,null,null,null,null,null,null,null,"64 06 00 03 00 00 67"]
["ОТВЕТ ЭМУЛЯТОРА 9,8,11,",null,null,"ОТВЕТ ЭМУЛЯТОРА 9",8,11,null,null,null,null,null,null,null,null,null,null,null,null,null,null,null,null,null,null,null,null,null,null,null,null,null,null,null,null,null,null,"E4 08 1C 9B B4 9A B0 B1 C5","E4",8,"1C","9B","B4","9A","B0","B1","C5",null,null,null,null,null,null,null,null,null,null,null,228,8,28,155,180,154,176,177,197,0,0,0,0,0,0,0,0,0,0,0,176,100,8,0,43,4,42,0,1,null,null,null,null,null,null,null,null,null,null,null,null,100,{"$f":"MyXor(CB247,VLOOKUP(CU247,'Таблица CRC'!$A$43:$C$298,3,FALSE))","v":12},{"$f":"MyXor(CC247,VLOOKUP(CV247,'Таблица CRC'!$A$43:$C$298,3,FALSE))","v":163},{"$f":"MyXor(CD247,VLOOKUP(CW247,'Таблица CRC'!$A$43:$C$298,3,FALSE))","v":102},{"$f":"MyXor(CE247,VLOOKUP(CX247,'Таблица CRC'!$A$43:$C$298,3,FALSE))","v":188},{"$f":"MyXor(CF247,VLOOKUP(CY247,'Таблица CRC'!$A$43:$C$298,3,FALSE))","v":187},{"$f":"MyXor(CG247,VLOOKUP(CZ247,'Таблица CRC'!$A$43:$C$298,3,FALSE))","v":18},{"$f":"MyXor(CH247,VLOOKUP(DA247,'Таблица CRC'!$A$43:$C$298,3,FALSE))","v":32},{"$f":"MyXor(CI247,VLOOKUP(DB247,'Таблица CRC'!$A$43:$C$298,3,FALSE))","v":35},null,null,null,null,null,null,null,null,null,null,null,{"$f":"CONCATENATE(DEC2HEX(CA247,2),\" \",DEC2HEX(CB247,2),\" \",DEC2HEX(CC247,2),\" \",DEC2HEX(CD247,2),\" \",DEC2HEX(CE247,2),\" \",DEC2HEX(CF247,2),\" \",DEC2HEX(CG247,2),\" \",DEC2HEX(CH247,2),\" \",DEC2HEX(DC247,2))","v":"64 08 00 2B 04 2A 00 01 23"}]
["228,9,5,12,0,11,11,11,11,51,",null,{"$f":"MyXor(F248,$C$1)","v":169},228,9,5,12,0,11,11,11,11,51,100,9,{"$f":"MyXor(F248,$B250)","v":172},{"$f":"MyXor(G248,$B250)","v":165},{"$f":"MyXor(H248,$B250)","v":169},{"$f":"MyXor(I248,$B250)","v":162},{"$f":"MyXor(J248,$B250)","v":162},{"$f":"MyXor(K248,$B250)","v":162},{"$f":"MyXor(L248,$B250)","v":162},{"$f":"MyXor(M248,$B250)","v":154},null,100,9,0,165,169,162,162,162,162,null,null,null,"E4 05 9C B0 B0 E7","E4",5,"9C","B0","B0","E7",null,null,null,null,null,null,null,null,null,null,null,null,null,null,228,5,156,176,176,231,0,0,0,0,0,0,0,0,0,0,0,0,0,0,48,100,5,0,128,128,null,null,null,null,null,null,null,null,null,null,null,null,null,null,null,100,{"$f":"MyXor(CB248,VLOOKUP(CU248,'Таблица CRC'!$A$43:$C$298,3,FALSE))","v":1},{"$f":"MyXor(CC248,VLOOKUP(CV248,'Таблица CRC'!$A$43:$C$298,3,FALSE))","v":94},{"$f":"MyXor(CD248,VLOOKUP(CW248,'Таблица CRC'!$A$43:$C$298,3,FALSE))","v":68},{"$f":"MyXor(CE248,VLOOKUP(CX248,'Таблица CRC'!$A$43:$C$298,3,FALSE))","v":167},{"$f":"MyXor(CF248,VLOOKUP(CY248,'Таблица CRC'!$A$43:$C$298,3,FALSE))","v":44},null,null,null,null,null,null,null,null,null,null,null,null,null,null,{"$f":"CONCATENATE(DEC2HEX(CA248,2),\" \",DEC2HEX(CB248,2),\" \",DEC2HEX(CC248,2),\" \",DEC2HEX(CD248,2),\" \",DEC2HEX(CE248,2),\" \",DEC2HEX(CZ248,2))","v":"64 05 00 80 80 2C"}]
["Принято в обработку",null,null,"Принято в обработку",null,null,null,null,null,null,null,null,null,null,null,null,null,null,null,null,null,null,null,null,{"$f":"MyXor(Y248,0)","v":100},{"$f":"MyXor(Z248,VLOOKUP(Y249,'Таблица CRC'!$A$43:$C$298,3,FALSE))","v":13},{"$f":"MyXor(AA248,VLOOKUP(Z249,'Таблица CRC'!$A$43:$C$298,3,FALSE))","v":253},{"$f":"MyXor(AB248,VLOOKUP(AA249,'Таблица CRC'!$A$43:$C$298,3,FALSE))","v":44},{"$f":"MyXor(AC248,VLOOKUP(AB249,'Таблица CRC'!$A$43:$C$298,3,FALSE))","v":41},{"$f":"MyXor(AD248,VLOOKUP(AC249,'Таблица CRC'!$A$43:$C$298,3,FALSE))","v":29},{"$f":"MyXor(AE248,VLOOKUP(AD249,'Таблица CRC'!$A$43:$C$298,3,FALSE))","v":194},{"$f":"MyXor(AF248,VLOOKUP(AE249,'Таблица CRC'!$A$43:$C$298,3,FALSE))","v":212},{"$f":"MyXor(AG248,VLOOKUP(AF249,'Таблица CRC'!$A$43:$C$298,3,FALSE))","v":148},{"$f":"MyXor(AH248,VLOOKUP(AG249,'Таблица CRC'!$A$43:$C$298,3,FALSE))","v":112},null,null,"E4 06 A2 0F 0E F6 ED","E4",6,"A2","0F","0E","F6","ED",null,null,null,null,null,null,null,null,null,null,null,null,null,228,6,162,15,14,246,237,0,0,0,0,0,0,0,0,0,0,0,0,0,14,100,6,0,1,0,248,null,null,null,null,null,null,null,null,null,null,null,null,null,null,100,{"$f":"MyXor(CB249,VLOOKUP(CU249,'Таблица CRC'!$A$43:$C$298,3,FALSE))","v":2},{"$f":"MyXor(CC249,VLOOKUP(CV249,'Таблица CRC'!$A$43:$C$298,3,FALSE))","v":188},{"$f":"MyXor(CD249,VLOOKUP(CW249,'Таблица CRC'!$A$43:$C$298,3,FALSE))","v":144},{"$f":"MyXor(CE249,VLOOKUP(CX249,'Таблица CRC'!$A$43:$C$298,3,FALSE))","v":17},{"$f":"MyXor(CF249,VLOOKUP(CY249,'Таблица CRC'!$A$43:$C$298,3,FALSE))","v":59},{"$f":"MyXor(CG249,VLOOKUP(CZ249,'Таблица CRC'!$A$43:$C$298,3,FALSE))","v":158},null,null,null,null,null,null,null,null,null,null,null,null,null,"64 06 00 01 00 F8 9E"]
["ключ шифрования-169",169,null,"ключ шифрования-169",null,null,null,null,null,null,null,null,null,null,null,null,null,null,null,null,null,null,null,null,{"$f":"DEC2HEX(Y248,2)","v":"64"},{"$f":"DEC2HEX(Z248,2)","v":"09"},"00","A5","A9","A2","A2","A2","A2",{"$f":"DEC2HEX(AH249,2)","v":"70"},{"$f":"CONCATENATE(Y250,\" \",Z250,\" \",AA250,\" \",AB250,\" \",AC250,\" \",AD250,\" \",AE250,\" \",AF250,\" \",AG250,\" \",AH250)","v":"64 09 00 A5 A9 A2 A2 A2 A2 70"},"64 05 0A 00 00 E5 (далее написано тоже)","E4 09 00 09 25 0E 0E 0E 0E 4F","E4",9,0,9,25,"0E","0E","0E","0E","4F",null,null,null,null,null,null,null,null,null,null,228,9,0,9,37,14,14,14,14,79,0,0,0,0,0,0,0,0,0,0,172,100,9,0,165,137,162,162,162,162,null,null,null,null,null,null,null,null,null,null,null,100,{"$f":"MyXor(CB250,VLOOKUP(CU250,'Таблица CRC'!$A$43:$C$298,3,FALSE))","v":13},{"$f":"MyXor(CC250,VLOOKUP(CV250,'Таблица CRC'!$A$43:$C$298,3,FALSE))","v":253},{"$f":"MyXor(CD250,VLOOKUP(CW250,'Таблица CRC'!$A$43:$C$298,3,FALSE))","v":44},{"$f":"MyXor(CE250,VLOOKUP(CX250,'Таблица CRC'!$A$43:$C$298,3,FALSE))","v":9},{"$f":"MyXor(CF250,VLOOKUP(CY250,'Таблица CRC'!$A$43:$C$298,3,FALSE))","v":62},{"$f":"MyXor(CG250,VLOOKUP(CZ250,'Таблица CRC'!$A$43:$C$298,3,FALSE))","v":3},{"$f":"MyXor(CH250,VLOOKUP(DA250,'Таблица CRC'!$A$43:$C$298,3,FALSE))","v":64},{"$f":"MyXor(CI250,VLOOKUP(DB250,'Таблица CRC'!$A$43:$C$298,3,FALSE))","v":228},{"$f":"MyXor(CJ250,VLOOKUP(DC250,'Таблица CRC'!$A$43:$C$298,3,FALSE))","v":136},null,null,null,null,null,null,null,null,null,null,{"$f":"CONCATENATE(DEC2HEX(CA250,2),\" \",DEC2HEX(CB250,2),\" \",DEC2HEX(CC250,2),\" \",DEC2HEX(CD250,2),\" \",DEC2HEX(CE250,2),\" \",DEC2HEX(CF250,2),\" \",DEC2HEX(CG250,2),\" \",DEC2HEX(CH250,2),\" \",DEC2HEX(CI250,2),\" \",DEC2HEX(DD250,2))","v":"64 09 00 A5 89 A2 A2 A2 A2 88"}]
["zapros.s 165,169,162,",null,null,"zapros.s 165",169,162,null,null,null,null,null,null,null,null,null,null,null,null,null,null,null,null,null,null,null,null,null,null,null,null,null,null,null,null,null,null,"E4 06 A2 0D 0E 0E 14","E4",6,"A2","0D","0E","0E",14,null,null,null,null,null,null,null,null,null,null,null,null,null,228,6,162,13,14,14,20,0,0,0,0,0,0,0,0,0,0,0,0,0,14,100,6,0,3,0,0,null,null,null,null,null,null,null,null,null,null,null,null,null,null,100,{"$f":"MyXor(CB251,VLOOKUP(CU251,'Таблица CRC'!$A$43:$C$298,3,FALSE))","v":2},{"$f":"MyXor(CC251,VLOOKUP(CV251,'Таблица CRC'!$A$43:$C$298,3,FALSE))","v":188},{"$f":"MyXor(CD251,VLOOKUP(CW251,'Таблица CRC'!$A$43:$C$298,3,FALSE))","v":146},{"$f":"MyXor(CE251,VLOOKUP(CX251,'Таблица CRC'!$A$43:$C$298,3,FALSE))","v":173},{"$f":"MyXor(CF251,VLOOKUP(CY251,'Таблица CRC'!$A$43:$C$298,3,FALSE))","v":82},{"$f":"MyXor(CG251,VLOOKUP(CZ251,'Таблица CRC'!$A$43:$C$298,3,FALSE))","v":103},null,null,null,null,null,null,null,null,null,null,null,null,null,"64 06 00 03 00 00 67"]
["228,6,167,8,11,11,96,",null,{"$f":"MyXor(F252,$C$1)","v":11},228,6,167,8,11,11,96,null,null,null,100,6,{"$f":"MyXor(F252,$B254)","v":172},{"$f":"MyXor(G252,$B254)","v":3},{"$f":"MyXor(H252,$B254)","v":0},{"$f":"MyXor(I252,$B254)","v":0},{"$f":"MyXor(J252,$B254)","v":107},{"$f":"MyXor(K252,$B254)","v":11},{"$f":"MyXor(L252,$B254)","v":11},{"$f":"MyXor(M252,$B254)","v":11},null,100,6,0,3,0,0,107,11,11,11,null,null,"E4 08 97 10 3F 10 3B 3A 89","E4",8,97,10,"3F",10,"3B","3A",89,null,null,null,null,null,null,null,null,null,null,null,228,8,151,16,63,16,59,58,137,0,0,0,0,0,0,0,0,0,0,0,59,100,8,0,43,4,43,0,1,null,null,null,null,null,null,null,null,null,null,null,null,100,{"$f":"MyXor(CB252,VLOOKUP(CU252,'Таблица CRC'!$A$43:$C$298,3,FALSE))","v":12},{"$f":"MyXor(CC252,VLOOKUP(CV252,'Таблица CRC'!$A$43:$C$298,3,FALSE))","v":163},{"$f":"MyXor(CD252,VLOOKUP(CW252,'Таблица CRC'!$A$43:$C$298,3,FALSE))","v":102},{"$f":"MyXor(CE252,VLOOKUP(CX252,'Таблица CRC'!$A$43:$C$298,3,FALSE))","v":188},{"$f":"MyXor(CF252,VLOOKUP(CY252,'Таблица CRC'!$A$43:$C$298,3,FALSE))","v":186},{"$f":"MyXor(CG252,VLOOKUP(CZ252,'Таблица CRC'!$A$43:$C$298,3,FALSE))","v":76},{"$f":"MyXor(CH252,VLOOKUP(DA252,'Таблица CRC'!$A$43:$C$298,3,FALSE))","v":228},{"$f":"MyXor(CI252,VLOOKUP(DB252,'Таблица CRC'!$A$43:$C$298,3,FALSE))","v":136},null,null,null,null,null,null,null,null,null,null,null,{"$f":"CONCATENATE(DEC2HEX(CA252,2),\" \",DEC2HEX(CB252,2),\" \",DEC2HEX(CC252,2),\" \",DEC2HEX(CD252,2),\" \",DEC2HEX(CE252,2),\" \",DEC2HEX(CF252,2),\" \",DEC2HEX(CG252,2),\" \",DEC2HEX(CH252,2),\" \",DEC2HEX(DC252,2))","v":"64 08 00 2B 04 2B 00 01 88"}]
["Принято в обработку",null,null,"Принято в обработку",null,null,null,null,null,null,null,null,null,null,null,null,null,null,null,null,null,null,null,null,null,null,null,null,null,null,null,null,null,null,null,null,"E4 05 17 3B 3B E4","E4",5,17,"3B","3B","E4",null,null,null,null,null,null,null,null,null,null,null,null,null,null,228,5,23,59,59,228,0,0,0,0,0,0,0,0,0,0,0,0,0,0,187,100,5,0,128,128,null,null,null,null,null,null,null,null,null,null,null,null,null,null,null,100,{"$f":"MyXor(CB253,VLOOKUP(CU253,'Таблица CRC'!$A$43:$C$298,3,FALSE))","v":1},{"$f":"MyXor(CC253,VLOOKUP(CV253,'Таблица CRC'!$A$43:$C$298,3,FALSE))","v":94},{"$f":"MyXor(CD253,VLOOKUP(CW253,'Таблица CRC'!$A$43:$C$298,3,FALSE))","v":68},{"$f":"MyXor(CE253,VLOOKUP(CX253,'Таблица CRC'!$A$43:$C$298,3,FALSE))","v":167},{"$f":"MyXor(CF253,VLOOKUP(CY253,'Таблица CRC'!$A$43:$C$298,3,FALSE))","v":44},null,null,null,null,null,null,null,null,null,null,null,null,null,null,{"$f":"CONCATENATE(DEC2HEX(CA253,2),\" \",DEC2HEX(CB253,2),\" \",DEC2HEX(CC253,2),\" \",DEC2HEX(CD253,2),\" \",DEC2HEX(CE253,2),\" \",DEC2HEX(CZ253,2))","v":"64 05 00 80 80 2C"}]
["ключ шифрования-11",11,null,"ключ шифрования-11",null,null,null,null,null,null,null,null,null,null,null,null,null,null,null,null,null,null,null,null,null,null,null,null,null,null,null,null,null,null,null,null,"E4 06 14 B9 B8 40 5F","E4",6,14,"B9","B8",40,"5F",null,null,null,null,null,null,null,null,null,null,null,null,null,228,6,20,185,184,64,95,0,0,0,0,0,0,0,0,0,0,0,0,0,184,100,6,0,1,0,248,null,null,null,null,null,null,null,null,null,null,null,null,null,null,100,{"$f":"MyXor(CB254,VLOOKUP(CU254,'Таблица CRC'!$A$43:$C$298,3,FALSE))","v":2},{"$f":"MyXor(CC254,VLOOKUP(CV254,'Таблица CRC'!$A$43:$C$298,3,FALSE))","v":188},{"$f":"MyXor(CD254,VLOOKUP(CW254,'Таблица CRC'!$A$43:$C$298,3,FALSE))","v":144},{"$f":"MyXor(CE254,VLOOKUP(CX254,'Таблица CRC'!$A$43:$C$298,3,FALSE))","v":17},{"$f":"MyXor(CF254,VLOOKUP(CY254,'Таблица CRC'!$A$43:$C$298,3,FALSE))","v":59},{"$f":"MyXor(CG254,VLOOKUP(CZ254,'Таблица CRC'!$A$43:$C$298,3,FALSE))","v":158},null,null,null,null,null,null,null,null,null,null,null,null,null,"64 06 00 01 00 F8 9E"]
["zapros.s 3,0,0,",null,null,"zapros.s 3",0,0,null,null,null,null,null,null,null,null,null,null,null,null,null,null,null,null,null,null,null,null,null,null,null,null,null,null,null,null,null,null,"E4 09 B6 BF 94 B8 B8 B8 B8 C7","E4",9,"B6","BF",94,"B8","B8","B8","B8","C7",null,null,null,null,null,null,null,null,null,null,228,9,182,191,148,184,184,184,184,199,0,0,0,0,0,0,0,0,0,0,26,100,9,0,165,142,162,162,162,162,null,null,null,null,null,null,null,null,null,null,null,100,{"$f":"MyXor(CB255,VLOOKUP(CU255,'Таблица CRC'!$A$43:$C$298,3,FALSE))","v":13},{"$f":"MyXor(CC255,VLOOKUP(CV255,'Таблица CRC'!$A$43:$C$298,3,FALSE))","v":253},{"$f":"MyXor(CD255,VLOOKUP(CW255,'Таблица CRC'!$A$43:$C$298,3,FALSE))","v":44},{"$f":"MyXor(CE255,VLOOKUP(CX255,'Таблица CRC'!$A$43:$C$298,3,FALSE))","v":14},{"$f":"MyXor(CF255,VLOOKUP(CY255,'Таблица CRC'!$A$43:$C$298,3,FALSE))","v":189},{"$f":"MyXor(CG255,VLOOKUP(CZ255,'Таблица CRC'!$A$43:$C$298,3,FALSE))","v":109},{"$f":"MyXor(CH255,VLOOKUP(DA255,'Таблица CRC'!$A$43:$C$298,3,FALSE))","v":58},{"$f":"MyXor(CI255,VLOOKUP(DB255,'Таблица CRC'!$A$43:$C$298,3,FALSE))","v":98},{"$f":"MyXor(CJ255,VLOOKUP(DC255,'Таблица CRC'!$A$43:$C$298,3,FALSE))","v":217},null,null,null,null,null,null,null,null,null,null,{"$f":"CONCATENATE(DEC2HEX(CA255,2),\" \",DEC2HEX(CB255,2),\" \",DEC2HEX(CC255,2),\" \",DEC2HEX(CD255,2),\" \",DEC2HEX(CE255,2),\" \",DEC2HEX(CF255,2),\" \",DEC2HEX(CG255,2),\" \",DEC2HEX(CH255,2),\" \",DEC2HEX(CI255,2),\" \",DEC2HEX(DD255,2))","v":"64 09 00 A5 8E A2 A2 A2 A2 D9"}]
["228,8,90,221,242,253,246,247,235,",null,{"$f":"MyXor(F256,$C$1)","v":246},228,8,90,221,242,253,246,247,235,null,100,8,{"$f":"MyXor(F256,$B258)","v":172},{"$f":"MyXor(G256,$B258)","v":43},{"$f":"MyXor(H256,$B258)","v":4},{"$f":"MyXor(I256,$B258)","v":11},{"$f":"MyXor(J256,$B258)","v":0},{"$f":"MyXor(K256,$B258)","v":1},{"$f":"MyXor(L256,$B258)","v":29},{"$f":"MyXor(M256,$B258)","v":246},null,100,8,0,43,4,11,0,1,29,246,null,null,"E4 06 14 BB B8 B8 A6","E4",6,14,"BB","B8","B8","A6",null,null,null,null,null,null,null,null,null,null,null,null,null,228,6,20,187,184,184,166,0,0,0,0,0,0,0,0,0,0,0,0,0,184,100,6,0,3,0,0,null,null,null,null,null,null,null,null,null,null,null,null,null,null,100,{"$f":"MyXor(CB256,VLOOKUP(CU256,'Таблица CRC'!$A$43:$C$298,3,FALSE))","v":2},{"$f":"MyXor(CC256,VLOOKUP(CV256,'Таблица CRC'!$A$43:$C$298,3,FALSE))","v":188},{"$f":"MyXor(CD256,VLOOKUP(CW256,'Таблица CRC'!$A$43:$C$298,3,FALSE))","v":146},{"$f":"MyXor(CE256,VLOOKUP(CX256,'Таблица CRC'!$A$43:$C$298,3,FALSE))","v":173},{"$f":"MyXor(CF256,VLOOKUP(CY256,'Таблица CRC'!$A$43:$C$298,3,FALSE))","v":82},{"$f":"MyXor(CG256,VLOOKUP(CZ256,'Таблица CRC'!$A$43:$C$298,3,FALSE))","v":103},null,null,null,null,null,null,null,null,null,null,null,null,null,"64 06 00 03 00 00 67"]
["Принято в обработку",null,null,"Принято в обработку",null,null,null,null,null,null,null,null,null,null,null,null,null,null,null,null,null,null,null,null,null,null,null,null,null,null,null,null,null,null,null,null,"E4 08 E2 65 4A 62 4E 4F 42","E4",8,"E2",65,"4A",62,"4E","4F",42,null,null,null,null,null,null,null,null,null,null,null,228,8,226,101,74,98,78,79,66,0,0,0,0,0,0,0,0,0,0,0,78,100,8,0,43,4,44,0,1,null,null,null,null,null,null,null,null,null,null,null,null,100,{"$f":"MyXor(CB257,VLOOKUP(CU257,'Таблица CRC'!$A$43:$C$298,3,FALSE))","v":12},{"$f":"MyXor(CC257,VLOOKUP(CV257,'Таблица CRC'!$A$43:$C$298,3,FALSE))","v":163},{"$f":"MyXor(CD257,VLOOKUP(CW257,'Таблица CRC'!$A$43:$C$298,3,FALSE))","v":102},{"$f":"MyXor(CE257,VLOOKUP(CX257,'Таблица CRC'!$A$43:$C$298,3,FALSE))","v":188},{"$f":"MyXor(CF257,VLOOKUP(CY257,'Таблица CRC'!$A$43:$C$298,3,FALSE))","v":189},{"$f":"MyXor(CG257,VLOOKUP(CZ257,'Таблица CRC'!$A$43:$C$298,3,FALSE))","v":207},{"$f":"MyXor(CH257,VLOOKUP(DA257,'Таблица CRC'!$A$43:$C$298,3,FALSE))","v":138},{"$f":"MyXor(CI257,VLOOKUP(DB257,'Таблица CRC'!$A$43:$C$298,3,FALSE))","v":242},null,null,null,null,null,null,null,null,null,null,null,{"$f":"CONCATENATE(DEC2HEX(CA257,2),\" \",DEC2HEX(CB257,2),\" \",DEC2HEX(CC257,2),\" \",DEC2HEX(CD257,2),\" \",DEC2HEX(CE257,2),\" \",DEC2HEX(CF257,2),\" \",DEC2HEX(CG257,2),\" \",DEC2HEX(CH257,2),\" \",DEC2HEX(DC257,2))","v":"64 08 00 2B 04 2C 00 01 F2"}]
["ключ шифрования-246",246,null,"ключ шифрования-246",null,null,null,null,null,null,null,null,null,null,null,null,null,null,null,null,null,null,null,null,null,null,null,null,null,null,null,null,null,null,null,null,"E4 05 62 4E 4E B0","E4",5,62,"4E","4E","B0",null,null,null,null,null,null,null,null,null,null,null,null,null,null,228,5,98,78,78,176,0,0,0,0,0,0,0,0,0,0,0,0,0,0,206,100,5,0,128,128,null,null,null,null,null,null,null,null,null,null,null,null,null,null,null,100,{"$f":"MyXor(CB258,VLOOKUP(CU258,'Таблица CRC'!$A$43:$C$298,3,FALSE))","v":1},{"$f":"MyXor(CC258,VLOOKUP(CV258,'Таблица CRC'!$A$43:$C$298,3,FALSE))","v":94},{"$f":"MyXor(CD258,VLOOKUP(CW258,'Таблица CRC'!$A$43:$C$298,3,FALSE))","v":68},{"$f":"MyXor(CE258,VLOOKUP(CX258,'Таблица CRC'!$A$43:$C$298,3,FALSE))","v":167},{"$f":"MyXor(CF258,VLOOKUP(CY258,'Таблица CRC'!$A$43:$C$298,3,FALSE))","v":44},null,null,null,null,null,null,null,null,null,null,null,null,null,null,{"$f":"CONCATENATE(DEC2HEX(CA258,2),\" \",DEC2HEX(CB258,2),\" \",DEC2HEX(CC258,2),\" \",DEC2HEX(CD258,2),\" \",DEC2HEX(CE258,2),\" \",DEC2HEX(CZ258,2))","v":"64 05 00 80 80 2C"}]
["zapros.s 43,4,11,",null,null,"zapros.s 43",4,11,null,null,null,null,null,null,null,null,null,null,null,null,null,null,null,null,null,null,null,null,null,null,null,null,null,null,null,null,null,null,"E4 06 4A E7 E6 1E 72","E4",6,"4A","E7","E6","1E",72,null,null,null,null,null,null,null,null,null,null,null,null,null,228,6,74,231,230,30,114,0,0,0,0,0,0,0,0,0,0,0,0,0,230,100,6,0,1,0,248,null,null,null,null,null,null,null,null,null,null,null,null,null,null,100,{"$f":"MyXor(CB259,VLOOKUP(CU259,'Таблица CRC'!$A$43:$C$298,3,FALSE))","v":2},{"$f":"MyXor(CC259,VLOOKUP(CV259,'Таблица CRC'!$A$43:$C$298,3,FALSE))","v":188},{"$f":"MyXor(CD259,VLOOKUP(CW259,'Таблица CRC'!$A$43:$C$298,3,FALSE))","v":144},{"$f":"MyXor(CE259,VLOOKUP(CX259,'Таблица CRC'!$A$43:$C$298,3,FALSE))","v":17},{"$f":"MyXor(CF259,VLOOKUP(CY259,'Таблица CRC'!$A$43:$C$298,3,FALSE))","v":59},{"$f":"MyXor(CG259,VLOOKUP(CZ259,'Таблица CRC'!$A$43:$C$298,3,FALSE))","v":158},null,null,null,null,null,null,null,null,null,null,null,null,null,"64 06 00 01 00 F8 9E"]
["228,5,218,246,246,173,",null,{"$f":"MyXor(F260,$C$1)","v":118},228,5,218,246,246,173,null,null,null,null,100,5,{"$f":"MyXor(F260,$B262)","v":172},{"$f":"MyXor(G260,$B262)","v":128},{"$f":"MyXor(H260,$B262)","v":128},{"$f":"MyXor(I260,$B262)","v":219},{"$f":"MyXor(J260,$B262)","v":118},{"$f":"MyXor(K260,$B262)","v":118},{"$f":"MyXor(L260,$B262)","v":118},{"$f":"MyXor(M260,$B262)","v":118},null,100,5,0,128,128,219,118,118,118,118,null,null,"E4 09 E8 E1 CB E6 E6 E6 E6 6E","E4",9,"E8","E1","CB","E6","E6","E6","E6","6E",null,null,null,null,null,null,null,null,null,null,228,9,232,225,203,230,230,230,230,110,0,0,0,0,0,0,0,0,0,0,68,100,9,0,165,143,162,162,162,162,null,null,null,null,null,null,null,null,null,null,null,100,{"$f":"MyXor(CB260,VLOOKUP(CU260,'Таблица CRC'!$A$43:$C$298,3,FALSE))","v":13},{"$f":"MyXor(CC260,VLOOKUP(CV260,'Таблица CRC'!$A$43:$C$298,3,FALSE))","v":253},{"$f":"MyXor(CD260,VLOOKUP(CW260,'Таблица CRC'!$A$43:$C$298,3,FALSE))","v":44},{"$f":"MyXor(CE260,VLOOKUP(CX260,'Таблица CRC'!$A$43:$C$298,3,FALSE))","v":15},{"$f":"MyXor(CF260,VLOOKUP(CY260,'Таблица CRC'!$A$43:$C$298,3,FALSE))","v":227},{"$f":"MyXor(CG260,VLOOKUP(CZ260,'Таблица CRC'!$A$43:$C$298,3,FALSE))","v":169},{"$f":"MyXor(CH260,VLOOKUP(DA260,'Таблица CRC'!$A$43:$C$298,3,FALSE))","v":145},{"$f":"MyXor(CI260,VLOOKUP(DB260,'Таблица CRC'!$A$43:$C$298,3,FALSE))","v":237},{"$f":"MyXor(CJ260,VLOOKUP(DC260,'Таблица CRC'!$A$43:$C$298,3,FALSE))","v":20},null,null,null,null,null,null,null,null,null,null,{"$f":"CONCATENATE(DEC2HEX(CA260,2),\" \",DEC2HEX(CB260,2),\" \",DEC2HEX(CC260,2),\" \",DEC2HEX(CD260,2),\" \",DEC2HEX(CE260,2),\" \",DEC2HEX(CF260,2),\" \",DEC2HEX(CG260,2),\" \",DEC2HEX(CH260,2),\" \",DEC2HEX(CI260,2),\" \",DEC2HEX(DD260,2))","v":"64 09 00 A5 8F A2 A2 A2 A2 14"}]
["Принято в обработку",null,null,"Принято в обработку",null,null,null,null,null,null,null,null,null,null,null,null,null,null,null,null,null,null,null,null,null,null,null,null,null,null,null,null,null,null,null,null,"E4 06 4A E5 E6 E6 8B","E4",6,"4A","E5","E6","E6","8B",null,null,null,null,null,null,null,null,null,null,null,null,null,228,6,74,229,230,230,139,0,0,0,0,0,0,0,0,0,0,0,0,0,230,100,6,0,3,0,0,null,null,null,null,null,null,null,null,null,null,null,null,null,null,100,{"$f":"MyXor(CB261,VLOOKUP(CU261,'Таблица CRC'!$A$43:$C$298,3,FALSE))","v":2},{"$f":"MyXor(CC261,VLOOKUP(CV261,'Таблица CRC'!$A$43:$C$298,3,FALSE))","v":188},{"$f":"MyXor(CD261,VLOOKUP(CW261,'Таблица CRC'!$A$43:$C$298,3,FALSE))","v":146},{"$f":"MyXor(CE261,VLOOKUP(CX261,'Таблица CRC'!$A$43:$C$298,3,FALSE))","v":173},{"$f":"MyXor(CF261,VLOOKUP(CY261,'Таблица CRC'!$A$43:$C$298,3,FALSE))","v":82},{"$f":"MyXor(CG261,VLOOKUP(CZ261,'Таблица CRC'!$A$43:$C$298,3,FALSE))","v":103},null,null,null,null,null,null,null,null,null,null,null,null,null,"64 06 00 03 00 00 67"]
["otvet 44,0,0,",118,null,"otvet 44",0,0,null,null,null,null,null,null,null,null,null,null,null,null,null,null,null,null,null,null,null,null,null,null,null,null,null,null,null,null,null,null,"E4 08 D2 55 7A 53 7E 7F 85","E4",8,"D2",55,"7A",53,"7E","7F",85,null,null,null,null,null,null,null,null,null,null,null,{"$f":"HEX2DEC(AL262)","v":228},{"$f":"HEX2DEC(AM262)","v":8},{"$f":"HEX2DEC(AN262)","v":210},{"$f":"HEX2DEC(AO262)","v":85},{"$f":"HEX2DEC(AP262)","v":122},{"$f":"HEX2DEC(AQ262)","v":83},{"$f":"HEX2DEC(AR262)","v":126},{"$f":"HEX2DEC(AS262)","v":127},{"$f":"HEX2DEC(AT262)","v":133},{"$f":"HEX2DEC(AU262)","v":0},{"$f":"HEX2DEC(AV262)","v":0},{"$f":"HEX2DEC(AW262)","v":0},{"$f":"HEX2DEC(AX262)","v":0},{"$f":"HEX2DEC(AY262)","v":0},{"$f":"HEX2DEC(AZ262)","v":0},{"$f":"HEX2DEC(BA262)","v":0},{"$f":"HEX2DEC(BB262)","v":0},{"$f":"HEX2DEC(BC262)","v":0},{"$f":"HEX2DEC(BD262)","v":0},{"$f":"HEX2DEC(BE262)","v":0},126,100,8,0,43,4,45,0,1,null,null,null,null,null,null,null,null,null,null,null,null,100,{"$f":"MyXor(CB262,VLOOKUP(CU262,'Таблица CRC'!$A$43:$C$298,3,FALSE))","v":12},{"$f":"MyXor(CC262,VLOOKUP(CV262,'Таблица CRC'!$A$43:$C$298,3,FALSE))","v":163},{"$f":"MyXor(CD262,VLOOKUP(CW262,'Таблица CRC'!$A$43:$C$298,3,FALSE))","v":102},{"$f":"MyXor(CE262,VLOOKUP(CX262,'Таблица CRC'!$A$43:$C$298,3,FALSE))","v":188},{"$f":"MyXor(CF262,VLOOKUP(CY262,'Таблица CRC'!$A$43:$C$298,3,FALSE))","v":188},{"$f":"MyXor(CG262,VLOOKUP(CZ262,'Таблица CRC'!$A$43:$C$298,3,FALSE))","v":145},{"$f":"MyXor(CH262,VLOOKUP(DA262,'Таблица CRC'!$A$43:$C$298,3,FALSE))","v":78},{"$f":"MyXor(CI262,VLOOKUP(DB262,'Таблица CRC'!$A$43:$C$298,3,FALSE))","v":89},null,null,null,null,null,null,null,null,null,null,null,{"$f":"CONCATENATE(DEC2HEX(CA262,2),\" \",DEC2HEX(CB262,2),\" \",DEC2HEX(CC262,2),\" \",DEC2HEX(CD262,2),\" \",DEC2HEX(CE262,2),\" \",DEC2HEX(CF262,2),\" \",DEC2HEX(CG262,2),\" \",DEC2HEX(CH262,2),\" \",DEC2HEX(DC262,2))","v":"64 08 00 2B 04 2D 00 01 59"}]
["228,6,84,249,248,0,83,",null,{"$f":"MyXor(F263,$C$1)","v":248},228,6,84,249,248,0,83,null,null,null,{"$f":"IF(D263>127,D263-128,D263)","v":100},{"$f":"E263","v":6},{"$f":"MyXor(F263,$B265)","v":172},{"$f":"MyXor(G263,$B265)","v":1},{"$f":"MyXor(H263,$B265)","v":0},{"$f":"MyXor(I263,$B265)","v":248},{"$f":"MyXor(J263,$B265)","v":171},{"$f":"MyXor(K263,$B265)","v":248},{"$f":"MyXor(L263,$B265)","v":248},{"$f":"MyXor(M263,$B265)","v":248},null,100,6,0,1,0,248,171,248,248,248,null,null,"E4 05 52 7E 7E FD","E4",5,52,"7E","7E","FD",null,null,null,null,null,null,null,null,null,null,null,null,null,null,228,5,82,126,126,253,0,0,0,0,0,0,0,0,0,0,0,0,0,0,254,100,5,0,128,128,null,null,null,null,null,null,null,null,null,null,null,null,null,null,null,100,{"$f":"MyXor(CB263,VLOOKUP(CU263,'Таблица CRC'!$A$43:$C$298,3,FALSE))","v":1},{"$f":"MyXor(CC263,VLOOKUP(CV263,'Таблица CRC'!$A$43:$C$298,3,FALSE))","v":94},{"$f":"MyXor(CD263,VLOOKUP(CW263,'Таблица CRC'!$A$43:$C$298,3,FALSE))","v":68},{"$f":"MyXor(CE263,VLOOKUP(CX263,'Таблица CRC'!$A$43:$C$298,3,FALSE))","v":167},{"$f":"MyXor(CF263,VLOOKUP(CY263,'Таблица CRC'!$A$43:$C$298,3,FALSE))","v":44},null,null,null,null,null,null,null,null,null,null,null,null,null,null,{"$f":"CONCATENATE(DEC2HEX(CA263,2),\" \",DEC2HEX(CB263,2),\" \",DEC2HEX(CC263,2),\" \",DEC2HEX(CD263,2),\" \",DEC2HEX(CE263,2),\" \",DEC2HEX(CZ263,2))","v":"64 05 00 80 80 2C"}]
["Принято в обработку",null,null,"Принято в обработку",null,null,null,null,null,null,null,null,null,null,null,null,null,null,null,null,null,null,null,null,null,null,null,null,null,null,null,null,null,null,null,null,"E4 06 2E 83 82 7A B2","E4",6,"2E",83,82,"7A","B2",null,null,null,null,null,null,null,null,null,null,null,null,null,228,6,46,131,130,122,178,0,0,0,0,0,0,0,0,0,0,0,0,0,130,100,6,0,1,0,248,null,null,null,null,null,null,null,null,null,null,null,null,null,null,100,{"$f":"MyXor(CB264,VLOOKUP(CU264,'Таблица CRC'!$A$43:$C$298,3,FALSE))","v":2},{"$f":"MyXor(CC264,VLOOKUP(CV264,'Таблица CRC'!$A$43:$C$298,3,FALSE))","v":188},{"$f":"MyXor(CD264,VLOOKUP(CW264,'Таблица CRC'!$A$43:$C$298,3,FALSE))","v":144},{"$f":"MyXor(CE264,VLOOKUP(CX264,'Таблица CRC'!$A$43:$C$298,3,FALSE))","v":17},{"$f":"MyXor(CF264,VLOOKUP(CY264,'Таблица CRC'!$A$43:$C$298,3,FALSE))","v":59},{"$f":"MyXor(CG264,VLOOKUP(CZ264,'Таблица CRC'!$A$43:$C$298,3,FALSE))","v":158},null,null,null,null,null,null,null,null,null,null,null,null,null,"64 06 00 01 00 F8 9E"]
["ключ шифрования-248",248,null,"ключ шифрования-248",null,null,null,null,null,null,null,null,null,null,null,null,null,null,null,null,null,null,null,null,null,null,null,null,null,null,null,null,null,null,null,null,"E4 09 8C 85 AC 82 82 82 82 2D","E4",9,"8C",85,"AC",82,82,82,82,"2D",null,null,null,null,null,null,null,null,null,null,228,9,140,133,172,130,130,130,130,45,0,0,0,0,0,0,0,0,0,0,32,100,9,0,165,140,162,162,162,162,null,null,null,null,null,null,null,null,null,null,null,100,{"$f":"MyXor(CB265,VLOOKUP(CU265,'Таблица CRC'!$A$43:$C$298,3,FALSE))","v":13},{"$f":"MyXor(CC265,VLOOKUP(CV265,'Таблица CRC'!$A$43:$C$298,3,FALSE))","v":253},{"$f":"MyXor(CD265,VLOOKUP(CW265,'Таблица CRC'!$A$43:$C$298,3,FALSE))","v":44},{"$f":"MyXor(CE265,VLOOKUP(CX265,'Таблица CRC'!$A$43:$C$298,3,FALSE))","v":12},{"$f":"MyXor(CF265,VLOOKUP(CY265,'Таблица CRC'!$A$43:$C$298,3,FALSE))","v":1},{"$f":"MyXor(CG265,VLOOKUP(CZ265,'Таблица CRC'!$A$43:$C$298,3,FALSE))","v":252},{"$f":"MyXor(CH265,VLOOKUP(DA265,'Таблица CRC'!$A$43:$C$298,3,FALSE))","v":117},{"$f":"MyXor(CI265,VLOOKUP(DB265,'Таблица CRC'!$A$43:$C$298,3,FALSE))","v":101},{"$f":"MyXor(CJ265,VLOOKUP(DC265,'Таблица CRC'!$A$43:$C$298,3,FALSE))","v":90},null,null,null,null,null,null,null,null,null,null,{"$f":"CONCATENATE(DEC2HEX(CA265,2),\" \",DEC2HEX(CB265,2),\" \",DEC2HEX(CC265,2),\" \",DEC2HEX(CD265,2),\" \",DEC2HEX(CE265,2),\" \",DEC2HEX(CF265,2),\" \",DEC2HEX(CG265,2),\" \",DEC2HEX(CH265,2),\" \",DEC2HEX(CI265,2),\" \",DEC2HEX(DD265,2))","v":"64 09 00 A5 8C A2 A2 A2 A2 5A"}]
["zapros.s 1,0,248,",null,null,"zapros.s 1",0,248,null,null,null,null,null,null,null,null,null,null,null,null,null,null,null,null,null,null,null,null,null,null,null,null,null,null,null,null,null,null,"E4 06 2E 81 82 82 4B","E4",6,"2E",81,82,82,"4B",null,null,null,null,null,null,null,null,null,null,null,null,null,228,6,46,129,130,130,75,0,0,0,0,0,0,0,0,0,0,0,0,0,{"$f":"MyXor(BH266,$C$1)","v":130},100,6,0,3,0,0,null,null,null,null,null,null,null,null,null,null,null,null,null,null,100,{"$f":"MyXor(CB266,VLOOKUP(CU266,'Таблица CRC'!$A$43:$C$298,3,FALSE))","v":2},{"$f":"MyXor(CC266,VLOOKUP(CV266,'Таблица CRC'!$A$43:$C$298,3,FALSE))","v":188},{"$f":"MyXor(CD266,VLOOKUP(CW266,'Таблица CRC'!$A$43:$C$298,3,FALSE))","v":146},{"$f":"MyXor(CE266,VLOOKUP(CX266,'Таблица CRC'!$A$43:$C$298,3,FALSE))","v":173},{"$f":"MyXor(CF266,VLOOKUP(CY266,'Таблица CRC'!$A$43:$C$298,3,FALSE))","v":82},{"$f":"MyXor(CG266,VLOOKUP(CZ266,'Таблица CRC'!$A$43:$C$298,3,FALSE))","v":103},null,null,null,null,null,null,null,null,null,null,null,null,null,{"$f":"CONCATENATE(DEC2HEX(CA266,2),\" \",DEC2HEX(CB266,2),\" \",DEC2HEX(CC266,2),\" \",DEC2HEX(CD266,2),\" \",DEC2HEX(CE266,2),\" \",DEC2HEX(CF266,2),\" \",DEC2HEX(DA266,2))","v":"64 06 00 03 00 00 67"}]
["ОТВЕТ ЭМУЛЯТОРА 250,251,248,",null,null,"ОТВЕТ ЭМУЛЯТОРА 250",251,248,null,null,null,null,null,null,null,null,null,null,null,null,null,null,null,null,null,null,null,null,null,null,null,null,null,null,null,null,null,null,"E4 08 AD 2A 05 2F 01 00 4A","E4",8,"AD","2A",5,"2F",1,0,"4A",null,null,null,null,null,null,null,null,null,null,null,228,8,173,42,5,47,1,0,74,0,0,0,0,0,0,0,0,0,0,0,1,100,8,0,43,4,46,0,1,null,null,null,null,null,null,null,null,null,null,null,null,100,{"$f":"MyXor(CB267,VLOOKUP(CU267,'Таблица CRC'!$A$43:$C$298,3,FALSE))","v":12},{"$f":"MyXor(CC267,VLOOKUP(CV267,'Таблица CRC'!$A$43:$C$298,3,FALSE))","v":163},{"$f":"MyXor(CD267,VLOOKUP(CW267,'Таблица CRC'!$A$43:$C$298,3,FALSE))","v":102},{"$f":"MyXor(CE267,VLOOKUP(CX267,'Таблица CRC'!$A$43:$C$298,3,FALSE))","v":188},{"$f":"MyXor(CF267,VLOOKUP(CY267,'Таблица CRC'!$A$43:$C$298,3,FALSE))","v":191},{"$f":"MyXor(CG267,VLOOKUP(CZ267,'Таблица CRC'!$A$43:$C$298,3,FALSE))","v":115},{"$f":"MyXor(CH267,VLOOKUP(DA267,'Таблица CRC'!$A$43:$C$298,3,FALSE))","v":27},{"$f":"MyXor(CI267,VLOOKUP(DB267,'Таблица CRC'!$A$43:$C$298,3,FALSE))","v":189},null,null,null,null,null,null,null,null,null,null,null,{"$f":"CONCATENATE(DEC2HEX(CA267,2),\" \",DEC2HEX(CB267,2),\" \",DEC2HEX(CC267,2),\" \",DEC2HEX(CD267,2),\" \",DEC2HEX(CE267,2),\" \",DEC2HEX(CF267,2),\" \",DEC2HEX(CG267,2),\" \",DEC2HEX(CH267,2),\" \",DEC2HEX(DC267,2))","v":"64 08 00 2B 04 2E 00 01 BD"}]
["228,9,246,255,244,248,248,248,248,104,",null,{"$f":"MyXor(F268,$C$1)","v":90},228,9,246,255,244,248,248,248,248,104,100,9,{"$f":"MyXor(F268,$B270)","v":172},{"$f":"MyXor(G268,$B270)","v":165},{"$f":"MyXor(H268,$B270)","v":174},{"$f":"MyXor(I268,$B270)","v":162},{"$f":"MyXor(J268,$B270)","v":162},{"$f":"MyXor(K268,$B270)","v":162},{"$f":"MyXor(L268,$B270)","v":162},{"$f":"MyXor(M268,$B270)","v":50},null,100,9,0,165,174,162,162,162,162,null,null,null,"E4 05 2D 01 01 5A","E4",5,"2D",1,1,"5A",null,null,null,null,null,null,null,null,null,null,null,null,null,null,228,5,45,1,1,90,0,0,0,0,0,0,0,0,0,0,0,0,0,0,129,100,5,0,128,128,null,null,null,null,null,null,null,null,null,null,null,null,null,null,null,100,{"$f":"MyXor(CB268,VLOOKUP(CU268,'Таблица CRC'!$A$43:$C$298,3,FALSE))","v":1},{"$f":"MyXor(CC268,VLOOKUP(CV268,'Таблица CRC'!$A$43:$C$298,3,FALSE))","v":94},{"$f":"MyXor(CD268,VLOOKUP(CW268,'Таблица CRC'!$A$43:$C$298,3,FALSE))","v":68},{"$f":"MyXor(CE268,VLOOKUP(CX268,'Таблица CRC'!$A$43:$C$298,3,FALSE))","v":167},{"$f":"MyXor(CF268,VLOOKUP(CY268,'Таблица CRC'!$A$43:$C$298,3,FALSE))","v":44},null,null,null,null,null,null,null,null,null,null,null,null,null,null,{"$f":"CONCATENATE(DEC2HEX(CA268,2),\" \",DEC2HEX(CB268,2),\" \",DEC2HEX(CC268,2),\" \",DEC2HEX(CD268,2),\" \",DEC2HEX(CE268,2),\" \",DEC2HEX(CZ268,2))","v":"64 05 00 80 80 2C"}]
["Принято в обработку",null,null,"Принято в обработку",null,null,null,null,null,null,null,null,null,null,null,null,null,null,null,null,null,null,null,null,{"$f":"MyXor(Y268,0)","v":100},{"$f":"MyXor(Z268,VLOOKUP(Y269,'Таблица CRC'!$A$43:$C$298,3,FALSE))","v":13},{"$f":"MyXor(AA268,VLOOKUP(Z269,'Таблица CRC'!$A$43:$C$298,3,FALSE))","v":253},{"$f":"MyXor(AB268,VLOOKUP(AA269,'Таблица CRC'!$A$43:$C$298,3,FALSE))","v":44},{"$f":"MyXor(AC268,VLOOKUP(AB269,'Таблица CRC'!$A$43:$C$298,3,FALSE))","v":46},{"$f":"MyXor(AD268,VLOOKUP(AC269,'Таблица CRC'!$A$43:$C$298,3,FALSE))","v":158},{"$f":"MyXor(AE268,VLOOKUP(AD269,'Таблица CRC'!$A$43:$C$298,3,FALSE))","v":172},{"$f":"MyXor(AF268,VLOOKUP(AE269,'Таблица CRC'!$A$43:$C$298,3,FALSE))","v":174},{"$f":"MyXor(AG268,VLOOKUP(AF269,'Таблица CRC'!$A$43:$C$298,3,FALSE))","v":18},{"$f":"MyXor(AH268,VLOOKUP(AG269,'Таблица CRC'!$A$43:$C$298,3,FALSE))","v":33},null,null,"E4 06 CA 67 66 9E 6A","E4",6,"CA",67,66,"9E","6A",null,null,null,null,null,null,null,null,null,null,null,null,null,228,6,202,103,102,158,106,0,0,0,0,0,0,0,0,0,0,0,0,0,102,100,6,0,1,0,248,null,null,null,null,null,null,null,null,null,null,null,null,null,null,100,{"$f":"MyXor(CB269,VLOOKUP(CU269,'Таблица CRC'!$A$43:$C$298,3,FALSE))","v":2},{"$f":"MyXor(CC269,VLOOKUP(CV269,'Таблица CRC'!$A$43:$C$298,3,FALSE))","v":188},{"$f":"MyXor(CD269,VLOOKUP(CW269,'Таблица CRC'!$A$43:$C$298,3,FALSE))","v":144},{"$f":"MyXor(CE269,VLOOKUP(CX269,'Таблица CRC'!$A$43:$C$298,3,FALSE))","v":17},{"$f":"MyXor(CF269,VLOOKUP(CY269,'Таблица CRC'!$A$43:$C$298,3,FALSE))","v":59},{"$f":"MyXor(CG269,VLOOKUP(CZ269,'Таблица CRC'!$A$43:$C$298,3,FALSE))","v":158},null,null,null,null,null,null,null,null,null,null,null,null,null,"64 06 00 01 00 F8 9E"]
["ключ шифрования-90",90,null,"ключ шифрования-90",null,null,null,null,null,null,null,null,null,null,null,null,null,null,null,null,null,null,null,null,{"$f":"DEC2HEX(Y268,2)","v":"64"},{"$f":"DEC2HEX(Z268,2)","v":"09"},"00","A5","AE","A2","A2","A2","A2",{"$f":"DEC2HEX(AH269,2)","v":"21"},{"$f":"CONCATENATE(Y270,\" \",Z270,\" \",AA270,\" \",AB270,\" \",AC270,\" \",AD270,\" \",AE270,\" \",AF270,\" \",AG270,\" \",AH270)","v":"64 09 00 A5 AE A2 A2 A2 A2 21"},"тоже","E4 09 68 61 49 66 66 66 66 43","E4",9,68,61,49,66,66,66,66,43,null,null,null,null,null,null,null,null,null,null,228,9,104,97,73,102,102,102,102,67,0,0,0,0,0,0,0,0,0,0,196,100,9,0,165,141,162,162,162,162,null,null,null,null,null,null,null,null,null,null,null,100,{"$f":"MyXor(CB270,VLOOKUP(CU270,'Таблица CRC'!$A$43:$C$298,3,FALSE))","v":13},{"$f":"MyXor(CC270,VLOOKUP(CV270,'Таблица CRC'!$A$43:$C$298,3,FALSE))","v":253},{"$f":"MyXor(CD270,VLOOKUP(CW270,'Таблица CRC'!$A$43:$C$298,3,FALSE))","v":44},{"$f":"MyXor(CE270,VLOOKUP(CX270,'Таблица CRC'!$A$43:$C$298,3,FALSE))","v":13},{"$f":"MyXor(CF270,VLOOKUP(CY270,'Таблица CRC'!$A$43:$C$298,3,FALSE))","v":95},{"$f":"MyXor(CG270,VLOOKUP(CZ270,'Таблица CRC'!$A$43:$C$298,3,FALSE))","v":56},{"$f":"MyXor(CH270,VLOOKUP(DA270,'Таблица CRC'!$A$43:$C$298,3,FALSE))","v":222},{"$f":"MyXor(CI270,VLOOKUP(DB270,'Таблица CRC'!$A$43:$C$298,3,FALSE))","v":234},{"$f":"MyXor(CJ270,VLOOKUP(DC270,'Таблица CRC'!$A$43:$C$298,3,FALSE))","v":151},null,null,null,null,null,null,null,null,null,null,{"$f":"CONCATENATE(DEC2HEX(CA270,2),\" \",DEC2HEX(CB270,2),\" \",DEC2HEX(CC270,2),\" \",DEC2HEX(CD270,2),\" \",DEC2HEX(CE270,2),\" \",DEC2HEX(CF270,2),\" \",DEC2HEX(CG270,2),\" \",DEC2HEX(CH270,2),\" \",DEC2HEX(CI270,2),\" \",DEC2HEX(DD270,2))","v":"64 09 00 A5 8D A2 A2 A2 A2 97"}]
["zapros.s 165,174,162,",null,null,"zapros.s 165",174,162,null,null,null,null,null,null,null,null,null,null,null,null,null,null,null,null,null,null,null,null,null,null,null,null,null,null,null,null,null,null,"E4 06 CA 65 66 66 6F","E4",6,"CA",65,66,66,"6F",null,null,null,null,null,null,null,null,null,null,null,null,null,228,6,202,101,102,102,111,0,0,0,0,0,0,0,0,0,0,0,0,0,102,100,6,0,3,0,0,null,null,null,null,null,null,null,null,null,null,null,null,null,null,100,{"$f":"MyXor(CB271,VLOOKUP(CU271,'Таблица CRC'!$A$43:$C$298,3,FALSE))","v":2},{"$f":"MyXor(CC271,VLOOKUP(CV271,'Таблица CRC'!$A$43:$C$298,3,FALSE))","v":188},{"$f":"MyXor(CD271,VLOOKUP(CW271,'Таблица CRC'!$A$43:$C$298,3,FALSE))","v":146},{"$f":"MyXor(CE271,VLOOKUP(CX271,'Таблица CRC'!$A$43:$C$298,3,FALSE))","v":173},{"$f":"MyXor(CF271,VLOOKUP(CY271,'Таблица CRC'!$A$43:$C$298,3,FALSE))","v":82},{"$f":"MyXor(CG271,VLOOKUP(CZ271,'Таблица CRC'!$A$43:$C$298,3,FALSE))","v":103},null,null,null,null,null,null,null,null,null,null,null,null,null,"64 06 00 03 00 00 67"]
["228,6,84,251,248,248,170,",null,{"$f":"MyXor(F272,$C$1)","v":248},228,6,84,251,248,248,170,null,null,null,100,6,{"$f":"MyXor(F272,$B274)","v":172},{"$f":"MyXor(G272,$B274)","v":3},{"$f":"MyXor(H272,$B274)","v":0},{"$f":"MyXor(I272,$B274)","v":0},{"$f":"MyXor(J272,$B274)","v":82},{"$f":"MyXor(K272,$B274)","v":248},{"$f":"MyXor(L272,$B274)","v":248},{"$f":"MyXor(M272,$B274)","v":248},null,100,6,0,3,0,0,82,248,248,248,null,null,"E4 08 1B 9C B3 98 B7 B6 35","E4",8,"1B","9C","B3",98,"B7","B6",35,null,null,null,null,null,null,null,null,null,null,null,228,8,27,156,179,152,183,182,53,0,0,0,0,0,0,0,0,0,0,0,183,100,8,0,43,4,47,0,1,null,null,null,null,null,null,null,null,null,null,null,null,100,{"$f":"MyXor(CB272,VLOOKUP(CU272,'Таблица CRC'!$A$43:$C$298,3,FALSE))","v":12},{"$f":"MyXor(CC272,VLOOKUP(CV272,'Таблица CRC'!$A$43:$C$298,3,FALSE))","v":163},{"$f":"MyXor(CD272,VLOOKUP(CW272,'Таблица CRC'!$A$43:$C$298,3,FALSE))","v":102},{"$f":"MyXor(CE272,VLOOKUP(CX272,'Таблица CRC'!$A$43:$C$298,3,FALSE))","v":188},{"$f":"MyXor(CF272,VLOOKUP(CY272,'Таблица CRC'!$A$43:$C$298,3,FALSE))","v":190},{"$f":"MyXor(CG272,VLOOKUP(CZ272,'Таблица CRC'!$A$43:$C$298,3,FALSE))","v":45},{"$f":"MyXor(CH272,VLOOKUP(DA272,'Таблица CRC'!$A$43:$C$298,3,FALSE))","v":223},{"$f":"MyXor(CI272,VLOOKUP(DB272,'Таблица CRC'!$A$43:$C$298,3,FALSE))","v":22},null,null,null,null,null,null,null,null,null,null,null,{"$f":"CONCATENATE(DEC2HEX(CA272,2),\" \",DEC2HEX(CB272,2),\" \",DEC2HEX(CC272,2),\" \",DEC2HEX(CD272,2),\" \",DEC2HEX(CE272,2),\" \",DEC2HEX(CF272,2),\" \",DEC2HEX(CG272,2),\" \",DEC2HEX(CH272,2),\" \",DEC2HEX(DC272,2))","v":"64 08 00 2B 04 2F 00 01 16"}]
["Принято в обработку",null,null,"Принято в обработку",null,null,null,null,null,null,null,null,null,null,null,null,null,null,null,null,null,null,null,null,null,null,null,null,null,null,null,null,null,null,null,null,"E4 05 9B B7 B7 70","E4",5,"9B","B7","B7",70,null,null,null,null,null,null,null,null,null,null,null,null,null,null,228,5,155,183,183,112,0,0,0,0,0,0,0,0,0,0,0,0,0,0,55,100,5,0,128,128,null,null,null,null,null,null,null,null,null,null,null,null,null,null,null,100,{"$f":"MyXor(CB273,VLOOKUP(CU273,'Таблица CRC'!$A$43:$C$298,3,FALSE))","v":1},{"$f":"MyXor(CC273,VLOOKUP(CV273,'Таблица CRC'!$A$43:$C$298,3,FALSE))","v":94},{"$f":"MyXor(CD273,VLOOKUP(CW273,'Таблица CRC'!$A$43:$C$298,3,FALSE))","v":68},{"$f":"MyXor(CE273,VLOOKUP(CX273,'Таблица CRC'!$A$43:$C$298,3,FALSE))","v":167},{"$f":"MyXor(CF273,VLOOKUP(CY273,'Таблица CRC'!$A$43:$C$298,3,FALSE))","v":44},null,null,null,null,null,null,null,null,null,null,null,null,null,null,{"$f":"CONCATENATE(DEC2HEX(CA273,2),\" \",DEC2HEX(CB273,2),\" \",DEC2HEX(CC273,2),\" \",DEC2HEX(CD273,2),\" \",DEC2HEX(CE273,2),\" \",DEC2HEX(CZ273,2))","v":"64 05 00 80 80 2C"}]
["ключ шифрования-248",248,null,"ключ шифрования-248",null,null,null,null,null,null,null,null,null,null,null,null,null,null,null,null,null,null,null,null,null,null,null,null,null,null,null,null,null,null,null,null,"E4 06 AB 06 07 FF DE","E4",6,"AB",6,7,"FF","DE",null,null,null,null,null,null,null,null,null,null,null,null,null,228,6,171,6,7,255,222,0,0,0,0,0,0,0,0,0,0,0,0,0,7,100,6,0,1,0,248,null,null,null,null,null,null,null,null,null,null,null,null,null,null,100,{"$f":"MyXor(CB274,VLOOKUP(CU274,'Таблица CRC'!$A$43:$C$298,3,FALSE))","v":2},{"$f":"MyXor(CC274,VLOOKUP(CV274,'Таблица CRC'!$A$43:$C$298,3,FALSE))","v":188},{"$f":"MyXor(CD274,VLOOKUP(CW274,'Таблица CRC'!$A$43:$C$298,3,FALSE))","v":144},{"$f":"MyXor(CE274,VLOOKUP(CX274,'Таблица CRC'!$A$43:$C$298,3,FALSE))","v":17},{"$f":"MyXor(CF274,VLOOKUP(CY274,'Таблица CRC'!$A$43:$C$298,3,FALSE))","v":59},{"$f":"MyXor(CG274,VLOOKUP(CZ274,'Таблица CRC'!$A$43:$C$298,3,FALSE))","v":158},null,null,null,null,null,null,null,null,null,null,null,null,null,"64 06 00 01 00 F8 9E"]
["zapros.s 3,0,0,",null,null,"zapros.s 3",0,0,null,null,null,null,null,null,null,null,null,null,null,null,null,null,null,null,null,null,null,null,null,null,null,null,null,null,null,null,null,null,"E4 09 09 00 37 07 07 07 07 D9","E4",9,9,0,37,7,7,7,7,"D9",null,null,null,null,null,null,null,null,null,null,228,9,9,0,55,7,7,7,7,217,0,0,0,0,0,0,0,0,0,0,165,100,9,0,165,146,162,162,162,162,null,null,null,null,null,null,null,null,null,null,null,100,{"$f":"MyXor(CB275,VLOOKUP(CU275,'Таблица CRC'!$A$43:$C$298,3,FALSE))","v":13},{"$f":"MyXor(CC275,VLOOKUP(CV275,'Таблица CRC'!$A$43:$C$298,3,FALSE))","v":253},{"$f":"MyXor(CD275,VLOOKUP(CW275,'Таблица CRC'!$A$43:$C$298,3,FALSE))","v":44},{"$f":"MyXor(CE275,VLOOKUP(CX275,'Таблица CRC'!$A$43:$C$298,3,FALSE))","v":18},{"$f":"MyXor(CF275,VLOOKUP(CY275,'Таблица CRC'!$A$43:$C$298,3,FALSE))","v":131},{"$f":"MyXor(CG275,VLOOKUP(CZ275,'Таблица CRC'!$A$43:$C$298,3,FALSE))","v":204},{"$f":"MyXor(CH275,VLOOKUP(DA275,'Таблица CRC'!$A$43:$C$298,3,FALSE))","v":203},{"$f":"MyXor(CI275,VLOOKUP(DB275,'Таблица CRC'!$A$43:$C$298,3,FALSE))","v":72},{"$f":"MyXor(CJ275,VLOOKUP(DC275,'Таблица CRC'!$A$43:$C$298,3,FALSE))","v":132},null,null,null,null,null,null,null,null,null,null,{"$f":"CONCATENATE(DEC2HEX(CA275,2),\" \",DEC2HEX(CB275,2),\" \",DEC2HEX(CC275,2),\" \",DEC2HEX(CD275,2),\" \",DEC2HEX(CE275,2),\" \",DEC2HEX(CF275,2),\" \",DEC2HEX(CG275,2),\" \",DEC2HEX(CH275,2),\" \",DEC2HEX(CI275,2),\" \",DEC2HEX(DD275,2))","v":"64 09 00 A5 92 A2 A2 A2 A2 84"}]
["228,8,137,14,33,41,37,36,208,",null,{"$f":"MyXor(F276,$C$1)","v":37},228,8,137,14,33,41,37,36,208,null,100,8,{"$f":"MyXor(F276,$B278)","v":172},{"$f":"MyXor(G276,$B278)","v":43},{"$f":"MyXor(H276,$B278)","v":4},{"$f":"MyXor(I276,$B278)","v":12},{"$f":"MyXor(J276,$B278)","v":0},{"$f":"MyXor(K276,$B278)","v":1},{"$f":"MyXor(L276,$B278)","v":245},{"$f":"MyXor(M276,$B278)","v":37},null,100,8,0,43,4,12,0,1,245,37,null,null,"E4 06 AB 04 07 07 27","E4",6,"AB",4,7,7,27,null,null,null,null,null,null,null,null,null,null,null,null,null,228,6,171,4,7,7,39,0,0,0,0,0,0,0,0,0,0,0,0,0,7,100,6,0,3,0,0,null,null,null,null,null,null,null,null,null,null,null,null,null,null,100,{"$f":"MyXor(CB276,VLOOKUP(CU276,'Таблица CRC'!$A$43:$C$298,3,FALSE))","v":2},{"$f":"MyXor(CC276,VLOOKUP(CV276,'Таблица CRC'!$A$43:$C$298,3,FALSE))","v":188},{"$f":"MyXor(CD276,VLOOKUP(CW276,'Таблица CRC'!$A$43:$C$298,3,FALSE))","v":146},{"$f":"MyXor(CE276,VLOOKUP(CX276,'Таблица CRC'!$A$43:$C$298,3,FALSE))","v":173},{"$f":"MyXor(CF276,VLOOKUP(CY276,'Таблица CRC'!$A$43:$C$298,3,FALSE))","v":82},{"$f":"MyXor(CG276,VLOOKUP(CZ276,'Таблица CRC'!$A$43:$C$298,3,FALSE))","v":103},null,null,null,null,null,null,null,null,null,null,null,null,null,"64 06 00 03 00 00 67"]
["Принято в обработку",null,null,"Принято в обработку",null,null,null,null,null,null,null,null,null,null,null,null,null,null,null,null,null,null,null,null,null,null,null,null,null,null,null,null,null,null,null,null,"E4 08 EF 68 47 73 43 42 EC","E4",8,"EF",68,47,73,43,42,"EC",null,null,null,null,null,null,null,null,null,null,null,228,8,239,104,71,115,67,66,236,0,0,0,0,0,0,0,0,0,0,0,67,100,8,0,43,4,48,0,1,null,null,null,null,null,null,null,null,null,null,null,null,100,{"$f":"MyXor(CB277,VLOOKUP(CU277,'Таблица CRC'!$A$43:$C$298,3,FALSE))","v":12},{"$f":"MyXor(CC277,VLOOKUP(CV277,'Таблица CRC'!$A$43:$C$298,3,FALSE))","v":163},{"$f":"MyXor(CD277,VLOOKUP(CW277,'Таблица CRC'!$A$43:$C$298,3,FALSE))","v":102},{"$f":"MyXor(CE277,VLOOKUP(CX277,'Таблица CRC'!$A$43:$C$298,3,FALSE))","v":188},{"$f":"MyXor(CF277,VLOOKUP(CY277,'Таблица CRC'!$A$43:$C$298,3,FALSE))","v":161},{"$f":"MyXor(CG277,VLOOKUP(CZ277,'Таблица CRC'!$A$43:$C$298,3,FALSE))","v":241},{"$f":"MyXor(CH277,VLOOKUP(DA277,'Таблица CRC'!$A$43:$C$298,3,FALSE))","v":43},{"$f":"MyXor(CI277,VLOOKUP(DB277,'Таблица CRC'!$A$43:$C$298,3,FALSE))","v":3},null,null,null,null,null,null,null,null,null,null,null,{"$f":"CONCATENATE(DEC2HEX(CA277,2),\" \",DEC2HEX(CB277,2),\" \",DEC2HEX(CC277,2),\" \",DEC2HEX(CD277,2),\" \",DEC2HEX(CE277,2),\" \",DEC2HEX(CF277,2),\" \",DEC2HEX(CG277,2),\" \",DEC2HEX(CH277,2),\" \",DEC2HEX(DC277,2))","v":"64 08 00 2B 04 30 00 01 03"}]
["ключ шифрования-37",37,null,"ключ шифрования-37",null,null,null,null,null,null,null,null,null,null,null,null,null,null,null,null,null,null,null,null,null,null,null,null,null,null,null,null,null,null,null,null,"E4 05 6F 43 43 D4","E4",5,"6F",43,43,"D4",null,null,null,null,null,null,null,null,null,null,null,null,null,null,228,5,111,67,67,212,0,0,0,0,0,0,0,0,0,0,0,0,0,0,195,100,5,0,128,128,null,null,null,null,null,null,null,null,null,null,null,null,null,null,null,{"$f":"MyXor(CA278,0)","v":100},{"$f":"MyXor(CB278,VLOOKUP(CU278,'Таблица CRC'!$A$43:$C$298,3,FALSE))","v":1},{"$f":"MyXor(CC278,VLOOKUP(CV278,'Таблица CRC'!$A$43:$C$298,3,FALSE))","v":94},{"$f":"MyXor(CD278,VLOOKUP(CW278,'Таблица CRC'!$A$43:$C$298,3,FALSE))","v":68},{"$f":"MyXor(CE278,VLOOKUP(CX278,'Таблица CRC'!$A$43:$C$298,3,FALSE))","v":167},{"$f":"MyXor(CF278,VLOOKUP(CY278,'Таблица CRC'!$A$43:$C$298,3,FALSE))","v":44},null,null,null,null,null,null,null,null,null,null,null,null,null,null,{"$f":"CONCATENATE(DEC2HEX(CA278,2),\" \",DEC2HEX(CB278,2),\" \",DEC2HEX(CC278,2),\" \",DEC2HEX(CD278,2),\" \",DEC2HEX(CE278,2),\" \",DEC2HEX(CZ278,2))","v":"64 05 00 80 80 2C"}]
["zapros.s 43,4,12,",null,null,"zapros.s 43",4,12,null,null,null,null,null,null,null,null,null,null,null,null,null,null,null,null,null,null,null,null,null,null,null,null,null,null,null,null,null,null,"E4 06 65 C8 C9 31 FC","E4",6,65,"C8","C9",31,"FC",null,null,null,null,null,null,null,null,null,null,null,null,null,228,6,101,200,201,49,252,0,0,0,0,0,0,0,0,0,0,0,0,0,201,100,6,0,1,0,248,null,null,null,null,null,null,null,null,null,null,null,null,null,null,100,{"$f":"MyXor(CB279,VLOOKUP(CU279,'Таблица CRC'!$A$43:$C$298,3,FALSE))","v":2},{"$f":"MyXor(CC279,VLOOKUP(CV279,'Таблица CRC'!$A$43:$C$298,3,FALSE))","v":188},{"$f":"MyXor(CD279,VLOOKUP(CW279,'Таблица CRC'!$A$43:$C$298,3,FALSE))","v":144},{"$f":"MyXor(CE279,VLOOKUP(CX279,'Таблица CRC'!$A$43:$C$298,3,FALSE))","v":17},{"$f":"MyXor(CF279,VLOOKUP(CY279,'Таблица CRC'!$A$43:$C$298,3,FALSE))","v":59},{"$f":"MyXor(CG279,VLOOKUP(CZ279,'Таблица CRC'!$A$43:$C$298,3,FALSE))","v":158},null,null,null,null,null,null,null,null,null,null,null,null,null,"64 06 00 01 00 F8 9E"]
["228,5,9,37,37,252,",null,{"$f":"MyXor(F280,$C$1)","v":165},228,5,9,37,37,252,null,null,null,null,100,5,{"$f":"MyXor(F280,$B282)","v":172},{"$f":"MyXor(G280,$B282)","v":128},{"$f":"MyXor(H280,$B282)","v":128},{"$f":"MyXor(I280,$B282)","v":89},{"$f":"MyXor(J280,$B282)","v":165},{"$f":"MyXor(K280,$B282)","v":165},{"$f":"MyXor(L280,$B282)","v":165},{"$f":"MyXor(M280,$B282)","v":165},null,100,5,0,128,128,89,165,165,165,165,null,null,"E4 09 C7 CE F8 C9 C9 C9 C9 01","E4",9,"C7","CE","F8","C9","C9","C9","C9",1,null,null,null,null,null,null,null,null,null,null,228,9,199,206,248,201,201,201,201,1,0,0,0,0,0,0,0,0,0,0,107,100,9,0,165,147,162,162,162,162,null,null,null,null,null,null,null,null,null,null,null,100,{"$f":"MyXor(CB280,VLOOKUP(CU280,'Таблица CRC'!$A$43:$C$298,3,FALSE))","v":13},{"$f":"MyXor(CC280,VLOOKUP(CV280,'Таблица CRC'!$A$43:$C$298,3,FALSE))","v":253},{"$f":"MyXor(CD280,VLOOKUP(CW280,'Таблица CRC'!$A$43:$C$298,3,FALSE))","v":44},{"$f":"MyXor(CE280,VLOOKUP(CX280,'Таблица CRC'!$A$43:$C$298,3,FALSE))","v":19},{"$f":"MyXor(CF280,VLOOKUP(CY280,'Таблица CRC'!$A$43:$C$298,3,FALSE))","v":221},{"$f":"MyXor(CG280,VLOOKUP(CZ280,'Таблица CRC'!$A$43:$C$298,3,FALSE))","v":8},{"$f":"MyXor(CH280,VLOOKUP(DA280,'Таблица CRC'!$A$43:$C$298,3,FALSE))","v":96},{"$f":"MyXor(CI280,VLOOKUP(DB280,'Таблица CRC'!$A$43:$C$298,3,FALSE))","v":199},{"$f":"MyXor(CJ280,VLOOKUP(DC280,'Таблица CRC'!$A$43:$C$298,3,FALSE))","v":73},null,null,null,null,null,null,null,null,null,null,{"$f":"CONCATENATE(DEC2HEX(CA280,2),\" \",DEC2HEX(CB280,2),\" \",DEC2HEX(CC280,2),\" \",DEC2HEX(CD280,2),\" \",DEC2HEX(CE280,2),\" \",DEC2HEX(CF280,2),\" \",DEC2HEX(CG280,2),\" \",DEC2HEX(CH280,2),\" \",DEC2HEX(CI280,2),\" \",DEC2HEX(DD280,2))","v":"64 09 00 A5 93 A2 A2 A2 A2 49"}]
["Принято в обработку",null,null,"Принято в обработку",null,null,null,null,null,null,null,null,null,null,null,null,null,null,null,null,null,null,null,null,null,null,null,null,null,null,null,null,null,null,null,null,"E4 06 65 CA C9 C9 11","E4",6,65,"CA","C9","C9",11,null,null,null,null,null,null,null,null,null,null,null,null,null,228,6,101,202,201,201,17,0,0,0,0,0,0,0,0,0,0,0,0,0,201,100,6,0,3,0,0,null,null,null,null,null,null,null,null,null,null,null,null,null,null,100,{"$f":"MyXor(CB281,VLOOKUP(CU281,'Таблица CRC'!$A$43:$C$298,3,FALSE))","v":2},{"$f":"MyXor(CC281,VLOOKUP(CV281,'Таблица CRC'!$A$43:$C$298,3,FALSE))","v":188},{"$f":"MyXor(CD281,VLOOKUP(CW281,'Таблица CRC'!$A$43:$C$298,3,FALSE))","v":146},{"$f":"MyXor(CE281,VLOOKUP(CX281,'Таблица CRC'!$A$43:$C$298,3,FALSE))","v":173},{"$f":"MyXor(CF281,VLOOKUP(CY281,'Таблица CRC'!$A$43:$C$298,3,FALSE))","v":82},{"$f":"MyXor(CG281,VLOOKUP(CZ281,'Таблица CRC'!$A$43:$C$298,3,FALSE))","v":103},null,null,null,null,null,null,null,null,null,null,null,null,null,"64 06 00 03 00 00 67"]
["otvet 44,0,0,",165,null,"otvet 44",0,0,null,null,null,null,null,null,null,null,null,null,null,null,null,null,null,null,null,null,null,null,null,null,null,null,null,null,null,null,null,null,"E4 08 3E B9 96 A3 92 93 8E","E4",8,"3E","B9",96,"A3",92,93,"8E",null,null,null,null,null,null,null,null,null,null,null,228,8,62,185,150,163,146,147,142,0,0,0,0,0,0,0,0,0,0,0,146,100,8,0,43,4,49,0,1,null,null,null,null,null,null,null,null,null,null,null,null,100,{"$f":"MyXor(CB282,VLOOKUP(CU282,'Таблица CRC'!$A$43:$C$298,3,FALSE))","v":12},{"$f":"MyXor(CC282,VLOOKUP(CV282,'Таблица CRC'!$A$43:$C$298,3,FALSE))","v":163},{"$f":"MyXor(CD282,VLOOKUP(CW282,'Таблица CRC'!$A$43:$C$298,3,FALSE))","v":102},{"$f":"MyXor(CE282,VLOOKUP(CX282,'Таблица CRC'!$A$43:$C$298,3,FALSE))","v":188},{"$f":"MyXor(CF282,VLOOKUP(CY282,'Таблица CRC'!$A$43:$C$298,3,FALSE))","v":160},{"$f":"MyXor(CG282,VLOOKUP(CZ282,'Таблица CRC'!$A$43:$C$298,3,FALSE))","v":175},{"$f":"MyXor(CH282,VLOOKUP(DA282,'Таблица CRC'!$A$43:$C$298,3,FALSE))","v":239},{"$f":"MyXor(CI282,VLOOKUP(DB282,'Таблица CRC'!$A$43:$C$298,3,FALSE))","v":168},null,null,null,null,null,null,null,null,null,null,null,{"$f":"CONCATENATE(DEC2HEX(CA282,2),\" \",DEC2HEX(CB282,2),\" \",DEC2HEX(CC282,2),\" \",DEC2HEX(CD282,2),\" \",DEC2HEX(CE282,2),\" \",DEC2HEX(CF282,2),\" \",DEC2HEX(CG282,2),\" \",DEC2HEX(CH282,2),\" \",DEC2HEX(DC282,2))","v":"64 08 00 2B 04 31 00 01 A8"}]
["228,6,21,184,185,65,225,",null,{"$f":"MyXor(F283,$C$1)","v":185},228,6,21,184,185,65,225,null,null,null,100,6,{"$f":"MyXor(F283,$B285)","v":172},{"$f":"MyXor(G283,$B285)","v":1},{"$f":"MyXor(H283,$B285)","v":0},{"$f":"MyXor(I283,$B285)","v":248},{"$f":"MyXor(J283,$B285)","v":88},{"$f":"MyXor(K283,$B285)","v":185},{"$f":"MyXor(L283,$B285)","v":185},{"$f":"MyXor(M283,$B285)","v":185},null,100,6,0,1,0,248,88,185,185,185,null,null,"E4 05 BE 92 92 F3","E4",5,"BE",92,92,"F3",null,null,null,null,null,null,null,null,null,null,null,null,null,null,228,5,190,146,146,243,0,0,0,0,0,0,0,0,0,0,0,0,0,0,18,100,5,0,128,128,null,null,null,null,null,null,null,null,null,null,null,null,null,null,null,100,{"$f":"MyXor(CB283,VLOOKUP(CU283,'Таблица CRC'!$A$43:$C$298,3,FALSE))","v":1},{"$f":"MyXor(CC283,VLOOKUP(CV283,'Таблица CRC'!$A$43:$C$298,3,FALSE))","v":94},{"$f":"MyXor(CD283,VLOOKUP(CW283,'Таблица CRC'!$A$43:$C$298,3,FALSE))","v":68},{"$f":"MyXor(CE283,VLOOKUP(CX283,'Таблица CRC'!$A$43:$C$298,3,FALSE))","v":167},{"$f":"MyXor(CF283,VLOOKUP(CY283,'Таблица CRC'!$A$43:$C$298,3,FALSE))","v":44},null,null,null,null,null,null,null,null,null,null,null,null,null,null,{"$f":"CONCATENATE(DEC2HEX(CA283,2),\" \",DEC2HEX(CB283,2),\" \",DEC2HEX(CC283,2),\" \",DEC2HEX(CD283,2),\" \",DEC2HEX(CE283,2),\" \",DEC2HEX(CZ283,2))","v":"64 05 00 80 80 2C"}]
["Принято в обработку",null,null,"Принято в обработку",null,null,null,null,null,null,null,null,null,null,null,null,null,null,null,null,null,null,null,null,null,null,null,null,null,null,null,null,null,null,null,null,"E4 06 0D A0 A1 59 6F","E4",6,"0D","A0","A1",59,"6F",null,null,null,null,null,null,null,null,null,null,null,null,null,228,6,13,160,161,89,111,0,0,0,0,0,0,0,0,0,0,0,0,0,161,100,6,0,1,0,248,null,null,null,null,null,null,null,null,null,null,null,null,null,null,100,{"$f":"MyXor(CB284,VLOOKUP(CU284,'Таблица CRC'!$A$43:$C$298,3,FALSE))","v":2},{"$f":"MyXor(CC284,VLOOKUP(CV284,'Таблица CRC'!$A$43:$C$298,3,FALSE))","v":188},{"$f":"MyXor(CD284,VLOOKUP(CW284,'Таблица CRC'!$A$43:$C$298,3,FALSE))","v":144},{"$f":"MyXor(CE284,VLOOKUP(CX284,'Таблица CRC'!$A$43:$C$298,3,FALSE))","v":17},{"$f":"MyXor(CF284,VLOOKUP(CY284,'Таблица CRC'!$A$43:$C$298,3,FALSE))","v":59},{"$f":"MyXor(CG284,VLOOKUP(CZ284,'Таблица CRC'!$A$43:$C$298,3,FALSE))","v":158},null,null,null,null,null,null,null,null,null,null,null,null,null,"64 06 00 01 00 F8 9E"]
["ключ шифрования-185",185,null,"ключ шифрования-185",null,null,null,null,null,null,null,null,null,null,null,null,null,null,null,null,null,null,null,null,null,null,null,null,null,null,null,null,null,null,null,null,"E4 09 AF A6 93 A1 A1 A1 A1 5C","E4",9,"AF","A6",93,"A1","A1","A1","A1","5C",null,null,null,null,null,null,null,null,null,null,228,9,175,166,147,161,161,161,161,92,0,0,0,0,0,0,0,0,0,0,3,100,9,0,165,144,162,162,162,162,null,null,null,null,null,null,null,null,null,null,null,100,{"$f":"MyXor(CB285,VLOOKUP(CU285,'Таблица CRC'!$A$43:$C$298,3,FALSE))","v":13},{"$f":"MyXor(CC285,VLOOKUP(CV285,'Таблица CRC'!$A$43:$C$298,3,FALSE))","v":253},{"$f":"MyXor(CD285,VLOOKUP(CW285,'Таблица CRC'!$A$43:$C$298,3,FALSE))","v":44},{"$f":"MyXor(CE285,VLOOKUP(CX285,'Таблица CRC'!$A$43:$C$298,3,FALSE))","v":16},{"$f":"MyXor(CF285,VLOOKUP(CY285,'Таблица CRC'!$A$43:$C$298,3,FALSE))","v":63},{"$f":"MyXor(CG285,VLOOKUP(CZ285,'Таблица CRC'!$A$43:$C$298,3,FALSE))","v":93},{"$f":"MyXor(CH285,VLOOKUP(DA285,'Таблица CRC'!$A$43:$C$298,3,FALSE))","v":132},{"$f":"MyXor(CI285,VLOOKUP(DB285,'Таблица CRC'!$A$43:$C$298,3,FALSE))","v":79},{"$f":"MyXor(CJ285,VLOOKUP(DC285,'Таблица CRC'!$A$43:$C$298,3,FALSE))","v":7},null,null,null,null,null,null,null,null,null,null,{"$f":"CONCATENATE(DEC2HEX(CA285,2),\" \",DEC2HEX(CB285,2),\" \",DEC2HEX(CC285,2),\" \",DEC2HEX(CD285,2),\" \",DEC2HEX(CE285,2),\" \",DEC2HEX(CF285,2),\" \",DEC2HEX(CG285,2),\" \",DEC2HEX(CH285,2),\" \",DEC2HEX(CI285,2),\" \",DEC2HEX(DD285,2))","v":"64 09 00 A5 90 A2 A2 A2 A2 07"}]
["zapros.s 1,0,248,",null,null,"zapros.s 1",0,248,null,null,null,null,null,null,null,null,null,null,null,null,null,null,null,null,null,null,null,null,null,null,null,null,null,null,null,null,null,null,"E4 06 0D A2 A1 A1 96","E4",6,"0D","A2","A1","A1",96,null,null,null,null,null,null,null,null,null,null,null,null,null,228,6,13,162,161,161,150,0,0,0,0,0,0,0,0,0,0,0,0,0,161,100,6,0,3,0,0,null,null,null,null,null,null,null,null,null,null,null,null,null,null,100,{"$f":"MyXor(CB286,VLOOKUP(CU286,'Таблица CRC'!$A$43:$C$298,3,FALSE))","v":2},{"$f":"MyXor(CC286,VLOOKUP(CV286,'Таблица CRC'!$A$43:$C$298,3,FALSE))","v":188},{"$f":"MyXor(CD286,VLOOKUP(CW286,'Таблица CRC'!$A$43:$C$298,3,FALSE))","v":146},{"$f":"MyXor(CE286,VLOOKUP(CX286,'Таблица CRC'!$A$43:$C$298,3,FALSE))","v":173},{"$f":"MyXor(CF286,VLOOKUP(CY286,'Таблица CRC'!$A$43:$C$298,3,FALSE))","v":82},{"$f":"MyXor(CG286,VLOOKUP(CZ286,'Таблица CRC'!$A$43:$C$298,3,FALSE))","v":103},null,null,null,null,null,null,null,null,null,null,null,null,null,"64 06 00 03 00 00 67"]
["ОТВЕТ ЭМУЛЯТОРА 187,186,185,",null,null,"ОТВЕТ ЭМУЛЯТОРА 187",186,185,null,null,null,null,null,null,null,null,null,null,null,null,null,null,null,null,null,null,null,null,null,null,null,null,null,null,null,null,null,null,"E4 08 A3 24 0B 3D 0F 0E 28","E4",8,"A3",24,"0B","3D","0F","0E",28,null,null,null,null,null,null,null,null,null,null,null,228,8,163,36,11,61,15,14,40,0,0,0,0,0,0,0,0,0,0,0,15,100,8,0,43,4,50,0,1,null,null,null,null,null,null,null,null,null,null,null,null,100,{"$f":"MyXor(CB287,VLOOKUP(CU287,'Таблица CRC'!$A$43:$C$298,3,FALSE))","v":12},{"$f":"MyXor(CC287,VLOOKUP(CV287,'Таблица CRC'!$A$43:$C$298,3,FALSE))","v":163},{"$f":"MyXor(CD287,VLOOKUP(CW287,'Таблица CRC'!$A$43:$C$298,3,FALSE))","v":102},{"$f":"MyXor(CE287,VLOOKUP(CX287,'Таблица CRC'!$A$43:$C$298,3,FALSE))","v":188},{"$f":"MyXor(CF287,VLOOKUP(CY287,'Таблица CRC'!$A$43:$C$298,3,FALSE))","v":163},{"$f":"MyXor(CG287,VLOOKUP(CZ287,'Таблица CRC'!$A$43:$C$298,3,FALSE))","v":77},{"$f":"MyXor(CH287,VLOOKUP(DA287,'Таблица CRC'!$A$43:$C$298,3,FALSE))","v":186},{"$f":"MyXor(CI287,VLOOKUP(DB287,'Таблица CRC'!$A$43:$C$298,3,FALSE))","v":76},null,null,null,null,null,null,null,null,null,null,null,{"$f":"CONCATENATE(DEC2HEX(CA287,2),\" \",DEC2HEX(CB287,2),\" \",DEC2HEX(CC287,2),\" \",DEC2HEX(CD287,2),\" \",DEC2HEX(CE287,2),\" \",DEC2HEX(CF287,2),\" \",DEC2HEX(CG287,2),\" \",DEC2HEX(CH287,2),\" \",DEC2HEX(DC287,2))","v":"64 08 00 2B 04 32 00 01 4C"}]
["228,9,183,190,180,185,185,185,185,139,",null,{"$f":"MyXor(F288,$C$1)","v":27},228,9,183,190,180,185,185,185,185,139,100,9,{"$f":"MyXor(F288,$B290)","v":172},{"$f":"MyXor(G288,$B290)","v":165},{"$f":"MyXor(H288,$B290)","v":175},{"$f":"MyXor(I288,$B290)","v":162},{"$f":"MyXor(J288,$B290)","v":162},{"$f":"MyXor(K288,$B290)","v":162},{"$f":"MyXor(L288,$B290)","v":162},{"$f":"MyXor(M288,$B290)","v":144},null,100,9,0,165,175,162,162,162,162,null,null,null,"E4 05 23 0F 0F 6D","E4",5,23,"0F","0F","6D",null,null,null,null,null,null,null,null,null,null,null,null,null,null,228,5,35,15,15,109,0,0,0,0,0,0,0,0,0,0,0,0,0,0,143,100,5,0,128,128,null,null,null,null,null,null,null,null,null,null,null,null,null,null,null,100,{"$f":"MyXor(CB288,VLOOKUP(CU288,'Таблица CRC'!$A$43:$C$298,3,FALSE))","v":1},{"$f":"MyXor(CC288,VLOOKUP(CV288,'Таблица CRC'!$A$43:$C$298,3,FALSE))","v":94},{"$f":"MyXor(CD288,VLOOKUP(CW288,'Таблица CRC'!$A$43:$C$298,3,FALSE))","v":68},{"$f":"MyXor(CE288,VLOOKUP(CX288,'Таблица CRC'!$A$43:$C$298,3,FALSE))","v":167},{"$f":"MyXor(CF288,VLOOKUP(CY288,'Таблица CRC'!$A$43:$C$298,3,FALSE))","v":44},null,null,null,null,null,null,null,null,null,null,null,null,null,null,{"$f":"CONCATENATE(DEC2HEX(CA288,2),\" \",DEC2HEX(CB288,2),\" \",DEC2HEX(CC288,2),\" \",DEC2HEX(CD288,2),\" \",DEC2HEX(CE288,2),\" \",DEC2HEX(CZ288,2))","v":"64 05 00 80 80 2C"}]
["Принято в обработку",null,null,"Принято в обработку",null,null,null,null,null,null,null,null,null,null,null,null,null,null,null,null,null,null,null,null,{"$f":"MyXor(Y288,0)","v":100},{"$f":"MyXor(Z288,VLOOKUP(Y289,'Таблица CRC'!$A$43:$C$298,3,FALSE))","v":13},{"$f":"MyXor(AA288,VLOOKUP(Z289,'Таблица CRC'!$A$43:$C$298,3,FALSE))","v":253},{"$f":"MyXor(AB288,VLOOKUP(AA289,'Таблица CRC'!$A$43:$C$298,3,FALSE))","v":44},{"$f":"MyXor(AC288,VLOOKUP(AB289,'Таблица CRC'!$A$43:$C$298,3,FALSE))","v":47},{"$f":"MyXor(AD288,VLOOKUP(AC289,'Таблица CRC'!$A$43:$C$298,3,FALSE))","v":192},{"$f":"MyXor(AE288,VLOOKUP(AD289,'Таблица CRC'!$A$43:$C$298,3,FALSE))","v":104},{"$f":"MyXor(AF288,VLOOKUP(AE289,'Таблица CRC'!$A$43:$C$298,3,FALSE))","v":5},{"$f":"MyXor(AG288,VLOOKUP(AF289,'Таблица CRC'!$A$43:$C$298,3,FALSE))","v":157},{"$f":"MyXor(AH288,VLOOKUP(AG289,'Таблица CRC'!$A$43:$C$298,3,FALSE))","v":236},null,null,"E4 06 79 D4 D5 2D AC","E4",6,79,"D4","D5","2D","AC",null,null,null,null,null,null,null,null,null,null,null,null,null,228,6,121,212,213,45,172,0,0,0,0,0,0,0,0,0,0,0,0,0,213,100,6,0,1,0,248,null,null,null,null,null,null,null,null,null,null,null,null,null,null,100,{"$f":"MyXor(CB289,VLOOKUP(CU289,'Таблица CRC'!$A$43:$C$298,3,FALSE))","v":2},{"$f":"MyXor(CC289,VLOOKUP(CV289,'Таблица CRC'!$A$43:$C$298,3,FALSE))","v":188},{"$f":"MyXor(CD289,VLOOKUP(CW289,'Таблица CRC'!$A$43:$C$298,3,FALSE))","v":144},{"$f":"MyXor(CE289,VLOOKUP(CX289,'Таблица CRC'!$A$43:$C$298,3,FALSE))","v":17},{"$f":"MyXor(CF289,VLOOKUP(CY289,'Таблица CRC'!$A$43:$C$298,3,FALSE))","v":59},{"$f":"MyXor(CG289,VLOOKUP(CZ289,'Таблица CRC'!$A$43:$C$298,3,FALSE))","v":158},null,null,null,null,null,null,null,null,null,null,null,null,null,"64 06 00 01 00 F8 9E"]
["ключ шифрования-27",27,null,"ключ шифрования-27",null,null,null,null,null,null,null,null,null,null,null,null,null,null,null,null,null,null,null,null,{"$f":"DEC2HEX(Y288,2)","v":"64"},{"$f":"DEC2HEX(Z288,2)","v":"09"},"00","A5","AF","A2","A2","A2","A2",{"$f":"DEC2HEX(AH289,2)","v":"EC"},{"$f":"CONCATENATE(Y290,\" \",Z290,\" \",AA290,\" \",AB290,\" \",AC290,\" \",AD290,\" \",AE290,\" \",AF290,\" \",AG290,\" \",AH290)","v":"64 09 00 A5 AF A2 A2 A2 A2 EC"},"тоже","E4 09 DB D2 E6 D5 D5 D5 D5 BF","E4",9,"DB","D2","E6","D5","D5","D5","D5","BF",null,null,null,null,null,null,null,null,null,null,228,9,219,210,230,213,213,213,213,191,0,0,0,0,0,0,0,0,0,0,119,100,9,0,165,145,162,162,162,162,null,null,null,null,null,null,null,null,null,null,null,100,{"$f":"MyXor(CB290,VLOOKUP(CU290,'Таблица CRC'!$A$43:$C$298,3,FALSE))","v":13},{"$f":"MyXor(CC290,VLOOKUP(CV290,'Таблица CRC'!$A$43:$C$298,3,FALSE))","v":253},{"$f":"MyXor(CD290,VLOOKUP(CW290,'Таблица CRC'!$A$43:$C$298,3,FALSE))","v":44},{"$f":"MyXor(CE290,VLOOKUP(CX290,'Таблица CRC'!$A$43:$C$298,3,FALSE))","v":17},{"$f":"MyXor(CF290,VLOOKUP(CY290,'Таблица CRC'!$A$43:$C$298,3,FALSE))","v":97},{"$f":"MyXor(CG290,VLOOKUP(CZ290,'Таблица CRC'!$A$43:$C$298,3,FALSE))","v":153},{"$f":"MyXor(CH290,VLOOKUP(DA290,'Таблица CRC'!$A$43:$C$298,3,FALSE))","v":47},{"$f":"MyXor(CI290,VLOOKUP(DB290,'Таблица CRC'!$A$43:$C$298,3,FALSE))","v":192},{"$f":"MyXor(CJ290,VLOOKUP(DC290,'Таблица CRC'!$A$43:$C$298,3,FALSE))","v":202},null,null,null,null,null,null,null,null,null,null,{"$f":"CONCATENATE(DEC2HEX(CA290,2),\" \",DEC2HEX(CB290,2),\" \",DEC2HEX(CC290,2),\" \",DEC2HEX(CD290,2),\" \",DEC2HEX(CE290,2),\" \",DEC2HEX(CF290,2),\" \",DEC2HEX(CG290,2),\" \",DEC2HEX(CH290,2),\" \",DEC2HEX(CI290,2),\" \",DEC2HEX(DD290,2))","v":"64 09 00 A5 91 A2 A2 A2 A2 CA"}]
["zapros.s 165,175,162,",null,null,"zapros.s 165",175,162,null,null,null,null,null,null,null,null,null,null,null,null,null,null,null,null,null,null,null,null,null,null,null,null,null,null,null,null,null,null,"E4 06 79 D6 D5 D5 55","E4",6,79,"D6","D5","D5",55,null,null,null,null,null,null,null,null,null,null,null,null,null,228,6,121,214,213,213,85,0,0,0,0,0,0,0,0,0,0,0,0,0,213,100,6,0,3,0,0,null,null,null,null,null,null,null,null,null,null,null,null,null,null,100,{"$f":"MyXor(CB291,VLOOKUP(CU291,'Таблица CRC'!$A$43:$C$298,3,FALSE))","v":2},{"$f":"MyXor(CC291,VLOOKUP(CV291,'Таблица CRC'!$A$43:$C$298,3,FALSE))","v":188},{"$f":"MyXor(CD291,VLOOKUP(CW291,'Таблица CRC'!$A$43:$C$298,3,FALSE))","v":146},{"$f":"MyXor(CE291,VLOOKUP(CX291,'Таблица CRC'!$A$43:$C$298,3,FALSE))","v":173},{"$f":"MyXor(CF291,VLOOKUP(CY291,'Таблица CRC'!$A$43:$C$298,3,FALSE))","v":82},{"$f":"MyXor(CG291,VLOOKUP(CZ291,'Таблица CRC'!$A$43:$C$298,3,FALSE))","v":103},null,null,null,null,null,null,null,null,null,null,null,null,null,"64 06 00 03 00 00 67"]
["228,6,21,186,185,185,24,",null,{"$f":"MyXor(F292,$C$1)","v":185},228,6,21,186,185,185,24,null,null,null,100,6,{"$f":"MyXor(F292,$B294)","v":172},{"$f":"MyXor(G292,$B294)","v":3},{"$f":"MyXor(H292,$B294)","v":0},{"$f":"MyXor(I292,$B294)","v":0},{"$f":"MyXor(J292,$B294)","v":161},{"$f":"MyXor(K292,$B294)","v":185},{"$f":"MyXor(L292,$B294)","v":185},{"$f":"MyXor(M292,$B294)","v":185},null,100,6,0,3,0,0,161,185,185,185,null,null,"E4 08 C5 42 6D 5A 69 68 DA","E4",8,"C5",42,"6D","5A",69,68,"DA",null,null,null,null,null,null,null,null,null,null,null,228,8,197,66,109,90,105,104,218,0,0,0,0,0,0,0,0,0,0,0,105,100,8,0,43,4,51,0,1,null,null,null,null,null,null,null,null,null,null,null,null,100,{"$f":"MyXor(CB292,VLOOKUP(CU292,'Таблица CRC'!$A$43:$C$298,3,FALSE))","v":12},{"$f":"MyXor(CC292,VLOOKUP(CV292,'Таблица CRC'!$A$43:$C$298,3,FALSE))","v":163},{"$f":"MyXor(CD292,VLOOKUP(CW292,'Таблица CRC'!$A$43:$C$298,3,FALSE))","v":102},{"$f":"MyXor(CE292,VLOOKUP(CX292,'Таблица CRC'!$A$43:$C$298,3,FALSE))","v":188},{"$f":"MyXor(CF292,VLOOKUP(CY292,'Таблица CRC'!$A$43:$C$298,3,FALSE))","v":162},{"$f":"MyXor(CG292,VLOOKUP(CZ292,'Таблица CRC'!$A$43:$C$298,3,FALSE))","v":19},{"$f":"MyXor(CH292,VLOOKUP(DA292,'Таблица CRC'!$A$43:$C$298,3,FALSE))","v":126},{"$f":"MyXor(CI292,VLOOKUP(DB292,'Таблица CRC'!$A$43:$C$298,3,FALSE))","v":231},null,null,null,null,null,null,null,null,null,null,null,{"$f":"CONCATENATE(DEC2HEX(CA292,2),\" \",DEC2HEX(CB292,2),\" \",DEC2HEX(CC292,2),\" \",DEC2HEX(CD292,2),\" \",DEC2HEX(CE292,2),\" \",DEC2HEX(CF292,2),\" \",DEC2HEX(CG292,2),\" \",DEC2HEX(CH292,2),\" \",DEC2HEX(DC292,2))","v":"64 08 00 2B 04 33 00 01 E7"}]
["Принято в обработку",null,null,"Принято в обработку",null,null,null,null,null,null,null,null,null,null,null,null,null,null,null,null,null,null,null,null,null,null,null,null,null,null,null,null,null,null,null,null,"E4 05 45 69 69 51","E4",5,45,69,69,51,null,null,null,null,null,null,null,null,null,null,null,null,null,null,228,5,69,105,105,81,0,0,0,0,0,0,0,0,0,0,0,0,0,0,233,100,5,0,128,128,null,null,null,null,null,null,null,null,null,null,null,null,null,null,null,100,{"$f":"MyXor(CB293,VLOOKUP(CU293,'Таблица CRC'!$A$43:$C$298,3,FALSE))","v":1},{"$f":"MyXor(CC293,VLOOKUP(CV293,'Таблица CRC'!$A$43:$C$298,3,FALSE))","v":94},{"$f":"MyXor(CD293,VLOOKUP(CW293,'Таблица CRC'!$A$43:$C$298,3,FALSE))","v":68},{"$f":"MyXor(CE293,VLOOKUP(CX293,'Таблица CRC'!$A$43:$C$298,3,FALSE))","v":167},{"$f":"MyXor(CF293,VLOOKUP(CY293,'Таблица CRC'!$A$43:$C$298,3,FALSE))","v":44},null,null,null,null,null,null,null,null,null,null,null,null,null,null,{"$f":"CONCATENATE(DEC2HEX(CA293,2),\" \",DEC2HEX(CB293,2),\" \",DEC2HEX(CC293,2),\" \",DEC2HEX(CD293,2),\" \",DEC2HEX(CE293,2),\" \",DEC2HEX(CZ293,2))","v":"64 05 00 80 80 2C"}]
["ключ шифрования-185",185,null,"ключ шифрования-185",null,null,null,null,null,null,null,null,null,null,null,null,null,null,null,null,null,null,null,null,null,null,null,null,null,null,null,null,null,null,null,null,"E4 06 7D D0 D1 29 66","E4",6,"7D","D0","D1",29,66,null,null,null,null,null,null,null,null,null,null,null,null,null,228,6,125,208,209,41,102,0,0,0,0,0,0,0,0,0,0,0,0,0,209,100,6,0,1,0,248,null,null,null,null,null,null,null,null,null,null,null,null,null,null,100,{"$f":"MyXor(CB294,VLOOKUP(CU294,'Таблица CRC'!$A$43:$C$298,3,FALSE))","v":2},{"$f":"MyXor(CC294,VLOOKUP(CV294,'Таблица CRC'!$A$43:$C$298,3,FALSE))","v":188},{"$f":"MyXor(CD294,VLOOKUP(CW294,'Таблица CRC'!$A$43:$C$298,3,FALSE))","v":144},{"$f":"MyXor(CE294,VLOOKUP(CX294,'Таблица CRC'!$A$43:$C$298,3,FALSE))","v":17},{"$f":"MyXor(CF294,VLOOKUP(CY294,'Таблица CRC'!$A$43:$C$298,3,FALSE))","v":59},{"$f":"MyXor(CG294,VLOOKUP(CZ294,'Таблица CRC'!$A$43:$C$298,3,FALSE))","v":158},null,null,null,null,null,null,null,null,null,null,null,null,null,"64 06 00 01 00 F8 9E"]
["zapros.s 3,0,0,",null,null,"zapros.s 3",0,0,null,null,null,null,null,null,null,null,null,null,null,null,null,null,null,null,null,null,null,null,null,null,null,null,null,null,null,null,null,null,"E4 09 DF D6 E5 D1 D1 D1 D1 EF","E4",9,"DF","D6","E5","D1","D1","D1","D1","EF",null,null,null,null,null,null,null,null,null,null,228,9,223,214,229,209,209,209,209,239,0,0,0,0,0,0,0,0,0,0,115,100,9,0,165,150,162,162,162,162,null,null,null,null,null,null,null,null,null,null,null,100,{"$f":"MyXor(CB295,VLOOKUP(CU295,'Таблица CRC'!$A$43:$C$298,3,FALSE))","v":13},{"$f":"MyXor(CC295,VLOOKUP(CV295,'Таблица CRC'!$A$43:$C$298,3,FALSE))","v":253},{"$f":"MyXor(CD295,VLOOKUP(CW295,'Таблица CRC'!$A$43:$C$298,3,FALSE))","v":44},{"$f":"MyXor(CE295,VLOOKUP(CX295,'Таблица CRC'!$A$43:$C$298,3,FALSE))","v":22},{"$f":"MyXor(CF295,VLOOKUP(CY295,'Таблица CRC'!$A$43:$C$298,3,FALSE))","v":226},{"$f":"MyXor(CG295,VLOOKUP(CZ295,'Таблица CRC'!$A$43:$C$298,3,FALSE))","v":247},{"$f":"MyXor(CH295,VLOOKUP(DA295,'Таблица CRC'!$A$43:$C$298,3,FALSE))","v":85},{"$f":"MyXor(CI295,VLOOKUP(DB295,'Таблица CRC'!$A$43:$C$298,3,FALSE))","v":70},{"$f":"MyXor(CJ295,VLOOKUP(DC295,'Таблица CRC'!$A$43:$C$298,3,FALSE))","v":155},null,null,null,null,null,null,null,null,null,null,{"$f":"CONCATENATE(DEC2HEX(CA295,2),\" \",DEC2HEX(CB295,2),\" \",DEC2HEX(CC295,2),\" \",DEC2HEX(CD295,2),\" \",DEC2HEX(CE295,2),\" \",DEC2HEX(CF295,2),\" \",DEC2HEX(CG295,2),\" \",DEC2HEX(CH295,2),\" \",DEC2HEX(CI295,2),\" \",DEC2HEX(DD295,2))","v":"64 09 00 A5 96 A2 A2 A2 A2 9B"}]
["228,8,109,234,197,204,193,192,147,",null,{"$f":"MyXor(F296,$C$1)","v":193},228,8,109,234,197,204,193,192,147,null,100,8,{"$f":"MyXor(F296,$B298)","v":172},{"$f":"MyXor(G296,$B298)","v":43},{"$f":"MyXor(H296,$B298)","v":4},{"$f":"MyXor(I296,$B298)","v":13},{"$f":"MyXor(J296,$B298)","v":0},{"$f":"MyXor(K296,$B298)","v":1},{"$f":"MyXor(L296,$B298)","v":82},{"$f":"MyXor(M296,$B298)","v":193},null,100,8,0,43,4,13,0,1,82,193,null,null,"E4 06 7D D2 D1 D1 9F","E4",6,"7D","D2","D1","D1","9F",null,null,null,null,null,null,null,null,null,null,null,null,null,228,6,125,210,209,209,159,0,0,0,0,0,0,0,0,0,0,0,0,0,209,100,6,0,3,0,0,null,null,null,null,null,null,null,null,null,null,null,null,null,null,100,{"$f":"MyXor(CB296,VLOOKUP(CU296,'Таблица CRC'!$A$43:$C$298,3,FALSE))","v":2},{"$f":"MyXor(CC296,VLOOKUP(CV296,'Таблица CRC'!$A$43:$C$298,3,FALSE))","v":188},{"$f":"MyXor(CD296,VLOOKUP(CW296,'Таблица CRC'!$A$43:$C$298,3,FALSE))","v":146},{"$f":"MyXor(CE296,VLOOKUP(CX296,'Таблица CRC'!$A$43:$C$298,3,FALSE))","v":173},{"$f":"MyXor(CF296,VLOOKUP(CY296,'Таблица CRC'!$A$43:$C$298,3,FALSE))","v":82},{"$f":"MyXor(CG296,VLOOKUP(CZ296,'Таблица CRC'!$A$43:$C$298,3,FALSE))","v":103},null,null,null,null,null,null,null,null,null,null,null,null,null,"64 06 00 03 00 00 67"]
["Принято в обработку",null,null,"Принято в обработку",null,null,null,null,null,null,null,null,null,null,null,null,null,null,null,null,null,null,null,null,null,null,null,null,null,null,null,null,null,null,null,null,"E4 08 94 13 3C 0C 38 39 50","E4",8,94,13,"3C","0C",38,39,50,null,null,null,null,null,null,null,null,null,null,null,228,8,148,19,60,12,56,57,80,0,0,0,0,0,0,0,0,0,0,0,56,100,8,0,43,4,52,0,1,null,null,null,null,null,null,null,null,null,null,null,null,100,{"$f":"MyXor(CB297,VLOOKUP(CU297,'Таблица CRC'!$A$43:$C$298,3,FALSE))","v":12},{"$f":"MyXor(CC297,VLOOKUP(CV297,'Таблица CRC'!$A$43:$C$298,3,FALSE))","v":163},{"$f":"MyXor(CD297,VLOOKUP(CW297,'Таблица CRC'!$A$43:$C$298,3,FALSE))","v":102},{"$f":"MyXor(CE297,VLOOKUP(CX297,'Таблица CRC'!$A$43:$C$298,3,FALSE))","v":188},{"$f":"MyXor(CF297,VLOOKUP(CY297,'Таблица CRC'!$A$43:$C$298,3,FALSE))","v":165},{"$f":"MyXor(CG297,VLOOKUP(CZ297,'Таблица CRC'!$A$43:$C$298,3,FALSE))","v":144},{"$f":"MyXor(CH297,VLOOKUP(DA297,'Таблица CRC'!$A$43:$C$298,3,FALSE))","v":16},{"$f":"MyXor(CI297,VLOOKUP(DB297,'Таблица CRC'!$A$43:$C$298,3,FALSE))","v":157},null,null,null,null,null,null,null,null,null,null,null,{"$f":"CONCATENATE(DEC2HEX(CA297,2),\" \",DEC2HEX(CB297,2),\" \",DEC2HEX(CC297,2),\" \",DEC2HEX(CD297,2),\" \",DEC2HEX(CE297,2),\" \",DEC2HEX(CF297,2),\" \",DEC2HEX(CG297,2),\" \",DEC2HEX(CH297,2),\" \",DEC2HEX(DC297,2))","v":"64 08 00 2B 04 34 00 01 9D"}]
["ключ шифрования-193",193,null,"ключ шифрования-193",null,null,null,null,null,null,null,null,null,null,null,null,null,null,null,null,null,null,null,null,null,null,null,null,null,null,null,null,null,null,null,null,"E4 05 14 38 38 B7","E4",5,14,38,38,"B7",null,null,null,null,null,null,null,null,null,null,null,null,null,null,228,5,20,56,56,183,0,0,0,0,0,0,0,0,0,0,0,0,0,0,184,100,5,0,128,128,null,null,null,null,null,null,null,null,null,null,null,null,null,null,null,100,{"$f":"MyXor(CB298,VLOOKUP(CU298,'Таблица CRC'!$A$43:$C$298,3,FALSE))","v":1},{"$f":"MyXor(CC298,VLOOKUP(CV298,'Таблица CRC'!$A$43:$C$298,3,FALSE))","v":94},{"$f":"MyXor(CD298,VLOOKUP(CW298,'Таблица CRC'!$A$43:$C$298,3,FALSE))","v":68},{"$f":"MyXor(CE298,VLOOKUP(CX298,'Таблица CRC'!$A$43:$C$298,3,FALSE))","v":167},{"$f":"MyXor(CF298,VLOOKUP(CY298,'Таблица CRC'!$A$43:$C$298,3,FALSE))","v":44},null,null,null,null,null,null,null,null,null,null,null,null,null,null,{"$f":"CONCATENATE(DEC2HEX(CA298,2),\" \",DEC2HEX(CB298,2),\" \",DEC2HEX(CC298,2),\" \",DEC2HEX(CD298,2),\" \",DEC2HEX(CE298,2),\" \",DEC2HEX(CZ298,2))","v":"64 05 00 80 80 2C"}]
["zapros.s 43,4,13,",null,null,"zapros.s 43",4,13,null,null,null,null,null,null,null,null,null,null,null,null,null,null,null,null,null,null,null,null,null,null,null,null,null,null,null,null,null,null,"E4 06 08 A5 A4 5C 1B","E4",6,8,"A5","A4","5C","1B",null,null,null,null,null,null,null,null,null,null,null,null,null,228,6,8,165,164,92,27,0,0,0,0,0,0,0,0,0,0,0,0,0,164,100,6,0,1,0,248,null,null,null,null,null,null,null,null,null,null,null,null,null,null,100,{"$f":"MyXor(CB299,VLOOKUP(CU299,'Таблица CRC'!$A$43:$C$298,3,FALSE))","v":2},{"$f":"MyXor(CC299,VLOOKUP(CV299,'Таблица CRC'!$A$43:$C$298,3,FALSE))","v":188},{"$f":"MyXor(CD299,VLOOKUP(CW299,'Таблица CRC'!$A$43:$C$298,3,FALSE))","v":144},{"$f":"MyXor(CE299,VLOOKUP(CX299,'Таблица CRC'!$A$43:$C$298,3,FALSE))","v":17},{"$f":"MyXor(CF299,VLOOKUP(CY299,'Таблица CRC'!$A$43:$C$298,3,FALSE))","v":59},{"$f":"MyXor(CG299,VLOOKUP(CZ299,'Таблица CRC'!$A$43:$C$298,3,FALSE))","v":158},null,null,null,null,null,null,null,null,null,null,null,null,null,"64 06 00 01 00 F8 9E"]
["228,5,237,193,193,119,",null,{"$f":"MyXor(F300,$C$1)","v":65},228,5,237,193,193,119,null,null,null,null,100,5,{"$f":"MyXor(F300,$B302)","v":172},{"$f":"MyXor(G300,$B302)","v":128},{"$f":"MyXor(H300,$B302)","v":128},{"$f":"MyXor(I300,$B302)","v":54},{"$f":"MyXor(J300,$B302)","v":65},{"$f":"MyXor(K300,$B302)","v":65},{"$f":"MyXor(L300,$B302)","v":65},{"$f":"MyXor(M300,$B302)","v":65},null,100,5,0,128,128,54,65,65,65,65,null,null,"E4 09 AA A3 91 A4 A4 A4 A4 89","E4",9,"AA","A3",91,"A4","A4","A4","A4",89,null,null,null,null,null,null,null,null,null,null,228,9,170,163,145,164,164,164,164,137,0,0,0,0,0,0,0,0,0,0,6,100,9,0,165,151,162,162,162,162,null,null,null,null,null,null,null,null,null,null,null,100,{"$f":"MyXor(CB300,VLOOKUP(CU300,'Таблица CRC'!$A$43:$C$298,3,FALSE))","v":13},{"$f":"MyXor(CC300,VLOOKUP(CV300,'Таблица CRC'!$A$43:$C$298,3,FALSE))","v":253},{"$f":"MyXor(CD300,VLOOKUP(CW300,'Таблица CRC'!$A$43:$C$298,3,FALSE))","v":44},{"$f":"MyXor(CE300,VLOOKUP(CX300,'Таблица CRC'!$A$43:$C$298,3,FALSE))","v":23},{"$f":"MyXor(CF300,VLOOKUP(CY300,'Таблица CRC'!$A$43:$C$298,3,FALSE))","v":188},{"$f":"MyXor(CG300,VLOOKUP(CZ300,'Таблица CRC'!$A$43:$C$298,3,FALSE))","v":51},{"$f":"MyXor(CH300,VLOOKUP(DA300,'Таблица CRC'!$A$43:$C$298,3,FALSE))","v":254},{"$f":"MyXor(CI300,VLOOKUP(DB300,'Таблица CRC'!$A$43:$C$298,3,FALSE))","v":201},{"$f":"MyXor(CJ300,VLOOKUP(DC300,'Таблица CRC'!$A$43:$C$298,3,FALSE))","v":86},null,null,null,null,null,null,null,null,null,null,{"$f":"CONCATENATE(DEC2HEX(CA300,2),\" \",DEC2HEX(CB300,2),\" \",DEC2HEX(CC300,2),\" \",DEC2HEX(CD300,2),\" \",DEC2HEX(CE300,2),\" \",DEC2HEX(CF300,2),\" \",DEC2HEX(CG300,2),\" \",DEC2HEX(CH300,2),\" \",DEC2HEX(CI300,2),\" \",DEC2HEX(DD300,2))","v":"64 09 00 A5 97 A2 A2 A2 A2 56"}]
["Принято в обработку",null,null,"Принято в обработку",null,null,null,null,null,null,null,null,null,null,null,null,null,null,null,null,null,null,null,null,null,null,null,null,null,null,null,null,null,null,null,null,"E4 06 08 A7 A4 A4 E2","E4",6,8,"A7","A4","A4","E2",null,null,null,null,null,null,null,null,null,null,null,null,null,228,6,8,167,164,164,226,0,0,0,0,0,0,0,0,0,0,0,0,0,164,100,6,0,3,0,0,null,null,null,null,null,null,null,null,null,null,null,null,null,null,100,{"$f":"MyXor(CB301,VLOOKUP(CU301,'Таблица CRC'!$A$43:$C$298,3,FALSE))","v":2},{"$f":"MyXor(CC301,VLOOKUP(CV301,'Таблица CRC'!$A$43:$C$298,3,FALSE))","v":188},{"$f":"MyXor(CD301,VLOOKUP(CW301,'Таблица CRC'!$A$43:$C$298,3,FALSE))","v":146},{"$f":"MyXor(CE301,VLOOKUP(CX301,'Таблица CRC'!$A$43:$C$298,3,FALSE))","v":173},{"$f":"MyXor(CF301,VLOOKUP(CY301,'Таблица CRC'!$A$43:$C$298,3,FALSE))","v":82},{"$f":"MyXor(CG301,VLOOKUP(CZ301,'Таблица CRC'!$A$43:$C$298,3,FALSE))","v":103},null,null,null,null,null,null,null,null,null,null,null,null,null,"64 06 00 03 00 00 67"]
["otvet 44,0,0,",65,null,"otvet 44",0,0,null,null,null,null,null,null,null,null,null,null,null,null,null,null,null,null,null,null,null,null,null,null,null,null,null,null,null,null,null,null,"E4 08 F0 77 58 69 5C 5D 2A","E4",8,"F0",77,58,69,"5C","5D","2A",null,null,null,null,null,null,null,null,null,null,null,228,8,240,119,88,105,92,93,42,0,0,0,0,0,0,0,0,0,0,0,92,100,8,0,43,4,53,0,1,null,null,null,null,null,null,null,null,null,null,null,null,100,{"$f":"MyXor(CB302,VLOOKUP(CU302,'Таблица CRC'!$A$43:$C$298,3,FALSE))","v":12},{"$f":"MyXor(CC302,VLOOKUP(CV302,'Таблица CRC'!$A$43:$C$298,3,FALSE))","v":163},{"$f":"MyXor(CD302,VLOOKUP(CW302,'Таблица CRC'!$A$43:$C$298,3,FALSE))","v":102},{"$f":"MyXor(CE302,VLOOKUP(CX302,'Таблица CRC'!$A$43:$C$298,3,FALSE))","v":188},{"$f":"MyXor(CF302,VLOOKUP(CY302,'Таблица CRC'!$A$43:$C$298,3,FALSE))","v":164},{"$f":"MyXor(CG302,VLOOKUP(CZ302,'Таблица CRC'!$A$43:$C$298,3,FALSE))","v":206},{"$f":"MyXor(CH302,VLOOKUP(DA302,'Таблица CRC'!$A$43:$C$298,3,FALSE))","v":212},{"$f":"MyXor(CI302,VLOOKUP(DB302,'Таблица CRC'!$A$43:$C$298,3,FALSE))","v":54},null,null,null,null,null,null,null,null,null,null,null,{"$f":"CONCATENATE(DEC2HEX(CA302,2),\" \",DEC2HEX(CB302,2),\" \",DEC2HEX(CC302,2),\" \",DEC2HEX(CD302,2),\" \",DEC2HEX(CE302,2),\" \",DEC2HEX(CF302,2),\" \",DEC2HEX(CG302,2),\" \",DEC2HEX(CH302,2),\" \",DEC2HEX(DC302,2))","v":"64 08 00 2B 04 35 00 01 36"}]
["228,6,99,206,207,55,71,",null,{"$f":"MyXor(F303,$C$1)","v":207},228,6,99,206,207,55,71,null,null,null,100,6,{"$f":"MyXor(F303,$B305)","v":172},{"$f":"MyXor(G303,$B305)","v":1},{"$f":"MyXor(H303,$B305)","v":0},{"$f":"MyXor(I303,$B305)","v":248},{"$f":"MyXor(J303,$B305)","v":136},{"$f":"MyXor(K303,$B305)","v":207},{"$f":"MyXor(L303,$B305)","v":207},{"$f":"MyXor(M303,$B305)","v":207},null,100,6,0,1,0,248,136,207,207,207,null,null,"E4 05 70 5C 5C E9","E4",5,70,"5C","5C","E9",null,null,null,null,null,null,null,null,null,null,null,null,null,null,228,5,112,92,92,233,0,0,0,0,0,0,0,0,0,0,0,0,0,0,220,100,5,0,128,128,null,null,null,null,null,null,null,null,null,null,null,null,null,null,null,100,{"$f":"MyXor(CB303,VLOOKUP(CU303,'Таблица CRC'!$A$43:$C$298,3,FALSE))","v":1},{"$f":"MyXor(CC303,VLOOKUP(CV303,'Таблица CRC'!$A$43:$C$298,3,FALSE))","v":94},{"$f":"MyXor(CD303,VLOOKUP(CW303,'Таблица CRC'!$A$43:$C$298,3,FALSE))","v":68},{"$f":"MyXor(CE303,VLOOKUP(CX303,'Таблица CRC'!$A$43:$C$298,3,FALSE))","v":167},{"$f":"MyXor(CF303,VLOOKUP(CY303,'Таблица CRC'!$A$43:$C$298,3,FALSE))","v":44},null,null,null,null,null,null,null,null,null,null,null,null,null,null,{"$f":"CONCATENATE(DEC2HEX(CA303,2),\" \",DEC2HEX(CB303,2),\" \",DEC2HEX(CC303,2),\" \",DEC2HEX(CD303,2),\" \",DEC2HEX(CE303,2),\" \",DEC2HEX(CZ303,2))","v":"64 05 00 80 80 2C"}]
["Принято в обработку",null,null,"Принято в обработку",null,null,null,null,null,null,null,null,null,null,null,null,null,null,null,null,null,null,null,null,null,null,null,null,null,null,null,null,null,null,null,null,"E4 06 4D E0 E1 19 63","E4",6,"4D","E0","E1",19,63,null,null,null,null,null,null,null,null,null,null,null,null,null,228,6,77,224,225,25,99,0,0,0,0,0,0,0,0,0,0,0,0,0,225,100,6,0,1,0,248,null,null,null,null,null,null,null,null,null,null,null,null,null,null,100,{"$f":"MyXor(CB304,VLOOKUP(CU304,'Таблица CRC'!$A$43:$C$298,3,FALSE))","v":2},{"$f":"MyXor(CC304,VLOOKUP(CV304,'Таблица CRC'!$A$43:$C$298,3,FALSE))","v":188},{"$f":"MyXor(CD304,VLOOKUP(CW304,'Таблица CRC'!$A$43:$C$298,3,FALSE))","v":144},{"$f":"MyXor(CE304,VLOOKUP(CX304,'Таблица CRC'!$A$43:$C$298,3,FALSE))","v":17},{"$f":"MyXor(CF304,VLOOKUP(CY304,'Таблица CRC'!$A$43:$C$298,3,FALSE))","v":59},{"$f":"MyXor(CG304,VLOOKUP(CZ304,'Таблица CRC'!$A$43:$C$298,3,FALSE))","v":158},null,null,null,null,null,null,null,null,null,null,null,null,null,"64 06 00 01 00 F8 9E"]
["ключ шифрования-207",207,null,"ключ шифрования-207",null,null,null,null,null,null,null,null,null,null,null,null,null,null,null,null,null,null,null,null,null,null,null,null,null,null,null,null,null,null,null,null,"E4 09 EF E6 D7 E1 E1 E1 E1 14","E4",9,"EF","E6","D7","E1","E1","E1","E1",14,null,null,null,null,null,null,null,null,null,null,228,9,239,230,215,225,225,225,225,20,0,0,0,0,0,0,0,0,0,0,67,100,9,0,165,148,162,162,162,162,null,null,null,null,null,null,null,null,null,null,null,100,{"$f":"MyXor(CB305,VLOOKUP(CU305,'Таблица CRC'!$A$43:$C$298,3,FALSE))","v":13},{"$f":"MyXor(CC305,VLOOKUP(CV305,'Таблица CRC'!$A$43:$C$298,3,FALSE))","v":253},{"$f":"MyXor(CD305,VLOOKUP(CW305,'Таблица CRC'!$A$43:$C$298,3,FALSE))","v":44},{"$f":"MyXor(CE305,VLOOKUP(CX305,'Таблица CRC'!$A$43:$C$298,3,FALSE))","v":20},{"$f":"MyXor(CF305,VLOOKUP(CY305,'Таблица CRC'!$A$43:$C$298,3,FALSE))","v":94},{"$f":"MyXor(CG305,VLOOKUP(CZ305,'Таблица CRC'!$A$43:$C$298,3,FALSE))","v":102},{"$f":"MyXor(CH305,VLOOKUP(DA305,'Таблица CRC'!$A$43:$C$298,3,FALSE))","v":26},{"$f":"MyXor(CI305,VLOOKUP(DB305,'Таблица CRC'!$A$43:$C$298,3,FALSE))","v":65},{"$f":"MyXor(CJ305,VLOOKUP(DC305,'Таблица CRC'!$A$43:$C$298,3,FALSE))","v":24},null,null,null,null,null,null,null,null,null,null,{"$f":"CONCATENATE(DEC2HEX(CA305,2),\" \",DEC2HEX(CB305,2),\" \",DEC2HEX(CC305,2),\" \",DEC2HEX(CD305,2),\" \",DEC2HEX(CE305,2),\" \",DEC2HEX(CF305,2),\" \",DEC2HEX(CG305,2),\" \",DEC2HEX(CH305,2),\" \",DEC2HEX(CI305,2),\" \",DEC2HEX(DD305,2))","v":"64 09 00 A5 94 A2 A2 A2 A2 18"}]
["zapros.s 1,0,248,",null,null,"zapros.s 1",0,248,null,null,null,null,null,null,null,null,null,null,null,null,null,null,null,null,null,null,null,null,null,null,null,null,null,null,null,null,null,null,"E4 06 4D E2 E1 E1 9A","E4",6,"4D","E2","E1","E1","9A",null,null,null,null,null,null,null,null,null,null,null,null,null,228,6,77,226,225,225,154,0,0,0,0,0,0,0,0,0,0,0,0,0,225,100,6,0,3,0,0,null,null,null,null,null,null,null,null,null,null,null,null,null,null,100,{"$f":"MyXor(CB306,VLOOKUP(CU306,'Таблица CRC'!$A$43:$C$298,3,FALSE))","v":2},{"$f":"MyXor(CC306,VLOOKUP(CV306,'Таблица CRC'!$A$43:$C$298,3,FALSE))","v":188},{"$f":"MyXor(CD306,VLOOKUP(CW306,'Таблица CRC'!$A$43:$C$298,3,FALSE))","v":146},{"$f":"MyXor(CE306,VLOOKUP(CX306,'Таблица CRC'!$A$43:$C$298,3,FALSE))","v":173},{"$f":"MyXor(CF306,VLOOKUP(CY306,'Таблица CRC'!$A$43:$C$298,3,FALSE))","v":82},{"$f":"MyXor(CG306,VLOOKUP(CZ306,'Таблица CRC'!$A$43:$C$298,3,FALSE))","v":103},null,null,null,null,null,null,null,null,null,null,null,null,null,"64 06 00 03 00 00 67"]
["ОТВЕТ ЭМУЛЯТОРА 205,204,207,",null,null,"ОТВЕТ ЭМУЛЯТОРА 205",204,207,null,null,null,null,null,null,null,null,null,null,null,null,null,null,null,null,null,null,null,null,null,null,null,null,null,null,null,null,null,null,"E4 08 B2 35 1A 28 1E 1F D6","E4",8,"B2",35,"1A",28,"1E","1F","D6",null,null,null,null,null,null,null,null,null,null,null,228,8,178,53,26,40,30,31,214,0,0,0,0,0,0,0,0,0,0,0,30,100,8,0,43,4,54,0,1,null,null,null,null,null,null,null,null,null,null,null,null,100,{"$f":"MyXor(CB307,VLOOKUP(CU307,'Таблица CRC'!$A$43:$C$298,3,FALSE))","v":12},{"$f":"MyXor(CC307,VLOOKUP(CV307,'Таблица CRC'!$A$43:$C$298,3,FALSE))","v":163},{"$f":"MyXor(CD307,VLOOKUP(CW307,'Таблица CRC'!$A$43:$C$298,3,FALSE))","v":102},{"$f":"MyXor(CE307,VLOOKUP(CX307,'Таблица CRC'!$A$43:$C$298,3,FALSE))","v":188},{"$f":"MyXor(CF307,VLOOKUP(CY307,'Таблица CRC'!$A$43:$C$298,3,FALSE))","v":167},{"$f":"MyXor(CG307,VLOOKUP(CZ307,'Таблица CRC'!$A$43:$C$298,3,FALSE))","v":44},{"$f":"MyXor(CH307,VLOOKUP(DA307,'Таблица CRC'!$A$43:$C$298,3,FALSE))","v":129},{"$f":"MyXor(CI307,VLOOKUP(DB307,'Таблица CRC'!$A$43:$C$298,3,FALSE))","v":210},null,null,null,null,null,null,null,null,null,null,null,{"$f":"CONCATENATE(DEC2HEX(CA307,2),\" \",DEC2HEX(CB307,2),\" \",DEC2HEX(CC307,2),\" \",DEC2HEX(CD307,2),\" \",DEC2HEX(CE307,2),\" \",DEC2HEX(CF307,2),\" \",DEC2HEX(CG307,2),\" \",DEC2HEX(CH307,2),\" \",DEC2HEX(DC307,2))","v":"64 08 00 2B 04 36 00 01 D2"}]
["228,9,193,200,193,207,207,207,207,229,",null,{"$f":"MyXor(F308,$C$1)","v":109},228,9,193,200,193,207,207,207,207,229,100,9,{"$f":"MyXor(F308,$B310)","v":172},{"$f":"MyXor(G308,$B310)","v":165},{"$f":"MyXor(H308,$B310)","v":172},{"$f":"MyXor(I308,$B310)","v":162},{"$f":"MyXor(J308,$B310)","v":162},{"$f":"MyXor(K308,$B310)","v":162},{"$f":"MyXor(L308,$B310)","v":162},{"$f":"MyXor(M308,$B310)","v":136},null,100,9,0,165,172,162,162,162,162,null,null,null,"E4 05 32 1E 1E 67","E4",5,32,"1E","1E",67,null,null,null,null,null,null,null,null,null,null,null,null,null,null,228,5,50,30,30,103,0,0,0,0,0,0,0,0,0,0,0,0,0,0,158,100,5,0,128,128,null,null,null,null,null,null,null,null,null,null,null,null,null,null,null,100,{"$f":"MyXor(CB308,VLOOKUP(CU308,'Таблица CRC'!$A$43:$C$298,3,FALSE))","v":1},{"$f":"MyXor(CC308,VLOOKUP(CV308,'Таблица CRC'!$A$43:$C$298,3,FALSE))","v":94},{"$f":"MyXor(CD308,VLOOKUP(CW308,'Таблица CRC'!$A$43:$C$298,3,FALSE))","v":68},{"$f":"MyXor(CE308,VLOOKUP(CX308,'Таблица CRC'!$A$43:$C$298,3,FALSE))","v":167},{"$f":"MyXor(CF308,VLOOKUP(CY308,'Таблица CRC'!$A$43:$C$298,3,FALSE))","v":44},null,null,null,null,null,null,null,null,null,null,null,null,null,null,{"$f":"CONCATENATE(DEC2HEX(CA308,2),\" \",DEC2HEX(CB308,2),\" \",DEC2HEX(CC308,2),\" \",DEC2HEX(CD308,2),\" \",DEC2HEX(CE308,2),\" \",DEC2HEX(CZ308,2))","v":"64 05 00 80 80 2C"}]
["Принято в обработку",null,null,"Принято в обработку",null,null,null,null,null,null,null,null,null,null,null,null,null,null,null,null,null,null,null,null,{"$f":"MyXor(Y308,0)","v":100},{"$f":"MyXor(Z308,VLOOKUP(Y309,'Таблица CRC'!$A$43:$C$298,3,FALSE))","v":13},{"$f":"MyXor(AA308,VLOOKUP(Z309,'Таблица CRC'!$A$43:$C$298,3,FALSE))","v":253},{"$f":"MyXor(AB308,VLOOKUP(AA309,'Таблица CRC'!$A$43:$C$298,3,FALSE))","v":44},{"$f":"MyXor(AC308,VLOOKUP(AB309,'Таблица CRC'!$A$43:$C$298,3,FALSE))","v":44},{"$f":"MyXor(AD308,VLOOKUP(AC309,'Таблица CRC'!$A$43:$C$298,3,FALSE))","v":34},{"$f":"MyXor(AE308,VLOOKUP(AD309,'Таблица CRC'!$A$43:$C$298,3,FALSE))","v":61},{"$f":"MyXor(AF308,VLOOKUP(AE309,'Таблица CRC'!$A$43:$C$298,3,FALSE))","v":225},{"$f":"MyXor(AG308,VLOOKUP(AF309,'Таблица CRC'!$A$43:$C$298,3,FALSE))","v":21},{"$f":"MyXor(AH308,VLOOKUP(AG309,'Таблица CRC'!$A$43:$C$298,3,FALSE))","v":162},null,null,"E4 06 31 9C 9D 65 2D","E4",6,31,"9C","9D",65,"2D",null,null,null,null,null,null,null,null,null,null,null,null,null,228,6,49,156,157,101,45,0,0,0,0,0,0,0,0,0,0,0,0,0,157,100,6,0,1,0,248,null,null,null,null,null,null,null,null,null,null,null,null,null,null,100,{"$f":"MyXor(CB309,VLOOKUP(CU309,'Таблица CRC'!$A$43:$C$298,3,FALSE))","v":2},{"$f":"MyXor(CC309,VLOOKUP(CV309,'Таблица CRC'!$A$43:$C$298,3,FALSE))","v":188},{"$f":"MyXor(CD309,VLOOKUP(CW309,'Таблица CRC'!$A$43:$C$298,3,FALSE))","v":144},{"$f":"MyXor(CE309,VLOOKUP(CX309,'Таблица CRC'!$A$43:$C$298,3,FALSE))","v":17},{"$f":"MyXor(CF309,VLOOKUP(CY309,'Таблица CRC'!$A$43:$C$298,3,FALSE))","v":59},{"$f":"MyXor(CG309,VLOOKUP(CZ309,'Таблица CRC'!$A$43:$C$298,3,FALSE))","v":158},null,null,null,null,null,null,null,null,null,null,null,null,null,"64 06 00 01 00 F8 9E"]
["ключ шифрования-109",109,null,"ключ шифрования-109",null,null,null,null,null,null,null,null,null,null,null,null,null,null,null,null,null,null,null,null,{"$f":"DEC2HEX(Y308,2)","v":"64"},{"$f":"DEC2HEX(Z308,2)","v":"09"},"00","A5","AC","A2","A2","A2","A2",{"$f":"DEC2HEX(AH309,2)","v":"A2"},{"$f":"CONCATENATE(Y310,\" \",Z310,\" \",AA310,\" \",AB310,\" \",AC310,\" \",AD310,\" \",AE310,\" \",AF310,\" \",AG310,\" \",AH310)","v":"64 09 00 A5 AC A2 A2 A2 A2 A2"},"тоже","E4 09 93 9A AA 9D 9D 9D 9D FC","E4",9,93,"9A","AA","9D","9D","9D","9D","FC",null,null,null,null,null,null,null,null,null,null,228,9,147,154,170,157,157,157,157,252,0,0,0,0,0,0,0,0,0,0,63,100,9,0,165,149,162,162,162,162,null,null,null,null,null,null,null,null,null,null,null,100,{"$f":"MyXor(CB310,VLOOKUP(CU310,'Таблица CRC'!$A$43:$C$298,3,FALSE))","v":13},{"$f":"MyXor(CC310,VLOOKUP(CV310,'Таблица CRC'!$A$43:$C$298,3,FALSE))","v":253},{"$f":"MyXor(CD310,VLOOKUP(CW310,'Таблица CRC'!$A$43:$C$298,3,FALSE))","v":44},{"$f":"MyXor(CE310,VLOOKUP(CX310,'Таблица CRC'!$A$43:$C$298,3,FALSE))","v":21},{"$f":"MyXor(CF310,VLOOKUP(CY310,'Таблица CRC'!$A$43:$C$298,3,FALSE))","v":0},{"$f":"MyXor(CG310,VLOOKUP(CZ310,'Таблица CRC'!$A$43:$C$298,3,FALSE))","v":162},{"$f":"MyXor(CH310,VLOOKUP(DA310,'Таблица CRC'!$A$43:$C$298,3,FALSE))","v":177},{"$f":"MyXor(CI310,VLOOKUP(DB310,'Таблица CRC'!$A$43:$C$298,3,FALSE))","v":206},{"$f":"MyXor(CJ310,VLOOKUP(DC310,'Таблица CRC'!$A$43:$C$298,3,FALSE))","v":213},null,null,null,null,null,null,null,null,null,null,{"$f":"CONCATENATE(DEC2HEX(CA310,2),\" \",DEC2HEX(CB310,2),\" \",DEC2HEX(CC310,2),\" \",DEC2HEX(CD310,2),\" \",DEC2HEX(CE310,2),\" \",DEC2HEX(CF310,2),\" \",DEC2HEX(CG310,2),\" \",DEC2HEX(CH310,2),\" \",DEC2HEX(CI310,2),\" \",DEC2HEX(DD310,2))","v":"64 09 00 A5 95 A2 A2 A2 A2 D5"}]
["zapros.s 165,172,162,",null,null,"zapros.s 165",172,162,null,null,null,null,null,null,null,null,null,null,null,null,null,null,null,null,null,null,null,null,null,null,null,null,null,null,null,null,null,null,"E4 06 31 9E 9D 9D D4","E4",6,31,"9E","9D","9D","D4",null,null,null,null,null,null,null,null,null,null,null,null,null,228,6,49,158,157,157,212,0,0,0,0,0,0,0,0,0,0,0,0,0,157,100,6,0,3,0,0,null,null,null,null,null,null,null,null,null,null,null,null,null,null,100,{"$f":"MyXor(CB311,VLOOKUP(CU311,'Таблица CRC'!$A$43:$C$298,3,FALSE))","v":2},{"$f":"MyXor(CC311,VLOOKUP(CV311,'Таблица CRC'!$A$43:$C$298,3,FALSE))","v":188},{"$f":"MyXor(CD311,VLOOKUP(CW311,'Таблица CRC'!$A$43:$C$298,3,FALSE))","v":146},{"$f":"MyXor(CE311,VLOOKUP(CX311,'Таблица CRC'!$A$43:$C$298,3,FALSE))","v":173},{"$f":"MyXor(CF311,VLOOKUP(CY311,'Таблица CRC'!$A$43:$C$298,3,FALSE))","v":82},{"$f":"MyXor(CG311,VLOOKUP(CZ311,'Таблица CRC'!$A$43:$C$298,3,FALSE))","v":103},null,null,null,null,null,null,null,null,null,null,null,null,null,"64 06 00 03 00 00 67"]
["228,6,99,204,207,207,190,",null,{"$f":"MyXor(F312,$C$1)","v":207},228,6,99,204,207,207,190,null,null,null,100,6,{"$f":"MyXor(F312,$B314)","v":172},{"$f":"MyXor(G312,$B314)","v":3},{"$f":"MyXor(H312,$B314)","v":0},{"$f":"MyXor(I312,$B314)","v":0},{"$f":"MyXor(J312,$B314)","v":113},{"$f":"MyXor(K312,$B314)","v":207},{"$f":"MyXor(L312,$B314)","v":207},{"$f":"MyXor(M312,$B314)","v":207},null,100,6,0,3,0,0,113,207,207,207,null,null,"E4 08 36 B1 9E AD 9A 9B 4D","E4",8,36,"B1","9E","AD","9A","9B","4D",null,null,null,null,null,null,null,null,null,null,null,228,8,54,177,158,173,154,155,77,0,0,0,0,0,0,0,0,0,0,0,154,100,8,0,43,4,55,0,1,null,null,null,null,null,null,null,null,null,null,null,null,100,{"$f":"MyXor(CB312,VLOOKUP(CU312,'Таблица CRC'!$A$43:$C$298,3,FALSE))","v":12},{"$f":"MyXor(CC312,VLOOKUP(CV312,'Таблица CRC'!$A$43:$C$298,3,FALSE))","v":163},{"$f":"MyXor(CD312,VLOOKUP(CW312,'Таблица CRC'!$A$43:$C$298,3,FALSE))","v":102},{"$f":"MyXor(CE312,VLOOKUP(CX312,'Таблица CRC'!$A$43:$C$298,3,FALSE))","v":188},{"$f":"MyXor(CF312,VLOOKUP(CY312,'Таблица CRC'!$A$43:$C$298,3,FALSE))","v":166},{"$f":"MyXor(CG312,VLOOKUP(CZ312,'Таблица CRC'!$A$43:$C$298,3,FALSE))","v":114},{"$f":"MyXor(CH312,VLOOKUP(DA312,'Таблица CRC'!$A$43:$C$298,3,FALSE))","v":69},{"$f":"MyXor(CI312,VLOOKUP(DB312,'Таблица CRC'!$A$43:$C$298,3,FALSE))","v":121},null,null,null,null,null,null,null,null,null,null,null,{"$f":"CONCATENATE(DEC2HEX(CA312,2),\" \",DEC2HEX(CB312,2),\" \",DEC2HEX(CC312,2),\" \",DEC2HEX(CD312,2),\" \",DEC2HEX(CE312,2),\" \",DEC2HEX(CF312,2),\" \",DEC2HEX(CG312,2),\" \",DEC2HEX(CH312,2),\" \",DEC2HEX(DC312,2))","v":"64 08 00 2B 04 37 00 01 79"}]
["Принято в обработку",null,null,"Принято в обработку",null,null,null,null,null,null,null,null,null,null,null,null,null,null,null,null,null,null,null,null,null,null,null,null,null,null,null,null,null,null,null,null,"E4 05 B6 9A 9A 62","E4",5,"B6","9A","9A",62,null,null,null,null,null,null,null,null,null,null,null,null,null,null,228,5,182,154,154,98,0,0,0,0,0,0,0,0,0,0,0,0,0,0,26,100,5,0,128,128,null,null,null,null,null,null,null,null,null,null,null,null,null,null,null,100,{"$f":"MyXor(CB313,VLOOKUP(CU313,'Таблица CRC'!$A$43:$C$298,3,FALSE))","v":1},{"$f":"MyXor(CC313,VLOOKUP(CV313,'Таблица CRC'!$A$43:$C$298,3,FALSE))","v":94},{"$f":"MyXor(CD313,VLOOKUP(CW313,'Таблица CRC'!$A$43:$C$298,3,FALSE))","v":68},{"$f":"MyXor(CE313,VLOOKUP(CX313,'Таблица CRC'!$A$43:$C$298,3,FALSE))","v":167},{"$f":"MyXor(CF313,VLOOKUP(CY313,'Таблица CRC'!$A$43:$C$298,3,FALSE))","v":44},null,null,null,null,null,null,null,null,null,null,null,null,null,null,{"$f":"CONCATENATE(DEC2HEX(CA313,2),\" \",DEC2HEX(CB313,2),\" \",DEC2HEX(CC313,2),\" \",DEC2HEX(CD313,2),\" \",DEC2HEX(CE313,2),\" \",DEC2HEX(CZ313,2))","v":"64 05 00 80 80 2C"}]
["ключ шифрования-207",207,null,"ключ шифрования-207",null,null,null,null,null,null,null,null,null,null,null,null,null,null,null,null,null,null,null,null,null,null,null,null,null,null,null,null,null,null,null,null,"E4 06 A5 08 09 F1 FC","E4",6,"A5",8,9,"F1","FC",null,null,null,null,null,null,null,null,null,null,null,null,null,228,6,165,8,9,241,252,0,0,0,0,0,0,0,0,0,0,0,0,0,9,100,6,0,1,0,248,null,null,null,null,null,null,null,null,null,null,null,null,null,null,100,{"$f":"MyXor(CB314,VLOOKUP(CU314,'Таблица CRC'!$A$43:$C$298,3,FALSE))","v":2},{"$f":"MyXor(CC314,VLOOKUP(CV314,'Таблица CRC'!$A$43:$C$298,3,FALSE))","v":188},{"$f":"MyXor(CD314,VLOOKUP(CW314,'Таблица CRC'!$A$43:$C$298,3,FALSE))","v":144},{"$f":"MyXor(CE314,VLOOKUP(CX314,'Таблица CRC'!$A$43:$C$298,3,FALSE))","v":17},{"$f":"MyXor(CF314,VLOOKUP(CY314,'Таблица CRC'!$A$43:$C$298,3,FALSE))","v":59},{"$f":"MyXor(CG314,VLOOKUP(CZ314,'Таблица CRC'!$A$43:$C$298,3,FALSE))","v":158},null,null,null,null,null,null,null,null,null,null,null,null,null,"64 06 00 01 00 F8 9E"]
["zapros.s 3,0,0,",null,null,"zapros.s 3",0,0,null,null,null,null,null,null,null,null,null,null,null,null,null,null,null,null,null,null,null,null,null,null,null,null,null,null,null,null,null,null,"E4 09 07 0E 31 09 09 09 09 0B","E4",9,7,"0E",31,9,9,9,9,"0B",null,null,null,null,null,null,null,null,null,null,228,9,7,14,49,9,9,9,9,11,0,0,0,0,0,0,0,0,0,0,171,100,9,0,165,154,162,162,162,162,null,null,null,null,null,null,null,null,null,null,null,100,{"$f":"MyXor(CB315,VLOOKUP(CU315,'Таблица CRC'!$A$43:$C$298,3,FALSE))","v":13},{"$f":"MyXor(CC315,VLOOKUP(CV315,'Таблица CRC'!$A$43:$C$298,3,FALSE))","v":253},{"$f":"MyXor(CD315,VLOOKUP(CW315,'Таблица CRC'!$A$43:$C$298,3,FALSE))","v":44},{"$f":"MyXor(CE315,VLOOKUP(CX315,'Таблица CRC'!$A$43:$C$298,3,FALSE))","v":26},{"$f":"MyXor(CF315,VLOOKUP(CY315,'Таблица CRC'!$A$43:$C$298,3,FALSE))","v":65},{"$f":"MyXor(CG315,VLOOKUP(CZ315,'Таблица CRC'!$A$43:$C$298,3,FALSE))","v":186},{"$f":"MyXor(CH315,VLOOKUP(DA315,'Таблица CRC'!$A$43:$C$298,3,FALSE))","v":238},{"$f":"MyXor(CI315,VLOOKUP(DB315,'Таблица CRC'!$A$43:$C$298,3,FALSE))","v":84},{"$f":"MyXor(CJ315,VLOOKUP(DC315,'Таблица CRC'!$A$43:$C$298,3,FALSE))","v":186},null,null,null,null,null,null,null,null,null,null,{"$f":"CONCATENATE(DEC2HEX(CA315,2),\" \",DEC2HEX(CB315,2),\" \",DEC2HEX(CC315,2),\" \",DEC2HEX(CD315,2),\" \",DEC2HEX(CE315,2),\" \",DEC2HEX(CF315,2),\" \",DEC2HEX(CG315,2),\" \",DEC2HEX(CH315,2),\" \",DEC2HEX(CI315,2),\" \",DEC2HEX(DD315,2))","v":"64 09 00 A5 9A A2 A2 A2 A2 BA"}]
["228,8,137,14,33,43,37,36,159,",null,{"$f":"MyXor(F316,$C$1)","v":37},228,8,137,14,33,43,37,36,159,null,100,8,{"$f":"MyXor(F316,$B318)","v":172},{"$f":"MyXor(G316,$B318)","v":43},{"$f":"MyXor(H316,$B318)","v":4},{"$f":"MyXor(I316,$B318)","v":14},{"$f":"MyXor(J316,$B318)","v":0},{"$f":"MyXor(K316,$B318)","v":1},{"$f":"MyXor(L316,$B318)","v":186},{"$f":"MyXor(M316,$B318)","v":37},null,100,8,0,43,4,14,0,1,186,37,null,null,"E4 06 A5 0A 09 09 05","E4",6,"A5","0A",9,9,5,null,null,null,null,null,null,null,null,null,null,null,null,null,228,6,165,10,9,9,5,0,0,0,0,0,0,0,0,0,0,0,0,0,9,100,6,0,3,0,0,null,null,null,null,null,null,null,null,null,null,null,null,null,null,100,{"$f":"MyXor(CB316,VLOOKUP(CU316,'Таблица CRC'!$A$43:$C$298,3,FALSE))","v":2},{"$f":"MyXor(CC316,VLOOKUP(CV316,'Таблица CRC'!$A$43:$C$298,3,FALSE))","v":188},{"$f":"MyXor(CD316,VLOOKUP(CW316,'Таблица CRC'!$A$43:$C$298,3,FALSE))","v":146},{"$f":"MyXor(CE316,VLOOKUP(CX316,'Таблица CRC'!$A$43:$C$298,3,FALSE))","v":173},{"$f":"MyXor(CF316,VLOOKUP(CY316,'Таблица CRC'!$A$43:$C$298,3,FALSE))","v":82},{"$f":"MyXor(CG316,VLOOKUP(CZ316,'Таблица CRC'!$A$43:$C$298,3,FALSE))","v":103},null,null,null,null,null,null,null,null,null,null,null,null,null,"64 06 00 03 00 00 67"]
["Принято в обработку",null,null,"Принято в обработку",null,null,null,null,null,null,null,null,null,null,null,null,null,null,null,null,null,null,null,null,null,null,null,null,null,null,null,null,null,null,null,null,"E4 08 8D 0A 25 19 21 20 99","E4",8,"8D","0A",25,19,21,20,99,null,null,null,null,null,null,null,null,null,null,null,228,8,141,10,37,25,33,32,153,0,0,0,0,0,0,0,0,0,0,0,33,100,8,0,43,4,56,0,1,null,null,null,null,null,null,null,null,null,null,null,null,100,{"$f":"MyXor(CB317,VLOOKUP(CU317,'Таблица CRC'!$A$43:$C$298,3,FALSE))","v":12},{"$f":"MyXor(CC317,VLOOKUP(CV317,'Таблица CRC'!$A$43:$C$298,3,FALSE))","v":163},{"$f":"MyXor(CD317,VLOOKUP(CW317,'Таблица CRC'!$A$43:$C$298,3,FALSE))","v":102},{"$f":"MyXor(CE317,VLOOKUP(CX317,'Таблица CRC'!$A$43:$C$298,3,FALSE))","v":188},{"$f":"MyXor(CF317,VLOOKUP(CY317,'Таблица CRC'!$A$43:$C$298,3,FALSE))","v":169},{"$f":"MyXor(CG317,VLOOKUP(CZ317,'Таблица CRC'!$A$43:$C$298,3,FALSE))","v":51},{"$f":"MyXor(CH317,VLOOKUP(DA317,'Таблица CRC'!$A$43:$C$298,3,FALSE))","v":93},{"$f":"MyXor(CI317,VLOOKUP(DB317,'Таблица CRC'!$A$43:$C$298,3,FALSE))","v":38},null,null,null,null,null,null,null,null,null,null,null,{"$f":"CONCATENATE(DEC2HEX(CA317,2),\" \",DEC2HEX(CB317,2),\" \",DEC2HEX(CC317,2),\" \",DEC2HEX(CD317,2),\" \",DEC2HEX(CE317,2),\" \",DEC2HEX(CF317,2),\" \",DEC2HEX(CG317,2),\" \",DEC2HEX(CH317,2),\" \",DEC2HEX(DC317,2))","v":"64 08 00 2B 04 38 00 01 26"}]
["ключ шифрования-37",37,null,"ключ шифрования-37",null,null,null,null,null,null,null,null,null,null,null,null,null,null,null,null,null,null,null,null,null,null,null,null,null,null,null,null,null,null,null,null,"Нажата кнопка-1",64,11,"0E","0F",1,1,0,0,"F0",11,11,"FF","FF","FF","FF",14,1,"D3",null,null,{"$f":"HEX2DEC(AL318)","v":100},{"$f":"HEX2DEC(AM318)","v":17},{"$f":"HEX2DEC(AN318)","v":14},{"$f":"HEX2DEC(AO318)","v":15},{"$f":"HEX2DEC(AP318)","v":1},{"$f":"HEX2DEC(AQ318)","v":1},{"$f":"HEX2DEC(AR318)","v":0},{"$f":"HEX2DEC(AS318)","v":0},{"$f":"HEX2DEC(AT318)","v":240},{"$f":"HEX2DEC(AU318)","v":17},{"$f":"HEX2DEC(AV318)","v":17},{"$f":"HEX2DEC(AW318)","v":255},{"$f":"HEX2DEC(AX318)","v":255},{"$f":"HEX2DEC(AY318)","v":255},{"$f":"HEX2DEC(AZ318)","v":255},{"$f":"HEX2DEC(BA318)","v":20},{"$f":"HEX2DEC(BB318)","v":1},null,null,null,null,100,17,14,15,1,1,0,0,240,17,17,255,255,255,255,20,1,null,null,null,{"$f":"MyXor(CA318,0)","v":100},{"$f":"MyXor(CB318,VLOOKUP(CU318,'Таблица CRC'!$A$43:$C$298,3,FALSE))","v":21},{"$f":"MyXor(CC318,VLOOKUP(CV318,'Таблица CRC'!$A$43:$C$298,3,FALSE))","v":172},{"$f":"MyXor(CD318,VLOOKUP(CW318,'Таблица CRC'!$A$43:$C$298,3,FALSE))","v":3},{"$f":"MyXor(CE318,VLOOKUP(CX318,'Таблица CRC'!$A$43:$C$298,3,FALSE))","v":227},{"$f":"MyXor(CF318,VLOOKUP(CY318,'Таблица CRC'!$A$43:$C$298,3,FALSE))","v":10},{"$f":"MyXor(CG318,VLOOKUP(CZ318,'Таблица CRC'!$A$43:$C$298,3,FALSE))","v":126},{"$f":"MyXor(CH318,VLOOKUP(DA318,'Таблица CRC'!$A$43:$C$298,3,FALSE))","v":231},{"$f":"MyXor(CI318,VLOOKUP(DB318,'Таблица CRC'!$A$43:$C$298,3,FALSE))","v":154},{"$f":"MyXor(CJ318,VLOOKUP(DC318,'Таблица CRC'!$A$43:$C$298,3,FALSE))","v":126},{"$f":"MyXor(CK318,VLOOKUP(DD318,'Таблица CRC'!$A$43:$C$298,3,FALSE))","v":246},{"$f":"MyXor(CL318,VLOOKUP(DE318,'Таблица CRC'!$A$43:$C$298,3,FALSE))","v":86},{"$f":"MyXor(CM318,VLOOKUP(DF318,'Таблица CRC'!$A$43:$C$298,3,FALSE))","v":249},{"$f":"MyXor(CN318,VLOOKUP(DG318,'Таблица CRC'!$A$43:$C$298,3,FALSE))","v":3},{"$f":"MyXor(CO318,VLOOKUP(DH318,'Таблица CRC'!$A$43:$C$298,3,FALSE))","v":29},{"$f":"MyXor(CP318,VLOOKUP(DI318,'Таблица CRC'!$A$43:$C$298,3,FALSE))","v":116},{"$f":"MyXor(CQ318,VLOOKUP(DJ318,'Таблица CRC'!$A$43:$C$298,3,FALSE))","v":152},{"$f":"MyXor(CR318,VLOOKUP(DK318,'Таблица CRC'!$A$43:$C$298,3,FALSE))","v":211}]
["zapros.s 43,4,14,",null,null,"zapros.s 43",4,14,null,null,null,null,null,null,null,null,null,null,null,null,null,null,null,null,null,null,null,null,null,null,null,null,null,null,null,null,null,null,"Нажата кнопка-2",64,11,"0E","0F",1,2,0,0,"F0",11,11,"FF","FF","FF","FF",14,2,"BF",null,null,100,17,14,15,1,2,0,0,240,17,17,255,255,255,255,20,2,null,null,null,null,100,17,14,15,1,2,0,0,240,17,17,255,255,255,255,20,2,null,null,null,{"$f":"MyXor(CA319,0)","v":100},{"$f":"MyXor(CB319,VLOOKUP(CU319,'Таблица CRC'!$A$43:$C$298,3,FALSE))","v":21},{"$f":"MyXor(CC319,VLOOKUP(CV319,'Таблица CRC'!$A$43:$C$298,3,FALSE))","v":172},{"$f":"MyXor(CD319,VLOOKUP(CW319,'Таблица CRC'!$A$43:$C$298,3,FALSE))","v":3},{"$f":"MyXor(CE319,VLOOKUP(CX319,'Таблица CRC'!$A$43:$C$298,3,FALSE))","v":227},{"$f":"MyXor(CF319,VLOOKUP(CY319,'Таблица CRC'!$A$43:$C$298,3,FALSE))","v":9},{"$f":"MyXor(CG319,VLOOKUP(CZ319,'Таблица CRC'!$A$43:$C$298,3,FALSE))","v":156},{"$f":"MyXor(CH319,VLOOKUP(DA319,'Таблица CRC'!$A$43:$C$298,3,FALSE))","v":178},{"$f":"MyXor(CI319,VLOOKUP(DB319,'Таблица CRC'!$A$43:$C$298,3,FALSE))","v":126},{"$f":"MyXor(CJ319,VLOOKUP(DC319,'Таблица CRC'!$A$43:$C$298,3,FALSE))","v":246},{"$f":"MyXor(CK319,VLOOKUP(DD319,'Таблица CRC'!$A$43:$C$298,3,FALSE))","v":184},{"$f":"MyXor(CL319,VLOOKUP(DE319,'Таблица CRC'!$A$43:$C$298,3,FALSE))","v":15},{"$f":"MyXor(CM319,VLOOKUP(DF319,'Таблица CRC'!$A$43:$C$298,3,FALSE))","v":190},{"$f":"MyXor(CN319,VLOOKUP(DG319,'Таблица CRC'!$A$43:$C$298,3,FALSE))","v":210},{"$f":"MyXor(CO319,VLOOKUP(DH319,'Таблица CRC'!$A$43:$C$298,3,FALSE))","v":20},{"$f":"MyXor(CP319,VLOOKUP(DI319,'Таблица CRC'!$A$43:$C$298,3,FALSE))","v":232},{"$f":"MyXor(CQ319,VLOOKUP(DJ319,'Таблица CRC'!$A$43:$C$298,3,FALSE))","v":41},{"$f":"MyXor(CR319,VLOOKUP(DK319,'Таблица CRC'!$A$43:$C$298,3,FALSE))","v":191}]
["228,5,9,37,37,252,",null,{"$f":"MyXor(F320,$C$1)","v":165},228,5,9,37,37,252,null,null,null,null,100,5,{"$f":"MyXor(F320,$B322)","v":172},{"$f":"MyXor(G320,$B322)","v":128},{"$f":"MyXor(H320,$B322)","v":128},{"$f":"MyXor(I320,$B322)","v":89},{"$f":"MyXor(J320,$B322)","v":165},{"$f":"MyXor(K320,$B322)","v":165},{"$f":"MyXor(L320,$B322)","v":165},{"$f":"MyXor(M320,$B322)","v":165},null,100,5,0,128,128,89,165,165,165,165,null,null,"Нажата кнопка-3",64,11,"0E","0F",1,3,0,0,"F0",11,11,"FF","FF","FF","FF",14,3,89,null,null,100,17,14,15,1,3,0,0,240,17,17,255,255,255,255,20,3,null,null,null,null,100,17,14,15,1,3,0,0,240,17,17,255,255,255,255,20,3,null,null,null,100,{"$f":"MyXor(CB320,VLOOKUP(CU320,'Таблица CRC'!$A$43:$C$298,3,FALSE))","v":21},{"$f":"MyXor(CC320,VLOOKUP(CV320,'Таблица CRC'!$A$43:$C$298,3,FALSE))","v":172},{"$f":"MyXor(CD320,VLOOKUP(CW320,'Таблица CRC'!$A$43:$C$298,3,FALSE))","v":3},{"$f":"MyXor(CE320,VLOOKUP(CX320,'Таблица CRC'!$A$43:$C$298,3,FALSE))","v":227},{"$f":"MyXor(CF320,VLOOKUP(CY320,'Таблица CRC'!$A$43:$C$298,3,FALSE))","v":8},{"$f":"MyXor(CG320,VLOOKUP(CZ320,'Таблица CRC'!$A$43:$C$298,3,FALSE))","v":194},{"$f":"MyXor(CH320,VLOOKUP(DA320,'Таблица CRC'!$A$43:$C$298,3,FALSE))","v":118},{"$f":"MyXor(CI320,VLOOKUP(DB320,'Таблица CRC'!$A$43:$C$298,3,FALSE))","v":213},{"$f":"MyXor(CJ320,VLOOKUP(DC320,'Таблица CRC'!$A$43:$C$298,3,FALSE))","v":121},{"$f":"MyXor(CK320,VLOOKUP(DD320,'Таблица CRC'!$A$43:$C$298,3,FALSE))","v":117},{"$f":"MyXor(CL320,VLOOKUP(DE320,'Таблица CRC'!$A$43:$C$298,3,FALSE))","v":56},{"$f":"MyXor(CM320,VLOOKUP(DF320,'Таблица CRC'!$A$43:$C$298,3,FALSE))","v":131},{"$f":"MyXor(CN320,VLOOKUP(DG320,'Таблица CRC'!$A$43:$C$298,3,FALSE))","v":145},{"$f":"MyXor(CO320,VLOOKUP(DH320,'Таблица CRC'!$A$43:$C$298,3,FALSE))","v":176},{"$f":"MyXor(CP320,VLOOKUP(DI320,'Таблица CRC'!$A$43:$C$298,3,FALSE))","v":38},{"$f":"MyXor(CQ320,VLOOKUP(DJ320,'Таблица CRC'!$A$43:$C$298,3,FALSE))","v":253},{"$f":"MyXor(CR320,VLOOKUP(DK320,'Таблица CRC'!$A$43:$C$298,3,FALSE))","v":137}]
["Принято в обработку",null,null,"Принято в обработку",null,null,null,null,null,null,null,null,null,null,null,null,null,null,null,null,null,null,null,null,null,null,null,null,null,null,null,null,null,null,null,null,"Нажата кнопка-4",64,11,"0E","0F",1,4,0,0,"F0",11,11,"FF","FF","FF","FF",14,4,"0B",null,null,100,17,14,15,1,4,0,0,240,17,17,255,255,255,255,20,4,null,null,null,null,100,17,14,15,1,4,0,0,240,17,17,255,255,255,255,20,4,null,null,null,100,{"$f":"MyXor(CB321,VLOOKUP(CU321,'Таблица CRC'!$A$43:$C$298,3,FALSE))","v":21},{"$f":"MyXor(CC321,VLOOKUP(CV321,'Таблица CRC'!$A$43:$C$298,3,FALSE))","v":172},{"$f":"MyXor(CD321,VLOOKUP(CW321,'Таблица CRC'!$A$43:$C$298,3,FALSE))","v":3},{"$f":"MyXor(CE321,VLOOKUP(CX321,'Таблица CRC'!$A$43:$C$298,3,FALSE))","v":227},{"$f":"MyXor(CF321,VLOOKUP(CY321,'Таблица CRC'!$A$43:$C$298,3,FALSE))","v":15},{"$f":"MyXor(CG321,VLOOKUP(CZ321,'Таблица CRC'!$A$43:$C$298,3,FALSE))","v":65},{"$f":"MyXor(CH321,VLOOKUP(DA321,'Таблица CRC'!$A$43:$C$298,3,FALSE))","v":24},{"$f":"MyXor(CI321,VLOOKUP(DB321,'Таблица CRC'!$A$43:$C$298,3,FALSE))","v":175},{"$f":"MyXor(CJ321,VLOOKUP(DC321,'Таблица CRC'!$A$43:$C$298,3,FALSE))","v":255},{"$f":"MyXor(CK321,VLOOKUP(DD321,'Таблица CRC'!$A$43:$C$298,3,FALSE))","v":36},{"$f":"MyXor(CL321,VLOOKUP(DE321,'Таблица CRC'!$A$43:$C$298,3,FALSE))","v":189},{"$f":"MyXor(CM321,VLOOKUP(DF321,'Таблица CRC'!$A$43:$C$298,3,FALSE))","v":48},{"$f":"MyXor(CN321,VLOOKUP(DG321,'Таблица CRC'!$A$43:$C$298,3,FALSE))","v":65},{"$f":"MyXor(CO321,VLOOKUP(DH321,'Таблица CRC'!$A$43:$C$298,3,FALSE))","v":231},{"$f":"MyXor(CP321,VLOOKUP(DI321,'Таблица CRC'!$A$43:$C$298,3,FALSE))","v":126},{"$f":"MyXor(CQ321,VLOOKUP(DJ321,'Таблица CRC'!$A$43:$C$298,3,FALSE))","v":227},{"$f":"MyXor(CR321,VLOOKUP(DK321,'Таблица CRC'!$A$43:$C$298,3,FALSE))","v":11}]
["otvet 44,0,0,",165,null,"otvet 44",0,0,null,null,null,null,null,null,null,null,null,null,null,null,null,null,null,null,null,null,null,null,null,null,null,null,null,null,null,null,null,null,"Нажата кнопка-5",64,11,"0E","0F",1,5,0,0,"F0",11,11,"FF","FF","FF","FF",14,5,"3D",null,null,100,17,14,15,1,5,0,0,240,17,17,255,255,255,255,20,5,null,null,null,null,100,17,14,15,1,5,0,0,240,17,17,255,255,255,255,20,5,null,null,null,100,{"$f":"MyXor(CB322,VLOOKUP(CU322,'Таблица CRC'!$A$43:$C$298,3,FALSE))","v":21},{"$f":"MyXor(CC322,VLOOKUP(CV322,'Таблица CRC'!$A$43:$C$298,3,FALSE))","v":172},{"$f":"MyXor(CD322,VLOOKUP(CW322,'Таблица CRC'!$A$43:$C$298,3,FALSE))","v":3},{"$f":"MyXor(CE322,VLOOKUP(CX322,'Таблица CRC'!$A$43:$C$298,3,FALSE))","v":227},{"$f":"MyXor(CF322,VLOOKUP(CY322,'Таблица CRC'!$A$43:$C$298,3,FALSE))","v":14},{"$f":"MyXor(CG322,VLOOKUP(CZ322,'Таблица CRC'!$A$43:$C$298,3,FALSE))","v":31},{"$f":"MyXor(CH322,VLOOKUP(DA322,'Таблица CRC'!$A$43:$C$298,3,FALSE))","v":220},{"$f":"MyXor(CI322,VLOOKUP(DB322,'Таблица CRC'!$A$43:$C$298,3,FALSE))","v":4},{"$f":"MyXor(CJ322,VLOOKUP(DC322,'Таблица CRC'!$A$43:$C$298,3,FALSE))","v":112},{"$f":"MyXor(CK322,VLOOKUP(DD322,'Таблица CRC'!$A$43:$C$298,3,FALSE))","v":233},{"$f":"MyXor(CL322,VLOOKUP(DE322,'Таблица CRC'!$A$43:$C$298,3,FALSE))","v":138},{"$f":"MyXor(CM322,VLOOKUP(DF322,'Таблица CRC'!$A$43:$C$298,3,FALSE))","v":13},{"$f":"MyXor(CN322,VLOOKUP(DG322,'Таблица CRC'!$A$43:$C$298,3,FALSE))","v":2},{"$f":"MyXor(CO322,VLOOKUP(DH322,'Таблица CRC'!$A$43:$C$298,3,FALSE))","v":67},{"$f":"MyXor(CP322,VLOOKUP(DI322,'Таблица CRC'!$A$43:$C$298,3,FALSE))","v":176},{"$f":"MyXor(CQ322,VLOOKUP(DJ322,'Таблица CRC'!$A$43:$C$298,3,FALSE))","v":55},{"$f":"MyXor(CR322,VLOOKUP(DK322,'Таблица CRC'!$A$43:$C$298,3,FALSE))","v":61}]
["228,6,78,227,226,26,184,",null,{"$f":"MyXor(F323,$C$1)","v":226},228,6,78,227,226,26,184,null,null,null,100,6,{"$f":"MyXor(F323,$B325)","v":172},{"$f":"MyXor(G323,$B325)","v":1},{"$f":"MyXor(H323,$B325)","v":0},{"$f":"MyXor(I323,$B325)","v":248},{"$f":"MyXor(J323,$B325)","v":90},{"$f":"MyXor(K323,$B325)","v":226},{"$f":"MyXor(L323,$B325)","v":226},{"$f":"MyXor(M323,$B325)","v":226},null,100,6,0,1,0,248,90,226,226,226,null,null,"Нажата кнопка-60",64,11,"0E","0F",1,"3C",0,0,"F0",11,11,"FF","FF","FF","FF",14,"3C","7F",null,null,100,17,14,15,1,60,0,0,240,17,17,255,255,255,255,20,60,null,null,null,null,100,17,14,15,1,60,0,0,240,17,17,255,255,255,255,20,60,null,null,null,100,{"$f":"MyXor(CB323,VLOOKUP(CU323,'Таблица CRC'!$A$43:$C$298,3,FALSE))","v":21},{"$f":"MyXor(CC323,VLOOKUP(CV323,'Таблица CRC'!$A$43:$C$298,3,FALSE))","v":172},{"$f":"MyXor(CD323,VLOOKUP(CW323,'Таблица CRC'!$A$43:$C$298,3,FALSE))","v":3},{"$f":"MyXor(CE323,VLOOKUP(CX323,'Таблица CRC'!$A$43:$C$298,3,FALSE))","v":227},{"$f":"MyXor(CF323,VLOOKUP(CY323,'Таблица CRC'!$A$43:$C$298,3,FALSE))","v":55},{"$f":"MyXor(CG323,VLOOKUP(CZ323,'Таблица CRC'!$A$43:$C$298,3,FALSE))","v":61},{"$f":"MyXor(CH323,VLOOKUP(DA323,'Таблица CRC'!$A$43:$C$298,3,FALSE))","v":67},{"$f":"MyXor(CI323,VLOOKUP(DB323,'Таблица CRC'!$A$43:$C$298,3,FALSE))","v":84},{"$f":"MyXor(CJ323,VLOOKUP(DC323,'Таблица CRC'!$A$43:$C$298,3,FALSE))","v":171},{"$f":"MyXor(CK323,VLOOKUP(DD323,'Таблица CRC'!$A$43:$C$298,3,FALSE))","v":158},{"$f":"MyXor(CL323,VLOOKUP(DE323,'Таблица CRC'!$A$43:$C$298,3,FALSE))","v":241},{"$f":"MyXor(CM323,VLOOKUP(DF323,'Таблица CRC'!$A$43:$C$298,3,FALSE))","v":213},{"$f":"MyXor(CN323,VLOOKUP(DG323,'Таблица CRC'!$A$43:$C$298,3,FALSE))","v":151},{"$f":"MyXor(CO323,VLOOKUP(DH323,'Таблица CRC'!$A$43:$C$298,3,FALSE))","v":109},{"$f":"MyXor(CP323,VLOOKUP(DI323,'Таблица CRC'!$A$43:$C$298,3,FALSE))","v":140},{"$f":"MyXor(CQ323,VLOOKUP(DJ323,'Таблица CRC'!$A$43:$C$298,3,FALSE))","v":19},{"$f":"MyXor(CR323,VLOOKUP(DK323,'Таблица CRC'!$A$43:$C$298,3,FALSE))","v":127}]
["Принято в обработку",null,null,"Принято в обработку"]
["ключ шифрования-226",226,null,"ключ шифрования-226"]
["zapros.s 1,0,248,",null,null,"zapros.s 1",0,248]
["ОТВЕТ ЭМУЛЯТОРА 224,225,226,",null,null,"ОТВЕТ ЭМУЛЯТОРА 224",225,226]
["228,9,236,229,237,226,226,226,226,252,",null,{"$f":"MyXor(F328,$C$1)","v":64},228,9,236,229,237,226,226,226,226,252,{"$f":"IF(D328>127,D328-128,D328)","v":100},{"$f":"E328","v":9},{"$f":"MyXor(F328,$B330)","v":172},{"$f":"MyXor(G328,$B330)","v":165},{"$f":"MyXor(H328,$B330)","v":173},{"$f":"MyXor(I328,$B330)","v":162},{"$f":"MyXor(J328,$B330)","v":162},{"$f":"MyXor(K328,$B330)","v":162},{"$f":"MyXor(L328,$B330)","v":162},{"$f":"MyXor(M328,$B330)","v":188},null,100,9,0,165,173,162,162,162,162]
["Принято в обработку",null,null,"Принято в обработку",null,null,null,null,null,null,null,null,null,null,null,null,null,null,null,null,null,null,null,null,{"$f":"MyXor(Y328,0)","v":100},{"$f":"MyXor(Z328,VLOOKUP(Y329,'Таблица CRC'!$A$43:$C$298,3,FALSE))","v":13},{"$f":"MyXor(AA328,VLOOKUP(Z329,'Таблица CRC'!$A$43:$C$298,3,FALSE))","v":253},{"$f":"MyXor(AB328,VLOOKUP(AA329,'Таблица CRC'!$A$43:$C$298,3,FALSE))","v":44},{"$f":"MyXor(AC328,VLOOKUP(AB329,'Таблица CRC'!$A$43:$C$298,3,FALSE))","v":45},{"$f":"MyXor(AD328,VLOOKUP(AC329,'Таблица CRC'!$A$43:$C$298,3,FALSE))","v":124},{"$f":"MyXor(AE328,VLOOKUP(AD329,'Таблица CRC'!$A$43:$C$298,3,FALSE))","v":249},{"$f":"MyXor(AF328,VLOOKUP(AE329,'Таблица CRC'!$A$43:$C$298,3,FALSE))","v":94},{"$f":"MyXor(AG328,VLOOKUP(AF329,'Таблица CRC'!$A$43:$C$298,3,FALSE))","v":102},{"$f":"MyXor(AH328,VLOOKUP(AG329,'Таблица CRC'!$A$43:$C$298,3,FALSE))","v":184}]
["ключ шифрования-64",64,null,"ключ шифрования-64",null,null,null,null,null,null,null,null,null,null,null,null,null,null,null,null,null,null,null,null,{"$f":"DEC2HEX(Y328,2)","v":"64"},{"$f":"DEC2HEX(Z328,2)","v":"09"},"00","A5","AD","A2","A2","A2","A2",{"$f":"DEC2HEX(AH329,2)","v":"B8"},{"$f":"CONCATENATE(Y330,\" \",Z330,\" \",AA330,\" \",AB330,\" \",AC330,\" \",AD330,\" \",AE330,\" \",AF330,\" \",AG330,\" \",AH330)","v":"64 09 00 A5 AD A2 A2 A2 A2 B8"},"тоже"]
["zapros.s 165,173,162,",null,null,"zapros.s 165",173,162]
["228,6,78,225,226,226,65,",null,{"$f":"MyXor(F332,$C$1)","v":226},228,6,78,225,226,226,65,null,null,null,100,6,{"$f":"MyXor(F332,$B334)","v":172},{"$f":"MyXor(G332,$B334)","v":3},{"$f":"MyXor(H332,$B334)","v":0},{"$f":"MyXor(I332,$B334)","v":0},{"$f":"MyXor(J332,$B334)","v":163},{"$f":"MyXor(K332,$B334)","v":226},{"$f":"MyXor(L332,$B334)","v":226},{"$f":"MyXor(M332,$B334)","v":226},null,100,6,0,3,0,0,163,226,226,226]
["Принято в обработку",null,null,"Принято в обработку"]
["ключ шифрования-226",226,null,"ключ шифрования-226"]
["zapros.s 3,0,0,",null,null,"zapros.s 3",0,0]
["228,8,226,101,74,65,78,79,50,",null,{"$f":"MyXor(F336,$C$1)","v":78},228,8,226,101,74,65,78,79,50,null,100,8,{"$f":"MyXor(F336,$B338)","v":172},{"$f":"MyXor(G336,$B338)","v":43},{"$f":"MyXor(H336,$B338)","v":4},{"$f":"MyXor(I336,$B338)","v":15},{"$f":"MyXor(J336,$B338)","v":0},{"$f":"MyXor(K336,$B338)","v":1},{"$f":"MyXor(L336,$B338)","v":124},{"$f":"MyXor(M336,$B338)","v":78},null,100,8,0,43,4,15,0,1,124,78]
["Принято в обработку",null,null,"Принято в обработку"]
["ключ шифрования-78",78,null,"ключ шифрования-78"]
["zapros.s 43,4,15,",null,null,"zapros.s 43",4,15]
["228,5,98,78,78,176,",null,{"$f":"MyXor(F340,$C$1)","v":206},228,5,98,78,78,176,null,null,null,null,100,5,{"$f":"MyXor(F340,$B342)","v":172},{"$f":"MyXor(G340,$B342)","v":128},{"$f":"MyXor(H340,$B342)","v":128},{"$f":"MyXor(I340,$B342)","v":126},{"$f":"MyXor(J340,$B342)","v":206},{"$f":"MyXor(K340,$B342)","v":206},{"$f":"MyXor(L340,$B342)","v":206},{"$f":"MyXor(M340,$B342)","v":206},null,100,5,0,128,128,126,206,206,206,206]
["Принято в обработку",null,null,"Принято в обработку"]
["otvet 44,0,0,",206,null,"otvet 44",0,0]
["228,6,202,103,102,158,106,",null,{"$f":"MyXor(F343,$C$1)","v":102},228,6,202,103,102,158,106,null,null,null,100,6,{"$f":"MyXor(F343,$B345)","v":172},{"$f":"MyXor(G343,$B345)","v":1},{"$f":"MyXor(H343,$B345)","v":0},{"$f":"MyXor(I343,$B345)","v":248},{"$f":"MyXor(J343,$B345)","v":12},{"$f":"MyXor(K343,$B345)","v":102},{"$f":"MyXor(L343,$B345)","v":102},{"$f":"MyXor(M343,$B345)","v":102},null,100,6,0,1,0,248,12,102,102,102]
["Принято в обработку",null,null,"Принято в обработку"]
["ключ шифрования-102",102,null,"ключ шифрования-102"]
["zapros.s 1,0,248,",null,null,"zapros.s 1",0,248]
["ОТВЕТ ЭМУЛЯТОРА 100,101,102,",null,null,"ОТВЕТ ЭМУЛЯТОРА 100",101,102]
["228,9,104,97,118,102,102,102,102,168,",null,{"$f":"MyXor(F348,$C$1)","v":196},228,9,104,97,118,102,102,102,102,168,100,9,{"$f":"MyXor(F348,$B350)","v":172},{"$f":"MyXor(G348,$B350)","v":165},{"$f":"MyXor(H348,$B350)","v":178},{"$f":"MyXor(I348,$B350)","v":162},{"$f":"MyXor(J348,$B350)","v":162},{"$f":"MyXor(K348,$B350)","v":162},{"$f":"MyXor(L348,$B350)","v":162},{"$f":"MyXor(M348,$B350)","v":108},null,100,9,0,165,178,162,162,162,162]
["Принято в обработку",null,null,"Принято в обработку",null,null,null,null,null,null,null,null,null,null,null,null,null,null,null,null,null,null,null,null,{"$f":"MyXor(Y348,0)","v":100},{"$f":"MyXor(Z348,VLOOKUP(Y349,'Таблица CRC'!$A$43:$C$298,3,FALSE))","v":13},{"$f":"MyXor(AA348,VLOOKUP(Z349,'Таблица CRC'!$A$43:$C$298,3,FALSE))","v":253},{"$f":"MyXor(AB348,VLOOKUP(AA349,'Таблица CRC'!$A$43:$C$298,3,FALSE))","v":44},{"$f":"MyXor(AC348,VLOOKUP(AB349,'Таблица CRC'!$A$43:$C$298,3,FALSE))","v":50},{"$f":"MyXor(AD348,VLOOKUP(AC349,'Таблица CRC'!$A$43:$C$298,3,FALSE))","v":160},{"$f":"MyXor(AE348,VLOOKUP(AD349,'Таблица CRC'!$A$43:$C$298,3,FALSE))","v":13},{"$f":"MyXor(AF348,VLOOKUP(AE349,'Таблица CRC'!$A$43:$C$298,3,FALSE))","v":95},{"$f":"MyXor(AG348,VLOOKUP(AF349,'Таблица CRC'!$A$43:$C$298,3,FALSE))","v":56},{"$f":"MyXor(AH348,VLOOKUP(AG349,'Таблица CRC'!$A$43:$C$298,3,FALSE))","v":124}]
["ключ шифрования-196",196,null,"ключ шифрования-196",null,null,null,null,null,null,null,null,null,null,null,null,null,null,null,null,null,null,null,null,{"$f":"DEC2HEX(Y348,2)","v":"64"},{"$f":"DEC2HEX(Z348,2)","v":"09"},"00","A5","B2","A2","A2","A2","A2",{"$f":"DEC2HEX(AH349,2)","v":"7C"},{"$f":"CONCATENATE(Y350,\" \",Z350,\" \",AA350,\" \",AB350,\" \",AC350,\" \",AD350,\" \",AE350,\" \",AF350,\" \",AG350,\" \",AH350)","v":"64 09 00 A5 B2 A2 A2 A2 A2 7C"},"тоже"]
["zapros.s 165,178,162,",null,null,"zapros.s 165",178,162]
["228,6,202,101,102,102,111,",null,{"$f":"MyXor(F352,$C$1)","v":102},228,6,202,101,102,102,111,null,null,null,100,6,{"$f":"MyXor(F352,$B354)","v":172},{"$f":"MyXor(G352,$B354)","v":3},{"$f":"MyXor(H352,$B354)","v":0},{"$f":"MyXor(I352,$B354)","v":0},{"$f":"MyXor(J352,$B354)","v":9},{"$f":"MyXor(K352,$B354)","v":102},{"$f":"MyXor(L352,$B354)","v":102},{"$f":"MyXor(M352,$B354)","v":102},null,100,6,0,3,0,0,9,102,102,102]
["Принято в обработку",null,null,"Принято в обработку"]
["ключ шифрования-102",102,null,"ключ шифрования-102"]
["zapros.s 3,0,0,",null,null,"zapros.s 3",0,0]
["228,8,99,228,203,223,207,206,90,",null,{"$f":"MyXor(F356,$C$1)","v":207},228,8,99,228,203,223,207,206,90,null,100,8,{"$f":"MyXor(F356,$B358)","v":172},{"$f":"MyXor(G356,$B358)","v":43},{"$f":"MyXor(H356,$B358)","v":4},{"$f":"MyXor(I356,$B358)","v":16},{"$f":"MyXor(J356,$B358)","v":0},{"$f":"MyXor(K356,$B358)","v":1},{"$f":"MyXor(L356,$B358)","v":149},{"$f":"MyXor(M356,$B358)","v":207},null,100,8,0,43,4,16,0,1,149,207]
["Принято в обработку",null,null,"Принято в обработку"]
["ключ шифрования-207",207,null,"ключ шифрования-207"]
["zapros.s 43,4,16,",null,null,"zapros.s 43",4,16]
["228,5,227,207,207,64,",null,{"$f":"MyXor(F360,$C$1)","v":79},228,5,227,207,207,64,null,null,null,null,100,5,{"$f":"MyXor(F360,$B362)","v":172},{"$f":"MyXor(G360,$B362)","v":128},{"$f":"MyXor(H360,$B362)","v":128},{"$f":"MyXor(I360,$B362)","v":15},{"$f":"MyXor(J360,$B362)","v":79},{"$f":"MyXor(K360,$B362)","v":79},{"$f":"MyXor(L360,$B362)","v":79},{"$f":"MyXor(M360,$B362)","v":79},null,100,5,0,128,128,15,79,79,79,79]
["Принято в обработку",null,null,"Принято в обработку"]
["otvet 44,0,0,",79,null,"otvet 44",0,0]
["228,6,220,113,112,136,198,",null,{"$f":"MyXor(F363,$C$1)","v":112},228,6,220,113,112,136,198,null,null,null,100,6,{"$f":"MyXor(F363,$B365)","v":172},{"$f":"MyXor(G363,$B365)","v":1},{"$f":"MyXor(H363,$B365)","v":0},{"$f":"MyXor(I363,$B365)","v":248},{"$f":"MyXor(J363,$B365)","v":182},{"$f":"MyXor(K363,$B365)","v":112},{"$f":"MyXor(L363,$B365)","v":112},{"$f":"MyXor(M363,$B365)","v":112},null,100,6,0,1,0,248,182,112,112,112]
["Принято в обработку",null,null,"Принято в обработку"]
["ключ шифрования-112",112,null,"ключ шифрования-112"]
["zapros.s 1,0,248,",null,null,"zapros.s 1",0,248]
["ОТВЕТ ЭМУЛЯТОРА 114,115,112,",null,null,"ОТВЕТ ЭМУЛЯТОРА 114",115,112]
["228,9,126,119,97,112,112,112,112,181,",null,{"$f":"MyXor(F368,$C$1)","v":210},228,9,126,119,97,112,112,112,112,181,100,9,{"$f":"MyXor(F368,$B370)","v":172},{"$f":"MyXor(G368,$B370)","v":165},{"$f":"MyXor(H368,$B370)","v":179},{"$f":"MyXor(I368,$B370)","v":162},{"$f":"MyXor(J368,$B370)","v":162},{"$f":"MyXor(K368,$B370)","v":162},{"$f":"MyXor(L368,$B370)","v":162},{"$f":"MyXor(M368,$B370)","v":103},null,100,9,0,165,179,162,162,162,162]
["Принято в обработку",null,null,"Принято в обработку",null,null,null,null,null,null,null,null,null,null,null,null,null,null,null,null,null,null,null,null,{"$f":"MyXor(Y368,0)","v":100},{"$f":"MyXor(Z368,VLOOKUP(Y369,'Таблица CRC'!$A$43:$C$298,3,FALSE))","v":13},{"$f":"MyXor(AA368,VLOOKUP(Z369,'Таблица CRC'!$A$43:$C$298,3,FALSE))","v":253},{"$f":"MyXor(AB368,VLOOKUP(AA369,'Таблица CRC'!$A$43:$C$298,3,FALSE))","v":44},{"$f":"MyXor(AC368,VLOOKUP(AB369,'Таблица CRC'!$A$43:$C$298,3,FALSE))","v":51},{"$f":"MyXor(AD368,VLOOKUP(AC369,'Таблица CRC'!$A$43:$C$298,3,FALSE))","v":254},{"$f":"MyXor(AE368,VLOOKUP(AD369,'Таблица CRC'!$A$43:$C$298,3,FALSE))","v":201},{"$f":"MyXor(AF368,VLOOKUP(AE369,'Таблица CRC'!$A$43:$C$298,3,FALSE))","v":244},{"$f":"MyXor(AG368,VLOOKUP(AF369,'Таблица CRC'!$A$43:$C$298,3,FALSE))","v":183},{"$f":"MyXor(AH368,VLOOKUP(AG369,'Таблица CRC'!$A$43:$C$298,3,FALSE))","v":177}]
["ключ шифрования-210",210,null,"ключ шифрования-210",null,null,null,null,null,null,null,null,null,null,null,null,null,null,null,null,null,null,null,null,{"$f":"DEC2HEX(Y368,2)","v":"64"},{"$f":"DEC2HEX(Z368,2)","v":"09"},"00","A5","B3","A2","A2","A2","A2",{"$f":"DEC2HEX(AH369,2)","v":"B1"},{"$f":"CONCATENATE(Y370,\" \",Z370,\" \",AA370,\" \",AB370,\" \",AC370,\" \",AD370,\" \",AE370,\" \",AF370,\" \",AG370,\" \",AH370)","v":"64 09 00 A5 B3 A2 A2 A2 A2 B1"},"тоже"]
["zapros.s 165,179,162,",null,null,"zapros.s 165",179,162]
["228,6,220,115,112,112,63,",null,{"$f":"MyXor(F372,$C$1)","v":112},228,6,220,115,112,112,63,null,null,null,100,6,{"$f":"MyXor(F372,$B374)","v":172},{"$f":"MyXor(G372,$B374)","v":3},{"$f":"MyXor(H372,$B374)","v":0},{"$f":"MyXor(I372,$B374)","v":0},{"$f":"MyXor(J372,$B374)","v":79},{"$f":"MyXor(K372,$B374)","v":112},{"$f":"MyXor(L372,$B374)","v":112},{"$f":"MyXor(M372,$B374)","v":112},null,100,6,0,3,0,0,79,112,112,112]
["Принято в обработку",null,null,"Принято в обработку"]
["ключ шифрования-112",112,null,"ключ шифрования-112"]
["zapros.s 3,0,0,",null,null,"zapros.s 3",0,0]
["228,8,153,30,49,36,53,52,174,",null,{"$f":"MyXor(F376,$C$1)","v":53},228,8,153,30,49,36,53,52,174,null,100,8,{"$f":"MyXor(F376,$B378)","v":172},{"$f":"MyXor(G376,$B378)","v":43},{"$f":"MyXor(H376,$B378)","v":4},{"$f":"MyXor(I376,$B378)","v":17},{"$f":"MyXor(J376,$B378)","v":0},{"$f":"MyXor(K376,$B378)","v":1},{"$f":"MyXor(L376,$B378)","v":155},{"$f":"MyXor(M376,$B378)","v":53},null,100,8,0,43,4,17,0,1,155,53]
["Принято в обработку",null,null,"Принято в обработку"]
["ключ шифрования-53",53,null,"ключ шифрования-53"]
["zapros.s 43,4,17,",null,null,"zapros.s 43",4,17]
["228,5,25,53,53,211,",null,{"$f":"MyXor(F380,$C$1)","v":181},228,5,25,53,53,211,null,null,null,null,100,5,{"$f":"MyXor(F380,$B382)","v":172},{"$f":"MyXor(G380,$B382)","v":128},{"$f":"MyXor(H380,$B382)","v":128},{"$f":"MyXor(I380,$B382)","v":102},{"$f":"MyXor(J380,$B382)","v":181},{"$f":"MyXor(K380,$B382)","v":181},{"$f":"MyXor(L380,$B382)","v":181},{"$f":"MyXor(M380,$B382)","v":181},null,100,5,0,128,128,102,181,181,181,181]
["Принято в обработку",null,null,"Принято в обработку"]
["otvet 44,0,0,",181,null,"otvet 44",0,0]
["228,6,130,47,46,214,235,",null,{"$f":"MyXor(F383,$C$1)","v":46},228,6,130,47,46,214,235,null,null,null,100,6,{"$f":"MyXor(F383,$B385)","v":172},{"$f":"MyXor(G383,$B385)","v":1},{"$f":"MyXor(H383,$B385)","v":0},{"$f":"MyXor(I383,$B385)","v":248},{"$f":"MyXor(J383,$B385)","v":197},{"$f":"MyXor(K383,$B385)","v":46},{"$f":"MyXor(L383,$B385)","v":46},{"$f":"MyXor(M383,$B385)","v":46},null,100,6,0,1,0,248,197,46,46,46]
["Принято в обработку",null,null,"Принято в обработку"]
["ключ шифрования-46",46,null,"ключ шифрования-46"]
["zapros.s 1,0,248,",null,null,"zapros.s 1",0,248]
["ОТВЕТ ЭМУЛЯТОРА 44,45,46,",null,null,"ОТВЕТ ЭМУЛЯТОРА 44",45,46]
["228,9,32,41,60,46,46,46,46,159,",null,{"$f":"MyXor(F388,$C$1)","v":140},228,9,32,41,60,46,46,46,46,159,100,9,{"$f":"MyXor(F388,$B390)","v":172},{"$f":"MyXor(G388,$B390)","v":165},{"$f":"MyXor(H388,$B390)","v":176},{"$f":"MyXor(I388,$B390)","v":162},{"$f":"MyXor(J388,$B390)","v":162},{"$f":"MyXor(K388,$B390)","v":162},{"$f":"MyXor(L388,$B390)","v":162},{"$f":"MyXor(M388,$B390)","v":19},null,100,9,0,165,176,162,162,162,162]
["Принято в обработку",null,null,"Принято в обработку",null,null,null,null,null,null,null,null,null,null,null,null,null,null,null,null,null,null,null,null,{"$f":"MyXor(Y388,0)","v":100},{"$f":"MyXor(Z388,VLOOKUP(Y389,'Таблица CRC'!$A$43:$C$298,3,FALSE))","v":13},{"$f":"MyXor(AA388,VLOOKUP(Z389,'Таблица CRC'!$A$43:$C$298,3,FALSE))","v":253},{"$f":"MyXor(AB388,VLOOKUP(AA389,'Таблица CRC'!$A$43:$C$298,3,FALSE))","v":44},{"$f":"MyXor(AC388,VLOOKUP(AB389,'Таблица CRC'!$A$43:$C$298,3,FALSE))","v":48},{"$f":"MyXor(AD388,VLOOKUP(AC389,'Таблица CRC'!$A$43:$C$298,3,FALSE))","v":28},{"$f":"MyXor(AE388,VLOOKUP(AD389,'Таблица CRC'!$A$43:$C$298,3,FALSE))","v":156},{"$f":"MyXor(AF388,VLOOKUP(AE389,'Таблица CRC'!$A$43:$C$298,3,FALSE))","v":16},{"$f":"MyXor(AG388,VLOOKUP(AF389,'Таблица CRC'!$A$43:$C$298,3,FALSE))","v":63},{"$f":"MyXor(AH388,VLOOKUP(AG389,'Таблица CRC'!$A$43:$C$298,3,FALSE))","v":255}]
["ключ шифрования-140",140,null,"ключ шифрования-140",null,null,null,null,null,null,null,null,null,null,null,null,null,null,null,null,null,null,null,null,{"$f":"DEC2HEX(Y388,2)","v":"64"},{"$f":"DEC2HEX(Z388,2)","v":"09"},"00","A5","B0","A2","A2","A2","A2",{"$f":"DEC2HEX(AH389,2)","v":"FF"},{"$f":"CONCATENATE(Y390,\" \",Z390,\" \",AA390,\" \",AB390,\" \",AC390,\" \",AD390,\" \",AE390,\" \",AF390,\" \",AG390,\" \",AH390)","v":"64 09 00 A5 B0 A2 A2 A2 A2 FF"},"тоже"]
["zapros.s 165,176,162,",null,null,"zapros.s 165",176,162]
["228,6,130,45,46,46,18,",null,{"$f":"MyXor(F392,$C$1)","v":46},228,6,130,45,46,46,18,null,null,null,{"$f":"IF(D392>127,D392-128,D392)","v":100},{"$f":"E392","v":6},{"$f":"MyXor(F392,$B394)","v":172},{"$f":"MyXor(G392,$B394)","v":3},{"$f":"MyXor(H392,$B394)","v":0},{"$f":"MyXor(I392,$B394)","v":0},{"$f":"MyXor(J392,$B394)","v":60},{"$f":"MyXor(K392,$B394)","v":46},{"$f":"MyXor(L392,$B394)","v":46},{"$f":"MyXor(M392,$B394)","v":46},null,100,6,0,3,0,0,60,46,46,46]
["Принято в обработку",null,null,"Принято в обработку"]
["ключ шифрования-46",46,null,"ключ шифрования-46"]
["zapros.s 3,0,0,",null,null,"zapros.s 3",0,0]
["228,8,215,80,127,105,123,122,73,",null,{"$f":"MyXor(F396,$C$1)","v":123},228,8,215,80,127,105,123,122,73,null,100,8,{"$f":"MyXor(F396,$B398)","v":172},{"$f":"MyXor(G396,$B398)","v":43},{"$f":"MyXor(H396,$B398)","v":4},{"$f":"MyXor(I396,$B398)","v":18},{"$f":"MyXor(J396,$B398)","v":0},{"$f":"MyXor(K396,$B398)","v":1},{"$f":"MyXor(L396,$B398)","v":50},{"$f":"MyXor(M396,$B398)","v":123},null,100,8,0,43,4,18,0,1,50,123]
["Принято в обработку",null,null,"Принято в обработку"]
["ключ шифрования-123",123,null,"ключ шифрования-123"]
["zapros.s 43,4,18,",null,null,"zapros.s 43",4,18]
["228,5,87,123,123,8,",null,{"$f":"MyXor(F400,$C$1)","v":251},228,5,87,123,123,8,null,null,null,null,100,5,{"$f":"MyXor(F400,$B402)","v":172},{"$f":"MyXor(G400,$B402)","v":128},{"$f":"MyXor(H400,$B402)","v":128},{"$f":"MyXor(I400,$B402)","v":243},{"$f":"MyXor(J400,$B402)","v":251},{"$f":"MyXor(K400,$B402)","v":251},{"$f":"MyXor(L400,$B402)","v":251},{"$f":"MyXor(M400,$B402)","v":251},null,100,5,0,128,128,243,251,251,251,251]
["Принято в обработку",null,null,"Принято в обработку"]
["otvet 44,0,0,",251,null,"otvet 44",0,0]
["228,6,200,101,100,156,15,",null,{"$f":"MyXor(F403,$C$1)","v":100},228,6,200,101,100,156,15,null,null,null,100,6,{"$f":"MyXor(F403,$B405)","v":172},{"$f":"MyXor(G403,$B405)","v":1},{"$f":"MyXor(H403,$B405)","v":0},{"$f":"MyXor(I403,$B405)","v":248},{"$f":"MyXor(J403,$B405)","v":107},{"$f":"MyXor(K403,$B405)","v":100},{"$f":"MyXor(L403,$B405)","v":100},{"$f":"MyXor(M403,$B405)","v":100},null,100,6,0,1,0,248,107,100,100,100]
["Принято в обработку",null,null,"Принято в обработку"]
["ключ шифрования-100",100,null,"ключ шифрования-100"]
["zapros.s 1,0,248,",null,null,"zapros.s 1",0,248]
["ОТВЕТ ЭМУЛЯТОРА 102,103,100,",null,null,"ОТВЕТ ЭМУЛЯТОРА 102",103,100]
["228,9,106,99,119,100,100,100,100,20,",null,{"$f":"MyXor(F408,$C$1)","v":198},228,9,106,99,119,100,100,100,100,20,100,9,{"$f":"MyXor(F408,$B410)","v":172},{"$f":"MyXor(G408,$B410)","v":165},{"$f":"MyXor(H408,$B410)","v":177},{"$f":"MyXor(I408,$B410)","v":162},{"$f":"MyXor(J408,$B410)","v":162},{"$f":"MyXor(K408,$B410)","v":162},{"$f":"MyXor(L408,$B410)","v":162},{"$f":"MyXor(M408,$B410)","v":210},null,100,9,0,165,177,162,162,162,162]
["Принято в обработку",null,null,"Принято в обработку",null,null,null,null,null,null,null,null,null,null,null,null,null,null,null,null,null,null,null,null,{"$f":"MyXor(Y408,0)","v":100},{"$f":"MyXor(Z408,VLOOKUP(Y409,'Таблица CRC'!$A$43:$C$298,3,FALSE))","v":13},{"$f":"MyXor(AA408,VLOOKUP(Z409,'Таблица CRC'!$A$43:$C$298,3,FALSE))","v":253},{"$f":"MyXor(AB408,VLOOKUP(AA409,'Таблица CRC'!$A$43:$C$298,3,FALSE))","v":44},{"$f":"MyXor(AC408,VLOOKUP(AB409,'Таблица CRC'!$A$43:$C$298,3,FALSE))","v":49},{"$f":"MyXor(AD408,VLOOKUP(AC409,'Таблица CRC'!$A$43:$C$298,3,FALSE))","v":66},{"$f":"MyXor(AE408,VLOOKUP(AD409,'Таблица CRC'!$A$43:$C$298,3,FALSE))","v":88},{"$f":"MyXor(AF408,VLOOKUP(AE409,'Таблица CRC'!$A$43:$C$298,3,FALSE))","v":187},{"$f":"MyXor(AG408,VLOOKUP(AF409,'Таблица CRC'!$A$43:$C$298,3,FALSE))","v":176},{"$f":"MyXor(AH408,VLOOKUP(AG409,'Таблица CRC'!$A$43:$C$298,3,FALSE))","v":50}]
["ключ шифрования-198",198,null,"ключ шифрования-198",null,null,null,null,null,null,null,null,null,null,null,null,null,null,null,null,null,null,null,null,{"$f":"DEC2HEX(Y408,2)","v":"64"},{"$f":"DEC2HEX(Z408,2)","v":"09"},"00","A5","B1","A2","A2","A2","A2",{"$f":"DEC2HEX(AH409,2)","v":"32"},{"$f":"CONCATENATE(Y410,\" \",Z410,\" \",AA410,\" \",AB410,\" \",AC410,\" \",AD410,\" \",AE410,\" \",AF410,\" \",AG410,\" \",AH410)","v":"64 09 00 A5 B1 A2 A2 A2 A2 32"},"тоже"]
["zapros.s 165,177,162,",null,null,"zapros.s 165",177,162]
["228,6,200,103,100,100,246,",null,{"$f":"MyXor(F412,$C$1)","v":100},228,6,200,103,100,100,246,null,null,null,100,6,{"$f":"MyXor(F412,$B414)","v":172},{"$f":"MyXor(G412,$B414)","v":3},{"$f":"MyXor(H412,$B414)","v":0},{"$f":"MyXor(I412,$B414)","v":0},{"$f":"MyXor(J412,$B414)","v":146},{"$f":"MyXor(K412,$B414)","v":100},{"$f":"MyXor(L412,$B414)","v":100},{"$f":"MyXor(M412,$B414)","v":100},null,100,6,0,3,0,0,146,100,100,100]
["Принято в обработку",null,null,"Принято в обработку"]
["ключ шифрования-100",100,null,"ключ шифрования-100"]
["zapros.s 3,0,0,",null,null,"zapros.s 3",0,0]
["228,8,152,31,48,39,52,53,165,",null,{"$f":"MyXor(F416,$C$1)","v":52},228,8,152,31,48,39,52,53,165,null,100,8,{"$f":"MyXor(F416,$B418)","v":172},{"$f":"MyXor(G416,$B418)","v":43},{"$f":"MyXor(H416,$B418)","v":4},{"$f":"MyXor(I416,$B418)","v":19},{"$f":"MyXor(J416,$B418)","v":0},{"$f":"MyXor(K416,$B418)","v":1},{"$f":"MyXor(L416,$B418)","v":145},{"$f":"MyXor(M416,$B418)","v":52},null,100,8,0,43,4,19,0,1,145,52]
["Принято в обработку",null,null,"Принято в обработку"]
["ключ шифрования-52",52,null,"ключ шифрования-52"]
["zapros.s 43,4,19,",null,null,"zapros.s 43",4,19]
["228,5,24,52,52,226,",null,{"$f":"MyXor(F420,$C$1)","v":180},228,5,24,52,52,226,null,null,null,null,100,5,{"$f":"MyXor(F420,$B422)","v":172},{"$f":"MyXor(G420,$B422)","v":128},{"$f":"MyXor(H420,$B422)","v":128},{"$f":"MyXor(I420,$B422)","v":86},{"$f":"MyXor(J420,$B422)","v":180},{"$f":"MyXor(K420,$B422)","v":180},{"$f":"MyXor(L420,$B422)","v":180},{"$f":"MyXor(M420,$B422)","v":180},null,100,5,0,128,128,86,180,180,180,180]
["Принято в обработку",null,null,"Принято в обработку"]
["otvet 44,0,0,",180,null,"otvet 44",0,0]
["228,6,114,223,222,38,250,",null,{"$f":"MyXor(F423,$C$1)","v":222},228,6,114,223,222,38,250,null,null,null,100,6,{"$f":"MyXor(F423,$B425)","v":172},{"$f":"MyXor(G423,$B425)","v":1},{"$f":"MyXor(H423,$B425)","v":0},{"$f":"MyXor(I423,$B425)","v":248},{"$f":"MyXor(J423,$B425)","v":36},{"$f":"MyXor(K423,$B425)","v":222},{"$f":"MyXor(L423,$B425)","v":222},{"$f":"MyXor(M423,$B425)","v":222},null,100,6,0,1,0,248,36,222,222,222]
["Принято в обработку",null,null,"Принято в обработку"]
["ключ шифрования-222",222,null,"ключ шифрования-222"]
["zapros.s 1,0,248,",null,null,"zapros.s 1",0,248]
["ОТВЕТ ЭМУЛЯТОРА 220,221,222,",null,null,"ОТВЕТ ЭМУЛЯТОРА 220",221,222]
["228,9,208,217,202,222,222,222,222,130,",null,{"$f":"MyXor(F428,$C$1)","v":124},228,9,208,217,202,222,222,222,222,130,100,9,{"$f":"MyXor(F428,$B430)","v":172},{"$f":"MyXor(G428,$B430)","v":165},{"$f":"MyXor(H428,$B430)","v":182},{"$f":"MyXor(I428,$B430)","v":162},{"$f":"MyXor(J428,$B430)","v":162},{"$f":"MyXor(K428,$B430)","v":162},{"$f":"MyXor(L428,$B430)","v":162},{"$f":"MyXor(M428,$B430)","v":254},null,100,9,0,165,182,162,162,162,162]
["Принято в обработку",null,null,"Принято в обработку",null,null,null,null,null,null,null,null,null,null,null,null,null,null,null,null,null,null,null,null,{"$f":"MyXor(Y428,0)","v":100},{"$f":"MyXor(Z428,VLOOKUP(Y429,'Таблица CRC'!$A$43:$C$298,3,FALSE))","v":13},{"$f":"MyXor(AA428,VLOOKUP(Z429,'Таблица CRC'!$A$43:$C$298,3,FALSE))","v":253},{"$f":"MyXor(AB428,VLOOKUP(AA429,'Таблица CRC'!$A$43:$C$298,3,FALSE))","v":44},{"$f":"MyXor(AC428,VLOOKUP(AB429,'Таблица CRC'!$A$43:$C$298,3,FALSE))","v":54},{"$f":"MyXor(AD428,VLOOKUP(AC429,'Таблица CRC'!$A$43:$C$298,3,FALSE))","v":193},{"$f":"MyXor(AE428,VLOOKUP(AD429,'Таблица CRC'!$A$43:$C$298,3,FALSE))","v":54},{"$f":"MyXor(AF428,VLOOKUP(AE429,'Таблица CRC'!$A$43:$C$298,3,FALSE))","v":193},{"$f":"MyXor(AG428,VLOOKUP(AF429,'Таблица CRC'!$A$43:$C$298,3,FALSE))","v":54},{"$f":"MyXor(AH428,VLOOKUP(AG429,'Таблица CRC'!$A$43:$C$298,3,FALSE))","v":99}]
["ключ шифрования-124",124,null,"ключ шифрования-124",null,null,null,null,null,null,null,null,null,null,null,null,null,null,null,null,null,null,null,null,{"$f":"DEC2HEX(Y428,2)","v":"64"},{"$f":"DEC2HEX(Z428,2)","v":"09"},"00","A5","B6","A2","A2","A2","A2",{"$f":"DEC2HEX(AH429,2)","v":"63"},{"$f":"CONCATENATE(Y430,\" \",Z430,\" \",AA430,\" \",AB430,\" \",AC430,\" \",AD430,\" \",AE430,\" \",AF430,\" \",AG430,\" \",AH430)","v":"64 09 00 A5 B6 A2 A2 A2 A2 63"},"тоже"]
["zapros.s 165,182,162,",null,null,"zapros.s 165",182,162]
["228,6,114,221,222,222,3,",null,{"$f":"MyXor(F432,$C$1)","v":222},228,6,114,221,222,222,3,null,null,null,100,6,{"$f":"MyXor(F432,$B434)","v":172},{"$f":"MyXor(G432,$B434)","v":3},{"$f":"MyXor(H432,$B434)","v":0},{"$f":"MyXor(I432,$B434)","v":0},{"$f":"MyXor(J432,$B434)","v":221},{"$f":"MyXor(K432,$B434)","v":222},{"$f":"MyXor(L432,$B434)","v":222},{"$f":"MyXor(M432,$B434)","v":222},null,100,6,0,3,0,0,221,222,222,222]
["Принято в обработку",null,null,"Принято в обработку"]
["ключ шифрования-222",222,null,"ключ шифрования-222"]
["zapros.s 3,0,0,",null,null,"zapros.s 3",0,0]
["228,8,176,55,24,8,28,29,133,",null,{"$f":"MyXor(F436,$C$1)","v":28},228,8,176,55,24,8,28,29,133,null,100,8,{"$f":"MyXor(F436,$B438)","v":172},{"$f":"MyXor(G436,$B438)","v":43},{"$f":"MyXor(H436,$B438)","v":4},{"$f":"MyXor(I436,$B438)","v":20},{"$f":"MyXor(J436,$B438)","v":0},{"$f":"MyXor(K436,$B438)","v":1},{"$f":"MyXor(L436,$B438)","v":153},{"$f":"MyXor(M436,$B438)","v":28},null,100,8,0,43,4,20,0,1,153,28]
["Принято в обработку",null,null,"Принято в обработку"]
["ключ шифрования-28",28,null,"ключ шифрования-28"]
["zapros.s 43,4,20,",null,null,"zapros.s 43",4,20]
["228,5,48,28,28,5,",null,{"$f":"MyXor(F440,$C$1)","v":156},228,5,48,28,28,5,null,null,null,null,100,5,{"$f":"MyXor(F440,$B442)","v":172},{"$f":"MyXor(G440,$B442)","v":128},{"$f":"MyXor(H440,$B442)","v":128},{"$f":"MyXor(I440,$B442)","v":153},{"$f":"MyXor(J440,$B442)","v":156},{"$f":"MyXor(K440,$B442)","v":156},{"$f":"MyXor(L440,$B442)","v":156},{"$f":"MyXor(M440,$B442)","v":156},null,100,5,0,128,128,153,156,156,156,156]
["Принято в обработку",null,null,"Принято в обработку"]
["otvet 44,0,0,",156,null,"otvet 44",0,0]
["228,6,197,104,105,145,246,",null,{"$f":"MyXor(F443,$C$1)","v":105},228,6,197,104,105,145,246,null,null,null,100,6,{"$f":"MyXor(F443,$B445)","v":172},{"$f":"MyXor(G443,$B445)","v":1},{"$f":"MyXor(H443,$B445)","v":0},{"$f":"MyXor(I443,$B445)","v":248},{"$f":"MyXor(J443,$B445)","v":159},{"$f":"MyXor(K443,$B445)","v":105},{"$f":"MyXor(L443,$B445)","v":105},{"$f":"MyXor(M443,$B445)","v":105},null,100,6,0,1,0,248,159,105,105,105]
["Принято в обработку",null,null,"Принято в обработку"]
["ключ шифрования-105",105,null,"ключ шифрования-105"]
["zapros.s 1,0,248,",null,null,"zapros.s 1",0,248]
["ОТВЕТ ЭМУЛЯТОРА 107,106,105,",null,null,"ОТВЕТ ЭМУЛЯТОРА 107",106,105]
["228,9,103,110,124,105,105,105,105,239,",null,{"$f":"MyXor(F448,$C$1)","v":203},228,9,103,110,124,105,105,105,105,239,100,9,{"$f":"MyXor(F448,$B450)","v":172},{"$f":"MyXor(G448,$B450)","v":165},{"$f":"MyXor(H448,$B450)","v":183},{"$f":"MyXor(I448,$B450)","v":162},{"$f":"MyXor(J448,$B450)","v":162},{"$f":"MyXor(K448,$B450)","v":162},{"$f":"MyXor(L448,$B450)","v":162},{"$f":"MyXor(M448,$B450)","v":36},null,100,9,0,165,183,162,162,162,162]
["Принято в обработку",null,null,"Принято в обработку",null,null,null,null,null,null,null,null,null,null,null,null,null,null,null,null,null,null,null,null,{"$f":"MyXor(Y448,0)","v":100},{"$f":"MyXor(Z448,VLOOKUP(Y449,'Таблица CRC'!$A$43:$C$298,3,FALSE))","v":13},{"$f":"MyXor(AA448,VLOOKUP(Z449,'Таблица CRC'!$A$43:$C$298,3,FALSE))","v":253},{"$f":"MyXor(AB448,VLOOKUP(AA449,'Таблица CRC'!$A$43:$C$298,3,FALSE))","v":44},{"$f":"MyXor(AC448,VLOOKUP(AB449,'Таблица CRC'!$A$43:$C$298,3,FALSE))","v":55},{"$f":"MyXor(AD448,VLOOKUP(AC449,'Таблица CRC'!$A$43:$C$298,3,FALSE))","v":159},{"$f":"MyXor(AE448,VLOOKUP(AD449,'Таблица CRC'!$A$43:$C$298,3,FALSE))","v":242},{"$f":"MyXor(AF448,VLOOKUP(AE449,'Таблица CRC'!$A$43:$C$298,3,FALSE))","v":106},{"$f":"MyXor(AG448,VLOOKUP(AF449,'Таблица CRC'!$A$43:$C$298,3,FALSE))","v":185},{"$f":"MyXor(AH448,VLOOKUP(AG449,'Таблица CRC'!$A$43:$C$298,3,FALSE))","v":174}]
["ключ шифрования-203",203,null,"ключ шифрования-203",null,null,null,null,null,null,null,null,null,null,null,null,null,null,null,null,null,null,null,null,{"$f":"DEC2HEX(Y448,2)","v":"64"},{"$f":"DEC2HEX(Z448,2)","v":"09"},"00","A5","B7","A2","A2","A2","A2",{"$f":"DEC2HEX(AH449,2)","v":"AE"},{"$f":"CONCATENATE(Y450,\" \",Z450,\" \",AA450,\" \",AB450,\" \",AC450,\" \",AD450,\" \",AE450,\" \",AF450,\" \",AG450,\" \",AH450)","v":"64 09 00 A5 B7 A2 A2 A2 A2 AE"},"тоже"]
["zapros.s 165,183,162,",null,null,"zapros.s 165",183,162]
["228,6,197,106,105,105,15,",null,{"$f":"MyXor(F452,$C$1)","v":105},228,6,197,106,105,105,15,null,null,null,100,6,{"$f":"MyXor(F452,$B454)","v":172},{"$f":"MyXor(G452,$B454)","v":3},{"$f":"MyXor(H452,$B454)","v":0},{"$f":"MyXor(I452,$B454)","v":0},{"$f":"MyXor(J452,$B454)","v":102},{"$f":"MyXor(K452,$B454)","v":105},{"$f":"MyXor(L452,$B454)","v":105},{"$f":"MyXor(M452,$B454)","v":105},null,100,6,0,3,0,0,102,105,105,105]
["Принято в обработку",null,null,"Принято в обработку"]
["ключ шифрования-105",105,null,"ключ шифрования-105"]
["zapros.s 3,0,0,",null,null,"zapros.s 3",0,0]
["228,8,136,15,32,49,36,37,80,",null,{"$f":"MyXor(F456,$C$1)","v":36},228,8,136,15,32,49,36,37,80,null,{"$f":"IF(D456>127,D456-128,D456)","v":100},{"$f":"E456","v":8},{"$f":"MyXor(F456,$B458)","v":172},{"$f":"MyXor(G456,$B458)","v":43},{"$f":"MyXor(H456,$B458)","v":4},{"$f":"MyXor(I456,$B458)","v":21},{"$f":"MyXor(J456,$B458)","v":0},{"$f":"MyXor(K456,$B458)","v":1},{"$f":"MyXor(L456,$B458)","v":116},{"$f":"MyXor(M456,$B458)","v":36},null,100,8,0,43,4,21,0,1,116,36]
["Принято в обработку",null,null,"Принято в обработку"]
["ключ шифрования-36",36,null,"ключ шифрования-36"]
["zapros.s 43,4,21,",null,null,"zapros.s 43",4,21]
["228,5,8,36,36,217,",null,{"$f":"MyXor(F460,$C$1)","v":164},228,5,8,36,36,217,null,null,null,null,100,5,{"$f":"MyXor(F460,$B462)","v":172},{"$f":"MyXor(G460,$B462)","v":128},{"$f":"MyXor(H460,$B462)","v":128},{"$f":"MyXor(I460,$B462)","v":125},{"$f":"MyXor(J460,$B462)","v":164},{"$f":"MyXor(K460,$B462)","v":164},{"$f":"MyXor(L460,$B462)","v":164},{"$f":"MyXor(M460,$B462)","v":164},null,100,5,0,128,128,125,164,164,164,164]
["Принято в обработку",null,null,"Принято в обработку"]
["otvet 44,0,0,",164,null,"otvet 44",0,0]
["228,6,119,218,219,35,142,",null,{"$f":"MyXor(F463,$C$1)","v":219},228,6,119,218,219,35,142,null,null,null,100,6,{"$f":"MyXor(F463,$B465)","v":172},{"$f":"MyXor(G463,$B465)","v":1},{"$f":"MyXor(H463,$B465)","v":0},{"$f":"MyXor(I463,$B465)","v":248},{"$f":"MyXor(J463,$B465)","v":85},{"$f":"MyXor(K463,$B465)","v":219},{"$f":"MyXor(L463,$B465)","v":219},{"$f":"MyXor(M463,$B465)","v":219},null,100,6,0,1,0,248,85,219,219,219]
["Принято в обработку",null,null,"Принято в обработку"]
["ключ шифрования-219",219,null,"ключ шифрования-219"]
["zapros.s 1,0,248,",null,null,"zapros.s 1",0,248]
["ОТВЕТ ЭМУЛЯТОРА 217,216,219,",null,null,"ОТВЕТ ЭМУЛЯТОРА 217",216,219]
["228,6,119,216,219,219,119,",null,{"$f":"MyXor(F468,$C$1)","v":219},228,6,119,216,219,219,119,null,null,null,100,6,{"$f":"MyXor(F468,$B470)","v":172},{"$f":"MyXor(G468,$B470)","v":3},{"$f":"MyXor(H468,$B470)","v":0},{"$f":"MyXor(I468,$B470)","v":0},{"$f":"MyXor(J468,$B470)","v":172},{"$f":"MyXor(K468,$B470)","v":219},{"$f":"MyXor(L468,$B470)","v":219},{"$f":"MyXor(M468,$B470)","v":219},null,100,6,0,3,0,0,172,219,219,219]
["Принято в обработку",null,null,"Принято в обработку"]
["ключ шифрования-219",219,null,"ключ шифрования-219"]
["zapros.s 3,0,0,",null,null,"zapros.s 3",0,0]
["228,5,97,77,77,227,",null,{"$f":"MyXor(F472,$C$1)","v":205},228,5,97,77,77,227,null,null,null,null,100,5,{"$f":"MyXor(F472,$B474)","v":172},{"$f":"MyXor(G472,$B474)","v":128},{"$f":"MyXor(H472,$B474)","v":128},{"$f":"MyXor(I472,$B474)","v":46},{"$f":"MyXor(J472,$B474)","v":205},{"$f":"MyXor(K472,$B474)","v":205},{"$f":"MyXor(L472,$B474)","v":205},{"$f":"MyXor(M472,$B474)","v":205},null,100,5,0,128,128,46,205,205,205,205]
["Принято в обработку",null,null,"Принято в обработку"]
["otvet 186,150,150,",205,null,"otvet 186",150,150]
["228,6,13,160,161,89,111,",null,{"$f":"MyXor(F475,$C$1)","v":161},228,6,13,160,161,89,111,null,null,null,100,6,{"$f":"MyXor(F475,$B477)","v":172},{"$f":"MyXor(G475,$B477)","v":1},{"$f":"MyXor(H475,$B477)","v":0},{"$f":"MyXor(I475,$B477)","v":248},{"$f":"MyXor(J475,$B477)","v":206},{"$f":"MyXor(K475,$B477)","v":161},{"$f":"MyXor(L475,$B477)","v":161},{"$f":"MyXor(M475,$B477)","v":161},null,100,6,0,1,0,248,206,161,161,161]
["Принято в обработку",null,null,"Принято в обработку"]
["ключ шифрования-161",161,null,"ключ шифрования-161"]
["zapros.s 1,0,248,",null,null,"zapros.s 1",0,248]
["ОТВЕТ ЭМУЛЯТОРА 163,163,161,",null,null,"ОТВЕТ ЭМУЛЯТОРА 163",163,161]
["228,6,13,162,161,161,150,",null,{"$f":"MyXor(F480,$C$1)","v":161},228,6,13,162,161,161,150,null,null,null,100,6,{"$f":"MyXor(F480,$B482)","v":172},{"$f":"MyXor(G480,$B482)","v":3},{"$f":"MyXor(H480,$B482)","v":0},{"$f":"MyXor(I480,$B482)","v":0},{"$f":"MyXor(J480,$B482)","v":55},{"$f":"MyXor(K480,$B482)","v":161},{"$f":"MyXor(L480,$B482)","v":161},{"$f":"MyXor(M480,$B482)","v":161},null,100,6,0,3,0,0,55,161,161,161]
["Принято в обработку",null,null,"Принято в обработку"]
["ключ шифрования-161",161,null,"ключ шифрования-161"]
["zapros.s 3,0,0,",null,null,"zapros.s 3",0,0]
["228,6,71,234,235,19,139,",null,{"$f":"MyXor(F484,$C$1)","v":235},228,6,71,234,235,19,139,null,null,null,100,6,{"$f":"MyXor(F484,$B486)","v":172},{"$f":"MyXor(G484,$B486)","v":1},{"$f":"MyXor(H484,$B486)","v":0},{"$f":"MyXor(I484,$B486)","v":248},{"$f":"MyXor(J484,$B486)","v":96},{"$f":"MyXor(K484,$B486)","v":235},{"$f":"MyXor(L484,$B486)","v":235},{"$f":"MyXor(M484,$B486)","v":235},null,100,6,0,1,0,248,96,235,235,235]
["Принято в обработку",null,null,"Принято в обработку"]
["ключ шифрования-235",235,null,"ключ шифрования-235"]
["zapros.s 1,0,248,",null,null,"zapros.s 1",0,248]
["ОТВЕТ ЭМУЛЯТОРА 233,234,235,",null,null,"ОТВЕТ ЭМУЛЯТОРА 233",234,235]
["228,9,229,236,253,235,235,235,235,253,",null,{"$f":"MyXor(F489,$C$1)","v":73},228,9,229,236,253,235,235,235,235,253,100,9,{"$f":"MyXor(F489,$B491)","v":172},{"$f":"MyXor(G489,$B491)","v":165},{"$f":"MyXor(H489,$B491)","v":180},{"$f":"MyXor(I489,$B491)","v":162},{"$f":"MyXor(J489,$B491)","v":162},{"$f":"MyXor(K489,$B491)","v":162},{"$f":"MyXor(L489,$B491)","v":162},{"$f":"MyXor(M489,$B491)","v":180},null,100,9,0,165,180,162,162,162,162]
["Принято в обработку",null,null,"Принято в обработку",null,null,null,null,null,null,null,null,null,null,null,null,null,null,null,null,null,null,null,null,{"$f":"MyXor(Y489,0)","v":100},{"$f":"MyXor(Z489,VLOOKUP(Y490,'Таблица CRC'!$A$43:$C$298,3,FALSE))","v":13},{"$f":"MyXor(AA489,VLOOKUP(Z490,'Таблица CRC'!$A$43:$C$298,3,FALSE))","v":253},{"$f":"MyXor(AB489,VLOOKUP(AA490,'Таблица CRC'!$A$43:$C$298,3,FALSE))","v":44},{"$f":"MyXor(AC489,VLOOKUP(AB490,'Таблица CRC'!$A$43:$C$298,3,FALSE))","v":52},{"$f":"MyXor(AD489,VLOOKUP(AC490,'Таблица CRC'!$A$43:$C$298,3,FALSE))","v":125},{"$f":"MyXor(AE489,VLOOKUP(AD490,'Таблица CRC'!$A$43:$C$298,3,FALSE))","v":167},{"$f":"MyXor(AF489,VLOOKUP(AE490,'Таблица CRC'!$A$43:$C$298,3,FALSE))","v":142},{"$f":"MyXor(AG489,VLOOKUP(AF490,'Таблица CRC'!$A$43:$C$298,3,FALSE))","v":49},{"$f":"MyXor(AH489,VLOOKUP(AG490,'Таблица CRC'!$A$43:$C$298,3,FALSE))","v":224}]
["ключ шифрования-73",73,null,"ключ шифрования-73",null,null,null,null,null,null,null,null,null,null,null,null,null,null,null,null,null,null,null,null,{"$f":"DEC2HEX(Y489,2)","v":"64"},{"$f":"DEC2HEX(Z489,2)","v":"09"},"00","A5","B4","A2","A2","A2","A2",{"$f":"DEC2HEX(AH490,2)","v":"E0"},{"$f":"CONCATENATE(Y491,\" \",Z491,\" \",AA491,\" \",AB491,\" \",AC491,\" \",AD491,\" \",AE491,\" \",AF491,\" \",AG491,\" \",AH491)","v":"64 09 00 A5 B4 A2 A2 A2 A2 E0"},"тоже"]
["zapros.s 165,180,162,",null,null,"zapros.s 165",180,162]
["228,6,71,232,235,235,114,",null,{"$f":"MyXor(F493,$C$1)","v":235},228,6,71,232,235,235,114,null,null,null,100,6,{"$f":"MyXor(F493,$B495)","v":172},{"$f":"MyXor(G493,$B495)","v":3},{"$f":"MyXor(H493,$B495)","v":0},{"$f":"MyXor(I493,$B495)","v":0},{"$f":"MyXor(J493,$B495)","v":153},{"$f":"MyXor(K493,$B495)","v":235},{"$f":"MyXor(L493,$B495)","v":235},{"$f":"MyXor(M493,$B495)","v":235},null,100,6,0,3,0,0,153,235,235,235]
["Принято в обработку",null,null,"Принято в обработку"]
["ключ шифрования-235",235,null,"ключ шифрования-235"]
["zapros.s 3,0,0,",null,null,"zapros.s 3",0,0]
["228,8,63,184,151,133,147,146,36,",null,{"$f":"MyXor(F497,$C$1)","v":147},228,8,63,184,151,133,147,146,36,null,100,8,{"$f":"MyXor(F497,$B499)","v":172},{"$f":"MyXor(G497,$B499)","v":43},{"$f":"MyXor(H497,$B499)","v":4},{"$f":"MyXor(I497,$B499)","v":22},{"$f":"MyXor(J497,$B499)","v":0},{"$f":"MyXor(K497,$B499)","v":1},{"$f":"MyXor(L497,$B499)","v":183},{"$f":"MyXor(M497,$B499)","v":147},null,100,8,0,43,4,22,0,1,183,147]
["Принято в обработку",null,null,"Принято в обработку"]
["ключ шифрования-147",147,null,"ключ шифрования-147"]
["zapros.s 43,4,22,",null,null,"zapros.s 43",4,22]
["228,5,191,147,147,194,",null,{"$f":"MyXor(F501,$C$1)","v":19},228,5,191,147,147,194,null,null,null,null,100,5,{"$f":"MyXor(F501,$B503)","v":172},{"$f":"MyXor(G501,$B503)","v":128},{"$f":"MyXor(H501,$B503)","v":128},{"$f":"MyXor(I501,$B503)","v":209},{"$f":"MyXor(J501,$B503)","v":19},{"$f":"MyXor(K501,$B503)","v":19},{"$f":"MyXor(L501,$B503)","v":19},{"$f":"MyXor(M501,$B503)","v":19},null,100,5,0,128,128,209,19,19,19,19]
["Принято в обработку",null,null,"Принято в обработку"]
["otvet 44,0,0,",19,null,"otvet 44",0,0]
["228,6,108,193,192,56,219,",null,{"$f":"MyXor(F504,$C$1)","v":192},228,6,108,193,192,56,219,null,null,null,100,6,{"$f":"MyXor(F504,$B506)","v":172},{"$f":"MyXor(G504,$B506)","v":1},{"$f":"MyXor(H504,$B506)","v":0},{"$f":"MyXor(I504,$B506)","v":248},{"$f":"MyXor(J504,$B506)","v":27},{"$f":"MyXor(K504,$B506)","v":192},{"$f":"MyXor(L504,$B506)","v":192},{"$f":"MyXor(M504,$B506)","v":192},null,100,6,0,1,0,248,27,192,192,192]
["Принято в обработку",null,null,"Принято в обработку"]
["ключ шифрования-192",192,null,"ключ шифрования-192"]
["zapros.s 1,0,248,",null,null,"zapros.s 1",0,248]
["ОТВЕТ ЭМУЛЯТОРА 194,195,192,",null,null,"ОТВЕТ ЭМУЛЯТОРА 194",195,192]
["228,9,206,199,215,192,192,192,192,156,",null,{"$f":"MyXor(F509,$C$1)","v":98},228,9,206,199,215,192,192,192,192,156,100,9,{"$f":"MyXor(F509,$B511)","v":172},{"$f":"MyXor(G509,$B511)","v":165},{"$f":"MyXor(H509,$B511)","v":181},{"$f":"MyXor(I509,$B511)","v":162},{"$f":"MyXor(J509,$B511)","v":162},{"$f":"MyXor(K509,$B511)","v":162},{"$f":"MyXor(L509,$B511)","v":162},{"$f":"MyXor(M509,$B511)","v":254},null,100,9,0,165,181,162,162,162,162]
["Принято в обработку",null,null,"Принято в обработку",null,null,null,null,null,null,null,null,null,null,null,null,null,null,null,null,null,null,null,null,{"$f":"MyXor(Y509,0)","v":100},{"$f":"MyXor(Z509,VLOOKUP(Y510,'Таблица CRC'!$A$43:$C$298,3,FALSE))","v":13},{"$f":"MyXor(AA509,VLOOKUP(Z510,'Таблица CRC'!$A$43:$C$298,3,FALSE))","v":253},{"$f":"MyXor(AB509,VLOOKUP(AA510,'Таблица CRC'!$A$43:$C$298,3,FALSE))","v":44},{"$f":"MyXor(AC509,VLOOKUP(AB510,'Таблица CRC'!$A$43:$C$298,3,FALSE))","v":53},{"$f":"MyXor(AD509,VLOOKUP(AC510,'Таблица CRC'!$A$43:$C$298,3,FALSE))","v":35},{"$f":"MyXor(AE509,VLOOKUP(AD510,'Таблица CRC'!$A$43:$C$298,3,FALSE))","v":99},{"$f":"MyXor(AF509,VLOOKUP(AE510,'Таблица CRC'!$A$43:$C$298,3,FALSE))","v":37},{"$f":"MyXor(AG509,VLOOKUP(AF510,'Таблица CRC'!$A$43:$C$298,3,FALSE))","v":190},{"$f":"MyXor(AH509,VLOOKUP(AG510,'Таблица CRC'!$A$43:$C$298,3,FALSE))","v":45}]
["ключ шифрования-98",98,null,"ключ шифрования-98",null,null,null,null,null,null,null,null,null,null,null,null,null,null,null,null,null,null,null,null,{"$f":"DEC2HEX(Y509,2)","v":"64"},{"$f":"DEC2HEX(Z509,2)","v":"09"},"00","A5","B5","A2","A2","A2","A2",{"$f":"DEC2HEX(AH510,2)","v":"2D"},{"$f":"CONCATENATE(Y511,\" \",Z511,\" \",AA511,\" \",AB511,\" \",AC511,\" \",AD511,\" \",AE511,\" \",AF511,\" \",AG511,\" \",AH511)","v":"64 09 00 A5 B5 A2 A2 A2 A2 2D"},"тоже"]
["zapros.s 165,181,162,",null,null,"zapros.s 165",181,162]
["228,6,108,195,192,192,34,",null,{"$f":"MyXor(F513,$C$1)","v":192},228,6,108,195,192,192,34,null,null,null,100,6,{"$f":"MyXor(F513,$B515)","v":172},{"$f":"MyXor(G513,$B515)","v":3},{"$f":"MyXor(H513,$B515)","v":0},{"$f":"MyXor(I513,$B515)","v":0},{"$f":"MyXor(J513,$B515)","v":226},{"$f":"MyXor(K513,$B515)","v":192},{"$f":"MyXor(L513,$B515)","v":192},{"$f":"MyXor(M513,$B515)","v":192},null,100,6,0,3,0,0,226,192,192,192]
["Принято в обработку",null,null,"Принято в обработку"]
["ключ шифрования-192",192,null,"ключ шифрования-192"]
["zapros.s 3,0,0,",null,null,"zapros.s 3",0,0]
["228,9,86,209,234,251,250,250,151,25,",null,{"$f":"MyXor(F517,$C$1)","v":250},228,9,86,209,234,251,250,250,151,25,100,9,{"$f":"MyXor(F517,$B519)","v":172},{"$f":"MyXor(G517,$B519)","v":43},{"$f":"MyXor(H517,$B519)","v":16},{"$f":"MyXor(I517,$B519)","v":1},{"$f":"MyXor(J517,$B519)","v":0},{"$f":"MyXor(K517,$B519)","v":0},{"$f":"MyXor(L517,$B519)","v":109},{"$f":"MyXor(M517,$B519)","v":227},null,100,9,0,43,16,1,0,0,109,null,null,"Вкл 1 диод"]
["Принято в обработку",null,null,"Принято в обработку",null,null,null,null,null,null,null,null,null,null,null,null,null,null,null,null,null,null,null,null,{"$f":"MyXor(Y517,0)","v":100},{"$f":"MyXor(Z517,VLOOKUP(Y518,'Таблица CRC'!$A$43:$C$298,3,FALSE))","v":13},{"$f":"MyXor(AA517,VLOOKUP(Z518,'Таблица CRC'!$A$43:$C$298,3,FALSE))","v":253},{"$f":"MyXor(AB517,VLOOKUP(AA518,'Таблица CRC'!$A$43:$C$298,3,FALSE))","v":162},{"$f":"MyXor(AC517,VLOOKUP(AB518,'Таблица CRC'!$A$43:$C$298,3,FALSE))","v":3},{"$f":"MyXor(AD517,VLOOKUP(AC518,'Таблица CRC'!$A$43:$C$298,3,FALSE))","v":227},{"$f":"MyXor(AE517,VLOOKUP(AD518,'Таблица CRC'!$A$43:$C$298,3,FALSE))","v":11},{"$f":"MyXor(AF517,VLOOKUP(AE518,'Таблица CRC'!$A$43:$C$298,3,FALSE))","v":32},{"$f":"MyXor(AG517,VLOOKUP(AF518,'Таблица CRC'!$A$43:$C$298,3,FALSE))","v":78},{"$f":"MyXor(AH517,VLOOKUP(AG518,'Таблица CRC'!$A$43:$C$298,3,FALSE))","v":89}]
["ключ шифрования-250",250,null,"ключ шифрования-250",null,null,null,null,null,null,null,null,null,null,null,null,null,null,null,null,null,null,null,null,{"$f":"DEC2HEX(Y517,2)","v":"64"},{"$f":"DEC2HEX(Z517,2)","v":"09"},"00","2B","10","01","00","00","6D",{"$f":"DEC2HEX(AH518,2)","v":"59"},{"$f":"CONCATENATE(Y519,\" \",Z519,\" \",AA519,\" \",AB519,\" \",AC519,\" \",AD519,\" \",AE519,\" \",AF519,\" \",AG519,\" \",AH519)","v":"64 09 00 2B 10 01 00 00 6D 59"},"64 05 2C 00 00 A0"]
["zapros.s 43,16,1,",null,null,"zapros.s 43",16,1]
["228,5,214,250,250,248,",null,{"$f":"MyXor(F521,$C$1)","v":122},228,5,214,250,250,248,null,null,null,null,{"$f":"IF(D521>127,D521-128,D521)","v":100},{"$f":"E521","v":5},{"$f":"MyXor(F521,$B523)","v":172},{"$f":"MyXor(G521,$B523)","v":128},{"$f":"MyXor(H521,$B523)","v":128},{"$f":"MyXor(I521,$B523)","v":130},{"$f":"MyXor(J521,$B523)","v":122},{"$f":"MyXor(K521,$B523)","v":122},{"$f":"MyXor(L521,$B523)","v":122},{"$f":"MyXor(M521,$B523)","v":122},null,100,5,0,128,128,130,122,122,122,122]
["Принято в обработку",null,null,"Принято в обработку"]
["otvet 44,0,0,",122,null,"otvet 44",0,0]
["228,9,25,158,164,180,180,181,181,37,",null,{"$f":"MyXor(F524,$C$1)","v":181},228,9,25,158,164,180,180,181,181,37,100,9,{"$f":"MyXor(F524,$B526)","v":172},{"$f":"MyXor(G524,$B526)","v":43},{"$f":"MyXor(H524,$B526)","v":17},{"$f":"MyXor(I524,$B526)","v":1},{"$f":"MyXor(J524,$B526)","v":1},{"$f":"MyXor(K524,$B526)","v":0},{"$f":"MyXor(L524,$B526)","v":0},{"$f":"MyXor(M524,$B526)","v":144},null,100,9,0,43,17,1,1,0,0]
["Принято в обработку",null,null,"Принято в обработку",null,null,null,null,null,null,null,null,null,null,null,null,null,null,null,null,null,null,null,null,{"$f":"MyXor(Y524,0)","v":100},{"$f":"MyXor(Z524,VLOOKUP(Y525,'Таблица CRC'!$A$43:$C$298,3,FALSE))","v":13},{"$f":"MyXor(AA524,VLOOKUP(Z525,'Таблица CRC'!$A$43:$C$298,3,FALSE))","v":253},{"$f":"MyXor(AB524,VLOOKUP(AA525,'Таблица CRC'!$A$43:$C$298,3,FALSE))","v":162},{"$f":"MyXor(AC524,VLOOKUP(AB525,'Таблица CRC'!$A$43:$C$298,3,FALSE))","v":2},{"$f":"MyXor(AD524,VLOOKUP(AC525,'Таблица CRC'!$A$43:$C$298,3,FALSE))","v":189},{"$f":"MyXor(AE524,VLOOKUP(AD525,'Таблица CRC'!$A$43:$C$298,3,FALSE))","v":206},{"$f":"MyXor(AF524,VLOOKUP(AE525,'Таблица CRC'!$A$43:$C$298,3,FALSE))","v":213},{"$f":"MyXor(AG524,VLOOKUP(AF525,'Таблица CRC'!$A$43:$C$298,3,FALSE))","v":104},{"$f":"MyXor(AH524,VLOOKUP(AG525,'Таблица CRC'!$A$43:$C$298,3,FALSE))","v":167}]
["ключ шифрования-181",181,null,"ключ шифрования-181",null,null,null,null,null,null,null,null,null,null,null,null,null,null,null,null,null,null,null,null,{"$f":"DEC2HEX(Y524,2)","v":"64"},{"$f":"DEC2HEX(Z524,2)","v":"09"},"00","2B","11","01","01","00","00",{"$f":"DEC2HEX(AH525,2)","v":"A7"},{"$f":"CONCATENATE(Y526,\" \",Z526,\" \",AA526,\" \",AB526,\" \",AC526,\" \",AD526,\" \",AE526,\" \",AF526,\" \",AG526,\" \",AH526)","v":"64 09 00 2B 11 01 01 00 00 A7"},"64 05 2C 00 00 A0"]
["zapros.s 43,17,1,",null,null,"zapros.s 43",17,1]
["228,5,153,181,181,18,",null,{"$f":"MyXor(F528,$C$1)","v":53},228,5,153,181,181,18,null,null,null,null,100,5,{"$f":"MyXor(F528,$B530)","v":172},{"$f":"MyXor(G528,$B530)","v":128},{"$f":"MyXor(H528,$B530)","v":128},{"$f":"MyXor(I528,$B530)","v":39},{"$f":"MyXor(J528,$B530)","v":53},{"$f":"MyXor(K528,$B530)","v":53},{"$f":"MyXor(L528,$B530)","v":53},{"$f":"MyXor(M528,$B530)","v":53},null,100,5,0,128,128,39,53,53,53,53]
["Принято в обработку",null,null,"Принято в обработку"]
["otvet 44,0,0,",53,null,"otvet 44",0,0]
["228,8,230,97,78,93,74,75,84,",null,{"$f":"MyXor(F531,$C$1)","v":74},228,8,230,97,78,93,74,75,84,null,100,8,{"$f":"MyXor(F531,$B533)","v":172},{"$f":"MyXor(G531,$B533)","v":43},{"$f":"MyXor(H531,$B533)","v":4},{"$f":"MyXor(I531,$B533)","v":23},{"$f":"MyXor(J531,$B533)","v":0},{"$f":"MyXor(K531,$B533)","v":1},{"$f":"MyXor(L531,$B533)","v":30},{"$f":"MyXor(M531,$B533)","v":74},null,100,8,0,43,4,23,0,1,30,74]
["Принято в обработку",null,null,"Принято в обработку"]
["ключ шифрования-74",74,null,"ключ шифрования-74"]
["zapros.s 43,4,23,",null,null,"zapros.s 43",4,23]
["228,5,102,74,74,116,",null,{"$f":"MyXor(F535,$C$1)","v":202},228,5,102,74,74,116,null,null,null,null,100,5,{"$f":"MyXor(F535,$B537)","v":172},{"$f":"MyXor(G535,$B537)","v":128},{"$f":"MyXor(H535,$B537)","v":128},{"$f":"MyXor(I535,$B537)","v":190},{"$f":"MyXor(J535,$B537)","v":202},{"$f":"MyXor(K535,$B537)","v":202},{"$f":"MyXor(L535,$B537)","v":202},{"$f":"MyXor(M535,$B537)","v":202},null,100,5,0,128,128,190,202,202,202,202]
["Принято в обработку",null,null,"Принято в обработку"]
["otvet 44,0,0,",202,null,"otvet 44",0,0]
["228,6,128,45,44,212,142,",null,{"$f":"MyXor(F538,$C$1)","v":44},228,6,128,45,44,212,142,null,null,null,100,6,{"$f":"MyXor(F538,$B540)","v":172},{"$f":"MyXor(G538,$B540)","v":1},{"$f":"MyXor(H538,$B540)","v":0},{"$f":"MyXor(I538,$B540)","v":248},{"$f":"MyXor(J538,$B540)","v":162},{"$f":"MyXor(K538,$B540)","v":44},{"$f":"MyXor(L538,$B540)","v":44},{"$f":"MyXor(M538,$B540)","v":44},null,100,6,0,1,0,248,162,44,44,44]
["Принято в обработку",null,null,"Принято в обработку"]
["ключ шифрования-44",44,null,"ключ шифрования-44"]
["zapros.s 1,0,248,",null,null,"zapros.s 1",0,248]
["ОТВЕТ ЭМУЛЯТОРА 46,43,44,",null,null,"ОТВЕТ ЭМУЛЯТОРА 46",43,44]
["228,9,34,43,52,44,44,44,44,208,",null,{"$f":"MyXor(F543,$C$1)","v":142},228,9,34,43,52,44,44,44,44,208,100,9,{"$f":"MyXor(F543,$B545)","v":172},{"$f":"MyXor(G543,$B545)","v":165},{"$f":"MyXor(H543,$B545)","v":186},{"$f":"MyXor(I543,$B545)","v":162},{"$f":"MyXor(J543,$B545)","v":162},{"$f":"MyXor(K543,$B545)","v":162},{"$f":"MyXor(L543,$B545)","v":162},{"$f":"MyXor(M543,$B545)","v":94},null,100,9,0,165,186,162,162,162,162]
["Принято в обработку",null,null,"Принято в обработку",null,null,null,null,null,null,null,null,null,null,null,null,null,null,null,null,null,null,null,null,{"$f":"MyXor(Y543,0)","v":100},{"$f":"MyXor(Z543,VLOOKUP(Y544,'Таблица CRC'!$A$43:$C$298,3,FALSE))","v":13},{"$f":"MyXor(AA543,VLOOKUP(Z544,'Таблица CRC'!$A$43:$C$298,3,FALSE))","v":253},{"$f":"MyXor(AB543,VLOOKUP(AA544,'Таблица CRC'!$A$43:$C$298,3,FALSE))","v":44},{"$f":"MyXor(AC543,VLOOKUP(AB544,'Таблица CRC'!$A$43:$C$298,3,FALSE))","v":58},{"$f":"MyXor(AD543,VLOOKUP(AC544,'Таблица CRC'!$A$43:$C$298,3,FALSE))","v":98},{"$f":"MyXor(AE543,VLOOKUP(AD544,'Таблица CRC'!$A$43:$C$298,3,FALSE))","v":123},{"$f":"MyXor(AF543,VLOOKUP(AE544,'Таблица CRC'!$A$43:$C$298,3,FALSE))","v":122},{"$f":"MyXor(AG543,VLOOKUP(AF544,'Таблица CRC'!$A$43:$C$298,3,FALSE))","v":36},{"$f":"MyXor(AH543,VLOOKUP(AG544,'Таблица CRC'!$A$43:$C$298,3,FALSE))","v":66}]
["ключ шифрования-142",142,null,"ключ шифрования-142",null,null,null,null,null,null,null,null,null,null,null,null,null,null,null,null,null,null,null,null,{"$f":"DEC2HEX(Y543,2)","v":"64"},{"$f":"DEC2HEX(Z543,2)","v":"09"},"00","A5","BA","A2","A2","A2","A2",{"$f":"DEC2HEX(AH544,2)","v":"42"},{"$f":"CONCATENATE(Y545,\" \",Z545,\" \",AA545,\" \",AB545,\" \",AC545,\" \",AD545,\" \",AE545,\" \",AF545,\" \",AG545,\" \",AH545)","v":"64 09 00 A5 BA A2 A2 A2 A2 42"},"64 05 0A 00 00 E5"]
["zapros.s 165,186,162,",null,null,"zapros.s 165",186,162]
["228,6,128,47,44,44,119,",null,{"$f":"MyXor(F547,$C$1)","v":44},228,6,128,47,44,44,119,null,null,null,100,6,{"$f":"MyXor(F547,$B549)","v":172},{"$f":"MyXor(G547,$B549)","v":3},{"$f":"MyXor(H547,$B549)","v":0},{"$f":"MyXor(I547,$B549)","v":0},{"$f":"MyXor(J547,$B549)","v":91},{"$f":"MyXor(K547,$B549)","v":44},{"$f":"MyXor(L547,$B549)","v":44},{"$f":"MyXor(M547,$B549)","v":44},null,100,6,0,3,0,0,91,44,44,44]
["Принято в обработку",null,null,"Принято в обработку"]
["ключ шифрования-44",44,null,"ключ шифрования-44"]
["zapros.s 3,0,0,",null,null,"zapros.s 3",0,0]
["228,8,24,159,176,172,180,181,93,",null,{"$f":"MyXor(F551,$C$1)","v":180},228,8,24,159,176,172,180,181,93,null,100,8,{"$f":"MyXor(F551,$B553)","v":172},{"$f":"MyXor(G551,$B553)","v":43},{"$f":"MyXor(H551,$B553)","v":4},{"$f":"MyXor(I551,$B553)","v":24},{"$f":"MyXor(J551,$B553)","v":0},{"$f":"MyXor(K551,$B553)","v":1},{"$f":"MyXor(L551,$B553)","v":233},{"$f":"MyXor(M551,$B553)","v":180},null,100,8,0,43,4,24,0,1,233,180]
["Принято в обработку",null,null,"Принято в обработку"]
["ключ шифрования-180",180,null,"ключ шифрования-180"]
["zapros.s 43,4,24,",null,null,"zapros.s 43",4,24]
["228,5,152,180,180,35,",null,{"$f":"MyXor(F555,$C$1)","v":52},228,5,152,180,180,35,null,null,null,null,100,5,{"$f":"MyXor(F555,$B557)","v":172},{"$f":"MyXor(G555,$B557)","v":128},{"$f":"MyXor(H555,$B557)","v":128},{"$f":"MyXor(I555,$B557)","v":23},{"$f":"MyXor(J555,$B557)","v":52},{"$f":"MyXor(K555,$B557)","v":52},{"$f":"MyXor(L555,$B557)","v":52},{"$f":"MyXor(M555,$B557)","v":52},null,100,5,0,128,128,23,52,52,52,52]
["Принято в обработку",null,null,"Принято в обработку"]
["otvet 44,0,0,",52,null,"otvet 44",0,0]
["228,6,218,119,118,142,105,",null,{"$f":"MyXor(F558,$C$1)","v":118},228,6,218,119,118,142,105,null,null,null,100,6,{"$f":"MyXor(F558,$B560)","v":172},{"$f":"MyXor(G558,$B560)","v":1},{"$f":"MyXor(H558,$B560)","v":0},{"$f":"MyXor(I558,$B560)","v":248},{"$f":"MyXor(J558,$B560)","v":31},{"$f":"MyXor(K558,$B560)","v":118},{"$f":"MyXor(L558,$B560)","v":118},{"$f":"MyXor(M558,$B560)","v":118},null,100,6,0,1,0,248,31,118,118,118]
["Принято в обработку",null,null,"Принято в обработку"]
["ключ шифрования-118",118,null,"ключ шифрования-118"]
["zapros.s 1,0,248,",null,null,"zapros.s 1",0,248]
["ОТВЕТ ЭМУЛЯТОРА 116,117,118,",null,null,"ОТВЕТ ЭМУЛЯТОРА 116",117,118]
["228,9,120,113,111,118,118,118,118,132,",null,{"$f":"MyXor(F563,$C$1)","v":212},228,9,120,113,111,118,118,118,118,132,100,9,{"$f":"MyXor(F563,$B565)","v":172},{"$f":"MyXor(G563,$B565)","v":165},{"$f":"MyXor(H563,$B565)","v":187},{"$f":"MyXor(I563,$B565)","v":162},{"$f":"MyXor(J563,$B565)","v":162},{"$f":"MyXor(K563,$B565)","v":162},{"$f":"MyXor(L563,$B565)","v":162},{"$f":"MyXor(M563,$B565)","v":80},null,100,9,0,165,187,162,162,162,162]
["Принято в обработку",null,null,"Принято в обработку",null,null,null,null,null,null,null,null,null,null,null,null,null,null,null,null,null,null,null,null,{"$f":"MyXor(Y563,0)","v":100},{"$f":"MyXor(Z563,VLOOKUP(Y564,'Таблица CRC'!$A$43:$C$298,3,FALSE))","v":13},{"$f":"MyXor(AA563,VLOOKUP(Z564,'Таблица CRC'!$A$43:$C$298,3,FALSE))","v":253},{"$f":"MyXor(AB563,VLOOKUP(AA564,'Таблица CRC'!$A$43:$C$298,3,FALSE))","v":44},{"$f":"MyXor(AC563,VLOOKUP(AB564,'Таблица CRC'!$A$43:$C$298,3,FALSE))","v":59},{"$f":"MyXor(AD563,VLOOKUP(AC564,'Таблица CRC'!$A$43:$C$298,3,FALSE))","v":60},{"$f":"MyXor(AE563,VLOOKUP(AD564,'Таблица CRC'!$A$43:$C$298,3,FALSE))","v":191},{"$f":"MyXor(AF563,VLOOKUP(AE564,'Таблица CRC'!$A$43:$C$298,3,FALSE))","v":209},{"$f":"MyXor(AG563,VLOOKUP(AF564,'Таблица CRC'!$A$43:$C$298,3,FALSE))","v":171},{"$f":"MyXor(AH563,VLOOKUP(AG564,'Таблица CRC'!$A$43:$C$298,3,FALSE))","v":143}]
["ключ шифрования-212",212,null,"ключ шифрования-212",null,null,null,null,null,null,null,null,null,null,null,null,null,null,null,null,null,null,null,null,{"$f":"DEC2HEX(Y563,2)","v":"64"},{"$f":"DEC2HEX(Z563,2)","v":"09"},"00","A5","BB","A2","A2","A2","A2",{"$f":"DEC2HEX(AH564,2)","v":"8F"},{"$f":"CONCATENATE(Y565,\" \",Z565,\" \",AA565,\" \",AB565,\" \",AC565,\" \",AD565,\" \",AE565,\" \",AF565,\" \",AG565,\" \",AH565)","v":"64 09 00 A5 BB A2 A2 A2 A2 8F"},"64 05 0A 00 00 E5"]
["zapros.s 165,187,162,",null,null,"zapros.s 165",187,162]
["228,6,218,117,118,118,144,",null,{"$f":"MyXor(F567,$C$1)","v":118},228,6,218,117,118,118,144,null,null,null,100,6,{"$f":"MyXor(F567,$B569)","v":172},{"$f":"MyXor(G567,$B569)","v":3},{"$f":"MyXor(H567,$B569)","v":0},{"$f":"MyXor(I567,$B569)","v":0},{"$f":"MyXor(J567,$B569)","v":230},{"$f":"MyXor(K567,$B569)","v":118},{"$f":"MyXor(L567,$B569)","v":118},{"$f":"MyXor(M567,$B569)","v":118},null,100,6,0,3,0,0,230,118,118,118]
["Принято в обработку",null,null,"Принято в обработку"]
["ключ шифрования-118",118,null,"ключ шифрования-118"]
["zapros.s 3,0,0,",null,null,"zapros.s 3",0,0]
["228,8,4,131,172,177,168,169,201,",null,{"$f":"MyXor(F571,$C$1)","v":168},228,8,4,131,172,177,168,169,201,null,100,8,{"$f":"MyXor(F571,$B573)","v":172},{"$f":"MyXor(G571,$B573)","v":43},{"$f":"MyXor(H571,$B573)","v":4},{"$f":"MyXor(I571,$B573)","v":25},{"$f":"MyXor(J571,$B573)","v":0},{"$f":"MyXor(K571,$B573)","v":1},{"$f":"MyXor(L571,$B573)","v":97},{"$f":"MyXor(M571,$B573)","v":168},null,100,8,0,43,4,25,0,1,97,168]
["Принято в обработку",null,null,"Принято в обработку"]
["ключ шифрования-168",168,null,"ключ шифрования-168"]
["zapros.s 43,4,25,",null,null,"zapros.s 43",4,25]
["228,5,132,168,168,77,",null,{"$f":"MyXor(F575,$C$1)","v":40},228,5,132,168,168,77,null,null,null,null,100,5,{"$f":"MyXor(F575,$B577)","v":172},{"$f":"MyXor(G575,$B577)","v":128},{"$f":"MyXor(H575,$B577)","v":128},{"$f":"MyXor(I575,$B577)","v":101},{"$f":"MyXor(J575,$B577)","v":40},{"$f":"MyXor(K575,$B577)","v":40},{"$f":"MyXor(L575,$B577)","v":40},{"$f":"MyXor(M575,$B577)","v":40},null,100,5,0,128,128,101,40,40,40,40]
["Принято в обработку",null,null,"Принято в обработку"]
["otvet 44,0,0,",40,null,"otvet 44",0,0]
["228,6,189,16,17,233,114,",null,{"$f":"MyXor(F578,$C$1)","v":17},228,6,189,16,17,233,114,null,null,null,100,6,{"$f":"MyXor(F578,$B580)","v":172},{"$f":"MyXor(G578,$B580)","v":1},{"$f":"MyXor(H578,$B580)","v":0},{"$f":"MyXor(I578,$B580)","v":248},{"$f":"MyXor(J578,$B580)","v":99},{"$f":"MyXor(K578,$B580)","v":17},{"$f":"MyXor(L578,$B580)","v":17},{"$f":"MyXor(M578,$B580)","v":17},null,100,6,0,1,0,248,99,17,17,17]
["Принято в обработку",null,null,"Принято в обработку"]
["ключ шифрования-17",17,null,"ключ шифрования-17"]
["zapros.s 1,0,248,",null,null,"zapros.s 1",0,248]
["ОТВЕТ ЭМУЛЯТОРА 19,18,17,",null,null,"ОТВЕТ ЭМУЛЯТОРА 19",18,17]
["228,9,31,22,11,17,17,17,17,76,",null,{"$f":"MyXor(F583,$C$1)","v":179},228,9,31,22,11,17,17,17,17,76,{"$f":"IF(D583>127,D583-128,D583)","v":100},{"$f":"E583","v":9},{"$f":"MyXor(F583,$B585)","v":172},{"$f":"MyXor(G583,$B585)","v":165},{"$f":"MyXor(H583,$B585)","v":184},{"$f":"MyXor(I583,$B585)","v":162},{"$f":"MyXor(J583,$B585)","v":162},{"$f":"MyXor(K583,$B585)","v":162},{"$f":"MyXor(L583,$B585)","v":162},{"$f":"MyXor(M583,$B585)","v":255},null,100,9,0,165,184,162,162,162,162]
["Принято в обработку",null,null,"Принято в обработку",null,null,null,null,null,null,null,null,null,null,null,null,null,null,null,null,null,null,null,null,{"$f":"MyXor(Y583,0)","v":100},{"$f":"MyXor(Z583,VLOOKUP(Y584,'Таблица CRC'!$A$43:$C$298,3,FALSE))","v":13},{"$f":"MyXor(AA583,VLOOKUP(Z584,'Таблица CRC'!$A$43:$C$298,3,FALSE))","v":253},{"$f":"MyXor(AB583,VLOOKUP(AA584,'Таблица CRC'!$A$43:$C$298,3,FALSE))","v":44},{"$f":"MyXor(AC583,VLOOKUP(AB584,'Таблица CRC'!$A$43:$C$298,3,FALSE))","v":56},{"$f":"MyXor(AD583,VLOOKUP(AC584,'Таблица CRC'!$A$43:$C$298,3,FALSE))","v":222},{"$f":"MyXor(AE583,VLOOKUP(AD584,'Таблица CRC'!$A$43:$C$298,3,FALSE))","v":234},{"$f":"MyXor(AF583,VLOOKUP(AE584,'Таблица CRC'!$A$43:$C$298,3,FALSE))","v":53},{"$f":"MyXor(AG583,VLOOKUP(AF584,'Таблица CRC'!$A$43:$C$298,3,FALSE))","v":35},{"$f":"MyXor(AH583,VLOOKUP(AG584,'Таблица CRC'!$A$43:$C$298,3,FALSE))","v":193}]
["ключ шифрования-179",179,null,"ключ шифрования-179",null,null,null,null,null,null,null,null,null,null,null,null,null,null,null,null,null,null,null,null,{"$f":"DEC2HEX(Y583,2)","v":"64"},{"$f":"DEC2HEX(Z583,2)","v":"09"},"00","A5","B8","A2","A2","A2","A2",{"$f":"DEC2HEX(AH584,2)","v":"C1"},{"$f":"CONCATENATE(Y585,\" \",Z585,\" \",AA585,\" \",AB585,\" \",AC585,\" \",AD585,\" \",AE585,\" \",AF585,\" \",AG585,\" \",AH585)","v":"64 09 00 A5 B8 A2 A2 A2 A2 C1"},"64 05 0A 00 00 E5"]
["zapros.s 165,184,162,",null,null,"zapros.s 165",184,162]
["228,6,189,18,17,17,139,",null,{"$f":"MyXor(F587,$C$1)","v":17},228,6,189,18,17,17,139,null,null,null,100,6,{"$f":"MyXor(F587,$B589)","v":172},{"$f":"MyXor(G587,$B589)","v":3},{"$f":"MyXor(H587,$B589)","v":0},{"$f":"MyXor(I587,$B589)","v":0},{"$f":"MyXor(J587,$B589)","v":154},{"$f":"MyXor(K587,$B589)","v":17},{"$f":"MyXor(L587,$B589)","v":17},{"$f":"MyXor(M587,$B589)","v":17},null,100,6,0,3,0,0,154,17,17,17]
["Принято в обработку",null,null,"Принято в обработку"]
["ключ шифрования-17",17,null,"ключ шифрования-17"]
["zapros.s 3,0,0,",null,null,"zapros.s 3",0,0]
["228,8,43,172,131,157,135,134,178,",null,{"$f":"MyXor(F591,$C$1)","v":135},228,8,43,172,131,157,135,134,178,null,100,8,{"$f":"MyXor(F591,$B593)","v":172},{"$f":"MyXor(G591,$B593)","v":43},{"$f":"MyXor(H591,$B593)","v":4},{"$f":"MyXor(I591,$B593)","v":26},{"$f":"MyXor(J591,$B593)","v":0},{"$f":"MyXor(K591,$B593)","v":1},{"$f":"MyXor(L591,$B593)","v":53},{"$f":"MyXor(M591,$B593)","v":135},null,100,8,0,43,4,26,0,1,53,135]
["Принято в обработку",null,null,"Принято в обработку"]
["ключ шифрования-135",135,null,"ключ шифрования-135"]
["zapros.s 43,4,26,",null,null,"zapros.s 43",4,26]
["228,5,171,135,135,61,",null,{"$f":"MyXor(F595,$C$1)","v":7},228,5,171,135,135,61,null,null,null,null,100,5,{"$f":"MyXor(F595,$B597)","v":172},{"$f":"MyXor(G595,$B597)","v":128},{"$f":"MyXor(H595,$B597)","v":128},{"$f":"MyXor(I595,$B597)","v":58},{"$f":"MyXor(J595,$B597)","v":7},{"$f":"MyXor(K595,$B597)","v":7},{"$f":"MyXor(L595,$B597)","v":7},{"$f":"MyXor(M595,$B597)","v":7},null,100,5,0,128,128,58,7,7,7,7]
["Принято в обработку",null,null,"Принято в обработку"]
["otvet 44,0,0,",7,null,"otvet 44",0,0]
["228,6,66,239,238,22,255,",null,{"$f":"MyXor(F598,$C$1)","v":238},228,6,66,239,238,22,255,null,null,null,100,6,{"$f":"MyXor(F598,$B600)","v":172},{"$f":"MyXor(G598,$B600)","v":1},{"$f":"MyXor(H598,$B600)","v":0},{"$f":"MyXor(I598,$B600)","v":248},{"$f":"MyXor(J598,$B600)","v":17},{"$f":"MyXor(K598,$B600)","v":238},{"$f":"MyXor(L598,$B600)","v":238},{"$f":"MyXor(M598,$B600)","v":238},null,100,6,0,1,0,248,17,238,238,238]
["Принято в обработку",null,null,"Принято в обработку"]
["ключ шифрования-238",238,null,"ключ шифрования-238"]
["zapros.s 1,0,248,",null,null,"zapros.s 1",0,248]
["ОТВЕТ ЭМУЛЯТОРА 236,237,238,",null,null,"ОТВЕТ ЭМУЛЯТОРА 236",237,238]
["228,9,224,233,245,238,238,238,238,149,",null,{"$f":"MyXor(F603,$C$1)","v":76},228,9,224,233,245,238,238,238,238,149,100,9,{"$f":"MyXor(F603,$B605)","v":172},{"$f":"MyXor(G603,$B605)","v":165},{"$f":"MyXor(H603,$B605)","v":185},{"$f":"MyXor(I603,$B605)","v":162},{"$f":"MyXor(J603,$B605)","v":162},{"$f":"MyXor(K603,$B605)","v":162},{"$f":"MyXor(L603,$B605)","v":162},{"$f":"MyXor(M603,$B605)","v":217},null,100,9,0,165,185,162,162,162,162]
["Принято в обработку",null,null,"Принято в обработку",null,null,null,null,null,null,null,null,null,null,null,null,null,null,null,null,null,null,null,null,{"$f":"MyXor(Y603,0)","v":100},{"$f":"MyXor(Z603,VLOOKUP(Y604,'Таблица CRC'!$A$43:$C$298,3,FALSE))","v":13},{"$f":"MyXor(AA603,VLOOKUP(Z604,'Таблица CRC'!$A$43:$C$298,3,FALSE))","v":253},{"$f":"MyXor(AB603,VLOOKUP(AA604,'Таблица CRC'!$A$43:$C$298,3,FALSE))","v":44},{"$f":"MyXor(AC603,VLOOKUP(AB604,'Таблица CRC'!$A$43:$C$298,3,FALSE))","v":57},{"$f":"MyXor(AD603,VLOOKUP(AC604,'Таблица CRC'!$A$43:$C$298,3,FALSE))","v":128},{"$f":"MyXor(AE603,VLOOKUP(AD604,'Таблица CRC'!$A$43:$C$298,3,FALSE))","v":46},{"$f":"MyXor(AF603,VLOOKUP(AE604,'Таблица CRC'!$A$43:$C$298,3,FALSE))","v":158},{"$f":"MyXor(AG603,VLOOKUP(AF604,'Таблица CRC'!$A$43:$C$298,3,FALSE))","v":172},{"$f":"MyXor(AH603,VLOOKUP(AG604,'Таблица CRC'!$A$43:$C$298,3,FALSE))","v":12}]
["ключ шифрования-76",76,null,"ключ шифрования-76",null,null,null,null,null,null,null,null,null,null,null,null,null,null,null,null,null,null,null,null,{"$f":"DEC2HEX(Y603,2)","v":"64"},{"$f":"DEC2HEX(Z603,2)","v":"09"},"00","A5","B9","A2","A2","A2","A2",{"$f":"DEC2HEX(AH604,2)","v":"0C"},{"$f":"CONCATENATE(Y605,\" \",Z605,\" \",AA605,\" \",AB605,\" \",AC605,\" \",AD605,\" \",AE605,\" \",AF605,\" \",AG605,\" \",AH605)","v":"64 09 00 A5 B9 A2 A2 A2 A2 0C"},"64 05 0A 00 00 E5"]
["zapros.s 165,185,162,",null,null,"zapros.s 165",185,162]
["228,6,66,237,238,238,6,",null,{"$f":"MyXor(F607,$C$1)","v":238},228,6,66,237,238,238,6,null,null,null,100,6,{"$f":"MyXor(F607,$B609)","v":172},{"$f":"MyXor(G607,$B609)","v":3},{"$f":"MyXor(H607,$B609)","v":0},{"$f":"MyXor(I607,$B609)","v":0},{"$f":"MyXor(J607,$B609)","v":232},{"$f":"MyXor(K607,$B609)","v":238},{"$f":"MyXor(L607,$B609)","v":238},{"$f":"MyXor(M607,$B609)","v":238},null,100,6,0,3,0,0,232,238,238,238]
["Принято в обработку",null,null,"Принято в обработку"]
["ключ шифрования-238",238,null,"ключ шифрования-238"]
["zapros.s 3,0,0,",null,null,"zapros.s 3",0,0]
["228,8,121,254,209,206,213,212,37,",null,{"$f":"MyXor(F611,$C$1)","v":213},228,8,121,254,209,206,213,212,37,null,100,8,{"$f":"MyXor(F611,$B613)","v":172},{"$f":"MyXor(G611,$B613)","v":43},{"$f":"MyXor(H611,$B613)","v":4},{"$f":"MyXor(I611,$B613)","v":27},{"$f":"MyXor(J611,$B613)","v":0},{"$f":"MyXor(K611,$B613)","v":1},{"$f":"MyXor(L611,$B613)","v":240},{"$f":"MyXor(M611,$B613)","v":213},null,100,8,0,43,4,27,0,1,240,213]
["Принято в обработку",null,null,"Принято в обработку"]
["ключ шифрования-213",213,null,"ключ шифрования-213"]
["zapros.s 43,4,27,",null,null,"zapros.s 43",4,27]
["228,5,249,213,213,136,",null,{"$f":"MyXor(F615,$C$1)","v":85},228,5,249,213,213,136,null,null,null,null,100,5,{"$f":"MyXor(F615,$B617)","v":172},{"$f":"MyXor(G615,$B617)","v":128},{"$f":"MyXor(H615,$B617)","v":128},{"$f":"MyXor(I615,$B617)","v":221},{"$f":"MyXor(J615,$B617)","v":85},{"$f":"MyXor(K615,$B617)","v":85},{"$f":"MyXor(L615,$B617)","v":85},{"$f":"MyXor(M615,$B617)","v":85},null,100,5,0,128,128,221,85,85,85,85]
["Принято в обработку",null,null,"Принято в обработку"]
["otvet 44,0,0,",85,null,"otvet 44",0,0]
["228,6,136,37,36,220,3,",null,{"$f":"MyXor(F618,$C$1)","v":36},228,6,136,37,36,220,3,null,null,null,100,6,{"$f":"MyXor(F618,$B620)","v":172},{"$f":"MyXor(G618,$B620)","v":1},{"$f":"MyXor(H618,$B620)","v":0},{"$f":"MyXor(I618,$B620)","v":248},{"$f":"MyXor(J618,$B620)","v":39},{"$f":"MyXor(K618,$B620)","v":36},{"$f":"MyXor(L618,$B620)","v":36},{"$f":"MyXor(M618,$B620)","v":36},null,100,6,0,1,0,248,39,36,36,36]
["Принято в обработку",null,null,"Принято в обработку"]
["ключ шифрования-36",36,null,"ключ шифрования-36"]
["zapros.s 1,0,248,",null,null,"zapros.s 1",0,248]
["ОТВЕТ ЭМУЛЯТОРА 38,39,36,",null,null,"ОТВЕТ ЭМУЛЯТОРА 38",39,36]
["228,9,42,35,56,36,36,36,36,44,",null,{"$f":"MyXor(F623,$C$1)","v":134},228,9,42,35,56,36,36,36,36,44,100,9,{"$f":"MyXor(F623,$B625)","v":172},{"$f":"MyXor(G623,$B625)","v":165},{"$f":"MyXor(H623,$B625)","v":190},{"$f":"MyXor(I623,$B625)","v":162},{"$f":"MyXor(J623,$B625)","v":162},{"$f":"MyXor(K623,$B625)","v":162},{"$f":"MyXor(L623,$B625)","v":162},{"$f":"MyXor(M623,$B625)","v":170},null,100,9,0,165,190,162,162,162,162]
["Принято в обработку",null,null,"Принято в обработку",null,null,null,null,null,null,null,null,null,null,null,null,null,null,null,null,null,null,null,null,{"$f":"MyXor(Y623,0)","v":100},{"$f":"MyXor(Z623,VLOOKUP(Y624,'Таблица CRC'!$A$43:$C$298,3,FALSE))","v":13},{"$f":"MyXor(AA623,VLOOKUP(Z624,'Таблица CRC'!$A$43:$C$298,3,FALSE))","v":253},{"$f":"MyXor(AB623,VLOOKUP(AA624,'Таблица CRC'!$A$43:$C$298,3,FALSE))","v":44},{"$f":"MyXor(AC623,VLOOKUP(AB624,'Таблица CRC'!$A$43:$C$298,3,FALSE))","v":62},{"$f":"MyXor(AD623,VLOOKUP(AC624,'Таблица CRC'!$A$43:$C$298,3,FALSE))","v":3},{"$f":"MyXor(AE623,VLOOKUP(AD624,'Таблица CRC'!$A$43:$C$298,3,FALSE))","v":64},{"$f":"MyXor(AF623,VLOOKUP(AE624,'Таблица CRC'!$A$43:$C$298,3,FALSE))","v":228},{"$f":"MyXor(AG623,VLOOKUP(AF624,'Таблица CRC'!$A$43:$C$298,3,FALSE))","v":42},{"$f":"MyXor(AH623,VLOOKUP(AG624,'Таблица CRC'!$A$43:$C$298,3,FALSE))","v":93}]
["ключ шифрования-134",134,null,"ключ шифрования-134",null,null,null,null,null,null,null,null,null,null,null,null,null,null,null,null,null,null,null,null,{"$f":"DEC2HEX(Y623,2)","v":"64"},{"$f":"DEC2HEX(Z623,2)","v":"09"},"00","A5","BE","A2","A2","A2","A2",{"$f":"DEC2HEX(AH624,2)","v":"5D"},{"$f":"CONCATENATE(Y625,\" \",Z625,\" \",AA625,\" \",AB625,\" \",AC625,\" \",AD625,\" \",AE625,\" \",AF625,\" \",AG625,\" \",AH625)","v":"64 09 00 A5 BE A2 A2 A2 A2 5D"},"тоже"]
["zapros.s 165,190,162,",null,null,"zapros.s 165",190,162]
["228,6,136,39,36,36,250,",null,{"$f":"MyXor(F627,$C$1)","v":36},228,6,136,39,36,36,250,null,null,null,100,6,{"$f":"MyXor(F627,$B629)","v":172},{"$f":"MyXor(G627,$B629)","v":3},{"$f":"MyXor(H627,$B629)","v":0},{"$f":"MyXor(I627,$B629)","v":0},{"$f":"MyXor(J627,$B629)","v":222},{"$f":"MyXor(K627,$B629)","v":36},{"$f":"MyXor(L627,$B629)","v":36},{"$f":"MyXor(M627,$B629)","v":36},null,100,6,0,3,0,0,222,36,36,36]
["Принято в обработку",null,null,"Принято в обработку"]
["ключ шифрования-36",36,null,"ключ шифрования-36"]
["zapros.s 3,0,0,",null,null,"zapros.s 3",0,0]
["228,8,233,110,65,89,69,68,66,",null,{"$f":"MyXor(F631,$C$1)","v":69},228,8,233,110,65,89,69,68,66,null,100,8,{"$f":"MyXor(F631,$B633)","v":172},{"$f":"MyXor(G631,$B633)","v":43},{"$f":"MyXor(H631,$B633)","v":4},{"$f":"MyXor(I631,$B633)","v":28},{"$f":"MyXor(J631,$B633)","v":0},{"$f":"MyXor(K631,$B633)","v":1},{"$f":"MyXor(L631,$B633)","v":7},{"$f":"MyXor(M631,$B633)","v":69},null,100,8,0,43,4,28,0,1,7,69]
["Принято в обработку",null,null,"Принято в обработку"]
["ключ шифрования-69",69,null,"ключ шифрования-69"]
["zapros.s 43,4,28,",null,null,"zapros.s 43",4,28]
["228,5,105,69,69,114,",null,{"$f":"MyXor(F635,$C$1)","v":197},228,5,105,69,69,114,null,null,null,null,100,5,{"$f":"MyXor(F635,$B637)","v":172},{"$f":"MyXor(G635,$B637)","v":128},{"$f":"MyXor(H635,$B637)","v":128},{"$f":"MyXor(I635,$B637)","v":183},{"$f":"MyXor(J635,$B637)","v":197},{"$f":"MyXor(K635,$B637)","v":197},{"$f":"MyXor(L635,$B637)","v":197},{"$f":"MyXor(M635,$B637)","v":197},null,100,5,0,128,128,183,197,197,197,197]
["Принято в обработку",null,null,"Принято в обработку"]
["otvet 44,0,0,",197,null,"otvet 44",0,0]
["228,6,91,246,247,15,207,",null,{"$f":"MyXor(F638,$C$1)","v":247},228,6,91,246,247,15,207,null,null,null,100,6,{"$f":"MyXor(F638,$B640)","v":172},{"$f":"MyXor(G638,$B640)","v":1},{"$f":"MyXor(H638,$B640)","v":0},{"$f":"MyXor(I638,$B640)","v":248},{"$f":"MyXor(J638,$B640)","v":56},{"$f":"MyXor(K638,$B640)","v":247},{"$f":"MyXor(L638,$B640)","v":247},{"$f":"MyXor(M638,$B640)","v":247},null,100,6,0,1,0,248,56,247,247,247]
["Принято в обработку",null,null,"Принято в обработку"]
["ключ шифрования-247",247,null,"ключ шифрования-247"]
["zapros.s 1,0,248,",null,null,"zapros.s 1",0,248]
["ОТВЕТ ЭМУЛЯТОРА 245,244,247,",null,null,"ОТВЕТ ЭМУЛЯТОРА 245",244,247]
["228,9,249,240,234,247,247,247,247,76,",null,{"$f":"MyXor(F643,$C$1)","v":85},228,9,249,240,234,247,247,247,247,76,100,9,{"$f":"MyXor(F643,$B645)","v":172},{"$f":"MyXor(G643,$B645)","v":165},{"$f":"MyXor(H643,$B645)","v":191},{"$f":"MyXor(I643,$B645)","v":162},{"$f":"MyXor(J643,$B645)","v":162},{"$f":"MyXor(K643,$B645)","v":162},{"$f":"MyXor(L643,$B645)","v":162},{"$f":"MyXor(M643,$B645)","v":25},null,100,9,0,165,191,162,162,162,162]
["Принято в обработку",null,null,"Принято в обработку",null,null,null,null,null,null,null,null,null,null,null,null,null,null,null,null,null,null,null,null,{"$f":"MyXor(Y643,0)","v":100},{"$f":"MyXor(Z643,VLOOKUP(Y644,'Таблица CRC'!$A$43:$C$298,3,FALSE))","v":13},{"$f":"MyXor(AA643,VLOOKUP(Z644,'Таблица CRC'!$A$43:$C$298,3,FALSE))","v":253},{"$f":"MyXor(AB643,VLOOKUP(AA644,'Таблица CRC'!$A$43:$C$298,3,FALSE))","v":44},{"$f":"MyXor(AC643,VLOOKUP(AB644,'Таблица CRC'!$A$43:$C$298,3,FALSE))","v":63},{"$f":"MyXor(AD643,VLOOKUP(AC644,'Таблица CRC'!$A$43:$C$298,3,FALSE))","v":93},{"$f":"MyXor(AE643,VLOOKUP(AD644,'Таблица CRC'!$A$43:$C$298,3,FALSE))","v":132},{"$f":"MyXor(AF643,VLOOKUP(AE644,'Таблица CRC'!$A$43:$C$298,3,FALSE))","v":79},{"$f":"MyXor(AG643,VLOOKUP(AF644,'Таблица CRC'!$A$43:$C$298,3,FALSE))","v":165},{"$f":"MyXor(AH643,VLOOKUP(AG644,'Таблица CRC'!$A$43:$C$298,3,FALSE))","v":144}]
["ключ шифрования-85",85,null,"ключ шифрования-85",null,null,null,null,null,null,null,null,null,null,null,null,null,null,null,null,null,null,null,null,{"$f":"DEC2HEX(Y643,2)","v":"64"},{"$f":"DEC2HEX(Z643,2)","v":"09"},"00","A5","BF","A2","A2","A2","A2",{"$f":"DEC2HEX(AH644,2)","v":"90"},{"$f":"CONCATENATE(Y645,\" \",Z645,\" \",AA645,\" \",AB645,\" \",AC645,\" \",AD645,\" \",AE645,\" \",AF645,\" \",AG645,\" \",AH645)","v":"64 09 00 A5 BF A2 A2 A2 A2 90"},"тоже"]
["zapros.s 165,191,162,",null,null,"zapros.s 165",191,162]
["228,6,91,244,247,247,54,",null,{"$f":"MyXor(F647,$C$1)","v":247},228,6,91,244,247,247,54,null,null,null,{"$f":"IF(D647>127,D647-128,D647)","v":100},{"$f":"E647","v":6},{"$f":"MyXor(F647,$B649)","v":172},{"$f":"MyXor(G647,$B649)","v":3},{"$f":"MyXor(H647,$B649)","v":0},{"$f":"MyXor(I647,$B649)","v":0},{"$f":"MyXor(J647,$B649)","v":193},{"$f":"MyXor(K647,$B649)","v":247},{"$f":"MyXor(L647,$B649)","v":247},{"$f":"MyXor(M647,$B649)","v":247},null,100,6,0,3,0,0,193,247,247,247]
["Принято в обработку",null,null,"Принято в обработку"]
["ключ шифрования-247",247,null,"ключ шифрования-247"]
["zapros.s 3,0,0,",null,null,"zapros.s 3",0,0]
["228,8,12,139,164,189,160,161,69,",null,{"$f":"MyXor(F651,$C$1)","v":160},228,8,12,139,164,189,160,161,69,null,100,8,{"$f":"MyXor(F651,$B653)","v":172},{"$f":"MyXor(G651,$B653)","v":43},{"$f":"MyXor(H651,$B653)","v":4},{"$f":"MyXor(I651,$B653)","v":29},{"$f":"MyXor(J651,$B653)","v":0},{"$f":"MyXor(K651,$B653)","v":1},{"$f":"MyXor(L651,$B653)","v":229},{"$f":"MyXor(M651,$B653)","v":160},null,100,8,0,43,4,29,0,1,229,160]
["Принято в обработку",null,null,"Принято в обработку"]
["ключ шифрования-160",160,null,"ключ шифрования-160"]
["zapros.s 43,4,29,",null,null,"zapros.s 43",4,29]
["228,5,140,160,160,220,",null,{"$f":"MyXor(F655,$C$1)","v":32},228,5,140,160,160,220,null,null,null,null,100,5,{"$f":"MyXor(F655,$B657)","v":172},{"$f":"MyXor(G655,$B657)","v":128},{"$f":"MyXor(H655,$B657)","v":128},{"$f":"MyXor(I655,$B657)","v":252},{"$f":"MyXor(J655,$B657)","v":32},{"$f":"MyXor(K655,$B657)","v":32},{"$f":"MyXor(L655,$B657)","v":32},{"$f":"MyXor(M655,$B657)","v":32},null,100,5,0,128,128,252,32,32,32,32]
["Принято в обработку",null,null,"Принято в обработку"]
["otvet 44,0,0,",32,null,"otvet 44",0,0]
["228,6,210,127,126,134,228,",null,{"$f":"MyXor(F658,$C$1)","v":126},228,6,210,127,126,134,228,null,null,null,100,6,{"$f":"MyXor(F658,$B660)","v":172},{"$f":"MyXor(G658,$B660)","v":1},{"$f":"MyXor(H658,$B660)","v":0},{"$f":"MyXor(I658,$B660)","v":248},{"$f":"MyXor(J658,$B660)","v":154},{"$f":"MyXor(K658,$B660)","v":126},{"$f":"MyXor(L658,$B660)","v":126},{"$f":"MyXor(M658,$B660)","v":126},null,100,6,0,1,0,248,154,126,126,126]
["Принято в обработку",null,null,"Принято в обработку"]
["ключ шифрования-126",126,null,"ключ шифрования-126"]
["zapros.s 1,0,248,",null,null,"zapros.s 1",0,248]
["ОТВЕТ ЭМУЛЯТОРА 124,125,126,",null,null,"ОТВЕТ ЭМУЛЯТОРА 124",125,126]
["228,9,112,121,96,126,126,126,126,54,",null,{"$f":"MyXor(F663,$C$1)","v":220},228,9,112,121,96,126,126,126,126,54,100,9,{"$f":"MyXor(F663,$B665)","v":172},{"$f":"MyXor(G663,$B665)","v":165},{"$f":"MyXor(H663,$B665)","v":188},{"$f":"MyXor(I663,$B665)","v":162},{"$f":"MyXor(J663,$B665)","v":162},{"$f":"MyXor(K663,$B665)","v":162},{"$f":"MyXor(L663,$B665)","v":162},{"$f":"MyXor(M663,$B665)","v":234},null,100,9,0,165,188,162,162,162,162]
["Принято в обработку",null,null,"Принято в обработку",null,null,null,null,null,null,null,null,null,null,null,null,null,null,null,null,null,null,null,null,{"$f":"MyXor(Y663,0)","v":100},{"$f":"MyXor(Z663,VLOOKUP(Y664,'Таблица CRC'!$A$43:$C$298,3,FALSE))","v":13},{"$f":"MyXor(AA663,VLOOKUP(Z664,'Таблица CRC'!$A$43:$C$298,3,FALSE))","v":253},{"$f":"MyXor(AB663,VLOOKUP(AA664,'Таблица CRC'!$A$43:$C$298,3,FALSE))","v":44},{"$f":"MyXor(AC663,VLOOKUP(AB664,'Таблица CRC'!$A$43:$C$298,3,FALSE))","v":60},{"$f":"MyXor(AD663,VLOOKUP(AC664,'Таблица CRC'!$A$43:$C$298,3,FALSE))","v":191},{"$f":"MyXor(AE663,VLOOKUP(AD664,'Таблица CRC'!$A$43:$C$298,3,FALSE))","v":209},{"$f":"MyXor(AF663,VLOOKUP(AE664,'Таблица CRC'!$A$43:$C$298,3,FALSE))","v":171},{"$f":"MyXor(AG663,VLOOKUP(AF664,'Таблица CRC'!$A$43:$C$298,3,FALSE))","v":45},{"$f":"MyXor(AH663,VLOOKUP(AG664,'Таблица CRC'!$A$43:$C$298,3,FALSE))","v":222}]
["ключ шифрования-220",220,null,"ключ шифрования-220",null,null,null,null,null,null,null,null,null,null,null,null,null,null,null,null,null,null,null,null,{"$f":"DEC2HEX(Y663,2)","v":"64"},{"$f":"DEC2HEX(Z663,2)","v":"09"},"00","A5","BC","A2","A2","A2","A2",{"$f":"DEC2HEX(AH664,2)","v":"DE"},{"$f":"CONCATENATE(Y665,\" \",Z665,\" \",AA665,\" \",AB665,\" \",AC665,\" \",AD665,\" \",AE665,\" \",AF665,\" \",AG665,\" \",AH665)","v":"64 09 00 A5 BC A2 A2 A2 A2 DE"},"тоже"]
["zapros.s 165,188,162,",null,null,"zapros.s 165",188,162]
["228,6,210,125,126,126,29,",null,{"$f":"MyXor(F667,$C$1)","v":126},228,6,210,125,126,126,29,null,null,null,100,6,{"$f":"MyXor(F667,$B669)","v":172},{"$f":"MyXor(G667,$B669)","v":3},{"$f":"MyXor(H667,$B669)","v":0},{"$f":"MyXor(I667,$B669)","v":0},{"$f":"MyXor(J667,$B669)","v":99},{"$f":"MyXor(K667,$B669)","v":126},{"$f":"MyXor(L667,$B669)","v":126},{"$f":"MyXor(M667,$B669)","v":126},null,100,6,0,3,0,0,99,126,126,126]
["Принято в обработку",null,null,"Принято в обработку"]
["ключ шифрования-126",126,null,"ключ шифрования-126"]
["zapros.s 3,0,0,",null,null,"zapros.s 3",0,0]
["228,8,187,60,19,9,23,22,49,",null,{"$f":"MyXor(F671,$C$1)","v":23},228,8,187,60,19,9,23,22,49,null,100,8,{"$f":"MyXor(F671,$B673)","v":172},{"$f":"MyXor(G671,$B673)","v":43},{"$f":"MyXor(H671,$B673)","v":4},{"$f":"MyXor(I671,$B673)","v":30},{"$f":"MyXor(J671,$B673)","v":0},{"$f":"MyXor(K671,$B673)","v":1},{"$f":"MyXor(L671,$B673)","v":38},{"$f":"MyXor(M671,$B673)","v":23},null,100,8,0,43,4,30,0,1,38,23]
["Принято в обработку",null,null,"Принято в обработку"]
["ключ шифрования-23",23,null,"ключ шифрования-23"]
["zapros.s 43,4,30,",null,null,"zapros.s 43",4,30]
["228,5,59,23,23,199,",null,{"$f":"MyXor(F675,$C$1)","v":151},228,5,59,23,23,199,null,null,null,null,100,5,{"$f":"MyXor(F675,$B677)","v":172},{"$f":"MyXor(G675,$B677)","v":128},{"$f":"MyXor(H675,$B677)","v":128},{"$f":"MyXor(I675,$B677)","v":80},{"$f":"MyXor(J675,$B677)","v":151},{"$f":"MyXor(K675,$B677)","v":151},{"$f":"MyXor(L675,$B677)","v":151},{"$f":"MyXor(M675,$B677)","v":151},null,100,5,0,128,128,80,151,151,151,151]
["Принято в обработку",null,null,"Принято в обработку"]
["otvet 44,0,0,",151,null,"otvet 44",0,0]
["228,6,158,51,50,202,175,",null,{"$f":"MyXor(F678,$C$1)","v":50},228,6,158,51,50,202,175,null,null,null,100,6,{"$f":"MyXor(F678,$B680)","v":172},{"$f":"MyXor(G678,$B680)","v":1},{"$f":"MyXor(H678,$B680)","v":0},{"$f":"MyXor(I678,$B680)","v":248},{"$f":"MyXor(J678,$B680)","v":157},{"$f":"MyXor(K678,$B680)","v":50},{"$f":"MyXor(L678,$B680)","v":50},{"$f":"MyXor(M678,$B680)","v":50},null,100,6,0,1,0,248,157,50,50,50]
["Принято в обработку",null,null,"Принято в обработку"]
["ключ шифрования-50",50,null,"ключ шифрования-50"]
["zapros.s 1,0,248,",null,null,"zapros.s 1",0,248]
["ОТВЕТ ЭМУЛЯТОРА 48,49,50,",null,null,"ОТВЕТ ЭМУЛЯТОРА 48",49,50]
["228,9,60,53,45,50,50,50,50,178,",null,{"$f":"MyXor(F683,$C$1)","v":144},228,9,60,53,45,50,50,50,50,178,100,9,{"$f":"MyXor(F683,$B685)","v":172},{"$f":"MyXor(G683,$B685)","v":165},{"$f":"MyXor(H683,$B685)","v":189},{"$f":"MyXor(I683,$B685)","v":162},{"$f":"MyXor(J683,$B685)","v":162},{"$f":"MyXor(K683,$B685)","v":162},{"$f":"MyXor(L683,$B685)","v":162},{"$f":"MyXor(M683,$B685)","v":34},null,100,9,0,165,189,162,162,162,162]
["Принято в обработку",null,null,"Принято в обработку",null,null,null,null,null,null,null,null,null,null,null,null,null,null,null,null,null,null,null,null,{"$f":"MyXor(Y683,0)","v":100},{"$f":"MyXor(Z683,VLOOKUP(Y684,'Таблица CRC'!$A$43:$C$298,3,FALSE))","v":13},{"$f":"MyXor(AA683,VLOOKUP(Z684,'Таблица CRC'!$A$43:$C$298,3,FALSE))","v":253},{"$f":"MyXor(AB683,VLOOKUP(AA684,'Таблица CRC'!$A$43:$C$298,3,FALSE))","v":44},{"$f":"MyXor(AC683,VLOOKUP(AB684,'Таблица CRC'!$A$43:$C$298,3,FALSE))","v":61},{"$f":"MyXor(AD683,VLOOKUP(AC684,'Таблица CRC'!$A$43:$C$298,3,FALSE))","v":225},{"$f":"MyXor(AE683,VLOOKUP(AD684,'Таблица CRC'!$A$43:$C$298,3,FALSE))","v":21},{"$f":"MyXor(AF683,VLOOKUP(AE684,'Таблица CRC'!$A$43:$C$298,3,FALSE))","v":0},{"$f":"MyXor(AG683,VLOOKUP(AF684,'Таблица CRC'!$A$43:$C$298,3,FALSE))","v":162},{"$f":"MyXor(AH683,VLOOKUP(AG684,'Таблица CRC'!$A$43:$C$298,3,FALSE))","v":19}]
["ключ шифрования-144",144,null,"ключ шифрования-144",null,null,null,null,null,null,null,null,null,null,null,null,null,null,null,null,null,null,null,null,{"$f":"DEC2HEX(Y683,2)","v":"64"},{"$f":"DEC2HEX(Z683,2)","v":"09"},"00","A5","BD","A2","A2","A2","A2",{"$f":"DEC2HEX(AH684,2)","v":"13"},{"$f":"CONCATENATE(Y685,\" \",Z685,\" \",AA685,\" \",AB685,\" \",AC685,\" \",AD685,\" \",AE685,\" \",AF685,\" \",AG685,\" \",AH685)","v":"64 09 00 A5 BD A2 A2 A2 A2 13"},"тоже"]
["zapros.s 165,189,162,",null,null,"zapros.s 165",189,162]
["228,6,158,49,50,50,86,",null,{"$f":"MyXor(F687,$C$1)","v":50},228,6,158,49,50,50,86,null,null,null,100,6,{"$f":"MyXor(F687,$B689)","v":172},{"$f":"MyXor(G687,$B689)","v":3},{"$f":"MyXor(H687,$B689)","v":0},{"$f":"MyXor(I687,$B689)","v":0},{"$f":"MyXor(J687,$B689)","v":100},{"$f":"MyXor(K687,$B689)","v":50},{"$f":"MyXor(L687,$B689)","v":50},{"$f":"MyXor(M687,$B689)","v":50},null,100,6,0,3,0,0,100,50,50,50]
["Принято в обработку",null,null,"Принято в обработку"]
["ключ шифрования-50",50,null,"ключ шифрования-50"]
["zapros.s 3,0,0,",null,null,"zapros.s 3",0,0]
["228,8,194,69,106,113,110,111,48,",null,{"$f":"MyXor(F691,$C$1)","v":110},228,8,194,69,106,113,110,111,48,null,100,8,{"$f":"MyXor(F691,$B693)","v":172},{"$f":"MyXor(G691,$B693)","v":43},{"$f":"MyXor(H691,$B693)","v":4},{"$f":"MyXor(I691,$B693)","v":31},{"$f":"MyXor(J691,$B693)","v":0},{"$f":"MyXor(K691,$B693)","v":1},{"$f":"MyXor(L691,$B693)","v":94},{"$f":"MyXor(M691,$B693)","v":110},null,100,8,0,43,4,31,0,1,94,110]
["Принято в обработку",null,null,"Принято в обработку"]
["ключ шифрования-110",110,null,"ключ шифрования-110"]
["zapros.s 43,4,31,",null,null,"zapros.s 43",4,31]
["228,5,66,110,110,198,",null,{"$f":"MyXor(F695,$C$1)","v":238},228,5,66,110,110,198,null,null,null,null,100,5,{"$f":"MyXor(F695,$B697)","v":172},{"$f":"MyXor(G695,$B697)","v":128},{"$f":"MyXor(H695,$B697)","v":128},{"$f":"MyXor(I695,$B697)","v":40},{"$f":"MyXor(J695,$B697)","v":238},{"$f":"MyXor(K695,$B697)","v":238},{"$f":"MyXor(L695,$B697)","v":238},{"$f":"MyXor(M695,$B697)","v":238},null,100,5,0,128,128,40,238,238,238,238]
["Принято в обработку",null,null,"Принято в обработку"]
["otvet 44,0,0,",238,null,"otvet 44",0,0]
["228,6,106,199,198,62,160,",null,{"$f":"MyXor(F698,$C$1)","v":198},228,6,106,199,198,62,160,null,null,null,100,6,{"$f":"MyXor(F698,$B700)","v":172},{"$f":"MyXor(G698,$B700)","v":1},{"$f":"MyXor(H698,$B700)","v":0},{"$f":"MyXor(I698,$B700)","v":248},{"$f":"MyXor(J698,$B700)","v":102},{"$f":"MyXor(K698,$B700)","v":198},{"$f":"MyXor(L698,$B700)","v":198},{"$f":"MyXor(M698,$B700)","v":198},null,100,6,0,1,0,248,102,198,198,198]
["Принято в обработку",null,null,"Принято в обработку"]
["ключ шифрования-198",198,null,"ключ шифрования-198"]
["zapros.s 1,0,248,",null,null,"zapros.s 1",0,248]
["ОТВЕТ ЭМУЛЯТОРА 196,197,198,",null,null,"ОТВЕТ ЭМУЛЯТОРА 196",197,198]
["228,9,200,193,230,198,198,198,198,37,",null,{"$f":"MyXor(F703,$C$1)","v":100},228,9,200,193,230,198,198,198,198,37,100,9,{"$f":"MyXor(F703,$B705)","v":172},{"$f":"MyXor(G703,$B705)","v":165},{"$f":"MyXor(H703,$B705)","v":130},{"$f":"MyXor(I703,$B705)","v":162},{"$f":"MyXor(J703,$B705)","v":162},{"$f":"MyXor(K703,$B705)","v":162},{"$f":"MyXor(L703,$B705)","v":162},{"$f":"MyXor(M703,$B705)","v":65},null,100,9,0,165,130,162,162,162,162]
["Принято в обработку",null,null,"Принято в обработку",null,null,null,null,null,null,null,null,null,null,null,null,null,null,null,null,null,null,null,null,{"$f":"MyXor(Y703,0)","v":100},{"$f":"MyXor(Z703,VLOOKUP(Y704,'Таблица CRC'!$A$43:$C$298,3,FALSE))","v":13},{"$f":"MyXor(AA703,VLOOKUP(Z704,'Таблица CRC'!$A$43:$C$298,3,FALSE))","v":253},{"$f":"MyXor(AB703,VLOOKUP(AA704,'Таблица CRC'!$A$43:$C$298,3,FALSE))","v":44},{"$f":"MyXor(AC703,VLOOKUP(AB704,'Таблица CRC'!$A$43:$C$298,3,FALSE))","v":2},{"$f":"MyXor(AD703,VLOOKUP(AC704,'Таблица CRC'!$A$43:$C$298,3,FALSE))","v":30},{"$f":"MyXor(AE703,VLOOKUP(AD704,'Таблица CRC'!$A$43:$C$298,3,FALSE))","v":32},{"$f":"MyXor(AF703,VLOOKUP(AE704,'Таблица CRC'!$A$43:$C$298,3,FALSE))","v":129},{"$f":"MyXor(AG703,VLOOKUP(AF704,'Таблица CRC'!$A$43:$C$298,3,FALSE))","v":112},{"$f":"MyXor(AH703,VLOOKUP(AG704,'Таблица CRC'!$A$43:$C$298,3,FALSE))","v":248}]
["ключ шифрования-100",100,null,"ключ шифрования-100",null,null,null,null,null,null,null,null,null,null,null,null,null,null,null,null,null,null,null,null,{"$f":"DEC2HEX(Y703,2)","v":"64"},{"$f":"DEC2HEX(Z703,2)","v":"09"},"00","A5","82","A2","A2","A2","A2",{"$f":"DEC2HEX(AH704,2)","v":"F8"},{"$f":"CONCATENATE(Y705,\" \",Z705,\" \",AA705,\" \",AB705,\" \",AC705,\" \",AD705,\" \",AE705,\" \",AF705,\" \",AG705,\" \",AH705)","v":"64 09 00 A5 82 A2 A2 A2 A2 F8"},"тоже"]
["zapros.s 165,130,162,",null,null,"zapros.s 165",130,162]
["228,6,106,197,198,198,89,",null,{"$f":"MyXor(F707,$C$1)","v":198},228,6,106,197,198,198,89,null,null,null,100,6,{"$f":"MyXor(F707,$B709)","v":172},{"$f":"MyXor(G707,$B709)","v":3},{"$f":"MyXor(H707,$B709)","v":0},{"$f":"MyXor(I707,$B709)","v":0},{"$f":"MyXor(J707,$B709)","v":159},{"$f":"MyXor(K707,$B709)","v":198},{"$f":"MyXor(L707,$B709)","v":198},{"$f":"MyXor(M707,$B709)","v":198},null,100,6,0,3,0,0,159,198,198,198]
["Принято в обработку",null,null,"Принято в обработку"]
["ключ шифрования-198",198,null,"ключ шифрования-198"]
["zapros.s 3,0,0,",null,null,"zapros.s 3",0,0]
["228,8,226,101,74,110,78,79,249,",null,{"$f":"MyXor(F711,$C$1)","v":78},228,8,226,101,74,110,78,79,249,null,{"$f":"IF(D711>127,D711-128,D711)","v":100},{"$f":"E711","v":8},{"$f":"MyXor(F711,$B713)","v":172},{"$f":"MyXor(G711,$B713)","v":43},{"$f":"MyXor(H711,$B713)","v":4},{"$f":"MyXor(I711,$B713)","v":32},{"$f":"MyXor(J711,$B713)","v":0},{"$f":"MyXor(K711,$B713)","v":1},{"$f":"MyXor(L711,$B713)","v":183},{"$f":"MyXor(M711,$B713)","v":78},null,100,8,0,43,4,32,0,1,183,78]
["Принято в обработку",null,null,"Принято в обработку"]
["ключ шифрования-78",78,null,"ключ шифрования-78"]
["zapros.s 43,4,32,",null,null,"zapros.s 43",4,32]
["228,5,98,78,78,176,",null,{"$f":"MyXor(F715,$C$1)","v":206},228,5,98,78,78,176,null,null,null,null,100,5,{"$f":"MyXor(F715,$B717)","v":172},{"$f":"MyXor(G715,$B717)","v":128},{"$f":"MyXor(H715,$B717)","v":128},{"$f":"MyXor(I715,$B717)","v":126},{"$f":"MyXor(J715,$B717)","v":206},{"$f":"MyXor(K715,$B717)","v":206},{"$f":"MyXor(L715,$B717)","v":206},{"$f":"MyXor(M715,$B717)","v":206},null,100,5,0,128,128,126,206,206,206,206]
["Принято в обработку",null,null,"Принято в обработку"]
["otvet 44,0,0,",206,null,"otvet 44",0,0]
["228,6,43,134,135,127,198,",null,{"$f":"MyXor(F718,$C$1)","v":135},228,6,43,134,135,127,198,null,null,null,100,6,{"$f":"MyXor(F718,$B720)","v":172},{"$f":"MyXor(G718,$B720)","v":1},{"$f":"MyXor(H718,$B720)","v":0},{"$f":"MyXor(I718,$B720)","v":248},{"$f":"MyXor(J718,$B720)","v":65},{"$f":"MyXor(K718,$B720)","v":135},{"$f":"MyXor(L718,$B720)","v":135},{"$f":"MyXor(M718,$B720)","v":135},null,100,6,0,1,0,248,65,135,135,135]
["Принято в обработку",null,null,"Принято в обработку"]
["ключ шифрования-135",135,null,"ключ шифрования-135"]
["zapros.s 1,0,248,",null,null,"zapros.s 1",0,248]
["ОТВЕТ ЭМУЛЯТОРА 133,132,135,",null,null,"ОТВЕТ ЭМУЛЯТОРА 133",132,135]
["228,6,43,132,135,135,63,",null,{"$f":"MyXor(F723,$C$1)","v":135},228,6,43,132,135,135,63,null,null,null,100,6,{"$f":"MyXor(F723,$B725)","v":172},{"$f":"MyXor(G723,$B725)","v":3},{"$f":"MyXor(H723,$B725)","v":0},{"$f":"MyXor(I723,$B725)","v":0},{"$f":"MyXor(J723,$B725)","v":184},{"$f":"MyXor(K723,$B725)","v":135},{"$f":"MyXor(L723,$B725)","v":135},{"$f":"MyXor(M723,$B725)","v":135},null,100,6,0,3,0,0,184,135,135,135]
["Принято в обработку",null,null,"Принято в обработку"]
["ключ шифрования-135",135,null,"ключ шифрования-135"]
["zapros.s 3,0,0,",null,null,"zapros.s 3",0,0]
["228,5,251,215,215,234,",null,{"$f":"MyXor(F727,$C$1)","v":87},228,5,251,215,215,234,null,null,null,null,100,5,{"$f":"MyXor(F727,$B729)","v":172},{"$f":"MyXor(G727,$B729)","v":128},{"$f":"MyXor(H727,$B729)","v":128},{"$f":"MyXor(I727,$B729)","v":189},{"$f":"MyXor(J727,$B729)","v":87},{"$f":"MyXor(K727,$B729)","v":87},{"$f":"MyXor(L727,$B729)","v":87},{"$f":"MyXor(M727,$B729)","v":87},null,100,5,0,128,128,189,87,87,87,87]
["Принято в обработку",null,null,"Принято в обработку"]
["otvet 124,80,80,",87,null,"otvet 124",80,80]
["228,6,182,27,26,226,36,",null,{"$f":"MyXor(F730,$C$1)","v":26},228,6,182,27,26,226,36,null,null,null,100,6,{"$f":"MyXor(F730,$B732)","v":172},{"$f":"MyXor(G730,$B732)","v":1},{"$f":"MyXor(H730,$B732)","v":0},{"$f":"MyXor(I730,$B732)","v":248},{"$f":"MyXor(J730,$B732)","v":62},{"$f":"MyXor(K730,$B732)","v":26},{"$f":"MyXor(L730,$B732)","v":26},{"$f":"MyXor(M730,$B732)","v":26},null,100,6,0,1,0,248,62,26,26,26]
["Принято в обработку",null,null,"Принято в обработку"]
["ключ шифрования-26",26,null,"ключ шифрования-26"]
["zapros.s 1,0,248,",null,null,"zapros.s 1",0,248]
["ОТВЕТ ЭМУЛЯТОРА 24,24,26,",null,null,"ОТВЕТ ЭМУЛЯТОРА 24",24,26]
["228,6,182,25,26,26,221,",null,{"$f":"MyXor(F735,$C$1)","v":26},228,6,182,25,26,26,221,null,null,null,100,6,{"$f":"MyXor(F735,$B737)","v":172},{"$f":"MyXor(G735,$B737)","v":3},{"$f":"MyXor(H735,$B737)","v":0},{"$f":"MyXor(I735,$B737)","v":0},{"$f":"MyXor(J735,$B737)","v":199},{"$f":"MyXor(K735,$B737)","v":26},{"$f":"MyXor(L735,$B737)","v":26},{"$f":"MyXor(M735,$B737)","v":26},null,100,6,0,3,0,0,199,26,26,26]
["Принято в обработку",null,null,"Принято в обработку"]
["ключ шифрования-26",26,null,"ключ шифрования-26"]
["zapros.s 3,0,0,",null,null,"zapros.s 3",0,0]
["228,6,122,215,214,46,119,",null,{"$f":"MyXor(F739,$C$1)","v":214},228,6,122,215,214,46,119,null,null,null,100,6,{"$f":"MyXor(F739,$B741)","v":172},{"$f":"MyXor(G739,$B741)","v":1},{"$f":"MyXor(H739,$B741)","v":0},{"$f":"MyXor(I739,$B741)","v":248},{"$f":"MyXor(J739,$B741)","v":161},{"$f":"MyXor(K739,$B741)","v":214},{"$f":"MyXor(L739,$B741)","v":214},{"$f":"MyXor(M739,$B741)","v":214},null,100,6,0,1,0,248,161,214,214,214]
["Принято в обработку",null,null,"Принято в обработку"]
["ключ шифрования-214",214,null,"ключ шифрования-214"]
["zapros.s 1,0,248,",null,null,"zapros.s 1",0,248]
["ОТВЕТ ЭМУЛЯТОРА 212,215,214,",null,null,"ОТВЕТ ЭМУЛЯТОРА 212",215,214]
["228,9,216,209,247,214,214,214,214,55,",null,{"$f":"MyXor(F744,$C$1)","v":116},228,9,216,209,247,214,214,214,214,55,100,9,{"$f":"MyXor(F744,$B746)","v":172},{"$f":"MyXor(G744,$B746)","v":165},{"$f":"MyXor(H744,$B746)","v":131},{"$f":"MyXor(I744,$B746)","v":162},{"$f":"MyXor(J744,$B746)","v":162},{"$f":"MyXor(K744,$B746)","v":162},{"$f":"MyXor(L744,$B746)","v":162},{"$f":"MyXor(M744,$B746)","v":67},null,100,9,0,165,131,162,162,162,162]
["Принято в обработку",null,null,"Принято в обработку",null,null,null,null,null,null,null,null,null,null,null,null,null,null,null,null,null,null,null,null,{"$f":"MyXor(Y744,0)","v":100},{"$f":"MyXor(Z744,VLOOKUP(Y745,'Таблица CRC'!$A$43:$C$298,3,FALSE))","v":13},{"$f":"MyXor(AA744,VLOOKUP(Z745,'Таблица CRC'!$A$43:$C$298,3,FALSE))","v":253},{"$f":"MyXor(AB744,VLOOKUP(AA745,'Таблица CRC'!$A$43:$C$298,3,FALSE))","v":44},{"$f":"MyXor(AC744,VLOOKUP(AB745,'Таблица CRC'!$A$43:$C$298,3,FALSE))","v":3},{"$f":"MyXor(AD744,VLOOKUP(AC745,'Таблица CRC'!$A$43:$C$298,3,FALSE))","v":64},{"$f":"MyXor(AE744,VLOOKUP(AD745,'Таблица CRC'!$A$43:$C$298,3,FALSE))","v":228},{"$f":"MyXor(AF744,VLOOKUP(AE745,'Таблица CRC'!$A$43:$C$298,3,FALSE))","v":42},{"$f":"MyXor(AG744,VLOOKUP(AF745,'Таблица CRC'!$A$43:$C$298,3,FALSE))","v":255},{"$f":"MyXor(AH744,VLOOKUP(AG745,'Таблица CRC'!$A$43:$C$298,3,FALSE))","v":53}]
["ключ шифрования-116",116,null,"ключ шифрования-116",null,null,null,null,null,null,null,null,null,null,null,null,null,null,null,null,null,null,null,null,{"$f":"DEC2HEX(Y744,2)","v":"64"},{"$f":"DEC2HEX(Z744,2)","v":"09"},"00","A5","83","A2","A2","A2","A2",{"$f":"DEC2HEX(AH745,2)","v":"35"},{"$f":"CONCATENATE(Y746,\" \",Z746,\" \",AA746,\" \",AB746,\" \",AC746,\" \",AD746,\" \",AE746,\" \",AF746,\" \",AG746,\" \",AH746)","v":"64 09 00 A5 83 A2 A2 A2 A2 35"},"тоже"]
["zapros.s 165,131,162,",null,null,"zapros.s 165",131,162]
["228,6,122,213,214,214,142,",null,{"$f":"MyXor(F748,$C$1)","v":214},228,6,122,213,214,214,142,null,null,null,100,6,{"$f":"MyXor(F748,$B750)","v":172},{"$f":"MyXor(G748,$B750)","v":3},{"$f":"MyXor(H748,$B750)","v":0},{"$f":"MyXor(I748,$B750)","v":0},{"$f":"MyXor(J748,$B750)","v":88},{"$f":"MyXor(K748,$B750)","v":214},{"$f":"MyXor(L748,$B750)","v":214},{"$f":"MyXor(M748,$B750)","v":214},null,100,6,0,3,0,0,88,214,214,214]
["Принято в обработку",null,null,"Принято в обработку"]
["ключ шифрования-214",214,null,"ключ шифрования-214"]
["zapros.s 3,0,0,",null,null,"zapros.s 3",0,0]
["228,8,143,8,39,2,35,34,213,",null,{"$f":"MyXor(F752,$C$1)","v":35},228,8,143,8,39,2,35,34,213,null,100,8,{"$f":"MyXor(F752,$B754)","v":172},{"$f":"MyXor(G752,$B754)","v":43},{"$f":"MyXor(H752,$B754)","v":4},{"$f":"MyXor(I752,$B754)","v":33},{"$f":"MyXor(J752,$B754)","v":0},{"$f":"MyXor(K752,$B754)","v":1},{"$f":"MyXor(L752,$B754)","v":246},{"$f":"MyXor(M752,$B754)","v":35},null,100,8,0,43,4,33,0,1,246,35]
["Принято в обработку",null,null,"Принято в обработку"]
["ключ шифрования-35",35,null,"ключ шифрования-35"]
["zapros.s 43,4,33,",null,null,"zapros.s 43",4,33]
["228,5,15,35,35,78,",null,{"$f":"MyXor(F756,$C$1)","v":163},228,5,15,35,35,78,null,null,null,null,100,5,{"$f":"MyXor(F756,$B758)","v":172},{"$f":"MyXor(G756,$B758)","v":128},{"$f":"MyXor(H756,$B758)","v":128},{"$f":"MyXor(I756,$B758)","v":237},{"$f":"MyXor(J756,$B758)","v":163},{"$f":"MyXor(K756,$B758)","v":163},{"$f":"MyXor(L756,$B758)","v":163},{"$f":"MyXor(M756,$B758)","v":163},null,100,5,0,128,128,237,163,163,163,163]
["Принято в обработку",null,null,"Принято в обработку"]
["otvet 44,0,0,",163,null,"otvet 44",0,0]
["228,6,34,143,142,118,245,",null,{"$f":"MyXor(F759,$C$1)","v":142},228,6,34,143,142,118,245,null,null,null,100,6,{"$f":"MyXor(F759,$B761)","v":172},{"$f":"MyXor(G759,$B761)","v":1},{"$f":"MyXor(H759,$B761)","v":0},{"$f":"MyXor(I759,$B761)","v":248},{"$f":"MyXor(J759,$B761)","v":123},{"$f":"MyXor(K759,$B761)","v":142},{"$f":"MyXor(L759,$B761)","v":142},{"$f":"MyXor(M759,$B761)","v":142},null,100,6,0,1,0,248,123,142,142,142]
["Принято в обработку",null,null,"Принято в обработку"]
["ключ шифрования-142",142,null,"ключ шифрования-142"]
["zapros.s 1,0,248,",null,null,"zapros.s 1",0,248]
["ОТВЕТ ЭМУЛЯТОРА 140,141,142,",null,null,"ОТВЕТ ЭМУЛЯТОРА 140",141,142]
["228,9,128,137,172,142,142,142,142,18,",null,{"$f":"MyXor(F764,$C$1)","v":44},228,9,128,137,172,142,142,142,142,18,100,9,{"$f":"MyXor(F764,$B766)","v":172},{"$f":"MyXor(G764,$B766)","v":165},{"$f":"MyXor(H764,$B766)","v":128},{"$f":"MyXor(I764,$B766)","v":162},{"$f":"MyXor(J764,$B766)","v":162},{"$f":"MyXor(K764,$B766)","v":162},{"$f":"MyXor(L764,$B766)","v":162},{"$f":"MyXor(M764,$B766)","v":62},null,100,9,0,165,128,162,162,162,162]
["Принято в обработку",null,null,"Принято в обработку",null,null,null,null,null,null,null,null,null,null,null,null,null,null,null,null,null,null,null,null,{"$f":"MyXor(Y764,0)","v":100},{"$f":"MyXor(Z764,VLOOKUP(Y765,'Таблица CRC'!$A$43:$C$298,3,FALSE))","v":13},{"$f":"MyXor(AA764,VLOOKUP(Z765,'Таблица CRC'!$A$43:$C$298,3,FALSE))","v":253},{"$f":"MyXor(AB764,VLOOKUP(AA765,'Таблица CRC'!$A$43:$C$298,3,FALSE))","v":44},{"$f":"MyXor(AC764,VLOOKUP(AB765,'Таблица CRC'!$A$43:$C$298,3,FALSE))","v":0},{"$f":"MyXor(AD764,VLOOKUP(AC765,'Таблица CRC'!$A$43:$C$298,3,FALSE))","v":162},{"$f":"MyXor(AE764,VLOOKUP(AD765,'Таблица CRC'!$A$43:$C$298,3,FALSE))","v":177},{"$f":"MyXor(AF764,VLOOKUP(AE765,'Таблица CRC'!$A$43:$C$298,3,FALSE))","v":206},{"$f":"MyXor(AG764,VLOOKUP(AF765,'Таблица CRC'!$A$43:$C$298,3,FALSE))","v":119},{"$f":"MyXor(AH764,VLOOKUP(AG765,'Таблица CRC'!$A$43:$C$298,3,FALSE))","v":123}]
["ключ шифрования-44",44,null,"ключ шифрования-44",null,null,null,null,null,null,null,null,null,null,null,null,null,null,null,null,null,null,null,null,{"$f":"DEC2HEX(Y764,2)","v":"64"},{"$f":"DEC2HEX(Z764,2)","v":"09"},"00","A5","80","A2","A2","A2",{"$f":"DEC2HEX(AG764,2)","v":"A2"},{"$f":"DEC2HEX(AH765,2)","v":"7B"},{"$f":"CONCATENATE(Y766,\" \",Z766,\" \",AA766,\" \",AB766,\" \",AC766,\" \",AD766,\" \",AE766,\" \",AF766,\" \",AG766,\" \",AH766)","v":"64 09 00 A5 80 A2 A2 A2 A2 7B"},"тоже"]
["zapros.s 165,128,162,",null,null,"zapros.s 165",128,162]
["228,6,34,141,142,142,12,",null,{"$f":"MyXor(F768,$C$1)","v":142},228,6,34,141,142,142,12,null,null,null,100,6,{"$f":"MyXor(F768,$B770)","v":172},{"$f":"MyXor(G768,$B770)","v":3},{"$f":"MyXor(H768,$B770)","v":0},{"$f":"MyXor(I768,$B770)","v":0},{"$f":"MyXor(J768,$B770)","v":130},{"$f":"MyXor(K768,$B770)","v":142},{"$f":"MyXor(L768,$B770)","v":142},{"$f":"MyXor(M768,$B770)","v":142},null,100,6,0,3,0,0,130,142,142,142]
["Принято в обработку",null,null,"Принято в обработку"]
["ключ шифрования-142",142,null,"ключ шифрования-142"]
["zapros.s 3,0,0,",null,null,"zapros.s 3",0,0]
["228,9,57,190,133,151,149,149,248,244,",null,{"$f":"MyXor(F772,$C$1)","v":149},228,9,57,190,133,151,149,149,248,244,100,9,{"$f":"MyXor(F772,$B774)","v":172},{"$f":"MyXor(G772,$B774)","v":43},{"$f":"MyXor(H772,$B774)","v":16},{"$f":"MyXor(I772,$B774)","v":2},{"$f":"MyXor(J772,$B774)","v":0},{"$f":"MyXor(K772,$B774)","v":0},{"$f":"MyXor(L772,$B774)","v":109},{"$f":"MyXor(M772,$B774)","v":97},null,100,9,0,43,16,22,0,0,108,null,null,"Вкл выкл диод 9 байт 109 вкл, любое другое  выкл\n номер диода 6 байт \n(ответ БКИ 64 05 2C 00 00 A0)"]
["Принято в обработку",null,null,"Принято в обработку",null,null,null,null,null,null,null,null,null,null,null,null,null,null,null,null,null,null,null,null,{"$f":"MyXor(Y772,0)","v":100},{"$f":"MyXor(Z772,VLOOKUP(Y773,'Таблица CRC'!$A$43:$C$298,3,FALSE))","v":13},{"$f":"MyXor(AA772,VLOOKUP(Z773,'Таблица CRC'!$A$43:$C$298,3,FALSE))","v":253},{"$f":"MyXor(AB772,VLOOKUP(AA773,'Таблица CRC'!$A$43:$C$298,3,FALSE))","v":162},{"$f":"MyXor(AC772,VLOOKUP(AB773,'Таблица CRC'!$A$43:$C$298,3,FALSE))","v":3},{"$f":"MyXor(AD772,VLOOKUP(AC773,'Таблица CRC'!$A$43:$C$298,3,FALSE))","v":244},{"$f":"MyXor(AE772,VLOOKUP(AD773,'Таблица CRC'!$A$43:$C$298,3,FALSE))","v":21},{"$f":"MyXor(AF772,VLOOKUP(AE773,'Таблица CRC'!$A$43:$C$298,3,FALSE))","v":162},{"$f":"MyXor(AG772,VLOOKUP(AF773,'Таблица CRC'!$A$43:$C$298,3,FALSE))","v":127},{"$f":"MyXor(AH772,VLOOKUP(AG773,'Таблица CRC'!$A$43:$C$298,3,FALSE))","v":185}]
["ключ шифрования-149",149,null,"ключ шифрования-149",null,null,null,null,null,null,null,null,null,null,null,null,null,null,null,null,null,null,null,null,{"$f":"DEC2HEX(Y772,2)","v":"64"},{"$f":"DEC2HEX(Z772,2)","v":"09"},"00","2B","10","16","00","00",{"$f":"DEC2HEX(AG772,2)","v":"6C"},{"$f":"DEC2HEX(AH773,2)","v":"B9"},{"$f":"CONCATENATE(Y774,\" \",Z774,\" \",AA774,\" \",AB774,\" \",AC774,\" \",AD774,\" \",AE774,\" \",AF774,\" \",AG774,\" \",AH774)","v":"64 09 00 2B 10 16 00 00 6C B9"}]
["zapros.s 43,16,2,",null,null,"zapros.s 43",16,2]
["228,5,185,149,149,100,",null,{"$f":"MyXor(F776,$C$1)","v":21},228,5,185,149,149,100,null,null,null,null,{"$f":"IF(D776>127,D776-128,D776)","v":100},{"$f":"E776","v":5},{"$f":"MyXor(F776,$B778)","v":172},{"$f":"MyXor(G776,$B778)","v":128},{"$f":"MyXor(H776,$B778)","v":128},{"$f":"MyXor(I776,$B778)","v":113},{"$f":"MyXor(J776,$B778)","v":21},{"$f":"MyXor(K776,$B778)","v":21},{"$f":"MyXor(L776,$B778)","v":21},{"$f":"MyXor(M776,$B778)","v":21},null,100,5,0,128,128,113,21,21,21,21,null,"64 05 2C 00 00 A0"]
["Принято в обработку",null,null,"Принято в обработку"]
["otvet 44,0,0,",21,null,"otvet 44",0,0]
["228,9,156,27,33,49,50,48,48,235,",null,{"$f":"MyXor(F779,$C$1)","v":48},228,9,156,27,33,49,50,48,48,235,100,9,{"$f":"MyXor(F779,$B781)","v":172},{"$f":"MyXor(G779,$B781)","v":43},{"$f":"MyXor(H779,$B781)","v":17},{"$f":"MyXor(I779,$B781)","v":1},{"$f":"MyXor(J779,$B781)","v":2},{"$f":"MyXor(K779,$B781)","v":0},{"$f":"MyXor(L779,$B781)","v":0},{"$f":"MyXor(M779,$B781)","v":219},null,100,9,0,43,17,1,2,0,0]
["Принято в обработку",null,null,"Принято в обработку",null,null,null,null,null,null,null,null,null,null,null,null,null,null,null,null,null,null,null,null,{"$f":"MyXor(Y779,0)","v":100},{"$f":"MyXor(Z779,VLOOKUP(Y780,'Таблица CRC'!$A$43:$C$298,3,FALSE))","v":13},{"$f":"MyXor(AA779,VLOOKUP(Z780,'Таблица CRC'!$A$43:$C$298,3,FALSE))","v":253},{"$f":"MyXor(AB779,VLOOKUP(AA780,'Таблица CRC'!$A$43:$C$298,3,FALSE))","v":162},{"$f":"MyXor(AC779,VLOOKUP(AB780,'Таблица CRC'!$A$43:$C$298,3,FALSE))","v":2},{"$f":"MyXor(AD779,VLOOKUP(AC780,'Таблица CRC'!$A$43:$C$298,3,FALSE))","v":189},{"$f":"MyXor(AE779,VLOOKUP(AD780,'Таблица CRC'!$A$43:$C$298,3,FALSE))","v":205},{"$f":"MyXor(AF779,VLOOKUP(AE780,'Таблица CRC'!$A$43:$C$298,3,FALSE))","v":55},{"$f":"MyXor(AG779,VLOOKUP(AF780,'Таблица CRC'!$A$43:$C$298,3,FALSE))","v":61},{"$f":"MyXor(AH779,VLOOKUP(AG780,'Таблица CRC'!$A$43:$C$298,3,FALSE))","v":67}]
["ключ шифрования-48",48,null,"ключ шифрования-48",null,null,null,null,null,null,null,null,null,null,null,null,null,null,null,null,null,null,null,null,{"$f":"DEC2HEX(Y779,2)","v":"64"},{"$f":"DEC2HEX(Z779,2)","v":"09"},"00","2B","11","01","02","00",{"$f":"DEC2HEX(AG779,2)","v":"00"},{"$f":"DEC2HEX(AH780,2)","v":"43"},{"$f":"CONCATENATE(Y781,\" \",Z781,\" \",AA781,\" \",AB781,\" \",AC781,\" \",AD781,\" \",AE781,\" \",AF781,\" \",AG781,\" \",AH781)","v":"64 09 00 2B 11 01 02 00 00 43"},"64 05 2C 00 00 A0"]
["zapros.s 43,17,1,",null,null,"zapros.s 43",17,1]
["228,5,28,48,48,38,",null,{"$f":"MyXor(F783,$C$1)","v":176},228,5,28,48,48,38,null,null,null,null,100,5,{"$f":"MyXor(F783,$B785)","v":172},{"$f":"MyXor(G783,$B785)","v":128},{"$f":"MyXor(H783,$B785)","v":128},{"$f":"MyXor(I783,$B785)","v":150},{"$f":"MyXor(J783,$B785)","v":176},{"$f":"MyXor(K783,$B785)","v":176},{"$f":"MyXor(L783,$B785)","v":176},{"$f":"MyXor(M783,$B785)","v":176},null,100,5,0,128,128,150,176,176,176,176]
["Принято в обработку",null,null,"Принято в обработку"]
["otvet 44,0,0,",176,null,"otvet 44",0,0]
["228,8,122,253,210,244,214,215,185,",null,{"$f":"MyXor(F786,$C$1)","v":214},228,8,122,253,210,244,214,215,185,null,100,8,{"$f":"MyXor(F786,$B788)","v":172},{"$f":"MyXor(G786,$B788)","v":43},{"$f":"MyXor(H786,$B788)","v":4},{"$f":"MyXor(I786,$B788)","v":34},{"$f":"MyXor(J786,$B788)","v":0},{"$f":"MyXor(K786,$B788)","v":1},{"$f":"MyXor(L786,$B788)","v":111},{"$f":"MyXor(M786,$B788)","v":214},null,100,8,0,43,4,34,0,1]
["Принято в обработку",null,null,"Принято в обработку",null,null,null,null,null,null,null,null,null,null,null,null,null,null,null,null,null,null,null,null,{"$f":"MyXor(Y786,0)","v":100},{"$f":"MyXor(Z786,VLOOKUP(Y787,'Таблица CRC'!$A$43:$C$298,3,FALSE))","v":12},{"$f":"MyXor(AA786,VLOOKUP(Z787,'Таблица CRC'!$A$43:$C$298,3,FALSE))","v":163},{"$f":"MyXor(AB786,VLOOKUP(AA787,'Таблица CRC'!$A$43:$C$298,3,FALSE))","v":102},{"$f":"MyXor(AC786,VLOOKUP(AB787,'Таблица CRC'!$A$43:$C$298,3,FALSE))","v":188},{"$f":"MyXor(AD786,VLOOKUP(AC787,'Таблица CRC'!$A$43:$C$298,3,FALSE))","v":179},{"$f":"MyXor(AE786,VLOOKUP(AD787,'Таблица CRC'!$A$43:$C$298,3,FALSE))","v":208},{"$f":"MyXor(AF786,VLOOKUP(AE787,'Таблица CRC'!$A$43:$C$298,3,FALSE))","v":86},{"$f":"MyXor(AG786,VLOOKUP(AF787,'Таблица CRC'!$A$43:$C$298,3,FALSE))","v":6}]
["ключ шифрования-214",214,null,"ключ шифрования-214",null,null,null,null,null,null,null,null,null,null,null,null,null,null,null,null,null,null,null,null,{"$f":"DEC2HEX(Y786,2)","v":"64"},{"$f":"DEC2HEX(Z786,2)","v":"08"},"00","2B","04","22","00","01",{"$f":"DEC2HEX(AG787,2)","v":"06"},null,{"$f":"CONCATENATE(Y788,\" \",Z788,\" \",AA788,\" \",AB788,\" \",AC788,\" \",AD788,\" \",AE788,\" \",AF788,\" \",AG788,\" \",AH788)","v":"64 08 00 2B 04 22 00 01 06 "},"64 05 2C 00 00 A0"]
["zapros.s 43,4,34,",null,null,"zapros.s 43",4,34]
["228,5,250,214,214,219,",null,{"$f":"MyXor(F790,$C$1)","v":86},228,5,250,214,214,219,null,null,null,null,100,5,{"$f":"MyXor(F790,$B792)","v":172},{"$f":"MyXor(G790,$B792)","v":128},{"$f":"MyXor(H790,$B792)","v":128},{"$f":"MyXor(I790,$B792)","v":141},{"$f":"MyXor(J790,$B792)","v":86},{"$f":"MyXor(K790,$B792)","v":86},{"$f":"MyXor(L790,$B792)","v":86},{"$f":"MyXor(M790,$B792)","v":86},null,100,5,0,128,128,141,86,86,86,86]
["Принято в обработку",null,null,"Принято в обработку"]
["otvet 44,0,0,",86,null,"otvet 44",0,0]
["228,6,155,54,55,207,219,",null,{"$f":"MyXor(F793,$C$1)","v":55},228,6,155,54,55,207,219,null,null,null,100,6,{"$f":"MyXor(F793,$B795)","v":172},{"$f":"MyXor(G793,$B795)","v":1},{"$f":"MyXor(H793,$B795)","v":0},{"$f":"MyXor(I793,$B795)","v":248},{"$f":"MyXor(J793,$B795)","v":236},{"$f":"MyXor(K793,$B795)","v":55},{"$f":"MyXor(L793,$B795)","v":55},{"$f":"MyXor(M793,$B795)","v":55},null,100,6,0,1,0,248,236,55,55,55]
["Принято в обработку",null,null,"Принято в обработку"]
["ключ шифрования-55",55,null,"ключ шифрования-55"]
["zapros.s 1,0,248,",null,null,"zapros.s 1",0,248]
["ОТВЕТ ЭМУЛЯТОРА 53,48,55,",null,null,"ОТВЕТ ЭМУЛЯТОРА 53",48,55]
["228,9,57,48,20,55,55,55,55,240,",null,{"$f":"MyXor(F798,$C$1)","v":149},228,9,57,48,20,55,55,55,55,240,100,9,{"$f":"MyXor(F798,$B800)","v":172},{"$f":"MyXor(G798,$B800)","v":165},{"$f":"MyXor(H798,$B800)","v":129},{"$f":"MyXor(I798,$B800)","v":162},{"$f":"MyXor(J798,$B800)","v":162},{"$f":"MyXor(K798,$B800)","v":162},{"$f":"MyXor(L798,$B800)","v":162},{"$f":"MyXor(M798,$B800)","v":101},null,100,9,0,165,129,162,162,162,162]
["Принято в обработку",null,null,"Принято в обработку",null,null,null,null,null,null,null,null,null,null,null,null,null,null,null,null,null,null,null,null,{"$f":"MyXor(Y798,0)","v":100},{"$f":"MyXor(Z798,VLOOKUP(Y799,'Таблица CRC'!$A$43:$C$298,3,FALSE))","v":13},{"$f":"MyXor(AA798,VLOOKUP(Z799,'Таблица CRC'!$A$43:$C$298,3,FALSE))","v":253},{"$f":"MyXor(AB798,VLOOKUP(AA799,'Таблица CRC'!$A$43:$C$298,3,FALSE))","v":44},{"$f":"MyXor(AC798,VLOOKUP(AB799,'Таблица CRC'!$A$43:$C$298,3,FALSE))","v":1},{"$f":"MyXor(AD798,VLOOKUP(AC799,'Таблица CRC'!$A$43:$C$298,3,FALSE))","v":252},{"$f":"MyXor(AE798,VLOOKUP(AD799,'Таблица CRC'!$A$43:$C$298,3,FALSE))","v":117},{"$f":"MyXor(AF798,VLOOKUP(AE799,'Таблица CRC'!$A$43:$C$298,3,FALSE))","v":101},{"$f":"MyXor(AG798,VLOOKUP(AF799,'Таблица CRC'!$A$43:$C$298,3,FALSE))","v":248},{"$f":"MyXor(AH798,VLOOKUP(AG799,'Таблица CRC'!$A$43:$C$298,3,FALSE))","v":182}]
["ключ шифрования-149",149,null,"ключ шифрования-149",null,null,null,null,null,null,null,null,null,null,null,null,null,null,null,null,null,null,null,null,{"$f":"DEC2HEX(Y798,2)","v":"64"},{"$f":"DEC2HEX(Z798,2)","v":"09"},"00","A5","81","A2","A2","A2",{"$f":"DEC2HEX(AG798,2)","v":"A2"},{"$f":"DEC2HEX(AH799,2)","v":"B6"},{"$f":"CONCATENATE(Y800,\" \",Z800,\" \",AA800,\" \",AB800,\" \",AC800,\" \",AD800,\" \",AE800,\" \",AF800,\" \",AG800,\" \",AH800)","v":"64 09 00 A5 81 A2 A2 A2 A2 B6"},"64 05 0A 00 00 E5"]
["zapros.s 165,129,162,",null,null,"zapros.s 165",129,162]

{"sheet":"принятый лог comport","index":2,"n_rows":617,"n_cols":8,"rows_kept":617,"cut":false,"hidden":false,"merged":[]}
[null,null,null,null,"адресс 100","адресс 103 Сигнал 20","широковещательная посылка в данном случае включаются диоды","СП-1 адрес 20"]
[]
["000001 14:35:37.774  64 06 00 01 00 F8 9E 64 06 04 CB 00 00 d....шћd..Л..",{"$f":"RIGHT(A3,52)","v":"64 06 00 01 00 F8 9E 64 06 04 CB 00 00 d....шћd..Л.."},"64 06 00 01 00 F8 9E 64 06 04 CB 00 00","64 06 00 01 00 F8 9E",{"$f":"IF((LEFT(D3,2)=\"64\"),$D$3,\" \")","v":"64 06 00 01 00 F8 9E"},{"$f":"IF((LEFT($D3,2)=\"67\"),$D3,\" \")","v":" "},{"$f":"IF((LEFT($D3,2)=\"00\"),$D3,\" \")","v":" "},{"$f":"IF((LEFT($D3,2)=\"94\"),$D3,\" \")","v":" "}]
["000002 14:35:37.790  1F 64 06 00 11 AC AC CD 64 05 12 AC AC .d...¬¬Нd..¬¬",{"$f":"RIGHT(A4,52)","v":"1F 64 06 00 11 AC AC CD 64 05 12 AC AC .d...¬¬Нd..¬¬"},"1F 64 06 00 11 AC AC CD 64 05 12 AC AC","64 06 04 CB 00 00 1F",{"$f":"IF((LEFT(D4,2)=\"64\"),D4,\" \")","v":"64 06 04 CB 00 00 1F"},{"$f":"IF((LEFT($D4,2)=\"67\"),$D4,\" \")","v":" "},{"$f":"IF((LEFT($D4,2)=\"00\"),$D4,\" \")","v":" "},{"$f":"IF((LEFT($D4,2)=\"94\"),$D4,\" \")","v":" "}]
["000003 14:35:37.822  25 67 06 00 01 00 F8 C7 67 0B 0C CB 00 %g....шЗg..Л.","25 67 06 00 01 00 F8 C7 67 0B 0C CB 00 %g....шЗg..Л.","25 67 06 00 01 00 F8 C7 67 0B 0C CB 00","64 06 00 11 AC AC CD","64 06 00 11 AC AC CD"," "," "," "]
["000004 14:35:38.095  00 00 01 00 00 00 5C 67 06 00 11 4E 4E ......\\g...NN","00 00 01 00 00 00 5C 67 06 00 11 4E 4E ......\\g...NN","00 00 01 00 00 00 5C 67 06 00 11 4E 4E","64 05 12 AC AC 25","64 05 12 AC AC 25"," "," "," "]
["000005 14:35:38.111  25 67 05 12 4E 4E DA 01 06 00 01 00 F8 %g..NNЪ.....ш","25 67 05 12 4E 4E DA 01 06 00 01 00 F8 %g..NNЪ.....ш","25 67 05 12 4E 4E DA 01 06 00 01 00 F8","67 06 00 01 00 F8 C7"," ","67 06 00 01 00 F8 C7"," "," "]
["000006 14:35:38.127  B6 E4 06 00 BB AC AF 59 E4 05 B4 AC AF ¶д..»¬ЇYд.ґ¬Ї","B6 E4 06 00 BB AC AF 59 E4 05 B4 AC AF ¶д..»¬ЇYд.ґ¬Ї","B6 E4 06 00 BB AC AF 59 E4 05 B4 AC AF","67 0B 0C CB 00 00 00 01 00 00 00 5C"," ","67 0B 0C CB 00 00 00 01 00 00 00 5C"," "," "]
["000007 14:35:38.159  2B E4 06 5E F3 F2 0A BB E4 06 F6 39 F2 +д.^ут.»д.ц9т","2B E4 06 5E F3 F2 0A BB E4 06 F6 39 F2 +д.^ут.»д.ц9т","2B E4 06 5E F3 F2 0A BB E4 06 F6 39 F2","67 06 00 11 4E 4E 25"," ","67 06 00 11 4E 4E 25"," "," "]
["000008 14:35:38.175  F2 81 E4 06 5E F1 F2 F2 42 E4 06 75 C0 тЃд.^сттBд.uА","F2 81 E4 06 5E F1 F2 F2 42 E4 06 75 C0 тЃд.^сттBд.uА","F2 81 E4 06 5E F1 F2 F2 42 E4 06 75 C0","67 05 12 4E 4E DA"," ","67 05 12 4E 4E DA"," "," "]
["000009 14:35:38.223  D9 D9 32 E4 06 C3 D9 1E 41 67 E7 06 F1 ЩЩ2д.ГЩ.Agз.с","D9 D9 32 E4 06 C3 D9 1E 41 67 E7 06 F1 ЩЩ2д.ГЩ.Agз.с","D9 D9 32 E4 06 C3 D9 1E 41 67 E7 06 F1","01 06 00 01 00 F8 B6"," "," "," "," "]
["000010 14:35:38.271  A6 BD BF 11 E7 05 A5 BD A7 6E 00 09 00 ¦Ѕї.з.ҐЅ§n...","A6 BD BF 11 E7 05 A5 BD A7 6E 00 09 00 ¦Ѕї.з.ҐЅ§n...","A6 BD BF 11 E7 05 A5 BD A7 6E 00 09 00","E4 06 00 BB AC AF 59",{"$f":"IF((LEFT(D12,2)=\"E4\"),D12,\" \")","v":"E4 06 00 BB AC AF 59"},{"$f":"IF((LEFT($D12,2)=\"E7\"),$D12,\" \")","v":" "}," "," "]
["000011 14:35:38.303  2B 10 02 00 10 18 EF 00 09 00 2B 10 02 +.....п...+..","2B 10 02 00 10 18 EF 00 09 00 2B 10 02 +.....п...+..","2B 10 02 00 10 18 EF 00 09 00 2B 10 02","E4 05 B4 AC AF 2B",{"$f":"IF((LEFT(D13,2)=\"E4\"),D13,\" \")","v":"E4 05 B4 AC AF 2B"},{"$f":"IF((LEFT($D13,2)=\"E7\"),$D13,\" \")","v":" "}," "," "]
["000012 14:35:38.319  00 10 18 EF 00 09 00 2B 10 02 00 10 18 ...п...+.....","00 10 18 EF 00 09 00 2B 10 02 00 10 18 ...п...+.....","00 10 18 EF 00 09 00 2B 10 02 00 10 18","E4 06 5E F3 F2 0A BB","E4 06 5E F3 F2 0A BB"," "," "," "]
["000013 14:35:38.351  EF 00 09 00 2B 10 02 00 10 18 EF 00 09 п...+.....п..","EF 00 09 00 2B 10 02 00 10 18 EF 00 09 п...+.....п..","EF 00 09 00 2B 10 02 00 10 18 EF 00 09","E4 06 F6 39 F2 F2 81","E4 06 F6 39 F2 F2 81"," "," "," "]
["000014 14:35:38.367  00 2B 10 02 00 10 18 EF 00 09 00 2B 10 .+.....п...+.","00 2B 10 02 00 10 18 EF 00 09 00 2B 10 .+.....п...+.","00 2B 10 02 00 10 18 EF 00 09 00 2B 10","E4 06 5E F1 F2 F2 42","E4 06 5E F1 F2 F2 42"," "," "," "]
["000015 14:35:38.383  02 00 10 18 EF E7 06 E9 A6 A7 5F D7 E7 ....пз.й¦§_Чз","02 00 10 18 EF E7 06 E9 A6 A7 5F D7 E7 ....пз.й¦§_Чз","02 00 10 18 EF E7 06 E9 A6 A7 5F D7 E7","E4 06 75 C0 D9 D9 32","E4 06 75 C0 D9 D9 32"," "," "," "]
["000016 14:35:38.447  0B AB 6C A7 A7 A7 A6 A7 A7 A7 39 E7 06 .«l§§§¦§§§9з.","0B AB 6C A7 A7 A7 A6 A7 A7 A7 39 E7 06 .«l§§§¦§§§9з.","0B AB 6C A7 A7 A7 A6 A7 A7 A7 39 E7 06","E4 06 C3 D9 1E 41 67","E4 06 C3 D9 1E 41 67"," "," "," "]
["000017 14:35:38.469  E9 A4 A7 A7 2E E7 06 A4 FD EA E9 ED E7 й¤§§.з.¤экйнз","E9 A4 A7 A7 2E E7 06 A4 FD EA E9 ED E7 й¤§§.з.¤экйнз","E9 A4 A7 A7 2E E7 06 A4 FD EA E9 ED E7","E7 06 F1 A6 BD BF 11"," ","E7 06 F1 A6 BD BF 11"," "," "]
["000018 14:35:38.495  05 E0 EE EA F3 E7 06 E3 B4 AD AD E6 E7 .аокуз.гґ­­жз","05 E0 EE EA F3 E7 06 E3 B4 AD AD E6 E7 .аокуз.гґ­­жз","05 E0 EE EA F3 E7 06 E3 B4 AD AD E6 E7","E7 05 A5 BD A7 6E"," ","E7 05 A5 BD A7 6E"," "," "]
["000019 14:35:38.543  06 B7 AD 6A 35 FD 02 06 00 01 00 F8 EF .·­j5э.....шп","06 B7 AD 6A 35 FD 02 06 00 01 00 F8 EF .·­j5э.....шп","06 B7 AD 6A 35 FD 02 06 00 01 00 F8 EF","00 09 00 2B 10 02 00 10 18 EF"," "," ","00 09 00 2B 10 02 00 10 18 EF"," "]
["000020 14:35:38.623  E4 06 88 25 24 DC 03 E4 09 2A 23 25 24 д.€%$Ь.д.*#%$","E4 06 88 25 24 DC 03 E4 09 2A 23 25 24 д.€%$Ь.д.*#%$","E4 06 88 25 24 DC 03 E4 09 2A 23 25 24","00 09 00 2B 10 02 00 10 18 EF"," "," ","00 09 00 2B 10 02 00 10 18 EF"," "]
["000021 14:35:38.639  24 24 24 BC E4 06 88 27 24 24 FA E4 06 $$$јд.€'$$ъд.","24 24 24 BC E4 06 88 27 24 24 FA E4 06 $$$јд.€'$$ъд.","24 24 24 BC E4 06 88 27 24 24 FA E4 06","00 09 00 2B 10 02 00 10 18 EF"," "," ","00 09 00 2B 10 02 00 10 18 EF"," "]
["000022 14:35:38.687  EE 5B 42 42 7F E4 06 58 42 85 DA 2A E7 о[BB\u007fд.XB…Ъ*з","EE 5B 42 42 7F E4 06 58 42 85 DA 2A E7 о[BB\u007fд.XB…Ъ*з","EE 5B 42 42 7F E4 06 58 42 85 DA 2A E7","00 09 00 2B 10 02 00 10 18 EF"," "," ","00 09 00 2B 10 02 00 10 18 EF"," "]
["000023 14:35:38.703  06 BA F5 F4 0C 03 E7 05 F6 F4 F4 E1 03 .єхф..з.цффб.","06 BA F5 F4 0C 03 E7 05 F6 F4 F4 E1 03 .єхф..з.цффб.","06 BA F5 F4 0C 03 E7 05 F6 F4 F4 E1 03","00 09 00 2B 10 02 00 10 18 EF"," "," ","00 09 00 2B 10 02 00 10 18 EF"," "]
["000024 14:35:38.735  06 00 01 00 F8 D8 E7 06 E2 B5 AC AC 58 ....шШз.вµ¬¬X","06 00 01 00 F8 D8 E7 06 E2 B5 AC AC 58 ....шШз.вµ¬¬X","06 00 01 00 F8 D8 E7 06 E2 B5 AC AC 58","00 09 00 2B 10 02 00 10 18 EF"," "," ","00 09 00 2B 10 02 00 10 18 EF"," "]
["000025 14:35:38.767  E7 06 B6 AC 6B 34 43 E4 06 53 FE FF 07 з.¶¬k4Cд.Sюя.","E7 06 B6 AC 6B 34 43 E4 06 53 FE FF 07 з.¶¬k4Cд.Sюя.","E7 06 B6 AC 6B 34 43 E4 06 53 FE FF 07","E7 06 E9 A6 A7 5F D7"," ","E7 06 E9 A6 A7 5F D7"," "," "]
["000026 14:35:38.783  42 E4 05 FD FF FF 6D E4 08 98 1F 24 35 Bд.эяяmд.\u0098.$5","42 E4 05 FD FF FF 6D E4 08 98 1F 24 35 Bд.эяяmд.\u0098.$5","42 E4 05 FD FF FF 6D E4 08 98 1F 24 35","E7 0B AB 6C A7 A7 A7 A6 A7 A7 A7 39"," ","E7 0B AB 6C A7 A7 A7 A6 A7 A7 A7 39"," "," "]
["000027 14:35:38.799  34 CB FD E4 05 18 34 34 E2 E7 06 DF 90 4Лэд..44вз.Яђ","34 CB FD E4 05 18 34 34 E2 E7 06 DF 90 4Лэд..44вз.Яђ","34 CB FD E4 05 18 34 34 E2 E7 06 DF 90","E7 06 E9 A4 A7 A7 2E"," ","E7 06 E9 A4 A7 A7 2E"," "," "]
["000028 14:35:38.831  91 69 7D E7 05 93 90 91 4A 04 06 00 01 ‘i}з.“ђ‘J....","91 69 7D E7 05 93 90 91 4A 04 06 00 01 ‘i}з.“ђ‘J....","91 69 7D E7 05 93 90 91 4A 04 06 00 01","E7 06 A4 FD EA E9 ED"," ","E7 06 A4 FD EA E9 ED"," "," "]
["000029 14:35:38.847  00 F8 5D E4 06 41 EC ED 15 24 E4 09 E3 .ш]д.Aмн.$д.г","00 F8 5D E4 06 41 EC ED 15 24 E4 09 E3 .ш]д.Aмн.$д.г","00 F8 5D E4 06 41 EC ED 15 24 E4 09 E3","E7 05 E0 EE EA F3"," ","E7 05 E0 EE EA F3"," "," "]
["000030 14:35:38.879  EA EE ED ED ED ED 5C E4 06 41 EE ED ED конннн\\д.Aонн","EA EE ED ED ED ED 5C E4 06 41 EE ED ED конннн\\д.Aонн","EA EE ED ED ED ED 5C E4 06 41 EE ED ED","E7 06 E3 B4 AD AD E6"," ","E7 06 E3 B4 AD AD E6"," "," "]
["000031 14:35:38.895  DD E4 08 51 D6 F9 FE FD FC 10 E4 05 D1 Эд.QЦщюэь.д.С","DD E4 08 51 D6 F9 FE FD FC 10 E4 05 D1 Эд.QЦщюэь.д.С","DD E4 08 51 D6 F9 FE FD FC 10 E4 05 D1","E7 06 B7 AD 6A 35 FD"," ","E7 06 B7 AD 6A 35 FD"," "," "]
["000032 14:35:38.927  FD FD 6F E7 06 CF 80 81 79 7E E7 05 83 ээoз.ПЂЃy~з.ѓ","FD FD 6F E7 06 CF 80 81 79 7E E7 05 83 ээoз.ПЂЃy~з.ѓ","FD FD 6F E7 06 CF 80 81 79 7E E7 05 83","02 06 00 01 00 F8 EF"," "," "," "," "]
["000033 14:35:38.959  83 81 24 05 06 00 01 00 F8 6A E4 06 BE ѓЃ$.....шjд.ѕ","83 81 24 05 06 00 01 00 F8 6A E4 06 BE ѓЃ$.....шjд.ѕ","83 81 24 05 06 00 01 00 F8 6A E4 06 BE","E4 06 88 25 24 DC 03","E4 06 88 25 24 DC 03"," "," "," "]
["000034 14:35:38.991  13 12 EA A9 E4 09 1C 15 16 12 12 12 12 ..к©д........","13 12 EA A9 E4 09 1C 15 16 12 12 12 12 ..к©д........","13 12 EA A9 E4 09 1C 15 16 12 12 12 12","E4 09 2A 23 25 24 24 24 24 BC","E4 09 2A 23 25 24 24 24 24 BC"," "," "," "]
["000035 14:35:39.007  19 E4 06 BE 11 12 12 50 E4 08 7E F9 D6 .д.ѕ...Pд.~щЦ","19 E4 06 BE 11 12 12 50 E4 08 7E F9 D6 .д.ѕ...Pд.~щЦ","19 E4 06 BE 11 12 12 50 E4 08 7E F9 D6","E4 06 88 27 24 24 FA","E4 06 88 27 24 24 FA"," "," "," "]
["000036 14:35:39.039  D6 D2 D3 F5 E4 05 FE D2 D2 1F E7 06 F3 ЦТУхд.юТТ.з.у","D6 D2 D3 F5 E4 05 FE D2 D2 1F E7 06 F3 ЦТУхд.юТТ.з.у","D6 D2 D3 F5 E4 05 FE D2 D2 1F E7 06 F3","E4 06 EE 5B 42 42 7F","E4 06 EE 5B 42 42 7F"," "," "," "]
["000037 14:35:39.055  BC BD 45 3C E7 05 BF BE BD F8 06 06 00 јЅE<з.їѕЅш...","BC BD 45 3C E7 05 BF BE BD F8 06 06 00 јЅE<з.їѕЅш...","BC BD 45 3C E7 05 BF BE BD F8 06 06 00","E4 06 58 42 85 DA 2A","E4 06 58 42 85 DA 2A"," "," "," "]
["000038 14:35:39.071  01 00 F8 33 E4 06 82 2F 2E D6 EB E4 09 ..ш3д.‚/.Цлд.","01 00 F8 33 E4 06 82 2F 2E D6 EB E4 09 ..ш3д.‚/.Цлд.","01 00 F8 33 E4 06 82 2F 2E D6 EB E4 09","E7 06 BA F5 F4 0C 03"," ","E7 06 BA F5 F4 0C 03"," "," "]
["000039 14:35:39.103  20 29 2B 2E 2E 2E 2E B2 E4 06 82 2D 2E  )+....Ід.‚-.","20 29 2B 2E 2E 2E 2E B2 E4 06 82 2D 2E  )+....Ід.‚-.","20 29 2B 2E 2E 2E 2E B2 E4 06 82 2D 2E","E7 05 F6 F4 F4 E1"," ","E7 05 F6 F4 F4 E1"," "," "]
["000040 14:35:39.135  2E 12 E4 08 D2 55 7A 7B 7E 7F 34 E4 05 ..д.ТUz{~\u007f4д.","2E 12 E4 08 D2 55 7A 7B 7E 7F 34 E4 05 ..д.ТUz{~\u007f4д.","2E 12 E4 08 D2 55 7A 7B 7E 7F 34 E4 05","03 06 00 01 00 F8 D8"," "," "," "," "]
["000041 14:35:39.151  52 7E 7E FD E7 06 EB A4 A5 5D B2 E7 05 R~~эз.л¤Ґ]Із.","52 7E 7E FD E7 06 EB A4 A5 5D B2 E7 05 R~~эз.л¤Ґ]Із.","52 7E 7E FD E7 06 EB A4 A5 5D B2 E7 05","E7 06 E2 B5 AC AC 58"," ","E7 06 E2 B5 AC AC 58"," "," "]
["000042 14:35:39.183  A7 A1 A5 3C 07 06 00 01 00 F8 04 E4 06 §ЎҐ<.....ш.д.","A7 A1 A5 3C 07 06 00 01 00 F8 04 E4 06 §ЎҐ<.....ш.д.","A7 A1 A5 3C 07 06 00 01 00 F8 04 E4 06","E7 06 B6 AC 6B 34 43"," ","E7 06 B6 AC 6B 34 43"," "," "]
["000043 14:35:39.215  CC 61 60 98 C5 E4 09 6E 67 66 60 60 60 Мa`\u0098Ед.ngf```","CC 61 60 98 C5 E4 09 6E 67 66 60 60 60 Мa`\u0098Ед.ngf```","CC 61 60 98 C5 E4 09 6E 67 66 60 60 60","E4 06 53 FE FF 07 42","E4 06 53 FE FF 07 42"," "," "," "]
["000044 14:35:39.231  60 47 E4 06 CC 63 60 60 EB E4 08 36 B1 `Gд.Мc``лд.6±","60 47 E4 06 CC 63 60 60 EB E4 08 36 B1 `Gд.Мc``лд.6±","60 47 E4 06 CC 63 60 60 EB E4 08 36 B1","E4 05 FD FF FF 6D","E4 05 FD FF FF 6D"," "," "," "]
["000045 14:35:39.263  9E 9C 9A 9B 38 E4 05 B6 9A 9A 62 E7 06 ћњљ›8д.¶љљbз.","9E 9C 9A 9B 38 E4 05 B6 9A 9A 62 E7 06 ћњљ›8д.¶љљbз.","9E 9C 9A 9B 38 E4 05 B6 9A 9A 62 E7 06","E4 08 98 1F 24 35 34 CB FD","E4 08 98 1F 24 35 34 CB FD"," "," "," "]
["000046 14:35:39.279  5B 14 15 ED AF E7 05 17 10 15 74 08 06 [..нЇз....t..","5B 14 15 ED AF E7 05 17 10 15 74 08 06 [..нЇз....t..","5B 14 15 ED AF E7 05 17 10 15 74 08 06","E4 05 18 34 34 E2","E4 05 18 34 34 E2"," "," "," "]
["000047 14:35:39.311  00 01 00 F8 20 E4 06 1F B2 B3 4B 09 E4 ...ш д..ІіK.д","00 01 00 F8 20 E4 06 1F B2 B3 4B 09 E4 ...ш д..ІіK.д","00 01 00 F8 20 E4 06 1F B2 B3 4B 09 E4","E7 06 DF 90 91 69 7D"," ","E7 06 DF 90 91 69 7D"," "," "]
["000048 14:35:39.343  09 BD B4 B4 B3 B3 B3 B3 27 E4 06 1F B0 .Ѕґґіііі'д..°","09 BD B4 B4 B3 B3 B3 B3 27 E4 06 1F B0 .Ѕґґіііі'д..°","09 BD B4 B4 B3 B3 B3 B3 27 E4 06 1F B0","E7 05 93 90 91 4A"," ","E7 05 93 90 91 4A"," "," "]
["000049 14:35:39.359  B3 B3 F0 E4 08 23 A4 8B 88 8F 8E FA E4 іірд.#¤‹€ЏЋъд","B3 B3 F0 E4 08 23 A4 8B 88 8F 8E FA E4 іірд.#¤‹€ЏЋъд","B3 B3 F0 E4 08 23 A4 8B 88 8F 8E FA E4","04 06 00 01 00 F8 5D"," "," "," "," "]
["000050 14:35:39.391  05 A3 8F 8F AC E7 06 D5 9A 9B 63 95 E7 .ЈЏЏ¬з.Хљ›c•з","05 A3 8F 8F AC E7 06 D5 9A 9B 63 95 E7 .ЈЏЏ¬з.Хљ›c•з","05 A3 8F 8F AC E7 06 D5 9A 9B 63 95 E7","E4 06 41 EC ED 15 24","E4 06 41 EC ED 15 24"," "," "," "]
["000051 14:35:39.407  05 99 9D 9B D7 09 06 00 01 00 F8 17 E4 .™ќ›Ч.....ш.д","05 99 9D 9B D7 09 06 00 01 00 F8 17 E4 .™ќ›Ч.....ш.д","05 99 9D 9B D7 09 06 00 01 00 F8 17 E4","E4 09 E3 EA EE ED ED ED ED 5C","E4 09 E3 EA EE ED ED ED ED 5C"," "," "," "]
["000052 14:35:39.439  06 92 3F 3E C6 FC E4 09 30 39 36 3E 3E .’?>Жьд.096>>","06 92 3F 3E C6 FC E4 09 30 39 36 3E 3E .’?>Жьд.096>>","06 92 3F 3E C6 FC E4 09 30 39 36 3E 3E","E4 06 41 EE ED ED DD","E4 06 41 EE ED ED DD"," "," "," "]
["000053 14:35:39.455  3E 3E 81 E4 06 92 3D 3E 3E 11 E4 08 BC >>Ѓд.’=>>.д.ј","3E 3E 81 E4 06 92 3D 3E 3E 11 E4 08 BC >>Ѓд.’=>>.д.ј","3E 3E 81 E4 06 92 3D 3E 3E 11 E4 08 BC","E4 08 51 D6 F9 FE FD FC 10","E4 08 51 D6 F9 FE FD FC 10"," "," "," "]
["000054 14:35:39.487  3B 14 18 10 11 6F E4 05 3C 10 10 50 E7 ;....oд.<..Pз","3B 14 18 10 11 6F E4 05 3C 10 10 50 E7 ;....oд.<..Pз","3B 14 18 10 11 6F E4 05 3C 10 10 50 E7","E4 05 D1 FD FD 6F","E4 05 D1 FD FD 6F"," "," "," "]
["000055 14:35:39.519  06 D6 99 98 60 B2 E7 05 9A 9F 98 40 0A .Ц™\u0098`Із.љџ\u0098@.","06 D6 99 98 60 B2 E7 05 9A 9F 98 40 0A .Ц™\u0098`Із.љџ\u0098@.","06 D6 99 98 60 B2 E7 05 9A 9F 98 40 0A","E7 06 CF 80 81 79 7E"," ","E7 06 CF 80 81 79 7E"," "," "]
["000056 14:35:39.535  06 00 01 00 F8 4E E4 06 6D C0 C1 39 65 ....шNд.mАБ9e","06 00 01 00 F8 4E E4 06 6D C0 C1 39 65 ....шNд.mАБ9e","06 00 01 00 F8 4E E4 06 6D C0 C1 39 65","E7 05 83 83 81 24"," ","E7 05 83 83 81 24"," "," "]
["000057 14:35:39.567  E4 09 CF C6 C8 C1 C1 C1 C1 58 E4 06 6D д.ПЖИББББXд.m","E4 09 CF C6 C8 C1 C1 C1 C1 58 E4 06 6D д.ПЖИББББXд.m","E4 09 CF C6 C8 C1 C1 C1 C1 58 E4 06 6D","05 06 00 01 00 F8 6A"," "," "," "," "]
["000058 14:35:39.583  C2 C1 C1 9C E4 08 97 10 3F 32 3B 3A 52 ВББњд.—.?2;:R","C2 C1 C1 9C E4 08 97 10 3F 32 3B 3A 52 ВББњд.—.?2;:R","C2 C1 C1 9C E4 08 97 10 3F 32 3B 3A 52","E4 06 BE 13 12 EA A9","E4 06 BE 13 12 EA A9"," "," "," "]
["000059 14:35:39.615  E4 05 17 3B 3B E4 E7 06 D7 98 99 61 F0 д..;;дз.Ч\u0098™aр","E4 05 17 3B 3B E4 E7 06 D7 98 99 61 F0 д..;;дз.Ч\u0098™aр","E4 05 17 3B 3B E4 E7 06 D7 98 99 61 F0","E4 09 1C 15 16 12 12 12 12 19","E4 09 1C 15 16 12 12 12 12 19"," "," "," "]
["000060 14:35:39.631  E7 05 9B 91 99 69 0B 06 00 01 00 F8 79 з.›‘™i.....шy","E7 05 9B 91 99 69 0B 06 00 01 00 F8 79 з.›‘™i.....шy","E7 05 9B 91 99 69 0B 06 00 01 00 F8 79","E4 06 BE 11 12 12 50","E4 06 BE 11 12 12 50"," "," "," "]
["000061 14:35:39.663  E4 06 66 CB CA 32 33 E4 09 C4 CD C0 CA д.fЛК23д.ДНАК","E4 06 66 CB CA 32 33 E4 09 C4 CD C0 CA д.fЛК23д.ДНАК","E4 06 66 CB CA 32 33 E4 09 C4 CD C0 CA","E4 08 7E F9 D6 D6 D2 D3 F5","E4 08 7E F9 D6 D6 D2 D3 F5"," "," "," "]
["000062 14:35:39.679  CA CA CA 7E E4 06 66 C9 CA CA CA E4 08 ККК~д.fЙКККд.","CA CA CA 7E E4 06 66 C9 CA CA CA E4 08 ККК~д.fЙКККд.","CA CA CA 7E E4 06 66 C9 CA CA CA E4 08","E4 05 FE D2 D2 1F","E4 05 FE D2 D2 1F"," "," "," "]
["000063 14:35:39.711  92 15 3A 34 3E 3F FB E4 05 12 3E 3E 11 ’.:4>?ыд..>>.","92 15 3A 34 3E 3F FB E4 05 12 3E 3E 11 ’.:4>?ыд..>>.","92 15 3A 34 3E 3F FB E4 05 12 3E 3E 11","E7 06 F3 BC BD 45 3C"," ","E7 06 F3 BC BD 45 3C"," "," "]
["000064 14:35:39.743  E7 06 A5 EA EB 13 9C E7 05 E9 E2 EB 6E з.Ґкл.њз.йвлn","E7 06 A5 EA EB 13 9C E7 05 E9 E2 EB 6E з.Ґкл.њз.йвлn","E7 06 A5 EA EB 13 9C E7 05 E9 E2 EB 6E","E7 05 BF BE BD F8"," ","E7 05 BF BE BD F8"," "," "]
["000065 14:35:39.759  0C 06 00 01 00 F8 FC E4 06 A7 0A 0B F3 .....шьд.§..у","0C 06 00 01 00 F8 FC E4 06 A7 0A 0B F3 .....шьд.§..у","0C 06 00 01 00 F8 FC E4 06 A7 0A 0B F3","06 06 00 01 00 F8 33"," "," "," "," "]
["000066 14:35:39.791  99 E4 09 05 0C 00 0B 0B 0B 0B 33 E4 06 ™д........3д.",{"$f":"RIGHT(A68,52)","v":"99 E4 09 05 0C 00 0B 0B 0B 0B 33 E4 06 ™д........3д."},"99 E4 09 05 0C 00 0B 0B 0B 0B 33 E4 06","E4 06 82 2F 2E D6 EB","E4 06 82 2F 2E D6 EB"," ",{"$f":"IF((LEFT($D68,2)=\"00\"),$D68,\" \")","v":" "},{"$f":"IF((LEFT($D68,2)=\"94\"),$D68,\" \")","v":" "}]
["000067 14:35:39.807  A7 08 0B 0B 60 E7 06 60 2F 2E D6 FC E7 §...`з.`/.Цьз","A7 08 0B 0B 60 E7 06 60 2F 2E D6 FC E7 §...`з.`/.Цьз","A7 08 0B 0B 60 E7 06 60 2F 2E D6 FC E7","E4 09 20 29 2B 2E 2E 2E 2E B2","E4 09 20 29 2B 2E 2E 2E 2E B2"," "," "," "]
["000068 14:35:39.839  05 2C 24 2E E3 E4 08 5A DD F2 FD F6 F7 .,$.гд.ZЭтэцч","05 2C 24 2E E3 E4 08 5A DD F2 FD F6 F7 .,$.гд.ZЭтэцч","05 2C 24 2E E3 E4 08 5A DD F2 FD F6 F7","E4 06 82 2D 2E 2E 12","E4 06 82 2D 2E 2E 12"," "," "," "]
["000069 14:35:39.855  EB E4 05 DA F6 F6 AD 0D 06 00 01 00 F8 лд.Ъцц­.....ш","EB E4 05 DA F6 F6 AD 0D 06 00 01 00 F8 лд.Ъцц­.....ш","EB E4 05 DA F6 F6 AD 0D 06 00 01 00 F8","E4 08 D2 55 7A 7B 7E 7F 34","E4 08 D2 55 7A 7B 7E 7F 34"," "," "," "]
["000070 14:35:39.871  CB E4 06 54 F9 F8 00 53 E4 09 F6 FF F4 Лд.Tщш.Sд.цяф","CB E4 06 54 F9 F8 00 53 E4 09 F6 FF F4 Лд.Tщш.Sд.цяф","CB E4 06 54 F9 F8 00 53 E4 09 F6 FF F4","E4 05 52 7E 7E FD","E4 05 52 7E 7E FD"," "," "," "]
["000071 14:35:39.903  F8 F8 F8 F8 68 E4 06 54 FB F8 F8 AA E4 шшшшhд.TышшЄд","F8 F8 F8 F8 68 E4 06 54 FB F8 F8 AA E4 шшшшhд.TышшЄд","F8 F8 F8 F8 68 E4 06 54 FB F8 F8 AA E4","E7 06 EB A4 A5 5D B2"," ","E7 06 EB A4 A5 5D B2"," "," "]
["000072 14:35:39.935  08 89 0E 21 29 25 24 D0 E4 05 09 25 25 .‰.!)%$Рд..%%","08 89 0E 21 29 25 24 D0 E4 05 09 25 25 .‰.!)%$Рд..%%","08 89 0E 21 29 25 24 D0 E4 05 09 25 25","E7 05 A7 A1 A5 3C"," ","E7 05 A7 A1 A5 3C"," "," "]
["000073 14:35:39.951  FC E7 06 A4 EB EA 12 22 E7 05 E8 E1 EA ьз.¤лк.\"з.ибк","FC E7 06 A4 EB EA 12 22 E7 05 E8 E1 EA ьз.¤лк.\"з.ибк","FC E7 06 A4 EB EA 12 22 E7 05 E8 E1 EA","07 06 00 01 00 F8 04"," "," "," "," "]
["000074 14:35:39.983  CE E7 06 4B 1C 04 05 B1 E7 05 1F 04 1D Оз.K...±з....","CE E7 06 4B 1C 04 05 B1 E7 05 1F 04 1D Оз.K...±з....","CE E7 06 4B 1C 04 05 B1 E7 05 1F 04 1D","E4 06 CC 61 60 98 C5","E4 06 CC 61 60 98 C5"," "," "," "]
["000075 14:35:39.999  44 0E 06 00 01 00 F8 92 00 09 01 2B 10 D.....ш’...+.","44 0E 06 00 01 00 F8 92 00 09 01 2B 10 D.....ш’...+.","44 0E 06 00 01 00 F8 92 00 09 01 2B 10","E4 09 6E 67 66 60 60 60 60 47",{"$f":"IF((LEFT(D77,2)=\"E4\"),D77,\" \")","v":"E4 09 6E 67 66 60 60 60 60 47"},{"$f":"IF((LEFT($D77,2)=\"E7\"),$D77,\" \")","v":" "}," "," "]
["000076 14:35:40.031  01 00 10 18 5A 00 09 01 2B 10 01 00 10 ....Z...+....","01 00 10 18 5A 00 09 01 2B 10 01 00 10 ....Z...+....","01 00 10 18 5A 00 09 01 2B 10 01 00 10","E4 06 CC 63 60 60 EB","E4 06 CC 63 60 60 EB"," "," "," "]
["000077 14:35:40.047  18 5A 00 09 01 2B 10 01 00 10 18 5A 00 .Z...+.....Z.","18 5A 00 09 01 2B 10 01 00 10 18 5A 00 .Z...+.....Z.","18 5A 00 09 01 2B 10 01 00 10 18 5A 00","E4 08 36 B1 9E 9C 9A 9B 38","E4 08 36 B1 9E 9C 9A 9B 38"," "," "," "]
["000078 14:35:40.079  09 01 2B 10 01 00 10 18 5A 00 09 01 2B ..+.....Z...+","09 01 2B 10 01 00 10 18 5A 00 09 01 2B ..+.....Z...+","09 01 2B 10 01 00 10 18 5A 00 09 01 2B","E4 05 B6 9A 9A 62","E4 05 B6 9A 9A 62"," "," "," "]
["000079 14:35:40.095  10 01 00 10 18 5A 00 09 01 2B 10 01 00 .....Z...+...","10 01 00 10 18 5A 00 09 01 2B 10 01 00 .....Z...+...","10 01 00 10 18 5A 00 09 01 2B 10 01 00","E7 06 5B 14 15 ED AF"," ","E7 06 5B 14 15 ED AF"," "," "]
["000080 14:35:40.127  10 18 5A E4 06 15 B8 B9 41 E1 E4 09 B7 ..Zд..ё№Aбд.·","10 18 5A E4 06 15 B8 B9 41 E1 E4 09 B7 ..Zд..ё№Aбд.·","10 18 5A E4 06 15 B8 B9 41 E1 E4 09 B7","E7 05 17 10 15 74"," ","E7 05 17 10 15 74"," "," "]
["000081 14:35:40.143  BE B4 B9 B9 B9 B9 8B E4 06 15 BA B9 B9 ѕґ№№№№‹д..є№№","BE B4 B9 B9 B9 B9 8B E4 06 15 BA B9 B9 ѕґ№№№№‹д..є№№","BE B4 B9 B9 B9 B9 8B E4 06 15 BA B9 B9","08 06 00 01 00 F8 20"," "," "," "," "]
["000082 14:35:40.159  18 E4 08 6D EA C5 CC C1 C0 93 E4 05 ED .д.mкЕМБА“д.н","18 E4 08 6D EA C5 CC C1 C0 93 E4 05 ED .д.mкЕМБА“д.н","18 E4 08 6D EA C5 CC C1 C0 93 E4 05 ED","E4 06 1F B2 B3 4B 09","E4 06 1F B2 B3 4B 09"," "," "," "]
["000083 14:35:40.191  C1 C1 77 E7 06 BE F1 F0 08 C9 E7 05 F2 ББwз.ѕср.Йз.т","C1 C1 77 E7 06 BE F1 F0 08 C9 E7 05 F2 ББwз.ѕср.Йз.т","C1 C1 77 E7 06 BE F1 F0 08 C9 E7 05 F2","E4 09 BD B4 B4 B3 B3 B3 B3 27","E4 09 BD B4 B4 B3 B3 B3 B3 27"," "," "," "]
["000084 14:35:40.207  FC F0 68 0F 06 00 01 00 F8 A5 E4 06 63 ьрh.....шҐд.c","FC F0 68 0F 06 00 01 00 F8 A5 E4 06 63 ьрh.....шҐд.c","FC F0 68 0F 06 00 01 00 F8 A5 E4 06 63","E4 06 1F B0 B3 B3 F0","E4 06 1F B0 B3 B3 F0"," "," "," "]
["000085 14:35:40.239  CE CF 37 47 E4 09 C1 C8 C1 CF CF CF CF ОП7Gд.БИБПППП","CE CF 37 47 E4 09 C1 C8 C1 CF CF CF CF ОП7Gд.БИБПППП","CE CF 37 47 E4 09 C1 C8 C1 CF CF CF CF","E4 08 23 A4 8B 88 8F 8E FA","E4 08 23 A4 8B 88 8F 8E FA"," "," "," "]
["000086 14:35:40.255  E5 E4 06 63 CC CF CF BE E4 08 89 0E 21 ед.cМППѕд.‰.!","E5 E4 06 63 CC CF CF BE E4 08 89 0E 21 ед.cМППѕд.‰.!","E5 E4 06 63 CC CF CF BE E4 08 89 0E 21","E4 05 A3 8F 8F AC","E4 05 A3 8F 8F AC"," "," "," "]
["000087 14:35:40.287  2B 25 24 9F E4 05 09 25 25 FC E7 06 AF +%$џд..%%ьз.Ї","2B 25 24 9F E4 05 09 25 25 FC E7 06 AF +%$џд..%%ьз.Ї","2B 25 24 9F E4 05 09 25 25 FC E7 06 AF","E7 06 D5 9A 9B 63 95"," ","E7 06 D5 9A 9B 63 95"," "," "]
["000088 14:35:40.319  E0 E1 19 74 E7 05 E3 EC E1 A6 10 06 00 аб.tз.гмб¦...","E0 E1 19 74 E7 05 E3 EC E1 A6 10 06 00 аб.tз.гмб¦...","E0 E1 19 74 E7 05 E3 EC E1 A6 10 06 00","E7 05 99 9D 9B D7"," ","E7 05 99 9D 9B D7"," "," "]
["000089 14:35:40.335  01 00 F8 DA E4 06 4E E3 E2 1A B8 E4 09 ..шЪд.Nгв.ёд.","01 00 F8 DA E4 06 4E E3 E2 1A B8 E4 09 ..шЪд.Nгв.ёд.","01 00 F8 DA E4 06 4E E3 E2 1A B8 E4 09","09 06 00 01 00 F8 17"," "," "," "," "]
["000090 14:35:40.367  EC E5 ED E2 E2 E2 E2 FC E4 06 4E E1 E2 менввввьд.Nбв","EC E5 ED E2 E2 E2 E2 FC E4 06 4E E1 E2 менввввьд.Nбв","EC E5 ED E2 E2 E2 E2 FC E4 06 4E E1 E2","E4 06 92 3F 3E C6 FC","E4 06 92 3F 3E C6 FC"," "," "," "]
["000091 14:35:40.383  E2 41 E4 08 E2 65 4A 41 4E 4F 32 E4 05 вAд.вeJANO2д.","E2 41 E4 08 E2 65 4A 41 4E 4F 32 E4 05 вAд.вeJANO2д.","E2 41 E4 08 E2 65 4A 41 4E 4F 32 E4 05","E4 09 30 39 36 3E 3E 3E 3E 81","E4 09 30 39 36 3E 3E 3E 3E 81"," "," "," "]
["000092 14:35:40.415  62 4E 4E B0 E7 06 FB B4 B5 4D B1 E7 05 bNN°з.ыґµM±з.","62 4E 4E B0 E7 06 FB B4 B5 4D B1 E7 05 bNN°з.ыґµM±з.","62 4E 4E B0 E7 06 FB B4 B5 4D B1 E7 05","E4 06 92 3D 3E 3E 11","E4 06 92 3D 3E 3E 11"," "," "," "]
["000093 14:35:40.447  B7 BB B5 E0 11 06 00 01 00 F8 ED E4 06 ·»µа.....шнд.","B7 BB B5 E0 11 06 00 01 00 F8 ED E4 06 ·»µа.....шнд.","B7 BB B5 E0 11 06 00 01 00 F8 ED E4 06","E4 08 BC 3B 14 18 10 11 6F","E4 08 BC 3B 14 18 10 11 6F"," "," "," "]
["000094 14:35:40.479  CA 67 66 9E 6A E4 09 68 61 76 66 66 66 Кgfћjд.havfff","CA 67 66 9E 6A E4 09 68 61 76 66 66 66 Кgfћjд.havfff","CA 67 66 9E 6A E4 09 68 61 76 66 66 66","E4 05 3C 10 10 50","E4 05 3C 10 10 50"," "," "," "]
["000095 14:35:40.495  66 A8 E4 06 CA 65 66 66 6F E4 08 63 E4 fЁд.Кeffoд.cд","66 A8 E4 06 CA 65 66 66 6F E4 08 63 E4 fЁд.Кeffoд.cд","66 A8 E4 06 CA 65 66 66 6F E4 08 63 E4","E7 06 D6 99 98 60 B2"," ","E7 06 D6 99 98 60 B2"," "," "]
["000096 14:35:40.528  CB DF CF CE 5A E4 05 E3 CF CF 40 E7 06 ЛЯПОZд.гПП@з.","CB DF CF CE 5A E4 05 E3 CF CF 40 E7 06 ЛЯПОZд.гПП@з.","CB DF CF CE 5A E4 05 E3 CF CF 40 E7 06","E7 05 9A 9F 98 40"," ","E7 05 9A 9F 98 40"," "," "]
["000097 14:35:40.544  16 59 58 A0 5A E7 05 5A 57 58 1B 12 06 .YX Zз.ZWX...","16 59 58 A0 5A E7 05 5A 57 58 1B 12 06 .YX Zз.ZWX...","16 59 58 A0 5A E7 05 5A 57 58 1B 12 06","0A 06 00 01 00 F8 4E"," "," "," "," "]
["000098 14:35:40.560  00 01 00 F8 B4 E4 06 DC 71 70 88 C6 E4 ...шґд.Ьqp€Жд","00 01 00 F8 B4 E4 06 DC 71 70 88 C6 E4 ...шґд.Ьqp€Жд","00 01 00 F8 B4 E4 06 DC 71 70 88 C6 E4","E4 06 6D C0 C1 39 65","E4 06 6D C0 C1 39 65"," "," "," "]
["000099 14:35:40.592  09 7E 77 61 70 70 70 70 B5 E4 06 DC 73 .~wappppµд.Ьs","09 7E 77 61 70 70 70 70 B5 E4 06 DC 73 .~wappppµд.Ьs","09 7E 77 61 70 70 70 70 B5 E4 06 DC 73","E4 09 CF C6 C8 C1 C1 C1 C1 58","E4 09 CF C6 C8 C1 C1 C1 C1 58"," "," "," "]
["000100 14:35:40.608  70 70 3F E4 08 99 1E 31 24 35 34 AE E4 pp?д.™.1$54®д","70 70 3F E4 08 99 1E 31 24 35 34 AE E4 pp?д.™.1$54®д","70 70 3F E4 08 99 1E 31 24 35 34 AE E4","E4 06 6D C2 C1 C1 9C","E4 06 6D C2 C1 C1 9C"," "," "," "]
["000101 14:35:40.640  05 19 35 35 D3 E7 06 4C 03 02 FA BD E7 ..55Уз.L..ъЅз","05 19 35 35 D3 E7 06 4C 03 02 FA BD E7 ..55Уз.L..ъЅз","05 19 35 35 D3 E7 06 4C 03 02 FA BD E7","E4 08 97 10 3F 32 3B 3A 52","E4 08 97 10 3F 32 3B 3A 52"," "," "," "]
["000102 14:35:40.672  05 00 12 02 CB 13 06 00 01 00 F8 83 E4 ....Л.....шѓд","05 00 12 02 CB 13 06 00 01 00 F8 83 E4 ....Л.....шѓд","05 00 12 02 CB 13 06 00 01 00 F8 83 E4","E4 05 17 3B 3B E4","E4 05 17 3B 3B E4"," "," "," "]
["000103 14:35:40.704  06 82 2F 2E D6 EB E4 09 20 29 3C 2E 2E .‚/.Цлд. )<..","06 82 2F 2E D6 EB E4 09 20 29 3C 2E 2E .‚/.Цлд. )<..","06 82 2F 2E D6 EB E4 09 20 29 3C 2E 2E","E7 06 D7 98 99 61 F0"," ","E7 06 D7 98 99 61 F0"," "," "]
["000104 14:35:40.720  2E 2E 9F E4 06 82 2D 2E 2E 12 E4 08 D7 ..џд.‚-...д.Ч","2E 2E 9F E4 06 82 2D 2E 2E 12 E4 08 D7 ..џд.‚-...д.Ч","2E 2E 9F E4 06 82 2D 2E 2E 12 E4 08 D7","E7 05 9B 91 99 69"," ","E7 05 9B 91 99 69"," "," "]
["000105 14:35:40.752  50 7F 69 7B 7A 49 E4 05 57 7B 7B 08 E7 P\u007fi{zIд.W{{.з","50 7F 69 7B 7A 49 E4 05 57 7B 7B 08 E7 P\u007fi{zIд.W{{.з","50 7F 69 7B 7A 49 E4 05 57 7B 7B 08 E7","0B 06 00 01 00 F8 79"," "," "," "," "]
["000106 14:35:40.768  06 9E D1 D0 28 CF E7 05 D2 C1 D0 7B 14 .ћСР(Пз.ТБР{.","06 9E D1 D0 28 CF E7 05 D2 C1 D0 7B 14 .ћСР(Пз.ТБР{.","06 9E D1 D0 28 CF E7 05 D2 C1 D0 7B 14","E4 06 66 CB CA 32 33","E4 06 66 CB CA 32 33"," "," "," "]
["000107 14:35:40.784  06 00 01 00 F8 06 14 0B 0C CB 00 00 00 ....ш....Л...","06 00 01 00 F8 06 14 0B 0C CB 00 00 00 ....ш....Л...","06 00 01 00 F8 06 14 0B 0C CB 00 00 00","E4 09 C4 CD C0 CA CA CA CA 7E","E4 09 C4 CD C0 CA CA CA CA 7E"," "," "," "]
["000108 14:35:40.800  00 00 00 00 3C 14 06 00 11 54 54 0C 14 ....<....TT..","00 00 00 00 3C 14 06 00 11 54 54 0C 14 ....<....TT..","00 00 00 00 3C 14 06 00 11 54 54 0C 14","E4 06 66 C9 CA CA CA","E4 06 66 C9 CA CA CA"," "," "," "]
["000109 14:35:40.832  05 12 54 54 C5 94 06 66 33 32 CA 5A 94 ..TTЕ”.f32КZ”","05 12 54 54 C5 94 06 66 33 32 CA 5A 94 ..TTЕ”.f32КZ”","05 12 54 54 C5 94 06 66 33 32 CA 5A 94","E4 08 92 15 3A 34 3E 3F FB","E4 08 92 15 3A 34 3E 3F FB"," "," "," "]
["000110 14:35:40.848  0B 3E F9 32 32 32 32 32 32 32 2D 94 06 .>щ2222222-”.","0B 3E F9 32 32 32 32 32 32 32 2D 94 06 .>щ2222222-”.","0B 3E F9 32 32 32 32 32 32 32 2D 94 06","E4 05 12 3E 3E 11","E4 05 12 3E 3E 11"," "," "," "]
["000111 14:35:40.864  66 31 32 32 A3 94 06 A9 EA FD FE 1D 94 f122Ј”.©кэю.”","66 31 32 32 A3 94 06 A9 EA FD FE 1D 94 f122Ј”.©кэю.”","66 31 32 32 A3 94 06 A9 EA FD FE 1D 94","E7 06 A5 EA EB 13 9C"," ","E7 06 A5 EA EB 13 9C"," "," "]
["000112 14:35:40.896  05 F7 FD FD 47 E4 06 C8 65 64 9C 0F E4 .чээGд.Иedњ.д","05 F7 FD FD 47 E4 06 C8 65 64 9C 0F E4 .чээGд.Иedњ.д","05 F7 FD FD 47 E4 06 C8 65 64 9C 0F E4","E7 05 E9 E2 EB 6E"," ","E7 05 E9 E2 EB 6E"," "," "]
["000113 14:35:40.928  09 6A 63 77 64 64 64 64 14 E4 06 C8 67 .jcwdddd.д.Иg","09 6A 63 77 64 64 64 64 14 E4 06 C8 67 .jcwdddd.д.Иg","09 6A 63 77 64 64 64 64 14 E4 06 C8 67","0C 06 00 01 00 F8 FC"," "," "," "," "]
["000114 14:35:40.944  64 64 F6 94 06 DE 93 8A 8A 13 94 05 80 ddц”.Ю“ЉЉ.”.Ђ","64 64 F6 94 06 DE 93 8A 8A 13 94 05 80 ddц”.Ю“ЉЉ.”.Ђ","64 64 F6 94 06 DE 93 8A 8A 13 94 05 80","E4 06 A7 0A 0B F3 99","E4 06 A7 0A 0B F3 99"," "," "," "]
["000115 14:35:40.976  8A 8A 71 E7 06 20 6F 6E 96 F0 E7 05 6C ЉЉqз. on–рз.l","8A 8A 71 E7 06 20 6F 6E 96 F0 E7 05 6C ЉЉqз. on–рз.l","8A 8A 71 E7 06 20 6F 6E 96 F0 E7 05 6C","E4 09 05 0C 00 0B 0B 0B 0B 33","E4 09 05 0C 00 0B 0B 0B 0B 33"," "," "," "]
["000116 14:35:41.024  7C 6E 95 15 06 00 01 00 F8 31 94 06 38 |n•.....ш1”.8","7C 6E 95 15 06 00 01 00 F8 31 94 06 38 |n•.....ш1”.8","7C 6E 95 15 06 00 01 00 F8 31 94 06 38","E4 06 A7 08 0B 0B 60","E4 06 A7 08 0B 0B 60"," "," "," "]
["000117 14:35:41.072  75 6C 6C AE 94 05 66 6C 6C 8C 94 06 9A ull®”.fllЊ”.љ","75 6C 6C AE 94 05 66 6C 6C 8C 94 06 9A ull®”.fllЊ”.љ","75 6C 6C AE 94 05 66 6C 6C 8C 94 06 9A","E7 06 60 2F 2E D6 FC"," ","E7 06 60 2F 2E D6 FC"," "," "]
["000118 14:35:41.088  CF CE 36 0C 94 0B C2 09 CE CE CE CE CE ПО6.”.В.ООООО","CF CE 36 0C 94 0B C2 09 CE CE CE CE CE ПО6.”.В.ООООО","CF CE 36 0C 94 0B C2 09 CE CE CE CE CE","E7 05 2C 24 2E E3"," ","E7 05 2C 24 2E E3"," "," "]
["000119 14:35:41.104  CE CE CA 94 06 9A CD CE CE F5 E4 08 98 ООК”.љНООхд.\u0098","CE CE CA 94 06 9A CD CE CE F5 E4 08 98 ООК”.љНООхд.\u0098","CE CE CA 94 06 9A CD CE CE F5 E4 08 98","E4 08 5A DD F2 FD F6 F7 EB","E4 08 5A DD F2 FD F6 F7 EB"," "," "," "]
["000120 14:35:41.136  1F 30 27 34 35 A5 E4 05 18 34 34 E2 E4 .0'45Ґд..44вд","1F 30 27 34 35 A5 E4 05 18 34 34 E2 E4 .0'45Ґд..44вд","1F 30 27 34 35 A5 E4 05 18 34 34 E2 E4","E4 05 DA F6 F6 AD","E4 05 DA F6 F6 AD"," "," "," "]
["000121 14:35:41.152  06 72 DF DE 26 FA E4 09 D0 D9 CA DE DE .rЯЮ&ъд.РЩКЮЮ","06 72 DF DE 26 FA E4 09 D0 D9 CA DE DE .rЯЮ&ъд.РЩКЮЮ","06 72 DF DE 26 FA E4 09 D0 D9 CA DE DE","0D 06 00 01 00 F8 CB"," "," "," "," "]
["000122 14:35:41.168  DE DE 82 E4 06 72 DD DE DE 03 E7 06 08 ЮЮ‚д.rЭЮЮ.з..","DE DE 82 E4 06 72 DD DE DE 03 E7 06 08 ЮЮ‚д.rЭЮЮ.з..","DE DE 82 E4 06 72 DD DE DE 03 E7 06 08","E4 06 54 F9 F8 00 53","E4 06 54 F9 F8 00 53"," "," "," "]
["000123 14:35:41.216  47 46 BE 7B E7 05 44 55 46 B6 E4 08 B0 GFѕ{з.DUF¶д.°","47 46 BE 7B E7 05 44 55 46 B6 E4 08 B0 GFѕ{з.DUF¶д.°","47 46 BE 7B E7 05 44 55 46 B6 E4 08 B0","E4 09 F6 FF F4 F8 F8 F8 F8 68","E4 09 F6 FF F4 F8 F8 F8 F8 68"," "," "," "]
["000124 14:35:41.232  37 18 08 1C 1D 85 E4 05 30 1C 1C 05 16 7....…д.0....","37 18 08 1C 1D 85 E4 05 30 1C 1C 05 16 7....…д.0....","37 18 08 1C 1D 85 E4 05 30 1C 1C 05 16","E4 06 54 FB F8 F8 AA","E4 06 54 FB F8 F8 AA"," "," "," "]
["000125 14:35:41.248  06 00 01 00 F8 68 94 06 04 51 50 A8 35 ....шh”..QPЁ5","06 00 01 00 F8 68 94 06 04 51 50 A8 35 ....шh”..QPЁ5","06 00 01 00 F8 68 94 06 04 51 50 A8 35","E4 08 89 0E 21 29 25 24 D0","E4 08 89 0E 21 29 25 24 D0"," "," "," "]
["000126 14:35:41.280  94 05 52 51 50 75 E4 06 C5 68 69 91 F6 ”.RQPuд.Еhi‘ц","94 05 52 51 50 75 E4 06 C5 68 69 91 F6 ”.RQPuд.Еhi‘ц","94 05 52 51 50 75 E4 06 C5 68 69 91 F6","E4 05 09 25 25 FC","E4 05 09 25 25 FC"," "," "," "]
["000127 14:35:41.312  E4 09 67 6E 7C 69 69 69 69 EF E4 06 C5 д.gn|iiiiпд.Е","E4 09 67 6E 7C 69 69 69 69 EF E4 06 C5 д.gn|iiiiпд.Е","E4 09 67 6E 7C 69 69 69 69 EF E4 06 C5","E7 06 A4 EB EA 12 22"," ","E7 06 A4 EB EA 12 22"," "," "]
["000128 14:35:41.328  6A 69 69 0F E4 08 88 0F 20 31 24 25 50 jii.д.€. 1$%P","6A 69 69 0F E4 08 88 0F 20 31 24 25 50 jii.д.€. 1$%P","6A 69 69 0F E4 08 88 0F 20 31 24 25 50","E7 05 E8 E1 EA CE"," ","E7 05 E8 E1 EA CE"," "," "]
["000129 14:35:41.360  E4 05 08 24 24 D9 E7 06 9D D2 D3 2B 14 д..$$Щз.ќТУ+.","E4 05 08 24 24 D9 E7 06 9D D2 D3 2B 14 д..$$Щз.ќТУ+.","E4 05 08 24 24 D9 E7 06 9D D2 D3 2B 14","E7 06 4B 1C 04 05 B1"," ","E7 06 4B 1C 04 05 B1"," "," "]
["000130 14:35:41.376  E7 05 D1 C7 D3 D7 17 06 00 01 00 F8 5F з.СЗУЧ.....ш_",{"$f":"RIGHT(A132,52)","v":"E7 05 D1 C7 D3 D7 17 06 00 01 00 F8 5F з.СЗУЧ.....ш_"},"E7 05 D1 C7 D3 D7 17 06 00 01 00 F8 5F","E7 05 1F 04 1D 44"," ","E7 05 1F 04 1D 44",{"$f":"IF((LEFT($D132,2)=\"00\"),$D132,\" \")","v":" "},{"$f":"IF((LEFT($D132,2)=\"94\"),$D132,\" \")","v":" "}]
["000131 14:35:41.408  94 06 E1 B4 B5 4D 53 94 05 B7 B7 B5 8E ”.бґµMS”.··µЋ","94 06 E1 B4 B5 4D 53 94 05 B7 B7 B5 8E ”.бґµMS”.··µЋ","94 06 E1 B4 B5 4D 53 94 05 B7 B7 B5 8E","0E 06 00 01 00 F8 92"," "," "," "," "]
["000132 14:35:41.424  E4 06 77 DA DB 23 8E E4 11 D5 D4 DA DA д.wЪЫ#Ћд.ХФЪЪ","E4 06 77 DA DB 23 8E E4 11 D5 D4 DA DA д.wЪЫ#Ћд.ХФЪЪ","E4 06 77 DA DB 23 8E E4 11 D5 D4 DA DA","00 09 01 2B 10 01 00 10 18 5A"," "," ","00 09 01 2B 10 01 00 10 18 5A"," "]
["000133 14:35:41.440  DB DB 2B CA CA 24 24 24 24 CF DA 7D E4 ЫЫ+КК$$$$ПЪ}д","DB DB 2B CA CA 24 24 24 24 CF DA 7D E4 ЫЫ+КК$$$$ПЪ}д","DB DB 2B CA CA 24 24 24 24 CF DA 7D E4","00 09 01 2B 10 01 00 10 18 5A"," "," ","00 09 01 2B 10 01 00 10 18 5A"," "]
["000134 14:35:41.472  06 77 D8 DB DB 77 E4 13 E1 66 5C 4C 4C .wШЫЫwд.бf\\LL","06 77 D8 DB DB 77 E4 13 E1 66 5C 4C 4C .wШЫЫwд.бf\\LL","06 77 D8 DB DB 77 E4 13 E1 66 5C 4C 4C","00 09 01 2B 10 01 00 10 18 5A"," "," ","00 09 01 2B 10 01 00 10 18 5A"," "]
["000135 14:35:41.488  4D 5D 4B BD 5C 5C B2 B2 B2 B2 59 55 82 M]KЅ\\\\ІІІІYU‚","4D 5D 4B BD 5C 5C B2 B2 B2 B2 59 55 82 M]KЅ\\\\ІІІІYU‚","4D 5D 4B BD 5C 5C B2 B2 B2 B2 59 55 82","00 09 01 2B 10 01 00 10 18 5A"," "," ","00 09 01 2B 10 01 00 10 18 5A"," "]
["000136 14:35:41.520  E4 05 61 4D 4D E3 E7 06 A0 EF EE 16 FC д.aMMгз. по.ь","E4 05 61 4D 4D E3 E7 06 A0 EF EE 16 FC д.aMMгз. по.ь","E4 05 61 4D 4D E3 E7 06 A0 EF EE 16 FC","00 09 01 2B 10 01 00 10 18 5A"," "," ","00 09 01 2B 10 01 00 10 18 5A"," "]
["000137 14:35:41.536  E7 05 EC FB EE 3A 18 06 00 01 00 F8 7B з.мыо:.....ш{","E7 05 EC FB EE 3A 18 06 00 01 00 F8 7B з.мыо:.....ш{","E7 05 EC FB EE 3A 18 06 00 01 00 F8 7B","00 09 01 2B 10 01 00 10 18 5A"," "," ","00 09 01 2B 10 01 00 10 18 5A"," "]
["000138 14:35:41.568  94 06 15 40 41 B9 88 94 05 43 42 41 EE ”..@A№€”.CBAо","94 06 15 40 41 B9 88 94 05 43 42 41 EE ”..@A№€”.CBAо","94 06 15 40 41 B9 88 94 05 43 42 41 EE","E4 06 15 B8 B9 41 E1","E4 06 15 B8 B9 41 E1"," "," "," "]
["000139 14:35:41.584  E4 06 0D A0 A1 59 6F E4 10 AF AC A0 A0 д.. ЎYoд.Ї¬  ","E4 06 0D A0 A1 59 6F E4 10 AF AC A0 A0 д.. ЎYoд.Ї¬  ","E4 06 0D A0 A1 59 6F E4 10 AF AC A0 A0","E4 09 B7 BE B4 B9 B9 B9 B9 8B",{"$f":"IF((LEFT(D141,2)=\"E4\"),D141,\" \")","v":"E4 09 B7 BE B4 B9 B9 B9 B9 8B"},{"$f":"IF((LEFT($D141,2)=\"E7\"),$D141,\" \")","v":" "}," "," "]
["000140 14:35:41.600  A1 51 B0 B0 5E 5E 5E 5E B5 A0 27 E4 06 ЎQ°°^^^^µ 'д.","A1 51 B0 B0 5E 5E 5E 5E B5 A0 27 E4 06 ЎQ°°^^^^µ 'д.","A1 51 B0 B0 5E 5E 5E 5E B5 A0 27 E4 06","E4 06 15 BA B9 B9 18","E4 06 15 BA B9 B9 18"," "," "," "]
["000141 14:35:41.632  0D A2 A1 A1 96 E7 06 DF 90 91 69 7D E7 .ўЎЎ–з.Яђ‘i}з","0D A2 A1 A1 96 E7 06 DF 90 91 69 7D E7 .ўЎЎ–з.Яђ‘i}з","0D A2 A1 A1 96 E7 06 DF 90 91 69 7D E7","E4 08 6D EA C5 CC C1 C0 93","E4 08 6D EA C5 CC C1 C0 93"," "," "," "]
["000142 14:35:41.648  05 93 87 91 C8 E7 06 20 7D 6F 6E 87 E7 .“‡‘Из. }on‡з","05 93 87 91 C8 E7 06 20 7D 6F 6E 87 E7 .“‡‘Из. }on‡з","05 93 87 91 C8 E7 06 20 7D 6F 6E 87 E7","E4 05 ED C1 C1 77","E4 05 ED C1 C1 77"," "," "," "]
["000143 14:35:41.680  05 7A 6F 6E B7 19 06 00 01 00 F8 4C 94 .zon·.....шL”","05 7A 6F 6E B7 19 06 00 01 00 F8 4C 94 .zon·.....шL”","05 7A 6F 6E B7 19 06 00 01 00 F8 4C 94","E7 06 BE F1 F0 08 C9"," ","E7 06 BE F1 F0 08 C9"," "," "]
["000144 14:35:41.711  06 4C 19 18 E0 B4 94 05 1A 1C 18 F7 E4 .L..аґ”....чд","06 4C 19 18 E0 B4 94 05 1A 1C 18 F7 E4 .L..аґ”....чд","06 4C 19 18 E0 B4 94 05 1A 1C 18 F7 E4","E7 05 F2 FC F0 68"," ","E7 05 F2 FC F0 68"," "," "]
["000145 14:35:41.727  06 47 EA EB 13 8B E4 09 E5 EC FD EB EB .Gкл.‹д.емэлл","06 47 EA EB 13 8B E4 09 E5 EC FD EB EB .Gкл.‹д.емэлл","06 47 EA EB 13 8B E4 09 E5 EC FD EB EB","0F 06 00 01 00 F8 A5"," "," "," "," "]
["000146 14:35:41.743  EB EB FD E4 06 47 E8 EB EB 72 E4 08 3F ллэд.Gиллrд.?","EB EB FD E4 06 47 E8 EB EB 72 E4 08 3F ллэд.Gиллrд.?","EB EB FD E4 06 47 E8 EB EB 72 E4 08 3F","E4 06 63 CE CF 37 47","E4 06 63 CE CF 37 47"," "," "," "]
["000147 14:35:41.792  B8 97 85 93 92 24 E4 05 BF 93 93 C2 E7 ё—…“’$д.ї““Вз","B8 97 85 93 92 24 E4 05 BF 93 93 C2 E7 ё—…“’$д.ї““Вз","B8 97 85 93 92 24 E4 05 BF 93 93 C2 E7","E4 09 C1 C8 C1 CF CF CF CF E5","E4 09 C1 C8 C1 CF CF CF CF E5"," "," "," "]
["000148 14:35:41.808  06 FB B4 B5 4D B1 E7 05 B1 D8 B4 60 E7 .ыґµM±з.±Шґ`з","06 FB B4 B5 4D B1 E7 05 B1 D8 B4 60 E7 .ыґµM±з.±Шґ`з","06 FB B4 B5 4D B1 E7 05 B1 D8 B4 60 E7","E4 06 63 CC CF CF BE","E4 06 63 CC CF CF BE"," "," "," "]
["000149 14:35:41.824  06 FB B6 B5 B5 48 1A 06 00 01 00 F8 15 .ы¶µµH.....ш.","06 FB B6 B5 B5 48 1A 06 00 01 00 F8 15 .ы¶µµH.....ш.","06 FB B6 B5 B5 48 1A 06 00 01 00 F8 15","E4 08 89 0E 21 2B 25 24 9F","E4 08 89 0E 21 2B 25 24 9F"," "," "," "]
["000150 14:35:41.871  94 06 C1 94 95 6D 55 94 05 97 90 95 96 ”.Б”•mU”.—ђ•–","94 06 C1 94 95 6D 55 94 05 97 90 95 96 ”.Б”•mU”.—ђ•–","94 06 C1 94 95 6D 55 94 05 97 90 95 96","E4 05 09 25 25 FC","E4 05 09 25 25 FC"," "," "," "]
["000151 14:35:41.887  00 09 02 2B 10 01 00 00 6D 36 00 09 02 ...+....m6...","00 09 02 2B 10 01 00 00 6D 36 00 09 02 ...+....m6...","00 09 02 2B 10 01 00 00 6D 36 00 09 02","E7 06 AF E0 E1 19 74"," ","E7 06 AF E0 E1 19 74"," "," "]
["000152 14:35:41.919  2B 10 01 00 00 6D 36 00 09 02 2B 10 01 +....m6...+..","2B 10 01 00 00 6D 36 00 09 02 2B 10 01 +....m6...+..","2B 10 01 00 00 6D 36 00 09 02 2B 10 01","E7 05 E3 EC E1 A6"," ","E7 05 E3 EC E1 A6"," "," "]
["000153 14:35:41.935  00 00 6D 36 00 09 02 2B 10 01 00 00 6D ..m6...+....m","00 00 6D 36 00 09 02 2B 10 01 00 00 6D ..m6...+....m","00 00 6D 36 00 09 02 2B 10 01 00 00 6D","10 06 00 01 00 F8 DA"," "," "," "," "]
["000154 14:35:41.951  36 00 09 02 2B 10 01 00 00 6D 36 00 09 6...+....m6..","36 00 09 02 2B 10 01 00 00 6D 36 00 09 6...+....m6..","36 00 09 02 2B 10 01 00 00 6D 36 00 09","E4 06 4E E3 E2 1A B8","E4 06 4E E3 E2 1A B8"," "," "," "]
["000155 14:35:41.984  02 2B 10 01 00 00 6D 36 E4 06 6C C1 C0 .+....m6д.lБА","02 2B 10 01 00 00 6D 36 E4 06 6C C1 C0 .+....m6д.lБА","02 2B 10 01 00 00 6D 36 E4 06 6C C1 C0","E4 09 EC E5 ED E2 E2 E2 E2 FC","E4 09 EC E5 ED E2 E2 E2 E2 FC"," "," "," "]
["000156 14:35:41.999  38 DB E4 09 CE C7 D7 C0 C0 C0 C0 9C E4 8Ыд.ОЗЧААААњд","38 DB E4 09 CE C7 D7 C0 C0 C0 C0 9C E4 8Ыд.ОЗЧААААњд","38 DB E4 09 CE C7 D7 C0 C0 C0 C0 9C E4","E4 06 4E E1 E2 E2 41","E4 06 4E E1 E2 E2 41"," "," "," "]
["000157 14:35:42.016  06 6C C3 C0 C0 22 E4 09 56 D1 EA FB FA .lГАА\"д.VСкыъ","06 6C C3 C0 C0 22 E4 09 56 D1 EA FB FA .lГАА\"д.VСкыъ","06 6C C3 C0 C0 22 E4 09 56 D1 EA FB FA","E4 08 E2 65 4A 41 4E 4F 32","E4 08 E2 65 4A 41 4E 4F 32"," "," "," "]
["000158 14:35:42.048  FA 97 19 E4 05 D6 FA FA F8 E4 09 19 9E ъ—.д.Цъъшд..ћ","FA 97 19 E4 05 D6 FA FA F8 E4 09 19 9E ъ—.д.Цъъшд..ћ","FA 97 19 E4 05 D6 FA FA F8 E4 09 19 9E","E4 05 62 4E 4E B0","E4 05 62 4E 4E B0"," "," "," "]
["000159 14:35:42.080  A4 B4 B4 B5 B5 25 E4 05 99 B5 B5 12 E7 ¤ґґµµ%д.™µµ.з","A4 B4 B4 B5 B5 25 E4 05 99 B5 B5 12 E7 ¤ґґµµ%д.™µµ.з","A4 B4 B4 B5 B5 25 E4 05 99 B5 B5 12 E7","E7 06 FB B4 B5 4D B1"," ","E7 06 FB B4 B5 4D B1"," "," "]
["000160 14:35:42.096  06 6E 21 20 D8 DE E7 05 22 20 20 33 E4 .n! ШЮз.\"  3д","06 6E 21 20 D8 DE E7 05 22 20 20 33 E4 .n! ШЮз.\"  3д","06 6E 21 20 D8 DE E7 05 22 20 20 33 E4","E7 05 B7 BB B5 E0"," ","E7 05 B7 BB B5 E0"," "," "]
["000161 14:35:42.127  08 E6 61 4E 5D 4A 4B 54 E4 05 66 4A 4A .жaN]JKTд.fJJ","08 E6 61 4E 5D 4A 4B 54 E4 05 66 4A 4A .жaN]JKTд.fJJ","08 E6 61 4E 5D 4A 4B 54 E4 05 66 4A 4A","11 06 00 01 00 F8 ED"," "," "," "," "]
["000162 14:35:42.144  74 1B 06 00 01 00 F8 22 94 06 8B DE DF t.....ш\"”.‹ЮЯ","74 1B 06 00 01 00 F8 22 94 06 8B DE DF t.....ш\"”.‹ЮЯ","74 1B 06 00 01 00 F8 22 94 06 8B DE DF","E4 06 CA 67 66 9E 6A","E4 06 CA 67 66 9E 6A"," "," "," "]
["000163 14:35:42.176  27 B1 94 05 DD D9 DF DC E4 06 80 2D 2C '±”.ЭЩЯЬд.Ђ-,","27 B1 94 05 DD D9 DF DC E4 06 80 2D 2C '±”.ЭЩЯЬд.Ђ-,","27 B1 94 05 DD D9 DF DC E4 06 80 2D 2C","E4 09 68 61 76 66 66 66 66 A8","E4 09 68 61 76 66 66 66 66 A8"," "," "," "]
["000164 14:35:42.191  D4 8E E4 09 22 2B 34 2C 2C 2C 2C D0 E4 ФЋд.\"+4,,,,Рд","D4 8E E4 09 22 2B 34 2C 2C 2C 2C D0 E4 ФЋд.\"+4,,,,Рд","D4 8E E4 09 22 2B 34 2C 2C 2C 2C D0 E4","E4 06 CA 65 66 66 6F","E4 06 CA 65 66 66 6F"," "," "," "]
["000165 14:35:42.223  06 80 2F 2C 2C 77 E4 08 18 9F B0 AC B4 .Ђ/,,wд..џ°¬ґ","06 80 2F 2C 2C 77 E4 08 18 9F B0 AC B4 .Ђ/,,wд..џ°¬ґ","06 80 2F 2C 2C 77 E4 08 18 9F B0 AC B4","E4 08 63 E4 CB DF CF CE 5A","E4 08 63 E4 CB DF CF CE 5A"," "," "," "]
["000166 14:35:42.240  B5 5D E4 05 98 B4 B4 23 E7 06 58 17 16 µ]д.\u0098ґґ#з.X..","B5 5D E4 05 98 B4 B4 23 E7 06 58 17 16 µ]д.\u0098ґґ#з.X..","B5 5D E4 05 98 B4 B4 23 E7 06 58 17 16","E4 05 E3 CF CF 40","E4 05 E3 CF CF 40"," "," "," "]
["000167 14:35:42.271  EE 74 E7 05 14 17 16 1C 1C 06 00 01 00 оtз..........","EE 74 E7 05 14 17 16 1C 1C 06 00 01 00 оtз..........","EE 74 E7 05 14 17 16 1C 1C 06 00 01 00","E7 06 16 59 58 A0 5A"," ","E7 06 16 59 58 A0 5A"," "," "]
["000168 14:35:42.287  F8 A7 94 06 4B 1E 1F E7 A5 94 05 1D 18 ш§”.K..зҐ”...","F8 A7 94 06 4B 1E 1F E7 A5 94 05 1D 18 ш§”.K..зҐ”...","F8 A7 94 06 4B 1E 1F E7 A5 94 05 1D 18","E7 05 5A 57 58 1B"," ","E7 05 5A 57 58 1B"," "," "]
["000169 14:35:42.319  1F 35 E4 06 DA 77 76 8E 69 E4 09 78 71 .5д.ЪwvЋiд.xq","1F 35 E4 06 DA 77 76 8E 69 E4 09 78 71 .5д.ЪwvЋiд.xq","1F 35 E4 06 DA 77 76 8E 69 E4 09 78 71","12 06 00 01 00 F8 B4"," "," "," "," "]
["000170 14:35:42.335  6F 76 76 76 76 84 E4 06 DA 75 76 76 90 ovvvv„д.Ъuvvђ","6F 76 76 76 76 84 E4 06 DA 75 76 76 90 ovvvv„д.Ъuvvђ","6F 76 76 76 76 84 E4 06 DA 75 76 76 90","E4 06 DC 71 70 88 C6","E4 06 DC 71 70 88 C6"," "," "," "]
["000171 14:35:42.367  E4 08 04 83 AC B1 A8 A9 C9 E4 05 84 A8 д..ѓ¬±Ё©Йд.„Ё","E4 08 04 83 AC B1 A8 A9 C9 E4 05 84 A8 д..ѓ¬±Ё©Йд.„Ё","E4 08 04 83 AC B1 A8 A9 C9 E4 05 84 A8","E4 09 7E 77 61 70 70 70 70 B5","E4 09 7E 77 61 70 70 70 70 B5"," "," "," "]
["000172 14:35:42.384  A8 4D E7 06 9D D2 D3 2B 14 E7 05 D1 D1 ЁMз.ќТУ+.з.СС","A8 4D E7 06 9D D2 D3 2B 14 E7 05 D1 D1 ЁMз.ќТУ+.з.СС","A8 4D E7 06 9D D2 D3 2B 14 E7 05 D1 D1","E4 06 DC 73 70 70 3F","E4 06 DC 73 70 70 3F"," "," "," "]
["000173 14:35:42.416  D3 91 1D 06 00 01 00 F8 90 94 06 25 70 У‘.....шђ”.%p","D3 91 1D 06 00 01 00 F8 90 94 06 25 70 У‘.....шђ”.%p","D3 91 1D 06 00 01 00 F8 90 94 06 25 70","E4 08 99 1E 31 24 35 34 AE","E4 08 99 1E 31 24 35 34 AE"," "," "," "]
["000174 14:35:42.448  71 89 8D 94 05 73 79 71 80 E4 06 BD 10 q‰Ќ”.syqЂд.Ѕ.","71 89 8D 94 05 73 79 71 80 E4 06 BD 10 q‰Ќ”.syqЂд.Ѕ.","71 89 8D 94 05 73 79 71 80 E4 06 BD 10","E4 05 19 35 35 D3","E4 05 19 35 35 D3"," "," "," "]
["000175 14:35:42.465  11 E9 72 E4 09 1F 16 0B 11 11 11 11 4C .йrд........L","11 E9 72 E4 09 1F 16 0B 11 11 11 11 4C .йrд........L","11 E9 72 E4 09 1F 16 0B 11 11 11 11 4C","E7 06 4C 03 02 FA BD"," ","E7 06 4C 03 02 FA BD"," "," "]
["000176 14:35:42.481  E4 06 BD 12 11 11 8B E4 08 2B AC 83 9D д.Ѕ...‹д.+¬ѓќ","E4 06 BD 12 11 11 8B E4 08 2B AC 83 9D д.Ѕ...‹д.+¬ѓќ","E4 06 BD 12 11 11 8B E4 08 2B AC 83 9D","E7 05 00 12 02 CB"," ","E7 05 00 12 02 CB"," "," "]
["000177 14:35:42.513  87 86 B2 E4 05 AB 87 87 3D E7 06 68 27 ‡†Ід.«‡‡=з.h'","87 86 B2 E4 05 AB 87 87 3D E7 06 68 27 ‡†Ід.«‡‡=з.h'","87 86 B2 E4 05 AB 87 87 3D E7 06 68 27","13 06 00 01 00 F8 83"," "," "," "," "]
["000178 14:35:42.529  26 DE 71 E7 05 24 25 26 C0 1E 06 00 01 &Юqз.$%&А....","26 DE 71 E7 05 24 25 26 C0 1E 06 00 01 &Юqз.$%&А....","26 DE 71 E7 05 24 25 26 C0 1E 06 00 01","E4 06 82 2F 2E D6 EB","E4 06 82 2F 2E D6 EB"," "," "," "]
["000179 14:35:42.560  00 F8 C9 94 06 78 2D 2C D4 7B 94 05 2E .шЙ”.x-,Ф{”..","00 F8 C9 94 06 78 2D 2C D4 7B 94 05 2E .шЙ”.x-,Ф{”..","00 F8 C9 94 06 78 2D 2C D4 7B 94 05 2E","E4 09 20 29 3C 2E 2E 2E 2E 9F","E4 09 20 29 3C 2E 2E 2E 2E 9F"," "," "," "]
["000180 14:35:42.593  25 2C F7 E4 06 42 EF EE 16 FF E4 09 E0 %,чд.Bпо.яд.а","25 2C F7 E4 06 42 EF EE 16 FF E4 09 E0 %,чд.Bпо.яд.а","25 2C F7 E4 06 42 EF EE 16 FF E4 09 E0","E4 06 82 2D 2E 2E 12","E4 06 82 2D 2E 2E 12"," "," "," "]
["000181 14:35:42.608  E9 F5 EE EE EE EE 95 E4 06 42 ED EE EE йхоооо•д.Bноо","E9 F5 EE EE EE EE 95 E4 06 42 ED EE EE йхоооо•д.Bноо","E9 F5 EE EE EE EE 95 E4 06 42 ED EE EE","E4 08 D7 50 7F 69 7B 7A 49","E4 08 D7 50 7F 69 7B 7A 49"," "," "," "]
["000182 14:35:42.624  06 E4 08 79 FE D1 CE D5 D4 25 E4 05 F9 .д.yюСОХФ%д.щ","06 E4 08 79 FE D1 CE D5 D4 25 E4 05 F9 .д.yюСОХФ%д.щ","06 E4 08 79 FE D1 CE D5 D4 25 E4 05 F9","E4 05 57 7B 7B 08","E4 05 57 7B 7B 08"," "," "," "]
["000183 14:35:42.657  D5 D5 88 E7 06 B9 F6 F7 0F D8 E7 05 F5 ХХ€з.№цч.Шз.х","D5 D5 88 E7 06 B9 F6 F7 0F D8 E7 05 F5 ХХ€з.№цч.Шз.х","D5 D5 88 E7 06 B9 F6 F7 0F D8 E7 05 F5","E7 06 9E D1 D0 28 CF"," ","E7 06 9E D1 D0 28 CF"," "," "]
["000184 14:35:42.672  F3 F7 89 1F 06 00 01 00 F8 FE 94 06 AF уч‰.....шю”.Ї","F3 F7 89 1F 06 00 01 00 F8 FE 94 06 AF уч‰.....шю”.Ї","F3 F7 89 1F 06 00 01 00 F8 FE 94 06 AF","E7 05 D2 C1 D0 7B"," ","E7 05 D2 C1 D0 7B"," "," "]
["000185 14:35:42.720  FA FB 03 7D 94 05 F9 F1 FB 23 E4 06 88 ъы.}”.щсы#д.€","FA FB 03 7D 94 05 F9 F1 FB 23 E4 06 88 ъы.}”.щсы#д.€","FA FB 03 7D 94 05 F9 F1 FB 23 E4 06 88","14 06 00 01 00 F8 06",{"$f":"IF((LEFT(D187,2)=\"E4\"),D187,\" \")","v":" "},{"$f":"IF((LEFT($D187,2)=\"E7\"),$D187,\" \")","v":" "},{"$f":"IF((LEFT($D187,2)=\"00\"),$D187,\" \")","v":" "},{"$f":"IF((LEFT($D187,2)=\"94\"),$D187,\" \")","v":" "}]
["000186 14:35:42.736  25 24 DC 03 E4 09 2A 23 38 24 24 24 24 %$Ь.д.*#8$$$$","25 24 DC 03 E4 09 2A 23 38 24 24 24 24 %$Ь.д.*#8$$$$","25 24 DC 03 E4 09 2A 23 38 24 24 24 24",null,{"$f":"IF((LEFT(H188,2)=\"E4\"),H188,\" \")","v":" "},{"$f":"IF((LEFT($H188,2)=\"E7\"),$H188,\" \")","v":" "},{"$f":"IF((LEFT($H188,2)=\"00\"),$H188,\" \")","v":" "},"14 0B 0C CB 00 00 00 00 00 00 00 3C"]
["000187 14:35:42.752  2C E4 06 88 27 24 24 FA E4 08 E9 6E 41 ,д.€'$$ъд.йnA","2C E4 06 88 27 24 24 FA E4 08 E9 6E 41 ,д.€'$$ъд.йnA","2C E4 06 88 27 24 24 FA E4 08 E9 6E 41",null,{"$f":"IF((LEFT(H189,2)=\"E4\"),H189,\" \")","v":" "},{"$f":"IF((LEFT($H189,2)=\"E7\"),$H189,\" \")","v":" "},{"$f":"IF((LEFT($H189,2)=\"00\"),$H189,\" \")","v":" "},"14 06 00 11 54 54 0C"]
["000188 14:35:42.784  59 45 44 42 E4 05 69 45 45 72 E7 06 3D YEDBд.iEErз.=","59 45 44 42 E4 05 69 45 45 72 E7 06 3D YEDBд.iEErз.=","59 45 44 42 E4 05 69 45 45 72 E7 06 3D",null,{"$f":"IF((LEFT(H190,2)=\"E4\"),H190,\" \")","v":" "},{"$f":"IF((LEFT($H190,2)=\"E7\"),$H190,\" \")","v":" "},{"$f":"IF((LEFT($H190,2)=\"00\"),$H190,\" \")","v":" "},"14 05 12 54 54 C5"]
["000189 14:35:42.800  72 73 8B 0A E7 05 71 76 73 48 20 06 00 rs‹.з.qvsH ..","72 73 8B 0A E7 05 71 76 73 48 20 06 00 rs‹.з.qvsH ..","72 73 8B 0A E7 05 71 76 73 48 20 06 00","94 06 66 33 32 CA 5A"," "," "," ","94 06 66 33 32 CA 5A"]
["000190 14:35:42.832  01 00 F8 37 94 06 43 16 17 EF 28 94 05 ..ш7”.C..п(”.","01 00 F8 37 94 06 43 16 17 EF 28 94 05 ..ш7”.C..п(”.","01 00 F8 37 94 06 43 16 17 EF 28 94 05","94 0B 3E F9 32 32 32 32 32 32 32 2D"," "," "," ","94 0B 3E F9 32 32 32 32 32 32 32 2D"]
["000191 14:35:42.848  15 1C 17 E9 E4 06 5B F6 F7 0F CF E4 09 ...йд.[цч.Пд.","15 1C 17 E9 E4 06 5B F6 F7 0F CF E4 09 ...йд.[цч.Пд.","15 1C 17 E9 E4 06 5B F6 F7 0F CF E4 09","94 06 66 31 32 32 A3"," "," "," ","94 06 66 31 32 32 A3"]
["000192 14:35:42.880  F9 F0 EA F7 F7 F7 F7 4C E4 06 5B F4 F7 щркччччLд.[фч","F9 F0 EA F7 F7 F7 F7 4C E4 06 5B F4 F7 щркччччLд.[фч","F9 F0 EA F7 F7 F7 F7 4C E4 06 5B F4 F7","94 06 A9 EA FD FE 1D"," "," "," ","94 06 A9 EA FD FE 1D"]
["000193 14:35:42.897  F7 36 E4 08 0C 8B A4 BD A0 A1 45 E4 05 ч6д..‹¤Ѕ ЎEд.","F7 36 E4 08 0C 8B A4 BD A0 A1 45 E4 05 ч6д..‹¤Ѕ ЎEд.","F7 36 E4 08 0C 8B A4 BD A0 A1 45 E4 05","94 05 F7 FD FD 47"," "," "," ","94 05 F7 FD FD 47"]
["000194 14:35:42.929  8C A0 A0 DC E7 06 F5 BA BB 43 93 E7 05 Њ  Ьз.хє»C“з.",{"$f":"RIGHT(A196,52)","v":"8C A0 A0 DC E7 06 F5 BA BB 43 93 E7 05 Њ  Ьз.хє»C“з."},"8C A0 A0 DC E7 06 F5 BA BB 43 93 E7 05","E4 06 C8 65 64 9C 0F","E4 06 C8 65 64 9C 0F"," ",{"$f":"IF((LEFT($D196,2)=\"00\"),$D196,\" \")","v":" "},{"$f":"IF((LEFT($D196,2)=\"94\"),$D196,\" \")","v":" "}]
["000195 14:35:42.945  B9 BD BB A1 21 06 00 01 00 F8 00 94 06 №Ѕ»Ў!....ш.”.","B9 BD BB A1 21 06 00 01 00 F8 00 94 06 №Ѕ»Ў!....ш.”.","B9 BD BB A1 21 06 00 01 00 F8 00 94 06","E4 09 6A 63 77 64 64 64 64 14","E4 09 6A 63 77 64 64 64 64 14"," "," "," "]
["000196 14:35:42.976  80 D5 D4 2C E7 94 05 D6 D8 D4 F9 E4 06 ЂХФ,з”.ЦШФщд.","80 D5 D4 2C E7 94 05 D6 D8 D4 F9 E4 06 ЂХФ,з”.ЦШФщд.","80 D5 D4 2C E7 94 05 D6 D8 D4 F9 E4 06","E4 06 C8 67 64 64 F6","E4 06 C8 67 64 64 F6"," "," "," "]
["000197 14:35:43.008  D2 7F 7E 86 E4 E4 09 70 79 60 7E 7E 7E Т\u007f~†дд.py`~~~","D2 7F 7E 86 E4 E4 09 70 79 60 7E 7E 7E Т\u007f~†дд.py`~~~","D2 7F 7E 86 E4 E4 09 70 79 60 7E 7E 7E","94 06 DE 93 8A 8A 13"," "," "," ","94 06 DE 93 8A 8A 13"]
["000198 14:35:43.024  7E 36 E4 06 D2 7D 7E 7E 1D E4 08 BB 3C ~6д.Т}~~.д.»<","7E 36 E4 06 D2 7D 7E 7E 1D E4 08 BB 3C ~6д.Т}~~.д.»<","7E 36 E4 06 D2 7D 7E 7E 1D E4 08 BB 3C","94 05 80 8A 8A 71"," "," "," ","94 05 80 8A 8A 71"]
["000199 14:35:43.056  13 09 17 16 31 E4 05 3B 17 17 C7 E7 06 ....1д.;..Зз.","13 09 17 16 31 E4 05 3B 17 17 C7 E7 06 ....1д.;..Зз.","13 09 17 16 31 E4 05 3B 17 17 C7 E7 06","E7 06 20 6F 6E 96 F0"," ","E7 06 20 6F 6E 96 F0"," "," "]
["000200 14:35:43.073  B5 FA FB 03 9F E7 05 F9 FC FB 89 22 06 µъы.џз.щьы‰\".","B5 FA FB 03 9F E7 05 F9 FC FB 89 22 06 µъы.џз.щьы‰\".","B5 FA FB 03 9F E7 05 F9 FC FB 89 22 06","E7 05 6C 7C 6E 95"," ","E7 05 6C 7C 6E 95"," "," "]
["000201 14:35:43.088  00 01 00 F8 59 94 06 C8 9D 9C 64 66 94 ...шY”.Иќњdf”","00 01 00 F8 59 94 06 C8 9D 9C 64 66 94 ...шY”.Иќњdf”","00 01 00 F8 59 94 06 C8 9D 9C 64 66 94","15 06 00 01 00 F8 31"," "," "," "," "]
["000202 14:35:43.120  05 9E 91 9C 40 E4 06 9E 33 32 CA AF E4 .ћ‘њ@д.ћ32КЇд","05 9E 91 9C 40 E4 06 9E 33 32 CA AF E4 .ћ‘њ@д.ћ32КЇд","05 9E 91 9C 40 E4 06 9E 33 32 CA AF E4","94 06 38 75 6C 6C AE"," "," "," ","94 06 38 75 6C 6C AE"]
["000203 14:35:43.152  09 3C 35 2D 32 32 32 32 B2 E4 06 9E 31 .<5-2222Ід.ћ1","09 3C 35 2D 32 32 32 32 B2 E4 06 9E 31 .<5-2222Ід.ћ1","09 3C 35 2D 32 32 32 32 B2 E4 06 9E 31","94 05 66 6C 6C 8C",{"$f":"IF((LEFT(D205,2)=\"E4\"),D205,\" \")","v":" "},{"$f":"IF((LEFT($D205,2)=\"E7\"),$D205,\" \")","v":" "}," ","94 05 66 6C 6C 8C"]
["000204 14:35:43.168  32 32 56 E4 08 C2 45 6A 71 6E 6F 30 E4 22Vд.ВEjqno0д","32 32 56 E4 08 C2 45 6A 71 6E 6F 30 E4 22Vд.ВEjqno0д","32 32 56 E4 08 C2 45 6A 71 6E 6F 30 E4","94 06 9A CF CE 36 0C"," "," "," ","94 06 9A CF CE 36 0C"]
["000205 14:35:43.201  05 42 6E 6E C6 E7 06 0A 45 44 BC 1E E7 .BnnЖз..EDј.з","05 42 6E 6E C6 E7 06 0A 45 44 BC 1E E7 .BnnЖз..EDј.з","05 42 6E 6E C6 E7 06 0A 45 44 BC 1E E7","94 0B C2 09 CE CE CE CE CE CE CE CA"," "," "," ","94 0B C2 09 CE CE CE CE CE CE CE CA"]
["000206 14:35:43.217  05 46 4C 44 1B 23 06 00 01 00 F8 6E 94 .FLD.#....шn”","05 46 4C 44 1B 23 06 00 01 00 F8 6E 94 .FLD.#....шn”","05 46 4C 44 1B 23 06 00 01 00 F8 6E 94","94 06 9A CD CE CE F5"," "," "," ","94 06 9A CD CE CE F5"]
["000207 14:35:43.249  06 49 1C 1D E5 C0 94 05 1F 13 1D E5 E4 .I..еА”....ед","06 49 1C 1D E5 C0 94 05 1F 13 1D E5 E4 .I..еА”....ед","06 49 1C 1D E5 C0 94 05 1F 13 1D E5 E4","E4 08 98 1F 30 27 34 35 A5","E4 08 98 1F 30 27 34 35 A5"," "," "," "]
["000208 14:35:43.265  06 6A C7 C6 3E A0 E4 09 C8 C1 E6 C6 C6 .jЗЖ> д.ИБжЖЖ","06 6A C7 C6 3E A0 E4 09 C8 C1 E6 C6 C6 .jЗЖ> д.ИБжЖЖ","06 6A C7 C6 3E A0 E4 09 C8 C1 E6 C6 C6","E4 05 18 34 34 E2","E4 05 18 34 34 E2"," "," "," "]
["000209 14:35:43.281  C6 C6 25 E4 06 6A C5 C6 C6 59 E4 08 E2 ЖЖ%д.jЕЖЖYд.в","C6 C6 25 E4 06 6A C5 C6 C6 59 E4 08 E2 ЖЖ%д.jЕЖЖYд.в","C6 C6 25 E4 06 6A C5 C6 C6 59 E4 08 E2","E4 06 72 DF DE 26 FA","E4 06 72 DF DE 26 FA"," "," "," "]
["000210 14:35:43.314  65 4A 6E 4E 4F F9 E4 05 62 4E 4E B0 E7 eJnNOщд.bNN°з","65 4A 6E 4E 4F F9 E4 05 62 4E 4E B0 E7 eJnNOщд.bNN°з","65 4A 6E 4E 4F F9 E4 05 62 4E 4E B0 E7","E4 09 D0 D9 CA DE DE DE DE 82","E4 09 D0 D9 CA DE DE DE DE 82"," "," "," "]
["000211 14:35:43.345  06 3E 71 70 88 D1 E7 05 72 79 70 56 24 .>qp€Сз.rypV$","06 3E 71 70 88 D1 E7 05 72 79 70 56 24 .>qp€Сз.rypV$","06 3E 71 70 88 D1 E7 05 72 79 70 56 24","E4 06 72 DD DE DE 03","E4 06 72 DD DE DE 03"," "," "," "]
["000212 14:35:43.361  06 00 01 00 F8 EB 94 06 C4 91 90 68 21 ....шл”.Д‘ђh!","06 00 01 00 F8 EB 94 06 C4 91 90 68 21 ....шл”.Д‘ђh!","06 00 01 00 F8 EB 94 06 C4 91 90 68 21","E7 06 08 47 46 BE 7B"," ","E7 06 08 47 46 BE 7B"," "," "]
["000213 14:35:43.393  94 05 92 9F 90 84 E4 06 2B 86 87 7F C6 ”.’џђ„д.+†‡\u007fЖ","94 05 92 9F 90 84 E4 06 2B 86 87 7F C6 ”.’џђ„д.+†‡\u007fЖ","94 05 92 9F 90 84 E4 06 2B 86 87 7F C6","E7 05 44 55 46 B6"," ","E7 05 44 55 46 B6"," "," "]
["000214 14:35:43.409  E4 11 89 88 86 85 87 87 77 96 96 78 78 д.‰€†…‡‡w––xx","E4 11 89 88 86 85 87 87 77 96 96 78 78 д.‰€†…‡‡w––xx","E4 11 89 88 86 85 87 87 77 96 96 78 78","E4 08 B0 37 18 08 1C 1D 85","E4 08 B0 37 18 08 1C 1D 85"," "," "," "]
["000215 14:35:43.425  78 78 93 85 C6 E4 06 2B 84 87 87 3F E4 xx“…Жд.+„‡‡?д","78 78 93 85 C6 E4 06 2B 84 87 87 3F E4 xx“…Жд.+„‡‡?д","78 78 93 85 C6 E4 06 2B 84 87 87 3F E4","E4 05 30 1C 1C 05","E4 05 30 1C 1C 05"," "," "," "]
["000216 14:35:43.457  13 7B FC C6 D6 D5 D7 C7 D1 27 C6 C6 28 .{ьЖЦХЧЗС'ЖЖ(","13 7B FC C6 D6 D5 D7 C7 D1 27 C6 C6 28 .{ьЖЦХЧЗС'ЖЖ(","13 7B FC C6 D6 D5 D7 C7 D1 27 C6 C6 28","16 06 00 01 00 F8 68"," "," "," "," "]
["000217 14:35:43.473  28 28 28 C3 CF 6F E4 05 FB D7 D7 EA E7 (((ГПoд.ыЧЧкз","28 28 28 C3 CF 6F E4 05 FB D7 D7 EA E7 (((ГПoд.ыЧЧкз","28 28 28 C3 CF 6F E4 05 FB D7 D7 EA E7","94 06 04 51 50 A8 35"," "," "," ","94 06 04 51 50 A8 35"]
["000218 14:35:43.505  06 43 0C 0D F5 21 E7 05 0F 07 0D C6 25 .C..х!з....Ж%","06 43 0C 0D F5 21 E7 05 0F 07 0D C6 25 .C..х!з....Ж%","06 43 0C 0D F5 21 E7 05 0F 07 0D C6 25","94 05 52 51 50 75"," "," "," ","94 05 52 51 50 75"]
["000219 14:35:43.521  06 00 01 00 F8 DC 94 06 46 13 12 EA 5C ....шЬ”.F..к\\","06 00 01 00 F8 DC 94 06 46 13 12 EA 5C ....шЬ”.F..к\\","06 00 01 00 F8 DC 94 06 46 13 12 EA 5C","E4 06 C5 68 69 91 F6","E4 06 C5 68 69 91 F6"," "," "," "]
["000220 14:35:43.553  94 05 10 02 12 D3 E4 06 B6 1B 1A E2 24 ”....Уд.¶..в$","94 05 10 02 12 D3 E4 06 B6 1B 1A E2 24 ”....Уд.¶..в$","94 05 10 02 12 D3 E4 06 B6 1B 1A E2 24","E4 09 67 6E 7C 69 69 69 69 EF","E4 09 67 6E 7C 69 69 69 69 EF"," "," "," "]
["000221 14:35:43.569  E4 10 14 17 1B 18 1A EA 0B 0B E5 E5 E5 д......к..еее","E4 10 14 17 1B 18 1A EA 0B 0B E5 E5 E5 д......к..еее","E4 10 14 17 1B 18 1A EA 0B 0B E5 E5 E5","E4 06 C5 6A 69 69 0F","E4 06 C5 6A 69 69 0F"," "," "," "]
["000222 14:35:43.585  E5 0E 18 E1 E4 06 B6 19 1A 1A DD E7 06 е..бд.¶...Эз.","E5 0E 18 E1 E4 06 B6 19 1A 1A DD E7 06 е..бд.¶...Эз.","E5 0E 18 E1 E4 06 B6 19 1A 1A DD E7 06","E4 08 88 0F 20 31 24 25 50","E4 08 88 0F 20 31 24 25 50"," "," "," "]
["000223 14:35:43.617  BA F5 F4 0C 03 E7 05 F6 FF F4 C2 E7 06 єхф..з.цяфВз.","BA F5 F4 0C 03 E7 05 F6 FF F4 C2 E7 06 єхф..з.цяфВз.","BA F5 F4 0C 03 E7 05 F6 FF F4 C2 E7 06","E4 05 08 24 24 D9","E4 05 08 24 24 D9"," "," "," "]
["000224 14:35:43.649  AC F1 E0 E2 8D E7 05 F6 E0 E2 76 26 06 ¬савЌз.цавv&.","AC F1 E0 E2 8D E7 05 F6 E0 E2 76 26 06 ¬савЌз.цавv&.","AC F1 E0 E2 8D E7 05 F6 E0 E2 76 26 06","E7 06 9D D2 D3 2B 14"," ","E7 06 9D D2 D3 2B 14"," "," "]
["000225 14:35:43.665  00 01 00 F8 85 94 06 33 66 67 9F 21 94 ...ш…”.3fgџ!”","00 01 00 F8 85 94 06 33 66 67 9F 21 94 ...ш…”.3fgџ!”","00 01 00 F8 85 94 06 33 66 67 9F 21 94","E7 05 D1 C7 D3 D7"," ","E7 05 D1 C7 D3 D7"," "," "]
["000226 14:35:43.697  05 65 76 67 43 E4 06 7A D7 D6 2E 77 E4 .evgCд.zЧЦ.wд","05 65 76 67 43 E4 06 7A D7 D6 2E 77 E4 .evgCд.zЧЦ.wд","05 65 76 67 43 E4 06 7A D7 D6 2E 77 E4","17 06 00 01 00 F8 5F"," "," "," "," "]
["000227 14:35:43.714  09 D8 D1 F7 D6 D6 D6 D6 37 E4 06 7A D5 .ШСчЦЦЦЦ7д.zХ","09 D8 D1 F7 D6 D6 D6 D6 37 E4 06 7A D5 .ШСчЦЦЦЦ7д.zХ","09 D8 D1 F7 D6 D6 D6 D6 37 E4 06 7A D5","94 06 E1 B4 B5 4D 53"," "," "," ","94 06 E1 B4 B5 4D 53"]
["000228 14:35:43.729  D6 D6 8E E4 08 8F 08 27 02 23 22 D5 E4 ЦЦЋд.Џ.'.#\"Хд","D6 D6 8E E4 08 8F 08 27 02 23 22 D5 E4 ЦЦЋд.Џ.'.#\"Хд","D6 D6 8E E4 08 8F 08 27 02 23 22 D5 E4","94 05 B7 B7 B5 8E"," "," "," ","94 05 B7 B7 B5 8E"]
["000229 14:35:43.761  05 0F 23 23 4E E7 06 3C 73 72 8A B4 E7 ..##Nз.<srЉґз","05 0F 23 23 4E E7 06 3C 73 72 8A B4 E7 ..##Nз.<srЉґз","05 0F 23 23 4E E7 06 3C 73 72 8A B4 E7","E4 06 77 DA DB 23 8E","E4 06 77 DA DB 23 8E"," "," "," "]
["000230 14:35:43.793  05 76 1F 70 38 E7 06 3C 71 72 72 4D 27 .v.p8з.<qrrM'","05 76 1F 70 38 E7 06 3C 71 72 72 4D 27 .v.p8з.<qrrM'","05 76 1F 70 38 E7 06 3C 71 72 72 4D 27","E4 11 D5 D4 DA DA DB DB 2B CA CA 24","E4 11 D5 D4 DA DA DB DB 2B CA CA 24"," "," "," "]
["000231 14:35:43.841  06 00 01 00 F8 B2 00 09 03 2B 10 02 00 ....шІ...+...","06 00 01 00 F8 B2 00 09 03 2B 10 02 00 ....шІ...+...","06 00 01 00 F8 B2 00 09 03 2B 10 02 00","24 24 24 CF DA 7D"," "," "," "," "]
["000232 14:35:43.873  00 6D 83 00 09 03 2B 10 02 00 00 6D 83 .mѓ...+....mѓ","00 6D 83 00 09 03 2B 10 02 00 00 6D 83 .mѓ...+....mѓ","00 6D 83 00 09 03 2B 10 02 00 00 6D 83","E4 06 77 D8 DB DB 77","E4 06 77 D8 DB DB 77"," "," "," "]
["000233 14:35:43.905  00 09 03 2B 10 02 00 00 6D 83 00 09 03 ...+....mѓ...","00 09 03 2B 10 02 00 00 6D 83 00 09 03 ...+....mѓ...","00 09 03 2B 10 02 00 00 6D 83 00 09 03","E4 13 E1 66 5C 4C 4C 4D 5D 4B BD 5C 5C B2 B2 B2 B2 59 55 82","E4 13 E1 66 5C 4C 4C 4D 5D 4B BD 5C 5C B2 B2 B2 B2 59 55 82"," "," "," "]
["000234 14:35:43.921  2B 10 02 00 00 6D 83 00 09 03 2B 10 02 +....mѓ...+..","2B 10 02 00 00 6D 83 00 09 03 2B 10 02 +....mѓ...+..","2B 10 02 00 00 6D 83 00 09 03 2B 10 02","E4 05 61 4D 4D E3","E4 05 61 4D 4D E3"," "," "," "]
["000235 14:35:43.937  00 00 6D 83 00 09 03 2B 10 02 00 00 6D ..mѓ...+....m","00 00 6D 83 00 09 03 2B 10 02 00 00 6D ..mѓ...+....m","00 00 6D 83 00 09 03 2B 10 02 00 00 6D","E7 06 A0 EF EE 16 FC"," ","E7 06 A0 EF EE 16 FC"," "," "]
["000236 14:35:43.953  83 94 06 EA BF BE 46 05 94 05 BC AC BE ѓ”.кїѕF.”.ј¬ѕ","83 94 06 EA BF BE 46 05 94 05 BC AC BE ѓ”.кїѕF.”.ј¬ѕ","83 94 06 EA BF BE 46 05 94 05 BC AC BE","E7 05 EC FB EE 3A"," ","E7 05 EC FB EE 3A"," "," "]
["000237 14:35:43.985  A0 E4 06 22 8F 8E 76 F5 E4 09 80 89 AC  д.\"ЏЋvхд.Ђ‰¬","A0 E4 06 22 8F 8E 76 F5 E4 09 80 89 AC  д.\"ЏЋvхд.Ђ‰¬","A0 E4 06 22 8F 8E 76 F5 E4 09 80 89 AC","18 06 00 01 00 F8 7B"," "," "," "," "]
["000238 14:35:44.001  8E 8E 8E 8E 12 E4 06 22 8D 8E 8E 0C E4 ЋЋЋЋ.д.\"ЌЋЋ.д","8E 8E 8E 8E 12 E4 06 22 8D 8E 8E 0C E4 ЋЋЋЋ.д.\"ЌЋЋ.д","8E 8E 8E 8E 12 E4 06 22 8D 8E 8E 0C E4","94 06 15 40 41 B9 88"," "," "," ","94 06 15 40 41 B9 88"]
["000239 14:35:44.049  09 39 BE 85 97 95 95 F8 F4 E4 05 B9 95 .9ѕ…—••шфд.№•","09 39 BE 85 97 95 95 F8 F4 E4 05 B9 95 .9ѕ…—••шфд.№•","09 39 BE 85 97 95 95 F8 F4 E4 05 B9 95","94 05 43 42 41 EE"," "," "," ","94 05 43 42 41 EE"]
["000240 14:35:44.065  95 64 E4 09 9C 1B 21 31 32 30 30 EB E4 •dд.њ.!1200лд","95 64 E4 09 9C 1B 21 31 32 30 30 EB E4 •dд.њ.!1200лд","95 64 E4 09 9C 1B 21 31 32 30 30 EB E4","E4 06 0D A0 A1 59 6F","E4 06 0D A0 A1 59 6F"," "," "," "]
["000241 14:35:44.081  05 1C 30 30 26 E7 06 E8 A7 A6 5E 69 E7 ..00&з.и§¦^iз","05 1C 30 30 26 E7 06 E8 A7 A6 5E 69 E7 ..00&з.и§¦^iз","05 1C 30 30 26 E7 06 E8 A7 A6 5E 69 E7","E4 10 AF AC A0 A0 A1 51 B0 B0 5E 5E 5E 5E B5 A0 27","E4 10 AF AC A0 A0 A1 51 B0 B0 5E 5E 5E 5E B5 A0 27"," "," "," "]
["000242 14:35:44.114  05 A4 A6 A6 54 E4 08 7A FD D2 F4 D6 D7 .¤¦¦Tд.zэТфЦЧ","05 A4 A6 A6 54 E4 08 7A FD D2 F4 D6 D7 .¤¦¦Tд.zэТфЦЧ","05 A4 A6 A6 54 E4 08 7A FD D2 F4 D6 D7","E4 06 0D A2 A1 A1 96","E4 06 0D A2 A1 A1 96"," "," "," "]
["000243 14:35:44.129  B9 E4 05 FA D6 D6 DB 28 06 00 01 00 F8 №д.ъЦЦЫ(....ш","B9 E4 05 FA D6 D6 DB 28 06 00 01 00 F8 №д.ъЦЦЫ(....ш","B9 E4 05 FA D6 D6 DB 28 06 00 01 00 F8","E7 06 DF 90 91 69 7D"," ","E7 06 DF 90 91 69 7D"," "," "]
["000244 14:35:44.145  96 94 06 C6 93 92 6A 44 94 05 90 81 92 –”.Ж“’jD”.ђЃ’","96 94 06 C6 93 92 6A 44 94 05 90 81 92 –”.Ж“’jD”.ђЃ’","96 94 06 C6 93 92 6A 44 94 05 90 81 92","E7 05 93 87 91 C8"," ","E7 05 93 87 91 C8"," "," "]
["000245 14:35:44.177  47 E4 06 9B 36 37 CF DB E4 09 39 30 14 Gд.›67ПЫд.90.","47 E4 06 9B 36 37 CF DB E4 09 39 30 14 Gд.›67ПЫд.90.","47 E4 06 9B 36 37 CF DB E4 09 39 30 14","E7 06 20 7D 6F 6E 87"," ","E7 06 20 7D 6F 6E 87"," "," "]
["000246 14:35:44.193  37 37 37 37 F0 E4 06 9B 34 37 37 22 E7 7777рд.›477\"з","37 37 37 37 F0 E4 06 9B 34 37 37 22 E7 7777рд.›477\"з","37 37 37 37 F0 E4 06 9B 34 37 37 22 E7","E7 05 7A 6F 6E B7"," ","E7 05 7A 6F 6E B7"," "," "]
["000247 14:35:44.225  06 B1 FE FF 07 55 E7 05 FD FE FF E7 E4 .±юя.Uз.эюязд","06 B1 FE FF 07 55 E7 05 FD FE FF E7 E4 .±юя.Uз.эюязд","06 B1 FE FF 07 55 E7 05 FD FE FF E7 E4","19 06 00 01 00 F8 4C"," "," "," "," "]
["000248 14:35:44.257  08 E1 66 49 6E 4D 4C D1 E4 05 61 4D 4D .бfInMLСд.aMM","08 E1 66 49 6E 4D 4C D1 E4 05 61 4D 4D .бfInMLСд.aMM","08 E1 66 49 6E 4D 4C D1 E4 05 61 4D 4D","94 06 4C 19 18 E0 B4"," "," "," ","94 06 4C 19 18 E0 B4"]
["000249 14:35:44.273  E3 29 06 00 01 00 F8 A1 94 06 11 44 45 г)....шЎ”..DE","E3 29 06 00 01 00 F8 A1 94 06 11 44 45 г)....шЎ”..DE","E3 29 06 00 01 00 F8 A1 94 06 11 44 45","94 05 1A 1C 18 F7"," "," "," ","94 05 1A 1C 18 F7"]
["000250 14:35:44.305  BD 42 94 05 47 51 45 A8 E4 06 FA 57 56 ЅB”.GQEЁд.ъWV","BD 42 94 05 47 51 45 A8 E4 06 FA 57 56 ЅB”.GQEЁд.ъWV","BD 42 94 05 47 51 45 A8 E4 06 FA 57 56","E4 06 47 EA EB 13 8B","E4 06 47 EA EB 13 8B"," "," "," "]
["000251 14:35:44.321  AE 6F E4 09 58 51 72 56 56 56 56 4B E4 ®oд.XQrVVVVKд","AE 6F E4 09 58 51 72 56 56 56 56 4B E4 ®oд.XQrVVVVKд","AE 6F E4 09 58 51 72 56 56 56 56 4B E4","E4 09 E5 EC FD EB EB EB EB FD","E4 09 E5 EC FD EB EB EB EB FD"," "," "," "]
["000252 14:35:44.353  06 FA 55 56 56 96 E4 08 31 B6 99 B9 9D .ъUVV–д.1¶™№ќ","06 FA 55 56 56 96 E4 08 31 B6 99 B9 9D .ъUVV–д.1¶™№ќ","06 FA 55 56 56 96 E4 08 31 B6 99 B9 9D","E4 06 47 E8 EB EB 72","E4 06 47 E8 EB EB 72"," "," "," "]
["000253 14:35:44.369  9C 26 E4 05 B1 9D 9D F5 E7 06 19 56 57 њ&д.±ќќхз..VW","9C 26 E4 05 B1 9D 9D F5 E7 06 19 56 57 њ&д.±ќќхз..VW","9C 26 E4 05 B1 9D 9D F5 E7 06 19 56 57","E4 08 3F B8 97 85 93 92 24","E4 08 3F B8 97 85 93 92 24"," "," "," "]
["000254 14:35:44.401  AF C6 E7 05 55 55 57 94 2A 06 00 01 00 ЇЖз.UUW”*....","AF C6 E7 05 55 55 57 94 2A 06 00 01 00 ЇЖз.UUW”*....","AF C6 E7 05 55 55 57 94 2A 06 00 01 00","E4 05 BF 93 93 C2","E4 05 BF 93 93 C2"," "," "," "]
["000255 14:35:44.417  F8 F8 94 06 1D 48 49 B1 05 94 05 4B 5C шш”..HI±.”.K\\","F8 F8 94 06 1D 48 49 B1 05 94 05 4B 5C шш”..HI±.”.K\\","F8 F8 94 06 1D 48 49 B1 05 94 05 4B 5C","E7 06 FB B4 B5 4D B1"," ","E7 06 FB B4 B5 4D B1"," "," "]
["000256 14:35:44.449  49 39 E4 06 B4 19 18 E0 41 E4 09 16 1F I9д.ґ..аAд...","49 39 E4 06 B4 19 18 E0 41 E4 09 16 1F I9д.ґ..аAд...","49 39 E4 06 B4 19 18 E0 41 E4 09 16 1F","E7 05 B1 D8 B4 60"," ","E7 05 B1 D8 B4 60"," "," "]
["000257 14:35:44.465  3D 18 18 18 18 3D E4 06 B4 1B 18 18 B8 =....=д.ґ...ё","3D 18 18 18 18 3D E4 06 B4 1B 18 18 B8 =....=д.ґ...ё","3D 18 18 18 18 3D E4 06 B4 1B 18 18 B8","E7 06 FB B6 B5 B5 48"," ","E7 06 FB B6 B5 B5 48"," "," "]
["000258 14:35:44.497  E4 08 AE 29 06 27 02 03 47 E4 05 2E 02 д.®).'..Gд...",{"$f":"RIGHT(A260,52)","v":"E4 08 AE 29 06 27 02 03 47 E4 05 2E 02 д.®).'..Gд..."},"E4 08 AE 29 06 27 02 03 47 E4 05 2E 02","1A 06 00 01 00 F8 15"," "," ",{"$f":"IF((LEFT($D260,2)=\"00\"),$D260,\" \")","v":" "},{"$f":"IF((LEFT($D260,2)=\"94\"),$D260,\" \")","v":" "}]
["000259 14:35:44.513  02 09 E7 06 C9 86 87 7F D1 E7 05 85 84 ..з.Й†‡\u007fСз.…„","02 09 E7 06 C9 86 87 7F D1 E7 05 85 84 ..з.Й†‡\u007fСз.…„","02 09 E7 06 C9 86 87 7F D1 E7 05 85 84","94 06 C1 94 95 6D 55"," "," "," ","94 06 C1 94 95 6D 55"]
["000260 14:35:44.545  87 46 2B 06 00 01 00 F8 CF 94 06 CB 9E ‡F+....шП”.Лћ","87 46 2B 06 00 01 00 F8 CF 94 06 CB 9E ‡F+....шП”.Лћ","87 46 2B 06 00 01 00 F8 CF 94 06 CB 9E","94 05 97 90 95 96"," "," "," ","94 05 97 90 95 96"]
["000261 14:35:44.577  9F 67 BD 94 05 9D 89 9F DC E4 06 C3 6E џgЅ”.ќ‰џЬд.Гn","9F 67 BD 94 05 9D 89 9F DC E4 06 C3 6E џgЅ”.ќ‰џЬд.Гn","9F 67 BD 94 05 9D 89 9F DC E4 06 C3 6E","00 09 02 2B 10 01 00 00 6D 36"," "," ","00 09 02 2B 10 01 00 00 6D 36"," "]
["000262 14:35:44.593  6F 97 59 E4 09 61 68 49 6F 6F 6F 6F 2A o—Yд.ahIoooo*","6F 97 59 E4 09 61 68 49 6F 6F 6F 6F 2A o—Yд.ahIoooo*","6F 97 59 E4 09 61 68 49 6F 6F 6F 6F 2A","00 09 02 2B 10 01 00 00 6D 36"," "," ","00 09 02 2B 10 01 00 00 6D 36"," "]
["000263 14:35:44.609  E4 06 C3 6C 6F 6F A0 E4 08 7C FB D4 F6 д.Гloo д.|ыФц","E4 06 C3 6C 6F 6F A0 E4 08 7C FB D4 F6 д.Гloo д.|ыФц","E4 06 C3 6C 6F 6F A0 E4 08 7C FB D4 F6","00 09 02 2B 10 01 00 00 6D 36"," "," ","00 09 02 2B 10 01 00 00 6D 36"," "]
["000264 14:35:44.641  D0 D1 A6 E4 05 FC D0 D0 7D E7 06 EB A4 РС¦д.ьРР}з.л¤","D0 D1 A6 E4 05 FC D0 D0 7D E7 06 EB A4 РС¦д.ьРР}з.л¤","D0 D1 A6 E4 05 FC D0 D0 7D E7 06 EB A4","00 09 02 2B 10 01 00 00 6D 36"," "," ","00 09 02 2B 10 01 00 00 6D 36"," "]
["000265 14:35:44.657  A5 5D B2 E7 05 A7 A1 A5 3C 2C 06 00 01 Ґ]Із.§ЎҐ<,...","A5 5D B2 E7 05 A7 A1 A5 3C 2C 06 00 01 Ґ]Із.§ЎҐ<,...","A5 5D B2 E7 05 A7 A1 A5 3C 2C 06 00 01","00 09 02 2B 10 01 00 00 6D 36"," "," ","00 09 02 2B 10 01 00 00 6D 36"," "]
["000266 14:35:44.689  00 F8 4A 94 06 5C 09 08 F0 B7 94 05 0A .шJ”.\\..р·”..","00 F8 4A 94 06 5C 09 08 F0 B7 94 05 0A .шJ”.\\..р·”..","00 F8 4A 94 06 5C 09 08 F0 B7 94 05 0A","00 09 02 2B 10 01 00 00 6D 36"," "," ","00 09 02 2B 10 01 00 00 6D 36"," "]
["000267 14:35:44.721  1F 08 75 E4 06 92 3F 3E C6 FC E4 09 30 ..uд.’?>Жьд.0","1F 08 75 E4 06 92 3F 3E C6 FC E4 09 30 ..uд.’?>Жьд.0","1F 08 75 E4 06 92 3F 3E C6 FC E4 09 30","E4 06 6C C1 C0 38 DB",{"$f":"IF((LEFT(D269,2)=\"E4\"),D269,\" \")","v":"E4 06 6C C1 C0 38 DB"},{"$f":"IF((LEFT($D269,2)=\"E7\"),$D269,\" \")","v":" "}," "," "]
["000268 14:35:44.737  39 19 3E 3E 3E 3E 16 E4 06 92 3D 3E 3E 9.>>>>.д.’=>>","39 19 3E 3E 3E 3E 16 E4 06 92 3D 3E 3E 9.>>>>.д.’=>>","39 19 3E 3E 3E 3E 16 E4 06 92 3D 3E 3E","E4 09 CE C7 D7 C0 C0 C0 C0 9C","E4 09 CE C7 D7 C0 C0 C0 C0 9C"," "," "," "]
["000269 14:35:44.753  11 E4 08 CF 48 67 44 63 62 94 E4 05 4F .д.ПHgDcb”д.O","11 E4 08 CF 48 67 44 63 62 94 E4 05 4F .д.ПHgDcb”д.O","11 E4 08 CF 48 67 44 63 62 94 E4 05 4F","E4 06 6C C3 C0 C0 22","E4 06 6C C3 C0 C0 22"," "," "," "]
["000270 14:35:44.785  63 63 A2 E7 06 26 69 68 90 5F E7 05 6A ccўз.&ihђ_з.j","63 63 A2 E7 06 26 69 68 90 5F E7 05 6A ccўз.&ihђ_з.j","63 63 A2 E7 06 26 69 68 90 5F E7 05 6A","E4 09 56 D1 EA FB FA FA 97 19","E4 09 56 D1 EA FB FA FA 97 19"," "," "," "]
["000271 14:35:44.801  6D 68 B1 2D 06 00 01 00 F8 7D 94 06 85 mh±-....ш}”.…","6D 68 B1 2D 06 00 01 00 F8 7D 94 06 85 mh±-....ш}”.…","6D 68 B1 2D 06 00 01 00 F8 7D 94 06 85","E4 05 D6 FA FA F8","E4 05 D6 FA FA F8"," "," "," "]
["000272 14:35:44.849  D0 D1 29 93 94 05 D3 C9 D1 DB E4 06 74 РС)“”.УЙСЫд.t","D0 D1 29 93 94 05 D3 C9 D1 DB E4 06 74 РС)“”.УЙСЫд.t","D0 D1 29 93 94 05 D3 C9 D1 DB E4 06 74","E4 09 19 9E A4 B4 B4 B5 B5 25","E4 09 19 9E A4 B4 B4 B5 B5 25"," "," "," "]
["000273 14:35:44.865  D9 D8 20 55 E4 09 D6 DF F0 D8 D8 D8 D8 ЩШ Uд.ЦЯрШШШШ","D9 D8 20 55 E4 09 D6 DF F0 D8 D8 D8 D8 ЩШ Uд.ЦЯрШШШШ","D9 D8 20 55 E4 09 D6 DF F0 D8 D8 D8 D8","E4 05 99 B5 B5 12","E4 05 99 B5 B5 12"," "," "," "]
["000274 14:35:44.881  28 E4 06 74 DB D8 D8 AC E4 08 C0 47 68 (д.tЫШШ¬д.АGh","28 E4 06 74 DB D8 D8 AC E4 08 C0 47 68 (д.tЫШШ¬д.АGh","28 E4 06 74 DB D8 D8 AC E4 08 C0 47 68","E7 06 6E 21 20 D8 DE"," ","E7 06 6E 21 20 D8 DE"," "," "]
["000275 14:35:44.913  44 6C 6D 1C E4 05 40 6C 6C A4 E7 06 68 Dlm.д.@ll¤з.h","44 6C 6D 1C E4 05 40 6C 6C A4 E7 06 68 Dlm.д.@ll¤з.h","44 6C 6D 1C E4 05 40 6C 6C A4 E7 06 68","E7 05 22 20 20 33"," ","E7 05 22 20 20 33"," "," "]
["000276 14:35:44.929  27 26 DE 71 E7 05 24 20 26 3F 2E 06 00 '&Юqз.$ &?...","27 26 DE 71 E7 05 24 20 26 3F 2E 06 00 '&Юqз.$ &?...","27 26 DE 71 E7 05 24 20 26 3F 2E 06 00","E4 08 E6 61 4E 5D 4A 4B 54","E4 08 E6 61 4E 5D 4A 4B 54"," "," "," "]
["000277 14:35:44.961  01 00 F8 24 94 06 1F 4A 4B B3 60 94 05 ..ш$”..JKі`”.","01 00 F8 24 94 06 1F 4A 4B B3 60 94 05 ..ш$”..JKі`”.","01 00 F8 24 94 06 1F 4A 4B B3 60 94 05","E4 05 66 4A 4A 74","E4 05 66 4A 4A 74"," "," "," "]
["000278 14:35:44.977  49 52 4B 16 E4 06 46 EB EA 12 35 E4 09 IRK.д.Fлк.5д.","49 52 4B 16 E4 06 46 EB EA 12 35 E4 09 IRK.д.Fлк.5д.","49 52 4B 16 E4 06 46 EB EA 12 35 E4 09","1B 06 00 01 00 F8 22"," "," "," "," "]
["000279 14:35:45.009  E4 ED C3 EA EA EA EA 6F E4 06 46 E9 EA днГккккoд.Fйк","E4 ED C3 EA EA EA EA 6F E4 06 46 E9 EA днГккккoд.Fйк","E4 ED C3 EA EA EA EA 6F E4 06 46 E9 EA","94 06 8B DE DF 27 B1"," "," "," ","94 06 8B DE DF 27 B1"]
["000280 14:35:45.025  EA CC E4 08 47 C0 EF C2 EB EA 4B E4 05 кМд.GАпВлкKд.","EA CC E4 08 47 C0 EF C2 EB EA 4B E4 05 кМд.GАпВлкKд.","EA CC E4 08 47 C0 EF C2 EB EA 4B E4 05","94 05 DD D9 DF DC"," "," "," ","94 05 DD D9 DF DC"]
["000281 14:35:45.057  C7 EB EB F2 E7 06 62 2D 2C D4 99 E7 05 Зллтз.b-,Ф™з.","C7 EB EB F2 E7 06 62 2D 2C D4 99 E7 05 Зллтз.b-,Ф™з.","C7 EB EB F2 E7 06 62 2D 2C D4 99 E7 05","E4 06 80 2D 2C D4 8E","E4 06 80 2D 2C D4 8E"," "," "," "]
["000282 14:35:45.073  2E 2B 2C 08 2F 06 00 01 00 F8 13 94 06 .+,./....ш.”.","2E 2B 2C 08 2F 06 00 01 00 F8 13 94 06 .+,./....ш.”.","2E 2B 2C 08 2F 06 00 01 00 F8 13 94 06","E4 09 22 2B 34 2C 2C 2C 2C D0","E4 09 22 2B 34 2C 2C 2C 2C D0"," "," "," "]
["000283 14:35:45.105  5B 0E 0F F7 A6 94 05 0D 15 0F 6B E4 06 [..ч¦”....kд.","5B 0E 0F F7 A6 94 05 0D 15 0F 6B E4 06 [..ч¦”....kд.","5B 0E 0F F7 A6 94 05 0D 15 0F 6B E4 06","E4 06 80 2F 2C 2C 77","E4 06 80 2F 2C 2C 77"," "," "," "]
["000284 14:35:45.137  36 9B 9A 62 3C E4 09 94 9D B0 9A 9A 9A 6›љb<д.”ќ°љљљ","36 9B 9A 62 3C E4 09 94 9D B0 9A 9A 9A 6›љb<д.”ќ°љљљ","36 9B 9A 62 3C E4 09 94 9D B0 9A 9A 9A","E4 08 18 9F B0 AC B4 B5 5D","E4 08 18 9F B0 AC B4 B5 5D"," "," "," "]
["000285 14:35:45.153  9A 0E E4 06 36 99 9A 9A C5 E4 08 1C 9B љ.д.6™љљЕд..›","9A 0E E4 06 36 99 9A 9A C5 E4 08 1C 9B љ.д.6™љљЕд..›","9A 0E E4 06 36 99 9A 9A C5 E4 08 1C 9B","E4 05 98 B4 B4 23","E4 05 98 B4 B4 23"," "," "," "]
["000286 14:35:45.185  B4 9A B0 B1 C5 E4 05 9C B0 B0 E7 E7 06 ґљ°±Ед.њ°°зз.","B4 9A B0 B1 C5 E4 05 9C B0 B0 E7 E7 06 ґљ°±Ед.њ°°зз.","B4 9A B0 B1 C5 E4 05 9C B0 B0 E7 E7 06","E7 06 58 17 16 EE 74"," ","E7 06 58 17 16 EE 74"," "," "]
["000287 14:35:45.201  55 1A 1B E3 8D E7 05 19 13 1B CA 30 06 U..гЌз....К0.","55 1A 1B E3 8D E7 05 19 13 1B CA 30 06 U..гЌз....К0.","55 1A 1B E3 8D E7 05 19 13 1B CA 30 06","E7 05 14 17 16 1C"," ","E7 05 14 17 16 1C"," "," "]
["000288 14:35:45.217  00 01 00 F8 6C 94 06 FA AF AE 56 06 94 ...шl”.ъЇ®V.”","00 01 00 F8 6C 94 06 FA AF AE 56 06 94 ...шl”.ъЇ®V.”","00 01 00 F8 6C 94 06 FA AF AE 56 06 94","1C 06 00 01 00 F8 A7"," "," "," "," "]
["000289 14:35:45.249  05 AC B5 AE 29 E4 06 A2 0F 0E F6 ED E4 .¬µ®)д.ў..цнд","05 AC B5 AE 29 E4 06 A2 0F 0E F6 ED E4 .¬µ®)д.ў..цнд","05 AC B5 AE 29 E4 06 A2 0F 0E F6 ED E4","94 06 4B 1E 1F E7 A5"," "," "," ","94 06 4B 1E 1F E7 A5"]
["000290 14:35:45.281  09 00 09 25 0E 0E 0E 0E 4F E4 06 A2 0D ...%....Oд.ў.","09 00 09 25 0E 0E 0E 0E 4F E4 06 A2 0D ...%....Oд.ў.","09 00 09 25 0E 0E 0E 0E 4F E4 06 A2 0D","94 05 1D 18 1F 35"," "," "," ","94 05 1D 18 1F 35"]
["000291 14:35:45.297  0E 0E 14 E4 08 97 10 3F 10 3B 3A 89 E4 ...д.—.?.;:‰д","0E 0E 14 E4 08 97 10 3F 10 3B 3A 89 E4 ...д.—.?.;:‰д","0E 0E 14 E4 08 97 10 3F 10 3B 3A 89 E4","E4 06 DA 77 76 8E 69","E4 06 DA 77 76 8E 69"," "," "," "]
["000292 14:35:45.329  05 17 3B 3B E4 E7 06 94 DB DA 22 27 E7 ..;;дз.”ЫЪ\"'з","05 17 3B 3B E4 E7 06 94 DB DA 22 27 E7 ..;;дз.”ЫЪ\"'з","05 17 3B 3B E4 E7 06 94 DB DA 22 27 E7","E4 09 78 71 6F 76 76 76 76 84","E4 09 78 71 6F 76 76 76 76 84"," "," "," "]
["000293 14:35:45.345  05 D8 D3 DA 12 31 06 00 01 00 F8 5B 94 .ШУЪ.1....ш[”","05 D8 D3 DA 12 31 06 00 01 00 F8 5B 94 .ШУЪ.1....ш[”","05 D8 D3 DA 12 31 06 00 01 00 F8 5B 94","E4 06 DA 75 76 76 90","E4 06 DA 75 76 76 90"," "," "," "]
["000294 14:35:45.377  06 5A 0F 0E F6 18 94 05 0C 12 0E F0 E4 .Z..ц.”....рд","06 5A 0F 0E F6 18 94 05 0C 12 0E F0 E4 .Z..ц.”....рд","06 5A 0F 0E F6 18 94 05 0C 12 0E F0 E4","E4 08 04 83 AC B1 A8 A9 C9","E4 08 04 83 AC B1 A8 A9 C9"," "," "," "]
["000295 14:35:45.409  06 14 B9 B8 40 5F E4 09 B6 BF 94 B8 B8 ..№ё@_д.¶ї”ёё","06 14 B9 B8 40 5F E4 09 B6 BF 94 B8 B8 ..№ё@_д.¶ї”ёё","06 14 B9 B8 40 5F E4 09 B6 BF 94 B8 B8","E4 05 84 A8 A8 4D","E4 05 84 A8 A8 4D"," "," "," "]
["000296 14:35:45.425  B8 B8 C7 E4 06 14 BB B8 B8 A6 E4 08 E2 ёёЗд..»ёё¦д.в","B8 B8 C7 E4 06 14 BB B8 B8 A6 E4 08 E2 ёёЗд..»ёё¦д.в","B8 B8 C7 E4 06 14 BB B8 B8 A6 E4 08 E2","E7 06 9D D2 D3 2B 14"," ","E7 06 9D D2 D3 2B 14"," "," "]
["000297 14:35:45.458  65 4A 62 4E 4F 42 E4 05 62 4E 4E B0 E7 eJbNOBд.bNN°з","65 4A 62 4E 4F 42 E4 05 62 4E 4E B0 E7 eJbNOBд.bNN°з","65 4A 62 4E 4F 42 E4 05 62 4E 4E B0 E7","E7 05 D1 D1 D3 91"," ","E7 05 D1 D1 D3 91"," "," "]
["000298 14:35:45.474  06 1C 53 52 AA B2 E7 05 50 58 52 17 32 ..SRЄІз.PXR.2","06 1C 53 52 AA B2 E7 05 50 58 52 17 32 ..SRЄІз.PXR.2","06 1C 53 52 AA B2 E7 05 50 58 52 17 32","1D 06 00 01 00 F8 90"," "," "," "," "]
["000299 14:35:45.490  06 00 01 00 F8 02 94 06 3F 6A 6B 93 66 ....ш.”.?jk“f","06 00 01 00 F8 02 94 06 3F 6A 6B 93 66 ....ш.”.?jk“f","06 00 01 00 F8 02 94 06 3F 6A 6B 93 66","94 06 25 70 71 89 8D"," "," "," ","94 06 25 70 71 89 8D"]
["000300 14:35:45.522  94 05 69 76 6B 5B E4 06 4A E7 E6 1E 72 ”.ivk[д.Jзж.r","94 05 69 76 6B 5B E4 06 4A E7 E6 1E 72 ”.ivk[д.Jзж.r","94 05 69 76 6B 5B E4 06 4A E7 E6 1E 72","94 05 73 79 71 80"," "," "," ","94 05 73 79 71 80"]
["000301 14:35:45.538  E4 09 E8 E1 CB E6 E6 E6 E6 6E E4 06 4A д.ибЛжжжжnд.J","E4 09 E8 E1 CB E6 E6 E6 E6 6E E4 06 4A д.ибЛжжжжnд.J","E4 09 E8 E1 CB E6 E6 E6 E6 6E E4 06 4A","E4 06 BD 10 11 E9 72","E4 06 BD 10 11 E9 72"," "," "," "]
["000302 14:35:45.570  E5 E6 E6 8B E4 08 D2 55 7A 53 7E 7F 85 ежж‹д.ТUzS~\u007f…","E5 E6 E6 8B E4 08 D2 55 7A 53 7E 7F 85 ежж‹д.ТUzS~\u007f…","E5 E6 E6 8B E4 08 D2 55 7A 53 7E 7F 85","E4 09 1F 16 0B 11 11 11 11 4C","E4 09 1F 16 0B 11 11 11 11 4C"," "," "," "]
["000303 14:35:45.602  E4 05 52 7E 7E FD E7 06 D7 98 99 61 F0 д.R~~эз.Ч\u0098™aр","E4 05 52 7E 7E FD E7 06 D7 98 99 61 F0 д.R~~эз.Ч\u0098™aр","E4 05 52 7E 7E FD E7 06 D7 98 99 61 F0","E4 06 BD 12 11 11 8B","E4 06 BD 12 11 11 8B"," "," "," "]
["000304 14:35:45.618  E7 05 9B 92 99 3C 33 06 00 01 00 F8 35 з.›’™<3....ш5","E7 05 9B 92 99 3C 33 06 00 01 00 F8 35 з.›’™<3....ш5","E7 05 9B 92 99 3C 33 06 00 01 00 F8 35","E4 08 2B AC 83 9D 87 86 B2","E4 08 2B AC 83 9D 87 86 B2"," "," "," "]
["000305 14:35:45.650  94 06 59 0C 0D F5 C3 94 05 0F 13 0D 32 ”.Y..хГ”....2","94 06 59 0C 0D F5 C3 94 05 0F 13 0D 32 ”.Y..хГ”....2","94 06 59 0C 0D F5 C3 94 05 0F 13 0D 32","E4 05 AB 87 87 3D","E4 05 AB 87 87 3D"," "," "," "]
["000306 14:35:45.666  E4 06 2E 83 82 7A B2 E4 09 8C 85 AC 82 д..ѓ‚zІд.Њ…¬‚","E4 06 2E 83 82 7A B2 E4 09 8C 85 AC 82 д..ѓ‚zІд.Њ…¬‚","E4 06 2E 83 82 7A B2 E4 09 8C 85 AC 82","E7 06 68 27 26 DE 71"," ","E7 06 68 27 26 DE 71"," "," "]
["000307 14:35:45.695  82 82 82 2D E4 06 2E 81 82 82 4B E4 08 ‚‚‚-д..Ѓ‚‚Kд.","82 82 82 2D E4 06 2E 81 82 82 4B E4 08 ‚‚‚-д..Ѓ‚‚Kд.","82 82 82 2D E4 06 2E 81 82 82 4B E4 08","E7 05 24 25 26 C0"," ","E7 05 24 25 26 C0"," "," "]
["000308 14:35:45.714  AD 2A 05 2F 01 00 4A E4 05 2D 01 01 5A ­*./..Jд.-..Z","AD 2A 05 2F 01 00 4A E4 05 2D 01 01 5A ­*./..Jд.-..Z","AD 2A 05 2F 01 00 4A E4 05 2D 01 01 5A","1E 06 00 01 00 F8 C9"," "," "," "," "]
["000309 14:35:45.746  E7 06 20 6F 6E 96 F0 E7 05 6C 62 6E A5 з. on–рз.lbnҐ","E7 06 20 6F 6E 96 F0 E7 05 6C 62 6E A5 з. on–рз.lbnҐ","E7 06 20 6F 6E 96 F0 E7 05 6C 62 6E A5","94 06 78 2D 2C D4 7B"," "," "," ","94 06 78 2D 2C D4 7B"]
["000310 14:35:45.762  34 06 00 01 00 F8 B0 94 06 E2 B7 B6 4E 4....ш°”.в·¶N","34 06 00 01 00 F8 B0 94 06 E2 B7 B6 4E 4....ш°”.в·¶N","34 06 00 01 00 F8 B0 94 06 E2 B7 B6 4E","94 05 2E 25 2C F7"," "," "," ","94 05 2E 25 2C F7"]
["000311 14:35:45.794  88 94 05 B4 A9 B6 B8 E4 06 CA 67 66 9E €”.ґ©¶ёд.Кgfћ","88 94 05 B4 A9 B6 B8 E4 06 CA 67 66 9E €”.ґ©¶ёд.Кgfћ","88 94 05 B4 A9 B6 B8 E4 06 CA 67 66 9E","E4 06 42 EF EE 16 FF","E4 06 42 EF EE 16 FF"," "," "," "]
["000312 14:35:45.810  6A E4 09 68 61 49 66 66 66 66 43 E4 06 jд.haIffffCд.","6A E4 09 68 61 49 66 66 66 66 43 E4 06 jд.haIffffCд.","6A E4 09 68 61 49 66 66 66 66 43 E4 06","E4 09 E0 E9 F5 EE EE EE EE 95","E4 09 E0 E9 F5 EE EE EE EE 95"," "," "," "]
["000313 14:35:45.826  CA 65 66 66 6F E4 08 1B 9C B3 98 B7 B6 Кeffoд..њі\u0098·¶","CA 65 66 66 6F E4 08 1B 9C B3 98 B7 B6 Кeffoд..њі\u0098·¶","CA 65 66 66 6F E4 08 1B 9C B3 98 B7 B6","E4 06 42 ED EE EE 06","E4 06 42 ED EE EE 06"," "," "," "]
["000314 14:35:45.858  35 E4 05 9B B7 B7 70 E7 06 D5 9A 9B 63 5д.›··pз.Хљ›c","35 E4 05 9B B7 B7 70 E7 06 D5 9A 9B 63 5д.›··pз.Хљ›c","35 E4 05 9B B7 B7 70 E7 06 D5 9A 9B 63","E4 08 79 FE D1 CE D5 D4 25","E4 08 79 FE D1 CE D5 D4 25"," "," "," "]
["000315 14:35:45.890  95 E7 05 99 96 9B F4 35 06 00 01 00 F8 •з.™–›ф5....ш","95 E7 05 99 96 9B F4 35 06 00 01 00 F8 •з.™–›ф5....ш","95 E7 05 99 96 9B F4 35 06 00 01 00 F8","E4 05 F9 D5 D5 88","E4 05 F9 D5 D5 88"," "," "," "]
["000316 14:35:45.906  87 94 06 10 45 44 BC FC 94 05 46 64 44 ‡”..EDјь”.FdD","87 94 06 10 45 44 BC FC 94 05 46 64 44 ‡”..EDјь”.FdD","87 94 06 10 45 44 BC FC 94 05 46 64 44","E7 06 B9 F6 F7 0F D8"," ","E7 06 B9 F6 F7 0F D8"," "," "]
["000317 14:35:45.938  8F E4 06 AB 06 07 FF DE E4 09 09 00 37 Џд.«..яЮд...7","8F E4 06 AB 06 07 FF DE E4 09 09 00 37 Џд.«..яЮд...7","8F E4 06 AB 06 07 FF DE E4 09 09 00 37","E7 05 F5 F3 F7 89"," ","E7 05 F5 F3 F7 89"," "," "]
["000318 14:35:45.954  07 07 07 07 D9 E4 06 AB 04 07 07 27 E4 ....Щд.«...'д","07 07 07 07 D9 E4 06 AB 04 07 07 27 E4 ....Щд.«...'д","07 07 07 07 D9 E4 06 AB 04 07 07 27 E4","1F 06 00 01 00 F8 FE"," "," "," "," "]
["000319 14:35:45.986  08 EF 68 47 73 43 42 EC E4 05 6F 43 43 .пhGsCBмд.oCC","08 EF 68 47 73 43 42 EC E4 05 6F 43 43 .пhGsCBмд.oCC","08 EF 68 47 73 43 42 EC E4 05 6F 43 43","94 06 AF FA FB 03 7D"," "," "," ","94 06 AF FA FB 03 7D"]
["000320 14:35:46.002  D4 E7 06 03 4C 4D B5 2D E7 05 4F 43 4D Фз..LMµ-з.OCM","D4 E7 06 03 4C 4D B5 2D E7 05 4F 43 4D Фз..LMµ-з.OCM","D4 E7 06 03 4C 4D B5 2D E7 05 4F 43 4D","94 05 F9 F1 FB 23"," "," "," ","94 05 F9 F1 FB 23"]
["000321 14:35:46.018  11 36 06 00 01 00 F8 DE 94 06 43 16 17 .6....шЮ”.C..","11 36 06 00 01 00 F8 DE 94 06 43 16 17 .6....шЮ”.C..","11 36 06 00 01 00 F8 DE 94 06 43 16 17","E4 06 88 25 24 DC 03","E4 06 88 25 24 DC 03"," "," "," "]
["000322 14:35:46.066  EF 28 94 05 15 36 17 CF E4 06 65 C8 C9 п(”..6.Пд.eИЙ",{"$f":"RIGHT(A324,52)","v":"EF 28 94 05 15 36 17 CF E4 06 65 C8 C9 п(”..6.Пд.eИЙ"},"EF 28 94 05 15 36 17 CF E4 06 65 C8 C9","E4 09 2A 23 38 24 24 24 24 2C","E4 09 2A 23 38 24 24 24 24 2C"," ",{"$f":"IF((LEFT($D324,2)=\"00\"),$D324,\" \")","v":" "},{"$f":"IF((LEFT($D324,2)=\"94\"),$D324,\" \")","v":" "}]
["000323 14:35:46.082  31 FC E4 09 C7 CE F8 C9 C9 C9 C9 01 E4 1ьд.ЗОшЙЙЙЙ.д","31 FC E4 09 C7 CE F8 C9 C9 C9 C9 01 E4 1ьд.ЗОшЙЙЙЙ.д","31 FC E4 09 C7 CE F8 C9 C9 C9 C9 01 E4","E4 06 88 27 24 24 FA","E4 06 88 27 24 24 FA"," "," "," "]
["000324 14:35:46.098  06 65 CA C9 C9 11 E4 08 3E B9 96 A3 92 .eКЙЙ.д.>№–Ј’","06 65 CA C9 C9 11 E4 08 3E B9 96 A3 92 .eКЙЙ.д.>№–Ј’","06 65 CA C9 C9 11 E4 08 3E B9 96 A3 92","E4 08 E9 6E 41 59 45 44 42","E4 08 E9 6E 41 59 45 44 42"," "," "," "]
["000325 14:35:46.130  93 8E E4 05 BE 92 92 F3 E7 06 04 4B 4A “Ћд.ѕ’’уз..KJ","93 8E E4 05 BE 92 92 F3 E7 06 04 4B 4A “Ћд.ѕ’’уз..KJ","93 8E E4 05 BE 92 92 F3 E7 06 04 4B 4A","E4 05 69 45 45 72","E4 05 69 45 45 72"," "," "," "]
["000326 14:35:46.146  B2 3C E7 05 48 45 4A 42 37 06 00 01 00 І<з.HEJB7....","B2 3C E7 05 48 45 4A 42 37 06 00 01 00 І<з.HEJB7....","B2 3C E7 05 48 45 4A 42 37 06 00 01 00","E7 06 3D 72 73 8B 0A"," ","E7 06 3D 72 73 8B 0A"," "," "]
["000327 14:35:46.178  F8 E9 E4 06 0D A0 A1 59 6F E4 09 AF A6 шйд.. ЎYoд.Ї¦","F8 E9 E4 06 0D A0 A1 59 6F E4 09 AF A6 шйд.. ЎYoд.Ї¦","F8 E9 E4 06 0D A0 A1 59 6F E4 09 AF A6","E7 05 71 76 73 48"," ","E7 05 71 76 73 48"," "," "]
["000328 14:35:46.210  93 A1 A1 A1 A1 5C E4 06 0D A2 A1 A1 96 “ЎЎЎЎ\\д..ўЎЎ–","93 A1 A1 A1 A1 5C E4 06 0D A2 A1 A1 96 “ЎЎЎЎ\\д..ўЎЎ–","93 A1 A1 A1 A1 5C E4 06 0D A2 A1 A1 96","20 06 00 01 00 F8 37"," "," "," "," "]
["000329 14:35:46.242  E4 08 A3 24 0B 3D 0F 0E 28 E4 05 23 0F д.Ј$.=..(д.#.","E4 08 A3 24 0B 3D 0F 0E 28 E4 05 23 0F д.Ј$.=..(д.#.","E4 08 A3 24 0B 3D 0F 0E 28 E4 05 23 0F","94 06 43 16 17 EF 28"," "," "," ","94 06 43 16 17 EF 28"]
["000330 14:35:46.258  0F 6D 94 06 20 75 74 8C F9 94 05 76 56 .m”. utЊщ”.vV","0F 6D 94 06 20 75 74 8C F9 94 05 76 56 .m”. utЊщ”.vV","0F 6D 94 06 20 75 74 8C F9 94 05 76 56","94 05 15 1C 17 E9"," "," "," ","94 05 15 1C 17 E9"]
["000331 14:35:46.274  74 53 E4 06 79 D4 D5 2D AC E4 09 DB D2 tSд.yФХ-¬д.ЫТ","74 53 E4 06 79 D4 D5 2D AC E4 09 DB D2 tSд.yФХ-¬д.ЫТ","74 53 E4 06 79 D4 D5 2D AC E4 09 DB D2","E4 06 5B F6 F7 0F CF",{"$f":"IF((LEFT(D333,2)=\"E4\"),D333,\" \")","v":"E4 06 5B F6 F7 0F CF"},{"$f":"IF((LEFT($D333,2)=\"E7\"),$D333,\" \")","v":" "}," "," "]
["000332 14:35:46.290  E6 D5 D5 D5 D5 BF E4 06 79 D6 D5 D5 55 жХХХХїд.yЦХХU","E6 D5 D5 D5 D5 BF E4 06 79 D6 D5 D5 55 жХХХХїд.yЦХХU","E6 D5 D5 D5 D5 BF E4 06 79 D6 D5 D5 55","E4 09 F9 F0 EA F7 F7 F7 F7 4C","E4 09 F9 F0 EA F7 F7 F7 F7 4C"," "," "," "]
["000333 14:35:46.322  E4 08 C5 42 6D 5A 69 68 DA E4 05 45 69 д.ЕBmZihЪд.Ei","E4 08 C5 42 6D 5A 69 68 DA E4 05 45 69 д.ЕBmZihЪд.Ei","E4 08 C5 42 6D 5A 69 68 DA E4 05 45 69","E4 06 5B F4 F7 F7 36","E4 06 5B F4 F7 F7 36"," "," "," "]
["000334 14:35:46.338  69 51 E7 06 73 3C 3D C5 24 E7 05 3F 2D iQз.s<=Е$з.?-","69 51 E7 06 73 3C 3D C5 24 E7 05 3F 2D iQз.s<=Е$з.?-","69 51 E7 06 73 3C 3D C5 24 E7 05 3F 2D","E4 08 0C 8B A4 BD A0 A1 45","E4 08 0C 8B A4 BD A0 A1 45"," "," "," "]
["000335 14:35:46.370  3D 80 E4 06 7D D0 D1 29 66 E4 09 DF D6 =Ђд.}РС)fд.ЯЦ","3D 80 E4 06 7D D0 D1 29 66 E4 09 DF D6 =Ђд.}РС)fд.ЯЦ","3D 80 E4 06 7D D0 D1 29 66 E4 09 DF D6","E4 05 8C A0 A0 DC","E4 05 8C A0 A0 DC"," "," "," "]
["000336 14:35:46.386  E5 D1 D1 D1 D1 EF E4 06 7D D2 D1 D1 9F еССССпд.}ТССџ","E5 D1 D1 D1 D1 EF E4 06 7D D2 D1 D1 9F еССССпд.}ТССџ","E5 D1 D1 D1 D1 EF E4 06 7D D2 D1 D1 9F","E7 06 F5 BA BB 43 93"," ","E7 06 F5 BA BB 43 93"," "," "]
["000337 14:35:46.418  E4 08 94 13 3C 0C 38 39 50 E4 05 14 38 д.”.<.89Pд..8","E4 08 94 13 3C 0C 38 39 50 E4 05 14 38 д.”.<.89Pд..8","E4 08 94 13 3C 0C 38 39 50 E4 05 14 38","E7 05 B9 BD BB A1"," ","E7 05 B9 BD BB A1"," "," "]
["000338 14:35:46.434  38 B7 38 06 00 01 00 F8 CD 94 06 68 3D 8·8....шН”.h=","38 B7 38 06 00 01 00 F8 CD 94 06 68 3D 8·8....шН”.h=","38 B7 38 06 00 01 00 F8 CD 94 06 68 3D","21 06 00 01 00 F8 00"," "," "," "," "]
["000339 14:35:46.466  3C C4 78 94 05 3E 1F 3C 3D E4 06 08 A5 <Дx”.>.<=д..Ґ","3C C4 78 94 05 3E 1F 3C 3D E4 06 08 A5 <Дx”.>.<=д..Ґ","3C C4 78 94 05 3E 1F 3C 3D E4 06 08 A5","94 06 80 D5 D4 2C E7"," "," "," ","94 06 80 D5 D4 2C E7"]
["000340 14:35:46.498  A4 5C 1B E4 09 AA A3 91 A4 A4 A4 A4 89 ¤\\.д.ЄЈ‘¤¤¤¤‰","A4 5C 1B E4 09 AA A3 91 A4 A4 A4 A4 89 ¤\\.д.ЄЈ‘¤¤¤¤‰","A4 5C 1B E4 09 AA A3 91 A4 A4 A4 A4 89","94 05 D6 D8 D4 F9"," "," "," ","94 05 D6 D8 D4 F9"]
["000341 14:35:46.514  E4 06 08 A7 A4 A4 E2 E4 08 F0 77 58 69 д..§¤¤вд.рwXi","E4 06 08 A7 A4 A4 E2 E4 08 F0 77 58 69 д..§¤¤вд.рwXi","E4 06 08 A7 A4 A4 E2 E4 08 F0 77 58 69","E4 06 D2 7F 7E 86 E4","E4 06 D2 7F 7E 86 E4"," "," "," "]
["000342 14:35:46.546  5C 5D 2A E4 05 70 5C 5C E9 E7 06 0A 45 \\]*д.p\\\\йз..E","5C 5D 2A E4 05 70 5C 5C E9 E7 06 0A 45 \\]*д.p\\\\йз..E","5C 5D 2A E4 05 70 5C 5C E9 E7 06 0A 45","E4 09 70 79 60 7E 7E 7E 7E 36","E4 09 70 79 60 7E 7E 7E 7E 36"," "," "," "]
["000343 14:35:46.562  44 BC 1E E7 05 46 55 44 45 E4 06 4D E0 Dј.з.FUDEд.Mа","44 BC 1E E7 05 46 55 44 45 E4 06 4D E0 Dј.з.FUDEд.Mа","44 BC 1E E7 05 46 55 44 45 E4 06 4D E0","E4 06 D2 7D 7E 7E 1D","E4 06 D2 7D 7E 7E 1D"," "," "," "]
["000344 14:35:46.578  E1 19 63 E4 09 EF E6 D7 E1 E1 E1 E1 14 б.cд.пжЧбббб.","E1 19 63 E4 09 EF E6 D7 E1 E1 E1 E1 14 б.cд.пжЧбббб.","E1 19 63 E4 09 EF E6 D7 E1 E1 E1 E1 14","E4 08 BB 3C 13 09 17 16 31","E4 08 BB 3C 13 09 17 16 31"," "," "," "]
["000345 14:35:46.610  E4 06 4D E2 E1 E1 9A E4 08 B2 35 1A 28 д.Mвббљд.І5.(","E4 06 4D E2 E1 E1 9A E4 08 B2 35 1A 28 д.Mвббљд.І5.(","E4 06 4D E2 E1 E1 9A E4 08 B2 35 1A 28","E4 05 3B 17 17 C7","E4 05 3B 17 17 C7"," "," "," "]
["000346 14:35:46.626  1E 1F D6 E4 05 32 1E 1E 67 39 06 00 01 ..Цд.2..g9...","1E 1F D6 E4 05 32 1E 1E 67 39 06 00 01 ..Цд.2..g9...","1E 1F D6 E4 05 32 1E 1E 67 39 06 00 01","E7 06 B5 FA FB 03 9F"," ","E7 06 B5 FA FB 03 9F"," "," "]
["000347 14:35:46.658  00 F8 FA 94 06 FD A8 A9 51 17 94 05 AB .шъ”.эЁ©Q.”.«","00 F8 FA 94 06 FD A8 A9 51 17 94 05 AB .шъ”.эЁ©Q.”.«","00 F8 FA 94 06 FD A8 A9 51 17 94 05 AB","E7 05 F9 FC FB 89"," ","E7 05 F9 FC FB 89"," "," "]
["000348 14:35:46.690  8D A9 8B E4 06 31 9C 9D 65 2D E4 09 93 Ќ©‹д.1њќe-д.“","8D A9 8B E4 06 31 9C 9D 65 2D E4 09 93 Ќ©‹д.1њќe-д.“","8D A9 8B E4 06 31 9C 9D 65 2D E4 09 93","22 06 00 01 00 F8 59"," "," "," "," "]
["000349 14:35:46.706  9A AA 9D 9D 9D 9D FC E4 06 31 9E 9D 9D љЄќќќќьд.1ћќќ","9A AA 9D 9D 9D 9D FC E4 06 31 9E 9D 9D љЄќќќќьд.1ћќќ","9A AA 9D 9D 9D 9D FC E4 06 31 9E 9D 9D","94 06 C8 9D 9C 64 66"," "," "," ","94 06 C8 9D 9C 64 66"]
["000350 14:35:46.722  D4 E4 08 36 B1 9E AD 9A 9B 4D E4 05 B6 Фд.6±ћ­љ›Mд.¶","D4 E4 08 36 B1 9E AD 9A 9B 4D E4 05 B6 Фд.6±ћ­љ›Mд.¶","D4 E4 08 36 B1 9E AD 9A 9B 4D E4 05 B6","94 05 9E 91 9C 40"," "," "," ","94 05 9E 91 9C 40"]
["000351 14:35:46.754  9A 9A 62 E4 06 A5 08 09 F1 FC E4 09 07 љљbд.Ґ..сьд..","9A 9A 62 E4 06 A5 08 09 F1 FC E4 09 07 љљbд.Ґ..сьд..","9A 9A 62 E4 06 A5 08 09 F1 FC E4 09 07","E4 06 9E 33 32 CA AF","E4 06 9E 33 32 CA AF"," "," "," "]
["000352 14:35:46.786  0E 31 09 09 09 09 0B E4 06 A5 0A 09 09 .1.....д.Ґ...","0E 31 09 09 09 09 0B E4 06 A5 0A 09 09 .1.....д.Ґ...","0E 31 09 09 09 09 0B E4 06 A5 0A 09 09","E4 09 3C 35 2D 32 32 32 32 B2","E4 09 3C 35 2D 32 32 32 32 B2"," "," "," "]
["000353 14:35:46.802  05 E4 08 8D 0A 25 19 21 20 99 E4 05    .д.Ќ.%.! ™д."," 05 E4 08 8D 0A 25 19 21 20 99 E4 05    .д.Ќ.%.! ™д."," 05 E4 08 8D 0A 25 19 21 20 99 E4 05  ","E4 06 9E 31 32 32 56","E4 06 9E 31 32 32 56"," "," "," "]
[null,null,null,"E4 08 C2 45 6A 71 6E 6F 30","E4 08 C2 45 6A 71 6E 6F 30"," "," "," "]
[null,null,null,"E4 05 42 6E 6E C6","E4 05 42 6E 6E C6"," "," "," "]
[null,null,null,"E7 06 0A 45 44 BC 1E"," ","E7 06 0A 45 44 BC 1E"," "," "]
[null,null,null,"E7 05 46 4C 44 1B"," ","E7 05 46 4C 44 1B"," "," "]
[null,null,null,"23 06 00 01 00 F8 6E"," "," "," "," "]
[null,null,null,"94 06 49 1C 1D E5 C0"," "," "," ","94 06 49 1C 1D E5 C0"]
[null,null,null,"94 05 1F 13 1D E5"," "," "," ","94 05 1F 13 1D E5"]
[null,null,null,"E4 06 6A C7 C6 3E A0","E4 06 6A C7 C6 3E A0"," "," "," "]
[null,null,null,"E4 09 C8 C1 E6 C6 C6 C6 C6 25","E4 09 C8 C1 E6 C6 C6 C6 C6 25"," "," "," "]
[null,null,null,"E4 06 6A C5 C6 C6 59","E4 06 6A C5 C6 C6 59"," "," "," "]
[null,null,null,"E4 08 E2 65 4A 6E 4E 4F F9","E4 08 E2 65 4A 6E 4E 4F F9"," "," "," "]
[null,null,null,"E4 05 62 4E 4E B0","E4 05 62 4E 4E B0"," "," "," "]
[null,null,null,"E7 06 3E 71 70 88 D1"," ","E7 06 3E 71 70 88 D1"," "," "]
[null,null,null,"E7 05 72 79 70 56"," ","E7 05 72 79 70 56"," "," "]
[null,null,null,"24 06 00 01 00 F8 EB"," "," "," "," "]
[null,null,null,"94 06 C4 91 90 68 21"," "," "," ","94 06 C4 91 90 68 21"]
[null,null,null,"94 05 92 9F 90 84"," "," "," ","94 05 92 9F 90 84"]
[null,null,null,"E4 06 2B 86 87 7F C6","E4 06 2B 86 87 7F C6"," "," "," "]
[null,null,null,"E4 11 89 88 86 85 87 87 77 96 96 78 78 78 78 93 85 C6","E4 11 89 88 86 85 87 87 77 96 96 78 78 78 78 93 85 C6"," "," "," "]
[null,null,null,"E4 06 2B 84 87 87 3F","E4 06 2B 84 87 87 3F"," "," "," "]
[null,null,null,"E4 13 7B FC C6 D6 D5 D7 C7 D1 27 C6 C6 28 28 28 28 C3 CF 6F","E4 13 7B FC C6 D6 D5 D7 C7 D1 27 C6 C6 28 28 28 28 C3 CF 6F"," "," "," "]
[null,null,null,"E4 05 FB D7 D7 EA","E4 05 FB D7 D7 EA"," "," "," "]
[null,null,null,"E7 06 43 0C 0D F5 21"," ","E7 06 43 0C 0D F5 21"," "," "]
[null,null,null,"E7 05 0F 07 0D C6"," ","E7 05 0F 07 0D C6"," "," "]
[null,null,null,"25 06 00 01 00 F8 DC"," "," "," "," "]
[null,null,null,"94 06 46 13 12 EA 5C"," "," "," ","94 06 46 13 12 EA 5C"]
[null,null,null,"94 05 10 02 12 D3"," "," "," ","94 05 10 02 12 D3"]
[null,null,null,"E4 06 B6 1B 1A E2 24","E4 06 B6 1B 1A E2 24"," "," "," "]
[null,null,null,"E4 10 14 17 1B 18 1A EA 0B 0B E5 E5 E5 E5 0E 18 E1","E4 10 14 17 1B 18 1A EA 0B 0B E5 E5 E5 E5 0E 18 E1"," "," "," "]
[null,null,null,"E4 06 B6 19 1A 1A DD","E4 06 B6 19 1A 1A DD"," "," "," "]
[null,null,null,"E7 06 BA F5 F4 0C 03"," ","E7 06 BA F5 F4 0C 03"," "," "]
[null,null,null,"E7 05 F6 FF F4 C2"," ","E7 05 F6 FF F4 C2"," "," "]
[null,null,null,"E7 06 AC F1 E0 E2 8D"," ","E7 06 AC F1 E0 E2 8D",{"$f":"IF((LEFT($D388,2)=\"00\"),$D388,\" \")","v":" "},{"$f":"IF((LEFT($D388,2)=\"94\"),$D388,\" \")","v":" "}]
[null,null,null,"E7 05 F6 E0 E2 76"," ","E7 05 F6 E0 E2 76"," "," "]
[null,null,null,"26 06 00 01 00 F8 85"," "," "," "," "]
[null,null,null,"94 06 33 66 67 9F 21"," "," "," ","94 06 33 66 67 9F 21"]
[null,null,null,"94 05 65 76 67 43"," "," "," ","94 05 65 76 67 43"]
[null,null,null,"E4 06 7A D7 D6 2E 77","E4 06 7A D7 D6 2E 77"," "," "," "]
[null,null,null,"E4 09 D8 D1 F7 D6 D6 D6 D6 37","E4 09 D8 D1 F7 D6 D6 D6 D6 37"," "," "," "]
[null,null,null,"E4 06 7A D5 D6 D6 8E","E4 06 7A D5 D6 D6 8E"," "," "," "]
[null,null,null,"E4 08 8F 08 27 02 23 22 D5","E4 08 8F 08 27 02 23 22 D5"," "," "," "]
[null,null,null,"E4 05 0F 23 23 4E",{"$f":"IF((LEFT(D397,2)=\"E4\"),D397,\" \")","v":"E4 05 0F 23 23 4E"},{"$f":"IF((LEFT($D397,2)=\"E7\"),$D397,\" \")","v":" "}," "," "]
[null,null,null,"E7 06 3C 73 72 8A B4"," ","E7 06 3C 73 72 8A B4"," "," "]
[null,null,null,"E7 05 76 1F 70 38"," ","E7 05 76 1F 70 38"," "," "]
[null,null,null,"E7 06 3C 71 72 72 4D"," ","E7 06 3C 71 72 72 4D"," "," "]
[null,null,null,"27 06 00 01 00 F8 B2"," "," "," "," "]
[null,null,null,"00 09 03 2B 10 02 00 00 6D 83"," "," ","00 09 03 2B 10 02 00 00 6D 83"," "]
[null,null,null,"00 09 03 2B 10 02 00 00 6D 83"," "," ","00 09 03 2B 10 02 00 00 6D 83"," "]
[null,null,null,"00 09 03 2B 10 02 00 00 6D 83"," "," ","00 09 03 2B 10 02 00 00 6D 83"," "]
[null,null,null,"00 09 03 2B 10 02 00 00 6D 83"," "," ","00 09 03 2B 10 02 00 00 6D 83"," "]
[null,null,null,"00 09 03 2B 10 02 00 00 6D 83"," "," ","00 09 03 2B 10 02 00 00 6D 83"," "]
[null,null,null,"00 09 03 2B 10 02 00 00 6D 83"," "," ","00 09 03 2B 10 02 00 00 6D 83"," "]
[null,null,null,"94 06 EA BF BE 46 05"," "," "," ","94 06 EA BF BE 46 05"]
[null,null,null,"94 05 BC AC BE A0"," "," "," ","94 05 BC AC BE A0"]
[null,null,null,"E4 06 22 8F 8E 76 F5","E4 06 22 8F 8E 76 F5"," "," "," "]
[null,null,null,"E4 09 80 89 AC 8E 8E 8E 8E 12","E4 09 80 89 AC 8E 8E 8E 8E 12"," "," "," "]
[null,null,null,"E4 06 22 8D 8E 8E 0C","E4 06 22 8D 8E 8E 0C"," "," "," "]
[null,null,null,"E4 09 39 BE 85 97 95 95 F8 F4","E4 09 39 BE 85 97 95 95 F8 F4"," "," "," "]
[null,null,null,"E4 05 B9 95 95 64","E4 05 B9 95 95 64"," "," "," "]
[null,null,null,"E4 09 9C 1B 21 31 32 30 30 EB","E4 09 9C 1B 21 31 32 30 30 EB"," "," "," "]
[null,null,null,"E4 05 1C 30 30 26","E4 05 1C 30 30 26"," "," "," "]
[null,null,null,"E7 06 E8 A7 A6 5E 69"," ","E7 06 E8 A7 A6 5E 69"," "," "]
[null,null,null,"E7 05 A4 A6 A6 54"," ","E7 05 A4 A6 A6 54"," "," "]
[null,null,null,"E4 08 7A FD D2 F4 D6 D7 B9","E4 08 7A FD D2 F4 D6 D7 B9"," "," "," "]
[null,null,null,"E4 05 FA D6 D6 DB","E4 05 FA D6 D6 DB"," "," "," "]
[null,null,null,"28 06 00 01 00 F8 96"," "," "," "," "]
[null,null,null,"94 06 C6 93 92 6A 44"," "," "," ","94 06 C6 93 92 6A 44"]
[null,null,null,"94 05 90 81 92 47"," "," "," ","94 05 90 81 92 47"]
[null,null,null,"E4 06 9B 36 37 CF DB","E4 06 9B 36 37 CF DB"," "," "," "]
[null,null,null,"E4 09 39 30 14 37 37 37 37 F0","E4 09 39 30 14 37 37 37 37 F0"," "," "," "]
[null,null,null,"E4 06 9B 34 37 37 22","E4 06 9B 34 37 37 22"," "," "," "]
[null,null,null,"E7 06 B1 FE FF 07 55"," ","E7 06 B1 FE FF 07 55"," "," "]
[null,null,null,"E7 05 FD FE FF E7"," ","E7 05 FD FE FF E7"," "," "]
[null,null,null,"E4 08 E1 66 49 6E 4D 4C D1","E4 08 E1 66 49 6E 4D 4C D1"," "," "," "]
[null,null,null,"E4 05 61 4D 4D E3","E4 05 61 4D 4D E3"," "," "," "]
[null,null,null,"29 06 00 01 00 F8 A1"," "," "," "," "]
[null,null,null,"94 06 11 44 45 BD 42"," "," "," ","94 06 11 44 45 BD 42"]
[null,null,null,"94 05 47 51 45 A8"," "," "," ","94 05 47 51 45 A8"]
[null,null,null,"E4 06 FA 57 56 AE 6F","E4 06 FA 57 56 AE 6F"," "," "," "]
[null,null,null,"E4 09 58 51 72 56 56 56 56 4B","E4 09 58 51 72 56 56 56 56 4B"," "," "," "]
[null,null,null,"E4 06 FA 55 56 56 96","E4 06 FA 55 56 56 96"," "," "," "]
[null,null,null,"E4 08 31 B6 99 B9 9D 9C 26","E4 08 31 B6 99 B9 9D 9C 26"," "," "," "]
[null,null,null,"E4 05 B1 9D 9D F5","E4 05 B1 9D 9D F5"," "," "," "]
[null,null,null,"E7 06 19 56 57 AF C6"," ","E7 06 19 56 57 AF C6"," "," "]
[null,null,null,"E7 05 55 55 57 94"," ","E7 05 55 55 57 94"," "," "]
[null,null,null,"2A 06 00 01 00 F8 F8"," "," "," "," "]
[null,null,null,"94 06 1D 48 49 B1 05"," "," "," ","94 06 1D 48 49 B1 05"]
[null,null,null,"94 05 4B 5C 49 39"," "," "," ","94 05 4B 5C 49 39"]
[null,null,null,"E4 06 B4 19 18 E0 41","E4 06 B4 19 18 E0 41"," "," "," "]
[null,null,null,"E4 09 16 1F 3D 18 18 18 18 3D","E4 09 16 1F 3D 18 18 18 18 3D"," "," "," "]
[null,null,null,"E4 06 B4 1B 18 18 B8","E4 06 B4 1B 18 18 B8"," "," "," "]
[null,null,null,"E4 08 AE 29 06 27 02 03 47","E4 08 AE 29 06 27 02 03 47"," "," "," "]
[null,null,null,"E4 05 2E 02 02 09","E4 05 2E 02 02 09"," "," "," "]
[null,null,null,"E7 06 C9 86 87 7F D1"," ","E7 06 C9 86 87 7F D1"," "," "]
[null,null,null,"E7 05 85 84 87 46"," ","E7 05 85 84 87 46"," "," "]
[null,null,null,"2B 06 00 01 00 F8 CF"," "," "," "," "]
[null,null,null,"94 06 CB 9E 9F 67 BD"," "," ",{"$f":"IF((LEFT($D452,2)=\"00\"),$D452,\" \")","v":" "},{"$f":"IF((LEFT($D452,2)=\"94\"),$D452,\" \")","v":"94 06 CB 9E 9F 67 BD"}]
[null,null,null,"94 05 9D 89 9F DC"," "," "," ","94 05 9D 89 9F DC"]
[null,null,null,"E4 06 C3 6E 6F 97 59","E4 06 C3 6E 6F 97 59"," "," "," "]
[null,null,null,"E4 09 61 68 49 6F 6F 6F 6F 2A","E4 09 61 68 49 6F 6F 6F 6F 2A"," "," "," "]
[null,null,null,"E4 06 C3 6C 6F 6F A0","E4 06 C3 6C 6F 6F A0"," "," "," "]
[null,null,null,"E4 08 7C FB D4 F6 D0 D1 A6","E4 08 7C FB D4 F6 D0 D1 A6"," "," "," "]
[null,null,null,"E4 05 FC D0 D0 7D","E4 05 FC D0 D0 7D"," "," "," "]
[null,null,null,"E7 06 EB A4 A5 5D B2"," ","E7 06 EB A4 A5 5D B2"," "," "]
[null,null,null,"E7 05 A7 A1 A5 3C"," ","E7 05 A7 A1 A5 3C"," "," "]
[null,null,null,"2C 06 00 01 00 F8 4A",{"$f":"IF((LEFT(D461,2)=\"E4\"),D461,\" \")","v":" "},{"$f":"IF((LEFT($D461,2)=\"E7\"),$D461,\" \")","v":" "}," "," "]
[null,null,null,"94 06 5C 09 08 F0 B7"," "," "," ","94 06 5C 09 08 F0 B7"]
[null,null,null,"94 05 0A 1F 08 75"," "," "," ","94 05 0A 1F 08 75"]
[null,null,null,"E4 06 92 3F 3E C6 FC","E4 06 92 3F 3E C6 FC"," "," "," "]
[null,null,null,"E4 09 30 39 19 3E 3E 3E 3E 16","E4 09 30 39 19 3E 3E 3E 3E 16"," "," "," "]
[null,null,null,"E4 06 92 3D 3E 3E 11","E4 06 92 3D 3E 3E 11"," "," "," "]
[null,null,null,"E4 08 CF 48 67 44 63 62 94","E4 08 CF 48 67 44 63 62 94"," "," "," "]
[null,null,null,"E4 05 4F 63 63 A2","E4 05 4F 63 63 A2"," "," "," "]
[null,null,null,"E7 06 26 69 68 90 5F"," ","E7 06 26 69 68 90 5F"," "," "]
[null,null,null,"E7 05 6A 6D 68 B1"," ","E7 05 6A 6D 68 B1"," "," "]
[null,null,null,"2D 06 00 01 00 F8 7D"," "," "," "," "]
[null,null,null,"94 06 85 D0 D1 29 93"," "," "," ","94 06 85 D0 D1 29 93"]
[null,null,null,"94 05 D3 C9 D1 DB"," "," "," ","94 05 D3 C9 D1 DB"]
[null,null,null,"E4 06 74 D9 D8 20 55","E4 06 74 D9 D8 20 55"," "," "," "]
[null,null,null,"E4 09 D6 DF F0 D8 D8 D8 D8 28","E4 09 D6 DF F0 D8 D8 D8 D8 28"," "," "," "]
[null,null,null,"E4 06 74 DB D8 D8 AC","E4 06 74 DB D8 D8 AC"," "," "," "]
[null,null,null,"E4 08 C0 47 68 44 6C 6D 1C","E4 08 C0 47 68 44 6C 6D 1C"," "," "," "]
[null,null,null,"E4 05 40 6C 6C A4","E4 05 40 6C 6C A4"," "," "," "]
[null,null,null,"E7 06 68 27 26 DE 71"," ","E7 06 68 27 26 DE 71"," "," "]
[null,null,null,"E7 05 24 20 26 3F"," ","E7 05 24 20 26 3F"," "," "]
[null,null,null,"2E 06 00 01 00 F8 24"," "," "," "," "]
[null,null,null,"94 06 1F 4A 4B B3 60"," "," "," ","94 06 1F 4A 4B B3 60"]
[null,null,null,"94 05 49 52 4B 16"," "," "," ","94 05 49 52 4B 16"]
[null,null,null,"E4 06 46 EB EA 12 35","E4 06 46 EB EA 12 35"," "," "," "]
[null,null,null,"E4 09 E4 ED C3 EA EA EA EA 6F","E4 09 E4 ED C3 EA EA EA EA 6F"," "," "," "]
[null,null,null,"E4 06 46 E9 EA EA CC","E4 06 46 E9 EA EA CC"," "," "," "]
[null,null,null,"E4 08 47 C0 EF C2 EB EA 4B","E4 08 47 C0 EF C2 EB EA 4B"," "," "," "]
[null,null,null,"E4 05 C7 EB EB F2","E4 05 C7 EB EB F2"," "," "," "]
[null,null,null,"E7 06 62 2D 2C D4 99"," ","E7 06 62 2D 2C D4 99"," "," "]
[null,null,null,"E7 05 2E 2B 2C 08"," ","E7 05 2E 2B 2C 08"," "," "]
[null,null,null,"2F 06 00 01 00 F8 13"," "," "," "," "]
[null,null,null,"94 06 5B 0E 0F F7 A6"," "," "," ","94 06 5B 0E 0F F7 A6"]
[null,null,null,"94 05 0D 15 0F 6B"," "," "," ","94 05 0D 15 0F 6B"]
[null,null,null,"E4 06 36 9B 9A 62 3C","E4 06 36 9B 9A 62 3C"," "," "," "]
[null,null,null,"E4 09 94 9D B0 9A 9A 9A 9A 0E","E4 09 94 9D B0 9A 9A 9A 9A 0E"," "," "," "]
[null,null,null,"E4 06 36 99 9A 9A C5","E4 06 36 99 9A 9A C5"," "," "," "]
[null,null,null,"E4 08 1C 9B B4 9A B0 B1 C5","E4 08 1C 9B B4 9A B0 B1 C5"," "," "," "]
[null,null,null,"E4 05 9C B0 B0 E7","E4 05 9C B0 B0 E7"," "," "," "]
[null,null,null,"E7 06 55 1A 1B E3 8D"," ","E7 06 55 1A 1B E3 8D"," "," "]
[null,null,null,"E7 05 19 13 1B CA"," ","E7 05 19 13 1B CA"," "," "]
[null,null,null,"30 06 00 01 00 F8 6C"," "," "," "," "]
[null,null,null,"94 06 FA AF AE 56 06"," "," "," ","94 06 FA AF AE 56 06"]
[null,null,null,"94 05 AC B5 AE 29"," "," "," ","94 05 AC B5 AE 29"]
[null,null,null,"E4 06 A2 0F 0E F6 ED","E4 06 A2 0F 0E F6 ED"," "," "," "]
[null,null,null,"E4 09 00 09 25 0E 0E 0E 0E 4F","E4 09 00 09 25 0E 0E 0E 0E 4F"," "," "," "]
[null,null,null,"E4 06 A2 0D 0E 0E 14","E4 06 A2 0D 0E 0E 14"," "," "," "]
[null,null,null,"E4 08 97 10 3F 10 3B 3A 89","E4 08 97 10 3F 10 3B 3A 89"," "," "," "]
[null,null,null,"E4 05 17 3B 3B E4","E4 05 17 3B 3B E4"," "," "," "]
[null,null,null,"E7 06 94 DB DA 22 27"," ","E7 06 94 DB DA 22 27"," "," "]
[null,null,null,"E7 05 D8 D3 DA 12"," ","E7 05 D8 D3 DA 12"," "," "]
[null,null,null,"31 06 00 01 00 F8 5B"," "," "," "," "]
[null,null,null,"94 06 5A 0F 0E F6 18"," "," "," ","94 06 5A 0F 0E F6 18"]
[null,null,null,"94 05 0C 12 0E F0"," "," "," ","94 05 0C 12 0E F0"]
[null,null,null,"E4 06 14 B9 B8 40 5F","E4 06 14 B9 B8 40 5F"," "," "," "]
[null,null,null,"E4 09 B6 BF 94 B8 B8 B8 B8 C7","E4 09 B6 BF 94 B8 B8 B8 B8 C7"," "," "," "]
[null,null,null,"E4 06 14 BB B8 B8 A6","E4 06 14 BB B8 B8 A6"," ",{"$f":"IF((LEFT($D516,2)=\"00\"),$D516,\" \")","v":" "},{"$f":"IF((LEFT($D516,2)=\"94\"),$D516,\" \")","v":" "}]
[null,null,null,"E4 08 E2 65 4A 62 4E 4F 42","E4 08 E2 65 4A 62 4E 4F 42"," "," "," "]
[null,null,null,"E4 05 62 4E 4E B0","E4 05 62 4E 4E B0"," "," "," "]
[null,null,null,"E7 06 1C 53 52 AA B2"," ","E7 06 1C 53 52 AA B2"," "," "]
[null,null,null,"E7 05 50 58 52 17"," ","E7 05 50 58 52 17"," "," "]
[null,null,null,"32 06 00 01 00 F8 02"," "," "," "," "]
[null,null,null,"94 06 3F 6A 6B 93 66"," "," "," ","94 06 3F 6A 6B 93 66"]
[null,null,null,"94 05 69 76 6B 5B"," "," "," ","94 05 69 76 6B 5B"]
[null,null,null,"E4 06 4A E7 E6 1E 72","E4 06 4A E7 E6 1E 72"," "," "," "]
[null,null,null,"E4 09 E8 E1 CB E6 E6 E6 E6 6E",{"$f":"IF((LEFT(D525,2)=\"E4\"),D525,\" \")","v":"E4 09 E8 E1 CB E6 E6 E6 E6 6E"},{"$f":"IF((LEFT($D525,2)=\"E7\"),$D525,\" \")","v":" "}," "," "]
[null,null,null,"E4 06 4A E5 E6 E6 8B","E4 06 4A E5 E6 E6 8B"," "," "," "]
[null,null,null,"E4 08 D2 55 7A 53 7E 7F 85","E4 08 D2 55 7A 53 7E 7F 85"," "," "," "]
[null,null,null,"E4 05 52 7E 7E FD","E4 05 52 7E 7E FD"," "," "," "]
[null,null,null,"E7 06 D7 98 99 61 F0"," ","E7 06 D7 98 99 61 F0"," "," "]
[null,null,null,"E7 05 9B 92 99 3C"," ","E7 05 9B 92 99 3C"," "," "]
[null,null,null,"33 06 00 01 00 F8 35"," "," "," "," "]
[null,null,null,"94 06 59 0C 0D F5 C3"," "," "," ","94 06 59 0C 0D F5 C3"]
[null,null,null,"94 05 0F 13 0D 32"," "," "," ","94 05 0F 13 0D 32"]
[null,null,null,"E4 06 2E 83 82 7A B2","E4 06 2E 83 82 7A B2"," "," "," "]
[null,null,null,"E4 09 8C 85 AC 82 82 82 82 2D","E4 09 8C 85 AC 82 82 82 82 2D"," "," "," "]
[null,null,null,"E4 06 2E 81 82 82 4B","E4 06 2E 81 82 82 4B"," "," "," "]
[null,null,null,"E4 08 AD 2A 05 2F 01 00 4A","E4 08 AD 2A 05 2F 01 00 4A"," "," "," "]
[null,null,null,"E4 05 2D 01 01 5A","E4 05 2D 01 01 5A"," "," "," "]
[null,null,null,"E7 06 20 6F 6E 96 F0"," ","E7 06 20 6F 6E 96 F0"," "," "]
[null,null,null,"E7 05 6C 62 6E A5"," ","E7 05 6C 62 6E A5"," "," "]
[null,null,null,"34 06 00 01 00 F8 B0"," "," "," "," "]
[null,null,null,"94 06 E2 B7 B6 4E 88"," "," "," ","94 06 E2 B7 B6 4E 88"]
[null,null,null,"94 05 B4 A9 B6 B8"," "," "," ","94 05 B4 A9 B6 B8"]
[null,null,null,"E4 06 CA 67 66 9E 6A","E4 06 CA 67 66 9E 6A"," "," "," "]
[null,null,null,"E4 09 68 61 49 66 66 66 66 43","E4 09 68 61 49 66 66 66 66 43"," "," "," "]
[null,null,null,"E4 06 CA 65 66 66 6F","E4 06 CA 65 66 66 6F"," "," "," "]
[null,null,null,"E4 08 1B 9C B3 98 B7 B6 35","E4 08 1B 9C B3 98 B7 B6 35"," "," "," "]
[null,null,null,"E4 05 9B B7 B7 70","E4 05 9B B7 B7 70"," "," "," "]
[null,null,null,"E7 06 D5 9A 9B 63 95"," ","E7 06 D5 9A 9B 63 95"," "," "]
[null,null,null,"E7 05 99 96 9B F4"," ","E7 05 99 96 9B F4"," "," "]
[null,null,null,"35 06 00 01 00 F8 87"," "," "," "," "]
[null,null,null,"94 06 10 45 44 BC FC"," "," "," ","94 06 10 45 44 BC FC"]
[null,null,null,"94 05 46 64 44 8F"," "," "," ","94 05 46 64 44 8F"]
[null,null,null,"E4 06 AB 06 07 FF DE","E4 06 AB 06 07 FF DE"," "," "," "]
[null,null,null,"E4 09 09 00 37 07 07 07 07 D9","E4 09 09 00 37 07 07 07 07 D9"," "," "," "]
[null,null,null,"E4 06 AB 04 07 07 27","E4 06 AB 04 07 07 27"," "," "," "]
[null,null,null,"E4 08 EF 68 47 73 43 42 EC","E4 08 EF 68 47 73 43 42 EC"," "," "," "]
[null,null,null,"E4 05 6F 43 43 D4","E4 05 6F 43 43 D4"," "," "," "]
[null,null,null,"E7 06 03 4C 4D B5 2D"," ","E7 06 03 4C 4D B5 2D"," "," "]
[null,null,null,"E7 05 4F 43 4D 11"," ","E7 05 4F 43 4D 11"," "," "]
[null,null,null,"36 06 00 01 00 F8 DE"," "," "," "," "]
[null,null,null,"94 06 43 16 17 EF 28"," "," "," ","94 06 43 16 17 EF 28"]
[null,null,null,"94 05 15 36 17 CF"," "," "," ","94 05 15 36 17 CF"]
[null,null,null,"E4 06 65 C8 C9 31 FC","E4 06 65 C8 C9 31 FC"," "," "," "]
[null,null,null,"E4 09 C7 CE F8 C9 C9 C9 C9 01","E4 09 C7 CE F8 C9 C9 C9 C9 01"," "," "," "]
[null,null,null,"E4 06 65 CA C9 C9 11","E4 06 65 CA C9 C9 11"," "," "," "]
[null,null,null,"E4 08 3E B9 96 A3 92 93 8E","E4 08 3E B9 96 A3 92 93 8E"," "," "," "]
[null,null,null,"E4 05 BE 92 92 F3","E4 05 BE 92 92 F3"," "," "," "]
[null,null,null,"E7 06 04 4B 4A B2 3C"," ","E7 06 04 4B 4A B2 3C"," "," "]
[null,null,null,"E7 05 48 45 4A 42"," ","E7 05 48 45 4A 42"," "," "]
[null,null,null,"37 06 00 01 00 F8 E9"," "," "," "," "]
[null,null,null,"E4 06 0D A0 A1 59 6F","E4 06 0D A0 A1 59 6F"," "," "," "]
[null,null,null,"E4 09 AF A6 93 A1 A1 A1 A1 5C","E4 09 AF A6 93 A1 A1 A1 A1 5C"," "," "," "]
[null,null,null,"E4 06 0D A2 A1 A1 96","E4 06 0D A2 A1 A1 96"," "," "," "]
[null,null,null,"E4 08 A3 24 0B 3D 0F 0E 28","E4 08 A3 24 0B 3D 0F 0E 28"," "," "," "]
[null,null,null,"E4 05 23 0F 0F 6D","E4 05 23 0F 0F 6D"," "," "," "]
[null,null,null,"94 06 20 75 74 8C F9"," "," "," ","94 06 20 75 74 8C F9"]
[null,null,null,"94 05 76 56 74 53"," "," "," ","94 05 76 56 74 53"]
[null,null,null,"E4 06 79 D4 D5 2D AC","E4 06 79 D4 D5 2D AC"," "," "," "]
[null,null,null,"E4 09 DB D2 E6 D5 D5 D5 D5 BF","E4 09 DB D2 E6 D5 D5 D5 D5 BF"," ",{"$f":"IF((LEFT($D580,2)=\"00\"),$D580,\" \")","v":" "},{"$f":"IF((LEFT($D580,2)=\"94\"),$D580,\" \")","v":" "}]
[null,null,null,"E4 06 79 D6 D5 D5 55","E4 06 79 D6 D5 D5 55"," "," "," "]
[null,null,null,"E4 08 C5 42 6D 5A 69 68 DA","E4 08 C5 42 6D 5A 69 68 DA"," "," "," "]
[null,null,null,"E4 05 45 69 69 51","E4 05 45 69 69 51"," "," "," "]
[null,null,null,"E7 06 73 3C 3D C5 24"," ","E7 06 73 3C 3D C5 24"," "," "]
[null,null,null,"E7 05 3F 2D 3D 80"," ","E7 05 3F 2D 3D 80"," "," "]
[null,null,null,"E4 06 7D D0 D1 29 66","E4 06 7D D0 D1 29 66"," "," "," "]
[null,null,null,"E4 09 DF D6 E5 D1 D1 D1 D1 EF","E4 09 DF D6 E5 D1 D1 D1 D1 EF"," "," "," "]
[null,null,null,"E4 06 7D D2 D1 D1 9F","E4 06 7D D2 D1 D1 9F"," "," "," "]
[null,null,null,"E4 08 94 13 3C 0C 38 39 50",{"$f":"IF((LEFT(D589,2)=\"E4\"),D589,\" \")","v":"E4 08 94 13 3C 0C 38 39 50"},{"$f":"IF((LEFT($D589,2)=\"E7\"),$D589,\" \")","v":" "}," "," "]
[null,null,null,"E4 05 14 38 38 B7","E4 05 14 38 38 B7"," "," "," "]
[null,null,null,"38 06 00 01 00 F8 CD"," "," "," "," "]
[null,null,null,"94 06 68 3D 3C C4 78"," "," "," ","94 06 68 3D 3C C4 78"]
[null,null,null,"94 05 3E 1F 3C 3D"," "," "," ","94 05 3E 1F 3C 3D"]
[null,null,null,"E4 06 08 A5 A4 5C 1B","E4 06 08 A5 A4 5C 1B"," "," "," "]
[null,null,null,"E4 09 AA A3 91 A4 A4 A4 A4 89","E4 09 AA A3 91 A4 A4 A4 A4 89"," "," "," "]
[null,null,null,"E4 06 08 A7 A4 A4 E2","E4 06 08 A7 A4 A4 E2"," "," "," "]
[null,null,null,"E4 08 F0 77 58 69 5C 5D 2A","E4 08 F0 77 58 69 5C 5D 2A"," "," "," "]
[null,null,null,"E4 05 70 5C 5C E9","E4 05 70 5C 5C E9"," "," "," "]
[null,null,null,"E7 06 0A 45 44 BC 1E"," ","E7 06 0A 45 44 BC 1E"," "," "]
[null,null,null,"E7 05 46 55 44 45"," ","E7 05 46 55 44 45"," "," "]
[null,null,null,"E4 06 4D E0 E1 19 63","E4 06 4D E0 E1 19 63"," "," "," "]
[null,null,null,"E4 09 EF E6 D7 E1 E1 E1 E1 14","E4 09 EF E6 D7 E1 E1 E1 E1 14"," "," "," "]
[null,null,null,"E4 06 4D E2 E1 E1 9A","E4 06 4D E2 E1 E1 9A"," "," "," "]
[null,null,null,"E4 08 B2 35 1A 28 1E 1F D6","E4 08 B2 35 1A 28 1E 1F D6"," "," "," "]
[null,null,null,"E4 05 32 1E 1E 67","E4 05 32 1E 1E 67"," "," "," "]
[null,null,null,"39 06 00 01 00 F8 FA"," "," "," "," "]
[null,null,null,"94 06 FD A8 A9 51 17"," "," "," ","94 06 FD A8 A9 51 17"]
[null,null,null,"94 05 AB 8D A9 8B"," "," "," ","94 05 AB 8D A9 8B"]
[null,null,null,"E4 06 31 9C 9D 65 2D","E4 06 31 9C 9D 65 2D"," "," "," "]
[null,null,null,"E4 09 93 9A AA 9D 9D 9D 9D FC","E4 09 93 9A AA 9D 9D 9D 9D FC"," "," "," "]
[null,null,null,"E4 06 31 9E 9D 9D D4","E4 06 31 9E 9D 9D D4"," "," "," "]
[null,null,null,"E4 08 36 B1 9E AD 9A 9B 4D","E4 08 36 B1 9E AD 9A 9B 4D"," "," "," "]
[null,null,null,"E4 05 B6 9A 9A 62","E4 05 B6 9A 9A 62"," "," "," "]
[null,null,null,"E4 06 A5 08 09 F1 FC","E4 06 A5 08 09 F1 FC"," "," "," "]
[null,null,null,"E4 09 07 0E 31 09 09 09 09 0B","E4 09 07 0E 31 09 09 09 09 0B"," "," "," "]
[null,null,null,"E4 06 A5 0A 09 09 05","E4 06 A5 0A 09 09 05"," "," "," "]
[null,null,null,"E4 08 8D 0A 25 19 21 20 99","E4 08 8D 0A 25 19 21 20 99"," "," "," "]

{"sheet":"Таблица CRC","index":3,"n_rows":298,"n_cols":256,"rows_kept":298,"cut":false,"hidden":false,"merged":[]}
["CRCfrom_nekto:"]
["Data.c $00,$5E,$0BC,$0E2,$61,$3F,$0DD,$83,$0C2,$9C,$7E,$20,$0A3,$0FD,$1F,$41"]
["Data.c $9D,$0C3,$21,$7F,$0FC,$0A2,$40,$1E,$5F,$01,$0E3,$0BD,$3E,$60,$82,$0DC"]
["Data.c $23,$7D,$9F,$0C1,$42,$1C,$0FE,$0A0,$0E1,$0BF,$5D,$03,$80,$0DE,$3C,$62",null,null,null,null,null,null,null,null,null,{"$f":"MyXor(L3,'Таблица CRC'!A390)","v":0}]
["Data.c $0BE,$0E0,$02,$5C,$0DF,$81,$63,$3D,$7C,$22,$0C0,$9E,$1D,$43,$0A1,$0FF"]
["Data.c $46,$18,$0FA,$0A4,$27,$79,$9B,$0C5,$84,$0DA,$38,$66,$0E5,$0BB,$59,$07"]
["Data.c $0DB,$85,$67,$39,$0BA,$0E4,$06,$58,$19,$47,$0A5,$0FB,$78,$26,$0C4,$9A"]
["Data.c $65,$3B,$0D9,$87,$04,$5A,$0B8,$0E6,$0A7,$0F9,$1B,$45,$0C6,$98,$7A,$24"]
["Data.c $0F8,$0A6,$44,$1A,$99,$0C7,$25,$7B,$3A,$64,$86,$0D8,$5B,$05,$0E7,$0B9"]
["Data.c $8C,$0D2,$30,$6E,$0ED,$0B3,$51,$0F,$4E,$10,$0F2,$0AC,$2F,$71,$93,$0CD"]
["Data.c $11,$4F,$0AD,$0F3,$70,$2E,$0CC,$92,$0D3,$8D,$6F,$31,$0B2,$0EC,$0E,$50"]
["Data.c $0AF,$0F1,$13,$4D,$0CE,$90,$72,$2C,$6D,$33,$0D1,$8F,$0C,$52,$0B0,$0EE"]
["Data.c $32,$6C,$8E,$0D0,$53,$0D,$0EF,$0B1,$0F0,$0AE,$4C,$12,$91,$0CF,$2D,$73"]
["Data.c $0CA,$94,$76,$28,$0AB,$0F5,$17,$49,$08,$56,$0B4,$0EA,$69,$37,$0D5,$8B"]
["Data.c $57,$09,$0EB,$0B5,$36,$68,$8A,$0D4,$95,$0CB,$29,$77,$0F4,$0AA,$48,$16"]
["Data.c $0E9,$0B7,$55,$0B,$88,$0D6,$34,$6A,$2B,$75,$97,$0C9,$4A,$14,$0F6,$0A8"]
["Data.c $74,$2A,$0C8,$96,$15,$4B,$0A9,$0F7,$0B6,$0FC,$0A,$54,$0D7,$89,$6B,$35"]
[]
["CRCTable : array [0..255] of byte = ("]
["0,94,188,226,97,63,221,131,194,156,126,32,163,253,31,65,"]
["157,195,33,127,252,162,64,30,95,1,227,189,62,96,130,220,"]
["35,125,159,193,66,28,254,160,225,191,93,3,128,222,60,98,"]
["190,224,2,92,223,129,99,61,124,34,192,158,29,67,161,255,"]
["70,24,250,164,39,121,155,197,132,218,56,102,229,187,89,7,"]
["219,133,103,57,186,228,6,88,25,71,165,251,120,38,196,154,"]
["101,59,217,135,4,90,184,230,167,249,27,69,198,152,122,36,"]
["248,166,68,26,153,199,37,123,58,100,134,216,91,5,231,185,"]
["140,210,48,110,237,179,81,15,78,16,242,172,47,113,147,205,"]
["17,79,173,243,112,46,204,146,211,141,111,49,178,236,14,80,"]
["175,241,19,77,206,144,114,44,109,51,209,143,12,82,176,238,"]
["50,108,142,208,83,13,239,177,240,174,76,18,145,207,45,115,"]
["202,148,118,40,171,245,23,73,8,86,180,234,105,55,213,139,"]
["87,9,235,181,54,104,138,212,149,203,41,119,244,170,72,22,"]
["233,183,85,11,136,214,52,106,43,117,151,201,74,20,246,168,"]
["116,42,200,150,21,75,169,247,182,232,10,84,215,137,107,53);"]
["Таблица CRC8 от nekto "]
["00h,5Eh,0BCh,0E2h,61h,3Fh,0DDh,83h,0C2h,9Ch,7Eh,20h,0A3h,0FDh,1Fh,41h,9Dh,0C3h,21h,7Fh,0FCh,0A2h,40h,1Eh,5Fh,01h,0E3h,0BDh,3Eh,60h,82h,0DCh,23h,7Dh,9Fh,0C1h,42h,1Ch,0FEh,0A0h,0E1h,0BFh,5Dh,03h,80h,0DEh,3Ch,62h,0BEh,0E0h,02h,5Ch,0DFh,81h,63h,3Dh,7Ch,22h,0C0h,9Eh,1Dh,43h,0A1h,0FFh,46h,18h,0FAh,0A4h,27h,79h,9Bh,0C5h,84h,0DAh,38h,66h,0E5h,0BBh,59h,07h,0DBh,85h,67h,39h,0BAh,0E4h,06h,58h,19h,47h,0A5h,0FBh,78h,26h,0C4h,9Ah,65h,3Bh,0D9h,87h,04h,5Ah,0B8h,0E6h,0A7h,0F9h,1Bh,45h,0C6h,98h,7Ah,24h,0F8h,0A6h,44h,1Ah,99h,0C7h,25h,7Bh,3Ah,64h,86h,0D8h,5Bh,05h,0E7h,0B9h,8Ch,0D2h,30h,6Eh,0EDh,0B3h,51h,0Fh,4Eh,10h,0F2h,0ACh,2Fh,71h,93h,0CDh,11h,4Fh,0ADh,0F3h,70h,2Eh,0CCh,92h,0D3h,8Dh,6Fh,31h,0B2h,0ECh,0Eh,50h,0AFh,0F1h,13h,4Dh,0CEh,90h,72h,2Ch,6Dh,33h,0D1h,8Fh,0Ch,52h,0B0h,0EEh,32h,6Ch,8Eh,0D0h,53h,0Dh,0EFh,0B1h,0F0h,0AEh,4Ch,12h,91h,0CFh,2Dh,73h,0CAh,94h,76h,28h,0ABh,0F5h,17h,49h,08h,56h,0B4h,0EAh,69h,37h,0D5h,8Bh,57h,09h,0EBh,0B5h,36h,68h,8Ah,0D4h,95h,0CBh,29h,77h,0F4h,0AAh,48h,16h,0E9h,0B7h,55h,0Bh,88h,0D6h,34h,6Ah,2Bh,75h,97h,0C9h,4Ah,14h,0F6h,0A8h,74h,2Ah,0C8h,96h,15h,4Bh,0A9h,0F7h,0B6h,0FCh,0Ah,54h,0D7h,89h,6Bh,35h,00h"]
["00 5E BC E2 61 3F DD 83 C2 9C 7E 20 A3 FD 1F 41 9D C3 21 7F FC A2 40 1E 5F 1 E3 BD 3E 60 82 DC 23 7D 9F C1 42 1C FE A0 E1 BF 5D 3 80 DE 3C 62 BE E0 2 5C DF 81 63 3D 7C 22 C0 9E 1D 43 A1 FF 46 18 FA A4 27 79 9B C5 84 DA 38 66 E5 BB 59 7 DB 85 67 39 BA E4 6 58 19 47 A5 FB 78 26 C4 9A 65 3B D9 87 4 5A B8 E6 A7 F9 1B 45 C6 98 7A 24 F8 A6 44 1A 99 C7 25 7B 3A 64 86 D8 5B 5 E7 B9 8C D2 30 6E ED B3 51 F 4E 10 F2 AC 2F 71 93 CD 11 4F AD F3 70 2E CC 92 D3 8D 6F 31 B2 EC E 50 AF F1 13 4D CE 90 72 2C 6D 33 D1 8F C 52 B0 EE 32 6C 8E D0 53 D EF B1 F0 AE 4C 12 91 CF 2D 73 CA 94 76 28 AB F5 17 49 8 56 B4 EA 69 37 D5 8B 57 9 EB B5 36 68 8A D4 95 CB 29 77 F4 AA 48 16 E9 B7 55 B 88 D6 34 6A 2B 75 97 C9 4A 14 F6 A8 74 2A C8 96 15 4B A9 F7 B6 FC A 54 D7 89 6B 35 0h"]
[0,{"$f":"A39+1","v":1},{"$f":"B39+1","v":2},3,4,5,6,7,8,9,10,11,12,13,14,15,16,17,18,19,20,21,22,23,24,25,26,27,28,29,30,31,32,33,34,35,36,37,38,39,40,41,42,43,44,45,46,47,48,49,50,51,52,53,54,55,56,57,58,59,60,61,62,63,64,65,{"$f":"BN39+1","v":66},67,68,69,70,71,72,73,74,75,76,77,78,79,80,81,82,83,84,85,86,87,88,89,90,91,92,93,94,95,96,97,98,99,100,101,102,103,104,105,106,107,108,109,110,111,112,113,114,115,116,117,118,119,120,121,122,123,124,125,126,127,128,129,{"$f":"DZ39+1","v":130},131,132,133,134,135,136,137,138,139,140,141,142,143,144,145,146,147,148,149,150,151,152,153,154,155,156,157,158,159,160,161,162,163,164,165,166,167,168,169,170,171,172,173,174,175,176,177,178,179,180,181,182,183,184,185,186,187,188,189,190,191,192,193,{"$f":"GL39+1","v":194},195,196,197,198,199,200,201,202,203,204,205,206,207,208,209,210,211,212,213,214,215,216,217,218,219,220,221,222,223,224,225,226,227,228,229,230,231,232,233,234,235,236,237,238,239,240,241,242,243,244,245,246,247,248,249,250,251,252,253,254,255]
[0,"5E","BC","E2",61,"3F","DD",83,"C2","9C","7E",20,"A3","FD","1F",41,"9D","C3",21,"7F","FC","A2",40,"1E","5F",1,"E3","BD","3E",60,82,"DC",23,"7D","9F","C1",42,"1C","FE","A0","E1","BF","5D",3,80,"DE","3C",62,"BE","E0",2,"5C","DF",81,63,"3D","7C",22,"C0","9E","1D",43,"A1","FF",46,18,"FA","A4",27,79,"9B","C5",84,"DA",38,66,"E5","BB",59,7,"DB",85,67,39,"BA","E4",6,58,19,47,"A5","FB",78,26,"C4","9A",65,"3B","D9",87,4,"5A","B8","E6","A7","F9","1B",45,"C6",98,"7A",24,"F8","A6",44,"1A",99,"C7",25,"7B","3A",64,86,"D8","5B",5,"E7","B9","8C","D2",30,"6E","ED","B3",51,"F","4E",10,"F2","AC","2F",71,93,"CD",11,"4F","AD","F3",70,"2E","CC",92,"D3","8D","6F",31,"B2","EC","E",50,"AF","F1",13,"4D","CE",90,72,"2C","6D",33,"D1","8F","C",52,"B0","EE",32,"6C","8E","D0",53,"D","EF","B1","F0","AE","4C",12,91,"CF","2D",73,"CA",94,76,28,"AB","F5",17,49,8,56,"B4","EA",69,37,"D5","8B",57,9,"EB","B5",36,68,"8A","D4",95,"CB",29,77,"F4","AA",48,16,"E9","B7",55,"B",88,"D6",34,"6A","2B",75,97,"C9","4A",14,"F6","A8",74,"2A","C8",96,15,"4B","A9","F7","B6","FC","A",54,"D7",89,"6B",35]
[{"$f":"HEX2DEC(A40)","v":0},{"$f":"HEX2DEC(B40)","v":94},188,226,97,63,221,131,194,156,126,32,163,253,31,65,157,195,33,127,252,162,64,30,95,1,227,189,62,96,130,220,35,125,159,193,66,28,254,160,225,191,93,3,128,222,60,98,190,224,2,92,223,129,99,61,124,34,192,158,29,67,161,255,70,{"$f":"HEX2DEC(BN40)","v":24},250,164,39,121,155,197,132,218,56,102,229,187,89,7,219,133,103,57,186,228,6,88,25,71,165,251,120,38,196,154,101,59,217,135,4,90,184,230,167,249,27,69,198,152,122,36,248,166,68,26,153,199,37,123,58,100,134,216,91,5,231,185,140,{"$f":"HEX2DEC(DZ40)","v":210},48,110,237,179,81,15,78,16,242,172,47,113,147,205,17,79,173,243,112,46,204,146,211,141,111,49,178,236,14,80,175,241,19,77,206,144,114,44,109,51,209,143,12,82,176,238,50,108,142,208,83,13,239,177,240,174,76,18,145,207,45,115,202,{"$f":"HEX2DEC(GL40)","v":148},118,40,171,245,23,73,8,86,180,234,105,55,213,139,87,9,235,181,54,104,138,212,149,203,41,119,244,170,72,22,233,183,85,11,136,214,52,106,43,117,151,201,74,20,246,168,116,42,200,150,21,75,169,247,182,252,10,84,215,137,107,53]
[]
[0,0,{"$f":"HEX2DEC(B43)","v":0}]
[{"$f":"A43+1","v":1},"5E",94]
[2,"BC",188]
[3,"E2",226]
[4,61,97]
[5,"3F",63]
[6,"DD",221]
[7,83,131]
[8,"C2",194]
[9,"9C",156]
[10,"7E",126]
[11,20,32]
[12,"A3",163]
[13,"FD",253]
[14,"1F",31]
[15,41,65]
[16,"9D",157]
[17,"C3",195]
[18,21,33]
[19,"7F",127]
[20,"FC",252]
[21,"A2",162]
[22,40,64]
[23,"1E",30]
[24,"5F",95]
[25,1,1]
[26,"E3",227]
[27,"BD",189]
[28,"3E",62]
[29,60,96]
[30,82,130]
[31,"DC",220]
[32,23,35]
[33,"7D",125]
[34,"9F",159]
[35,"C1",193]
[36,42,66]
[37,"1C",28]
[38,"FE",254]
[39,"A0",160]
[40,"E1",225]
[41,"BF",191]
[42,"5D",93]
[43,3,3]
[44,80,128]
[45,"DE",222]
[46,"3C",60]
[47,62,98]
[48,"BE",190]
[49,"E0",224]
[50,2,2]
[51,"5C",92]
[52,"DF",223]
[53,81,129]
[54,63,99]
[55,"3D",61]
[56,"7C",124]
[57,22,34]
[58,"C0",192]
[59,"9E",158]
[60,"1D",29]
[61,43,67]
[62,"A1",161]
[63,"FF",255]
[64,46,{"$f":"HEX2DEC(B107)","v":70}]
[{"$f":"A107+1","v":65},18,24]
[66,"FA",250]
[67,"A4",164]
[68,27,39]
[69,79,121]
[70,"9B",155]
[71,"C5",197]
[72,84,132]
[73,"DA",218]
[74,38,56]
[75,66,102]
[76,"E5",229]
[77,"BB",187]
[78,59,89]
[79,7,7]
[80,"DB",219]
[81,85,133]
[82,67,103]
[83,39,57]
[84,"BA",186]
[85,"E4",228]
[86,6,6]
[87,58,88]
[88,19,25]
[89,47,71]
[90,"A5",165]
[91,"FB",251]
[92,78,120]
[93,26,38]
[94,"C4",196]
[95,"9A",154]
[96,65,101]
[97,"3B",59]
[98,"D9",217]
[99,87,135]
[100,4,4]
[101,"5A",90]
[102,"B8",184]
[103,"E6",230]
[104,"A7",167]
[105,"F9",249]
[106,"1B",27]
[107,45,69]
[108,"C6",198]
[109,98,152]
[110,"7A",122]
[111,24,36]
[112,"F8",248]
[113,"A6",166]
[114,44,68]
[115,"1A",26]
[116,99,153]
[117,"C7",199]
[118,25,37]
[119,"7B",123]
[120,"3A",58]
[121,64,100]
[122,86,134]
[123,"D8",216]
[124,"5B",91]
[125,5,5]
[126,"E7",231]
[127,"B9",185]
[128,"8C",{"$f":"HEX2DEC(B171)","v":140}]
[{"$f":"A171+1","v":129},"D2",210]
[130,30,48]
[131,"6E",110]
[132,"ED",237]
[133,"B3",179]
[134,51,81]
[135,"F",15]
[136,"4E",78]
[137,10,16]
[138,"F2",242]
[139,"AC",172]
[140,"2F",47]
[141,71,113]
[142,93,147]
[143,"CD",205]
[144,11,17]
[145,"4F",79]
[146,"AD",173]
[147,"F3",243]
[148,70,112]
[149,"2E",46]
[150,"CC",204]
[151,92,146]
[152,"D3",211]
[153,"8D",141]
[154,"6F",111]
[155,31,49]
[156,"B2",178]
[157,"EC",236]
[158,"E",14]
[159,50,80]
[160,"AF",175]
[161,"F1",241]
[162,13,19]
[163,"4D",77]
[164,"CE",206]
[165,90,144]
[166,72,114]
[167,"2C",44]
[168,"6D",109]
[169,33,51]
[170,"D1",209]
[171,"8F",143]
[172,"C",12]
[173,52,82]
[174,"B0",176]
[175,"EE",238]
[176,32,50]
[177,"6C",108]
[178,"8E",142]
[179,"D0",208]
[180,53,83]
[181,"D",13]
[182,"EF",239]
[183,"B1",177]
[184,"F0",240]
[185,"AE",174]
[186,"4C",76]
[187,12,18]
[188,91,145]
[189,"CF",207]
[190,"2D",45]
[191,73,115]
[192,"CA",{"$f":"HEX2DEC(B235)","v":202}]
[{"$f":"A235+1","v":193},94,148]
[194,76,118]
[195,28,40]
[196,"AB",171]
[197,"F5",245]
[198,17,23]
[199,49,73]
[200,8,8]
[201,56,86]
[202,"B4",180]
[203,"EA",234]
[204,69,105]
[205,37,55]
[206,"D5",213]
[207,"8B",139]
[208,57,87]
[209,9,9]
[210,"EB",235]
[211,"B5",181]
[212,36,54]
[213,68,104]
[214,"8A",138]
[215,"D4",212]
[216,95,149]
[217,"CB",203]
[218,29,41]
[219,77,119]
[220,"F4",244]
[221,"AA",170]
[222,48,72]
[223,16,22]
[224,"E9",233]
[225,"B7",183]
[226,55,85]
[227,"B",11]
[228,88,136]
[229,"D6",214]
[230,34,52]
[231,"6A",106]
[232,"2B",43]
[233,75,117]
[234,97,151]
[235,"C9",201]
[236,"4A",74]
[237,14,20]
[238,"F6",246]
[239,"A8",168]
[240,74,116]
[241,"2A",42]
[242,"C8",200]
[243,96,150]
[244,15,21]
[245,"4B",75]
[246,"A9",169]
[247,"F7",247]
[248,"B6",182]
[249,"FC",252]
[250,"A",10]
[251,54,84]
[252,"D7",215]
[253,89,137]
[254,"6B",107]
[255,35,53]